{"text_format":"3","workbook":"xlsx","n_sheets":3,"sheets":["Capital Maintenance & Renewal","Work Information","Data"],"not_rendered":{"macros":1,"defined_names":4,"comments":1},"read":"whole","date_system":"1900"}

{"sheet":"Capital Maintenance & Renewal","index":0,"n_rows":697,"n_cols":37,"rows_kept":697,"merged":[[0,0,0,14],[1,0,2,1],[2,6,2,7],[4,18,4,21]]}
["Appendix D:  Capital Maintenance and Renewal",{"$nulls":17},{"$f":"SUBTOTAL(9,S7:S697)","v":{"v":867500,"d":"$867,500"}},{"$f":"SUBTOTAL(9,T7:T697)","v":{"v":938000,"d":"$938,000"}},{"$f":"SUBTOTAL(9,U7:U697)","v":0},{"$f":"SUM(S1:U1)","v":{"v":1805500,"d":"$1,805,500"}},"Total Requests"]
[]
[{"$nulls":3},"HMB:   ",null,null,"NORTH PEACE HOUSING FOUNDATION"]
[]
[{"$nulls":18},"Estimated Cost To Complete The Work"]
["12 Digit\nProject Number/\nHMB Project Code","HMB Code","Building Name","Building Address","Concatenate","Municipality","Building Ownership","Program","# of Affected Units","Importance of System Functionality","Condition of System","Reason for Work","Impact of Failure","Major Expense Type","\"Detailed\" Description Of Work","Reason for Work\n(Why is this project required?)","Is the Required CMR Impacting Suite Rental?","Is the Required CMR Resulting in Lost Income?","2025/26","2026/27","2027/28","Project Total","Project Priority","Data Corrections?"]
[{"v":125427510165,"d":"1254-2751-0165"},{"$f":"IF(A7=\"\",\"\",VLOOKUP(A7,Data!$B$2:$D$4020,3,FALSE))","v":"NPF"},{"$f":"IF(A7=\"\",\"\",VLOOKUP(A7,Data!$B$2:$F$4020,5,FALSE))","v":"Del-Air Lodge"},"#202 1 Avenue SW",{"$f":"CONCATENATE(A7,D7)","v":"125427510165#202 1 Avenue SW"},{"$f":"IF(ISNA(VLOOKUP(E7,Data!$A$2:$I$4020,7,FALSE)),\"\",VLOOKUP(E7,Data!$A$2:$I$4020,7,FALSE))","v":"Manning"},{"$f":"IF(ISNA(VLOOKUP(E7,Data!$A$2:$I$4020,9,FALSE)),\"\",VLOOKUP(E7,Data!$A$2:$I$4020,9,FALSE))","v":"Alberta Social Housing Corporation"},{"$f":"IF(ISNA(VLOOKUP(E7,Data!$A$2:$J$4020,10,FALSE)),\"\",VLOOKUP(E7,Data!$A$2:$J$4020,10,FALSE))","v":"Seniors Lodge Program"},52,"4 - Significant - Limited Back Up","3 - Poor","5 - Health and Safety/Legislation","5 - Critical","Mechanical","Replacement of existing mechanical system (backflow preventers, domestic water pumps, domestic water conditioning equipment, heating boilers and accessories, furnaces, exhaust fans, hot water distribution system, unit heaters, etc.).  Estimating the cost of this project is very difficult without first having the engineering completed.   This will be more complex now that the new Continuing Care wing has been built and has it's own mechanical system separate from the existing building; a redesign of the old system may be required.","Engineering  and replacement of the Del Air mechanical systems  was to be included as part of the approved Del Air Redevelopment, but due to budget constraints, the existing mechanical systems will not be upgraded.  Instead, a new DSL wing will be added on to the existing building.  This is critical work as outlined in a 2017 Facility Condition Rating report completed by Alberta Infrastructure.","No","No",{"v":35000,"d":"$35,000.00"},{"v":850000,"d":"$850,000.00"},null,{"$f":"SUM(S7:U7)","v":{"v":885000,"d":"$885,000.00"}},{"v":1,"d":"$1.00"}]
[{"v":125427312877,"d":"1254-2731-2877"},{"$f":"IF(A8=\"\",\"\",VLOOKUP(A8,Data!$B$2:$D$4020,3,FALSE))","v":"NPF"},{"$f":"IF(A8=\"\",\"\",VLOOKUP(A8,Data!$B$2:$F$4020,5,FALSE))","v":"Manning 1"},"405 A&B - 1 Street NE",{"$f":"CONCATENATE(A8,D8)","v":"125427312877405 A&B - 1 Street NE"},{"$f":"IF(ISNA(VLOOKUP(E8,Data!$A$2:$I$4020,7,FALSE)),\"\",VLOOKUP(E8,Data!$A$2:$I$4020,7,FALSE))","v":"Manning"},{"$f":"IF(ISNA(VLOOKUP(E8,Data!$A$2:$I$4020,9,FALSE)),\"\",VLOOKUP(E8,Data!$A$2:$I$4020,9,FALSE))","v":"Alberta Social Housing Corporation"},{"$f":"IF(ISNA(VLOOKUP(E8,Data!$A$2:$J$4020,10,FALSE)),\"\",VLOOKUP(E8,Data!$A$2:$J$4020,10,FALSE))","v":"Community Housing Program"},2,"5 - Significant - No Back Up","3 - Poor","5 - Ensure Reliability","3 - Moderate","Roofing","Replace shingles and eavestroughs - 1 duplex, 2 units","18+ years old, require replacement","No","No",{"v":14000,"d":"$14,000.00"},null,null,{"$f":"SUM(S8:U8)","v":{"v":14000,"d":"$14,000.00"}},{"v":11,"d":"$11.00"},"Note: These units are listed as a potential Asset Transfer"]
[{"v":125427312877,"d":"1254-2731-2877"},{"$f":"IF(A9=\"\",\"\",VLOOKUP(A9,Data!$B$2:$D$4020,3,FALSE))","v":"NPF"},{"$f":"IF(A9=\"\",\"\",VLOOKUP(A9,Data!$B$2:$F$4020,5,FALSE))","v":"Manning 1"},"407 A&B - 1 Street NE",{"$f":"CONCATENATE(A9,D9)","v":"125427312877407 A&B - 1 Street NE"},{"$f":"IF(ISNA(VLOOKUP(E9,Data!$A$2:$I$4020,7,FALSE)),\"\",VLOOKUP(E9,Data!$A$2:$I$4020,7,FALSE))","v":"Manning"},{"$f":"IF(ISNA(VLOOKUP(E9,Data!$A$2:$I$4020,9,FALSE)),\"\",VLOOKUP(E9,Data!$A$2:$I$4020,9,FALSE))","v":"Alberta Social Housing Corporation"},{"$f":"IF(ISNA(VLOOKUP(E9,Data!$A$2:$J$4020,10,FALSE)),\"\",VLOOKUP(E9,Data!$A$2:$J$4020,10,FALSE))","v":"Community Housing Program"},2,"5 - Significant - No Back Up","3 - Poor","5 - Ensure Reliability","3 - Moderate","Roofing","Replace shingles and eavestroughs - 1 duplex, 2 units","18+ years old, require replacement","No","No",{"v":14000,"d":"$14,000.00"},null,null,{"$f":"SUM(S9:U9)","v":{"v":14000,"d":"$14,000.00"}},{"v":12,"d":"$12.00"},"Note: These units are listed as a potential Asset Transfer"]
[{"v":125427312877,"d":"1254-2731-2877"},{"$f":"IF(A10=\"\",\"\",VLOOKUP(A10,Data!$B$2:$D$4020,3,FALSE))","v":"NPF"},{"$f":"IF(A10=\"\",\"\",VLOOKUP(A10,Data!$B$2:$F$4020,5,FALSE))","v":"Manning 1"},"410 A&B - 2 Street NE",{"$f":"CONCATENATE(A10,D10)","v":"125427312877410 A&B - 2 Street NE"},{"$f":"IF(ISNA(VLOOKUP(E10,Data!$A$2:$I$4020,7,FALSE)),\"\",VLOOKUP(E10,Data!$A$2:$I$4020,7,FALSE))","v":"Manning"},{"$f":"IF(ISNA(VLOOKUP(E10,Data!$A$2:$I$4020,9,FALSE)),\"\",VLOOKUP(E10,Data!$A$2:$I$4020,9,FALSE))","v":"Alberta Social Housing Corporation"},{"$f":"IF(ISNA(VLOOKUP(E10,Data!$A$2:$J$4020,10,FALSE)),\"\",VLOOKUP(E10,Data!$A$2:$J$4020,10,FALSE))","v":"Community Housing Program"},2,"5 - Significant - No Back Up","3 - Poor","5 - Ensure Reliability","3 - Moderate","Roofing","Replace shingles and eavestroughs - 1 duplex, 2 units","18+ years old, require replacement","No","No",{"v":14000,"d":"$14,000.00"},null,null,{"$f":"SUM(S10:U10)","v":{"v":14000,"d":"$14,000.00"}},{"v":13,"d":"$13.00"},"Note: These units are listed as a potential Asset Transfer",null,null,"Asbestos and Mold Remediation"]
[{"v":125427312877,"d":"1254-2731-2877"},{"$f":"IF(A11=\"\",\"\",VLOOKUP(A11,Data!$B$2:$D$4020,3,FALSE))","v":"NPF"},{"$f":"IF(A11=\"\",\"\",VLOOKUP(A11,Data!$B$2:$F$4020,5,FALSE))","v":"Manning 1"},"401 A&B - 1 Street NE",{"$f":"CONCATENATE(A11,D11)","v":"125427312877401 A&B - 1 Street NE"},{"$f":"IF(ISNA(VLOOKUP(E11,Data!$A$2:$I$4020,7,FALSE)),\"\",VLOOKUP(E11,Data!$A$2:$I$4020,7,FALSE))","v":"Manning"},{"$f":"IF(ISNA(VLOOKUP(E11,Data!$A$2:$I$4020,9,FALSE)),\"\",VLOOKUP(E11,Data!$A$2:$I$4020,9,FALSE))","v":"Alberta Social Housing Corporation"},{"$f":"IF(ISNA(VLOOKUP(E11,Data!$A$2:$J$4020,10,FALSE)),\"\",VLOOKUP(E11,Data!$A$2:$J$4020,10,FALSE))","v":"Community Housing Program"},2,"5 - Significant - No Back Up","3 - Poor","5 - Ensure Reliability","3 - Moderate","Roofing","Replace shingles and eavestroughs - 1 duplex, 2 units","18+ years old, require replacement","No","No",{"v":14000,"d":"$14,000.00"},null,null,{"$f":"SUM(S11:U11)","v":{"v":14000,"d":"$14,000.00"}},{"v":14,"d":"$14.00"},"Note: These units are listed as a potential Asset Transfer",null,null,"Building Envelope",{"$nulls":6},"Importance of System Functionality","Condition of System","Reason for Work","Impact of Failure"]
[{"v":125427312792,"d":"1254-2731-2792"},{"$f":"IF(A12=\"\",\"\",VLOOKUP(A12,Data!$B$2:$D$4020,3,FALSE))","v":"NPF"},{"$f":"IF(A12=\"\",\"\",VLOOKUP(A12,Data!$B$2:$F$4020,5,FALSE))","v":"Manning 2"},"504 A&B - 2 Street NW",{"$f":"CONCATENATE(A12,D12)","v":"125427312792504 A&B - 2 Street NW"},{"$f":"IF(ISNA(VLOOKUP(E12,Data!$A$2:$I$4020,7,FALSE)),\"\",VLOOKUP(E12,Data!$A$2:$I$4020,7,FALSE))","v":"Manning"},{"$f":"IF(ISNA(VLOOKUP(E12,Data!$A$2:$I$4020,9,FALSE)),\"\",VLOOKUP(E12,Data!$A$2:$I$4020,9,FALSE))","v":"Alberta Social Housing Corporation"},{"$f":"IF(ISNA(VLOOKUP(E12,Data!$A$2:$J$4020,10,FALSE)),\"\",VLOOKUP(E12,Data!$A$2:$J$4020,10,FALSE))","v":"Community Housing Program"},2,"3 - Moderate - Inconvenient Back Up","3 - Poor","5 - Health and Safety/Legislation","3 - Moderate","Grounds Maintenance","Replace deteriorated concrete steps and landing and landscaping","Original concrete steps are deteriorating and creating a hazard","No","No",{"v":16000,"d":"$16,000.00"},null,null,{"v":16000,"d":"$16,000.00"},{"v":15,"d":"$15.00"},{"$nulls":3},"Building Exterior",{"$nulls":6},"5 - Significant - No Back Up","5 - Failed/Imminent","5 - Health and Safety/Legislation","5 - Critical"]
[{"v":125427312792,"d":"1254-2731-2792"},{"$f":"IF(A13=\"\",\"\",VLOOKUP(A13,Data!$B$2:$D$4020,3,FALSE))","v":"NPF"},{"$f":"IF(A13=\"\",\"\",VLOOKUP(A13,Data!$B$2:$F$4020,5,FALSE))","v":"Manning 2"},"502 A&B - 2 Street NW",{"$f":"CONCATENATE(A13,D13)","v":"125427312792502 A&B - 2 Street NW"},{"$f":"IF(ISNA(VLOOKUP(E13,Data!$A$2:$I$4020,7,FALSE)),\"\",VLOOKUP(E13,Data!$A$2:$I$4020,7,FALSE))","v":"Manning"},{"$f":"IF(ISNA(VLOOKUP(E13,Data!$A$2:$I$4020,9,FALSE)),\"\",VLOOKUP(E13,Data!$A$2:$I$4020,9,FALSE))","v":"Alberta Social Housing Corporation"},{"$f":"IF(ISNA(VLOOKUP(E13,Data!$A$2:$J$4020,10,FALSE)),\"\",VLOOKUP(E13,Data!$A$2:$J$4020,10,FALSE))","v":"Community Housing Program"},2,"3 - Moderate - Inconvenient Back Up","3 - Poor","5 - Health and Safety/Legislation","3 - Moderate","Grounds Maintenance","Replace deteriorated concrete steps and landing and landscaping","Original concrete steps are deteriorating and creating a hazard","No","No",{"v":16000,"d":"$16,000.00"},null,null,{"v":16000,"d":"$16,000.00"},{"v":16,"d":"$16.00"},{"$nulls":3},"Building Interior",{"$nulls":6},"4 - Significant - Limited Back Up","3 - Poor","5 - Ensure Reliability","3 - Moderate"]
[{"v":125427312792,"d":"1254-2731-2792"},{"$f":"IF(A14=\"\",\"\",VLOOKUP(A14,Data!$B$2:$D$4020,3,FALSE))","v":"NPF"},{"$f":"IF(A14=\"\",\"\",VLOOKUP(A14,Data!$B$2:$F$4020,5,FALSE))","v":"Manning 2"},"500 A&B - 2 Street NW",{"$f":"CONCATENATE(A14,D14)","v":"125427312792500 A&B - 2 Street NW"},{"$f":"IF(ISNA(VLOOKUP(E14,Data!$A$2:$I$4020,7,FALSE)),\"\",VLOOKUP(E14,Data!$A$2:$I$4020,7,FALSE))","v":"Manning"},{"$f":"IF(ISNA(VLOOKUP(E14,Data!$A$2:$I$4020,9,FALSE)),\"\",VLOOKUP(E14,Data!$A$2:$I$4020,9,FALSE))","v":"Alberta Social Housing Corporation"},{"$f":"IF(ISNA(VLOOKUP(E14,Data!$A$2:$J$4020,10,FALSE)),\"\",VLOOKUP(E14,Data!$A$2:$J$4020,10,FALSE))","v":"Community Housing Program"},2,"3 - Moderate - Inconvenient Back Up","3 - Poor","5 - Health and Safety/Legislation","3 - Moderate","Grounds Maintenance","Replace deteriorated concrete steps and landing and landscaping","Original concrete steps are deteriorating and creating a hazard","No","No",{"v":16000,"d":"$16,000.00"},null,null,{"v":16000,"d":"$16,000.00"},{"v":17,"d":"$17.00"},{"$nulls":3},"Electrical Systems",{"$nulls":6},"3 - Moderate - Inconvenient Back Up","0 - Good","5 - Impacts Revenue","0 - No impact"]
[{"v":125427312792,"d":"1254-2731-2792"},{"$f":"IF(A15=\"\",\"\",VLOOKUP(A15,Data!$B$2:$D$4020,3,FALSE))","v":"NPF"},{"$f":"IF(A15=\"\",\"\",VLOOKUP(A15,Data!$B$2:$F$4020,5,FALSE))","v":"Manning 2"},"500 A&B - 2 Street NW",{"$f":"CONCATENATE(A15,D15)","v":"125427312792500 A&B - 2 Street NW"},{"$f":"IF(ISNA(VLOOKUP(E15,Data!$A$2:$I$4020,7,FALSE)),\"\",VLOOKUP(E15,Data!$A$2:$I$4020,7,FALSE))","v":"Manning"},{"$f":"IF(ISNA(VLOOKUP(E15,Data!$A$2:$I$4020,9,FALSE)),\"\",VLOOKUP(E15,Data!$A$2:$I$4020,9,FALSE))","v":"Alberta Social Housing Corporation"},{"$f":"IF(ISNA(VLOOKUP(E15,Data!$A$2:$J$4020,10,FALSE)),\"\",VLOOKUP(E15,Data!$A$2:$J$4020,10,FALSE))","v":"Community Housing Program"},1,"5 - Significant - No Back Up","3 - Poor","5 - Impacts Revenue","5 - Critical","Suite Renewal - vacant due to condition","Renovate 1 units - kitchen cabinets, counters, flooring, full bathroom renovation, painting, plumbing and electrical fixtures ","Original 30+ (cabinets, vanity, bathroom fixtures)","Yes","Yes",{"v":59500,"d":"$59,500.00"},null,null,{"$f":"SUM(S15:U15)","v":{"v":59500,"d":"$59,500.00"}},{"v":24,"d":"$24.00"},{"$nulls":3},"Elevators",{"$nulls":6},"2 - Moderate - Back Up Available","0 - Excellent","4 - Lifecycle Requirements"]
[{"v":122427223169,"d":"1224-2722-3169"},{"$f":"IF(A16=\"\",\"\",VLOOKUP(A16,Data!$B$2:$D$4020,3,FALSE))","v":"NPF"},{"$f":"IF(A16=\"\",\"\",VLOOKUP(A16,Data!$B$2:$F$4020,5,FALSE))","v":"Fairview R&N 4"},"11505 - 107 Avenue",{"$f":"CONCATENATE(A16,D16)","v":"12242722316911505 - 107 Avenue"},{"$f":"IF(ISNA(VLOOKUP(E16,Data!$A$2:$I$4020,7,FALSE)),\"\",VLOOKUP(E16,Data!$A$2:$I$4020,7,FALSE))","v":"Fairview"},{"$f":"IF(ISNA(VLOOKUP(E16,Data!$A$2:$I$4020,9,FALSE)),\"\",VLOOKUP(E16,Data!$A$2:$I$4020,9,FALSE))","v":"Alberta Social Housing Corporation"},{"$f":"IF(ISNA(VLOOKUP(E16,Data!$A$2:$J$4020,10,FALSE)),\"\",VLOOKUP(E16,Data!$A$2:$J$4020,10,FALSE))","v":"Community Housing Program"},1,"5 - Significant - No Back Up","3 - Poor","4 - Lifecycle Requirements","3 - Moderate","Roofing","Replace shingles and eavestroughs ","Shingles are curling, 19+ years old","No","No",{"v":10000,"d":"$10,000.00"},null,null,{"$f":"SUM(S16:U16)","v":{"v":10000,"d":"$10,000.00"}},{"v":25,"d":"$25.00"},{"$nulls":3},"Grounds Maintenance",{"$nulls":6},"1 - None - Back Up Not Required",null,"3 - Operational Efficiencies"]
[{"v":122427223111,"d":"1224-2722-3111"},{"$f":"IF(A17=\"\",\"\",VLOOKUP(A17,Data!$B$2:$D$4020,3,FALSE))","v":"NPF"},{"$f":"IF(A17=\"\",\"\",VLOOKUP(A17,Data!$B$2:$F$4020,5,FALSE))","v":"Fairview R&N 2"},"10916 - 114 Street",{"$f":"CONCATENATE(A17,D17)","v":"12242722311110916 - 114 Street"},{"$f":"IF(ISNA(VLOOKUP(E17,Data!$A$2:$I$4020,7,FALSE)),\"\",VLOOKUP(E17,Data!$A$2:$I$4020,7,FALSE))","v":"Fairview"},{"$f":"IF(ISNA(VLOOKUP(E17,Data!$A$2:$I$4020,9,FALSE)),\"\",VLOOKUP(E17,Data!$A$2:$I$4020,9,FALSE))","v":"Alberta Social Housing Corporation"},{"$f":"IF(ISNA(VLOOKUP(E17,Data!$A$2:$J$4020,10,FALSE)),\"\",VLOOKUP(E17,Data!$A$2:$J$4020,10,FALSE))","v":"Community Housing Program"},1,"5 - Significant - No Back Up","3 - Poor","4 - Lifecycle Requirements","3 - Moderate","Roofing","Replace shingles and eavestroughs ","Shingles are curling, 18+ years old","No","No",{"v":10000,"d":"$10,000.00"},null,null,{"$f":"SUM(S17:U17)","v":{"v":10000,"d":"$10,000.00"}},{"v":26,"d":"$26.00"},{"$nulls":3},"Heating, Ventilation and Plumbing",{"$nulls":8},"2 - Responsible Stewardship"]
[{"v":122427223111,"d":"1224-2722-3111"},{"$f":"IF(A18=\"\",\"\",VLOOKUP(A18,Data!$B$2:$D$4020,3,FALSE))","v":"NPF"},{"$f":"IF(A18=\"\",\"\",VLOOKUP(A18,Data!$B$2:$F$4020,5,FALSE))","v":"Fairview R&N 2"},"10515 - 105 Street",{"$f":"CONCATENATE(A18,D18)","v":"12242722311110515 - 105 Street"},{"$f":"IF(ISNA(VLOOKUP(E18,Data!$A$2:$I$4020,7,FALSE)),\"\",VLOOKUP(E18,Data!$A$2:$I$4020,7,FALSE))","v":"Fairview"},{"$f":"IF(ISNA(VLOOKUP(E18,Data!$A$2:$I$4020,9,FALSE)),\"\",VLOOKUP(E18,Data!$A$2:$I$4020,9,FALSE))","v":"Alberta Social Housing Corporation"},{"$f":"IF(ISNA(VLOOKUP(E18,Data!$A$2:$J$4020,10,FALSE)),\"\",VLOOKUP(E18,Data!$A$2:$J$4020,10,FALSE))","v":"Community Housing Program"},1,"5 - Significant - No Back Up","3 - Poor","4 - Lifecycle Requirements","5 - Critical","Roofing","Replace shingles and eavestroughs ","Shingles are curling, 19+ years old","No","No",{"v":10000,"d":"$10,000.00"},null,null,{"$f":"SUM(S18:U18)","v":{"v":10000,"d":"$10,000.00"}},{"v":4,"d":"$4.00"},{"$nulls":3},"Mechanical",{"$nulls":8},"1 - Aesthetic Preservation"]
[{"v":122427223111,"d":"1224-2722-3111"},{"$f":"IF(A19=\"\",\"\",VLOOKUP(A19,Data!$B$2:$D$4020,3,FALSE))","v":"NPF"},{"$f":"IF(A19=\"\",\"\",VLOOKUP(A19,Data!$B$2:$F$4020,5,FALSE))","v":"Fairview R&N 2"},"10421 - 106 Avenue",{"$f":"CONCATENATE(A19,D19)","v":"12242722311110421 - 106 Avenue"},{"$f":"IF(ISNA(VLOOKUP(E19,Data!$A$2:$I$4020,7,FALSE)),\"\",VLOOKUP(E19,Data!$A$2:$I$4020,7,FALSE))","v":"Fairview"},{"$f":"IF(ISNA(VLOOKUP(E19,Data!$A$2:$I$4020,9,FALSE)),\"\",VLOOKUP(E19,Data!$A$2:$I$4020,9,FALSE))","v":"Alberta Social Housing Corporation"},{"$f":"IF(ISNA(VLOOKUP(E19,Data!$A$2:$J$4020,10,FALSE)),\"\",VLOOKUP(E19,Data!$A$2:$J$4020,10,FALSE))","v":"Community Housing Program"},1,"5 - Significant - No Back Up","3 - Poor","4 - Lifecycle Requirements","3 - Moderate","Roofing","Replace shingles and eavestroughs ","Shingles are curling, 19+ years old","No","No",{"v":10000,"d":"$10,000.00"},null,null,{"$f":"SUM(S19:U19)","v":{"v":10000,"d":"$10,000.00"}},{"v":27,"d":"$27.00"},{"$nulls":3},"Roofing"]
[{"v":122427223111,"d":"1224-2722-3111"},{"$f":"IF(A20=\"\",\"\",VLOOKUP(A20,Data!$B$2:$D$4020,3,FALSE))","v":"NPF"},{"$f":"IF(A20=\"\",\"\",VLOOKUP(A20,Data!$B$2:$F$4020,5,FALSE))","v":"Fairview R&N 2"},"10421 - 106 Avenue",{"$f":"CONCATENATE(A20,D20)","v":"12242722311110421 - 106 Avenue"},{"$f":"IF(ISNA(VLOOKUP(E20,Data!$A$2:$I$4020,7,FALSE)),\"\",VLOOKUP(E20,Data!$A$2:$I$4020,7,FALSE))","v":"Fairview"},{"$f":"IF(ISNA(VLOOKUP(E20,Data!$A$2:$I$4020,9,FALSE)),\"\",VLOOKUP(E20,Data!$A$2:$I$4020,9,FALSE))","v":"Alberta Social Housing Corporation"},{"$f":"IF(ISNA(VLOOKUP(E20,Data!$A$2:$J$4020,10,FALSE)),\"\",VLOOKUP(E20,Data!$A$2:$J$4020,10,FALSE))","v":"Community Housing Program"},1,"5 - Significant - No Back Up","5 - Failed/Imminent","4 - Lifecycle Requirements","3 - Moderate","Grounds Maintenance","Replace fence","Original, damaged posts and boards","No","No",{"v":20000,"d":"$20,000.00"},null,null,{"$f":"SUM(S20:U20)","v":{"v":20000,"d":"$20,000.00"}},{"v":31,"d":"$31.00"},{"$nulls":3},"Suite Renewal - anticipated or expected turnover"]
[{"v":122427552252,"d":"1224-2755-2252"},{"$f":"IF(A21=\"\",\"\",VLOOKUP(A21,Data!$B$2:$D$4020,3,FALSE))","v":"NPF"},{"$f":"IF(A21=\"\",\"\",VLOOKUP(A21,Data!$B$2:$F$4020,5,FALSE))","v":"Garrison Manor Addition"},"10705 - 104 Avenue",{"$f":"CONCATENATE(A21,D21)","v":"12242755225210705 - 104 Avenue"},{"$f":"IF(ISNA(VLOOKUP(E21,Data!$A$2:$I$4020,7,FALSE)),\"\",VLOOKUP(E21,Data!$A$2:$I$4020,7,FALSE))","v":"Fairview"},{"$f":"IF(ISNA(VLOOKUP(E21,Data!$A$2:$I$4020,9,FALSE)),\"\",VLOOKUP(E21,Data!$A$2:$I$4020,9,FALSE))","v":"Alberta Social Housing Corporation"},{"$f":"IF(ISNA(VLOOKUP(E21,Data!$A$2:$J$4020,10,FALSE)),\"\",VLOOKUP(E21,Data!$A$2:$J$4020,10,FALSE))","v":"Seniors Self Contained Program"},46,"5 - Significant - No Back Up","3 - Poor","5 - Health and Safety/Legislation","5 - Critical","Elevators","Elevator Modernization","Elevator parts are becoming obsolete","No","No",0,null,null,{"$f":"SUM(S21:U21)","v":0},{"v":2,"d":"$2.00"},{"$nulls":3},"Suite Renewal - vacant due to condition"]
[{"v":127227312878,"d":"1272-2731-2878"},{"$f":"IF(A22=\"\",\"\",VLOOKUP(A22,Data!$B$2:$D$4020,3,FALSE))","v":"NPF"},{"$f":"IF(A22=\"\",\"\",VLOOKUP(A22,Data!$B$2:$F$4020,5,FALSE))","v":"Peace River 1"},"9708/9710 78 Avenue",{"$f":"CONCATENATE(A22,D22)","v":"1272273128789708/9710 78 Avenue"},{"$f":"IF(ISNA(VLOOKUP(E22,Data!$A$2:$I$4020,7,FALSE)),\"\",VLOOKUP(E22,Data!$A$2:$I$4020,7,FALSE))","v":"Peace River"},{"$f":"IF(ISNA(VLOOKUP(E22,Data!$A$2:$I$4020,9,FALSE)),\"\",VLOOKUP(E22,Data!$A$2:$I$4020,9,FALSE))","v":"Alberta Social Housing Corporation"},{"$f":"IF(ISNA(VLOOKUP(E22,Data!$A$2:$J$4020,10,FALSE)),\"\",VLOOKUP(E22,Data!$A$2:$J$4020,10,FALSE))","v":"Community Housing Program"},1,"6 - Significant - No Back Up","5 - Failed/Imminent","5 - Impacts Revenue","5 - Critical","Suite Renewal - vacant due to condition","Renovate 1 units - kitchen cabinets, counters, flooring, full bathroom renovation, painting, plumbing and electrical fixtures ","Unit has been down for years due to extensive damage.","Yes","Yes",{"v":50000,"d":"$50,000.00"},null,null,{"$f":"SUM(S22:U22)","v":{"v":50000,"d":"$50,000.00"}},{"v":20,"d":"$20.00"}]
[{"v":127227312878,"d":"1272-2731-2878"},{"$f":"IF(A23=\"\",\"\",VLOOKUP(A23,Data!$B$2:$D$4020,3,FALSE))","v":"NPF"},{"$f":"IF(A23=\"\",\"\",VLOOKUP(A23,Data!$B$2:$F$4020,5,FALSE))","v":"Peace River 1"},"9704/9706 78 Avenue",{"$f":"CONCATENATE(A23,D23)","v":"1272273128789704/9706 78 Avenue"},{"$f":"IF(ISNA(VLOOKUP(E23,Data!$A$2:$I$4020,7,FALSE)),\"\",VLOOKUP(E23,Data!$A$2:$I$4020,7,FALSE))","v":"Peace River"},{"$f":"IF(ISNA(VLOOKUP(E23,Data!$A$2:$I$4020,9,FALSE)),\"\",VLOOKUP(E23,Data!$A$2:$I$4020,9,FALSE))","v":"Alberta Social Housing Corporation"},{"$f":"IF(ISNA(VLOOKUP(E23,Data!$A$2:$J$4020,10,FALSE)),\"\",VLOOKUP(E23,Data!$A$2:$J$4020,10,FALSE))","v":"Community Housing Program"},2,"7 - Significant - No Back Up","5 - Failed/Imminent","5 - Impacts Revenue","5 - Critical","Suite Renewal - vacant due to condition","Renovate 1 units - kitchen cabinets, counters, flooring, full bathroom renovation, painting, plumbing and electrical fixtures ","Unit has been down for years due to extensive damage.","Yes","Yes",{"v":100000,"d":"$100,000.00"},null,null,{"$f":"SUM(S23:U23)","v":{"v":100000,"d":"$100,000.00"}},{"v":21,"d":"$21.00"},{"$nulls":10},"Yes"]
[{"v":127227312878,"d":"1272-2731-2878"},{"$f":"IF(A24=\"\",\"\",VLOOKUP(A24,Data!$B$2:$D$4020,3,FALSE))","v":"NPF"},{"$f":"IF(A24=\"\",\"\",VLOOKUP(A24,Data!$B$2:$F$4020,5,FALSE))","v":"Peace River 1"},"9703/9705 78 Avenue",{"$f":"CONCATENATE(A24,D24)","v":"1272273128789703/9705 78 Avenue"},{"$f":"IF(ISNA(VLOOKUP(E24,Data!$A$2:$I$4020,7,FALSE)),\"\",VLOOKUP(E24,Data!$A$2:$I$4020,7,FALSE))","v":"Peace River"},{"$f":"IF(ISNA(VLOOKUP(E24,Data!$A$2:$I$4020,9,FALSE)),\"\",VLOOKUP(E24,Data!$A$2:$I$4020,9,FALSE))","v":"Alberta Social Housing Corporation"},{"$f":"IF(ISNA(VLOOKUP(E24,Data!$A$2:$J$4020,10,FALSE)),\"\",VLOOKUP(E24,Data!$A$2:$J$4020,10,FALSE))","v":"Community Housing Program"},2,"8 - Significant - No Back Up","3 - Poor","5 - Impacts Revenue","5 - Critical","Suite Renewal - vacant due to condition","Renovate 1 units - kitchen cabinets, counters, flooring, full bathroom renovation, painting, plumbing and electrical fixtures ","Both units have had bed bug infestation and are recently vacated due to eviction. Both are in need of a full renovation.","Yes","Yes",{"v":120000,"d":"$120,000.00"},null,null,{"$f":"SUM(S24:U24)","v":{"v":120000,"d":"$120,000.00"}},{"v":22,"d":"$22.00"},{"$nulls":10},"Yes"]
[{"v":127227312878,"d":"1272-2731-2878"},{"$f":"IF(A25=\"\",\"\",VLOOKUP(A25,Data!$B$2:$D$4020,3,FALSE))","v":"NPF"},{"$f":"IF(A25=\"\",\"\",VLOOKUP(A25,Data!$B$2:$F$4020,5,FALSE))","v":"Peace River 1"},"9701/9702 78 Avenue",{"$f":"CONCATENATE(A25,D25)","v":"1272273128789701/9702 78 Avenue"},{"$f":"IF(ISNA(VLOOKUP(E25,Data!$A$2:$I$4020,7,FALSE)),\"\",VLOOKUP(E25,Data!$A$2:$I$4020,7,FALSE))","v":"Peace River"},{"$f":"IF(ISNA(VLOOKUP(E25,Data!$A$2:$I$4020,9,FALSE)),\"\",VLOOKUP(E25,Data!$A$2:$I$4020,9,FALSE))","v":"Alberta Social Housing Corporation"},{"$f":"IF(ISNA(VLOOKUP(E25,Data!$A$2:$J$4020,10,FALSE)),\"\",VLOOKUP(E25,Data!$A$2:$J$4020,10,FALSE))","v":"Community Housing Program"},1,"9 - Significant - No Back Up","5 - Failed/Imminent","5 - Impacts Revenue","5 - Critical","Suite Renewal - vacant due to condition","Renovate 1 units - kitchen cabinets, counters, flooring, full bathroom renovation, painting, plumbing and electrical fixtures ","Unit has been down for years due to extensive damage.","Yes","Yes",{"v":50000,"d":"$50,000.00"},null,null,{"$f":"SUM(S25:U25)","v":{"v":50000,"d":"$50,000.00"}},{"v":23,"d":"$23.00"},{"$nulls":10},"No"]
[{"v":127227312878,"d":"1272-2731-2878"},{"$f":"IF(A26=\"\",\"\",VLOOKUP(A26,Data!$B$2:$D$4020,3,FALSE))","v":"NPF"},{"$f":"IF(A26=\"\",\"\",VLOOKUP(A26,Data!$B$2:$F$4020,5,FALSE))","v":"Peace River 1"},"9704/9706 78 Avenue",{"$f":"CONCATENATE(A26,D26)","v":"1272273128789704/9706 78 Avenue"},{"$f":"IF(ISNA(VLOOKUP(E26,Data!$A$2:$I$4020,7,FALSE)),\"\",VLOOKUP(E26,Data!$A$2:$I$4020,7,FALSE))","v":"Peace River"},{"$f":"IF(ISNA(VLOOKUP(E26,Data!$A$2:$I$4020,9,FALSE)),\"\",VLOOKUP(E26,Data!$A$2:$I$4020,9,FALSE))","v":"Alberta Social Housing Corporation"},{"$f":"IF(ISNA(VLOOKUP(E26,Data!$A$2:$J$4020,10,FALSE)),\"\",VLOOKUP(E26,Data!$A$2:$J$4020,10,FALSE))","v":"Community Housing Program"},2,"4 - Significant - Limited Back Up","3 - Poor","5 - Ensure Reliability","3 - Moderate","Roofing","Replace shingles and eavestroughs ","Shingles are curling, 19+ years old","No","No",{"v":10000,"d":"$10,000.00"},null,null,{"$f":"SUM(S26:U26)","v":{"v":10000,"d":"$10,000.00"}},{"v":8,"d":"$8.00"}]
[{"v":127227312878,"d":"1272-2731-2878"},{"$f":"IF(A27=\"\",\"\",VLOOKUP(A27,Data!$B$2:$D$4020,3,FALSE))","v":"NPF"},{"$f":"IF(A27=\"\",\"\",VLOOKUP(A27,Data!$B$2:$F$4020,5,FALSE))","v":"Peace River 1"},"9701/9702 78 Avenue",{"$f":"CONCATENATE(A27,D27)","v":"1272273128789701/9702 78 Avenue"},{"$f":"IF(ISNA(VLOOKUP(E27,Data!$A$2:$I$4020,7,FALSE)),\"\",VLOOKUP(E27,Data!$A$2:$I$4020,7,FALSE))","v":"Peace River"},{"$f":"IF(ISNA(VLOOKUP(E27,Data!$A$2:$I$4020,9,FALSE)),\"\",VLOOKUP(E27,Data!$A$2:$I$4020,9,FALSE))","v":"Alberta Social Housing Corporation"},{"$f":"IF(ISNA(VLOOKUP(E27,Data!$A$2:$J$4020,10,FALSE)),\"\",VLOOKUP(E27,Data!$A$2:$J$4020,10,FALSE))","v":"Community Housing Program"},2,"4 - Significant - Limited Back Up","3 - Poor","5 - Ensure Reliability","3 - Moderate","Roofing","Replace shingles and eavestroughs ","Shingles are curling, 19+ years old","No","No",{"v":10000,"d":"$10,000.00"},null,null,{"$f":"SUM(S27:U27)","v":{"v":10000,"d":"$10,000.00"}},{"v":9,"d":"$9.00"}]
[{"v":127227312878,"d":"1272-2731-2878"},{"$f":"IF(A28=\"\",\"\",VLOOKUP(A28,Data!$B$2:$D$4020,3,FALSE))","v":"NPF"},{"$f":"IF(A28=\"\",\"\",VLOOKUP(A28,Data!$B$2:$F$4020,5,FALSE))","v":"Peace River 1"},"9703/9705 78 Avenue",{"$f":"CONCATENATE(A28,D28)","v":"1272273128789703/9705 78 Avenue"},{"$f":"IF(ISNA(VLOOKUP(E28,Data!$A$2:$I$4020,7,FALSE)),\"\",VLOOKUP(E28,Data!$A$2:$I$4020,7,FALSE))","v":"Peace River"},{"$f":"IF(ISNA(VLOOKUP(E28,Data!$A$2:$I$4020,9,FALSE)),\"\",VLOOKUP(E28,Data!$A$2:$I$4020,9,FALSE))","v":"Alberta Social Housing Corporation"},{"$f":"IF(ISNA(VLOOKUP(E28,Data!$A$2:$J$4020,10,FALSE)),\"\",VLOOKUP(E28,Data!$A$2:$J$4020,10,FALSE))","v":"Community Housing Program"},2,"4 - Significant - Limited Back Up","3 - Poor","5 - Ensure Reliability","3 - Moderate","Roofing","Replace shingles and eavestroughs ","Shingles are curling, 19+ years old","No","No",{"v":10000,"d":"$10,000.00"},null,null,{"$f":"SUM(S28:U28)","v":{"v":10000,"d":"$10,000.00"}},{"v":10,"d":"$10.00"}]
[{"v":127227312202,"d":"1272-2731-2202"},{"$f":"IF(A29=\"\",\"\",VLOOKUP(A29,Data!$B$2:$D$4020,3,FALSE))","v":"NPF"},{"$f":"IF(A29=\"\",\"\",VLOOKUP(A29,Data!$B$2:$F$4020,5,FALSE))","v":"Peace River 3"},"9906 - 90 Avenue Units 301 - 307",{"$f":"CONCATENATE(A29,D29)","v":"1272273122029906 - 90 Avenue Units 301 - 307"},{"$f":"IF(ISNA(VLOOKUP(E29,Data!$A$2:$I$4020,7,FALSE)),\"\",VLOOKUP(E29,Data!$A$2:$I$4020,7,FALSE))","v":"Peace River"},{"$f":"IF(ISNA(VLOOKUP(E29,Data!$A$2:$I$4020,9,FALSE)),\"\",VLOOKUP(E29,Data!$A$2:$I$4020,9,FALSE))","v":"Alberta Social Housing Corporation"},{"$f":"IF(ISNA(VLOOKUP(E29,Data!$A$2:$J$4020,10,FALSE)),\"\",VLOOKUP(E29,Data!$A$2:$J$4020,10,FALSE))","v":"Community Housing Program"},7,"4 - Significant - Limited Back Up","3 - Poor","5 - Ensure Reliability","3 - Moderate","Roofing","Replace shingles and eavestroughs in townhouse sections ","Shingles are curling, 18+ years old","No","No",{"v":38500,"d":"$38,500.00"},null,null,{"$f":"SUM(S29:U29)","v":{"v":38500,"d":"$38,500.00"}},{"v":6,"d":"$6.00"}]
[{"v":127227312202,"d":"1272-2731-2202"},{"$f":"IF(A30=\"\",\"\",VLOOKUP(A30,Data!$B$2:$D$4020,3,FALSE))","v":"NPF"},{"$f":"IF(A30=\"\",\"\",VLOOKUP(A30,Data!$B$2:$F$4020,5,FALSE))","v":"Peace River 3"},"10002 - 90 Avenue Units 314 - 317",{"$f":"CONCATENATE(A30,D30)","v":"12722731220210002 - 90 Avenue Units 314 - 317"},{"$f":"IF(ISNA(VLOOKUP(E30,Data!$A$2:$I$4020,7,FALSE)),\"\",VLOOKUP(E30,Data!$A$2:$I$4020,7,FALSE))","v":"Peace River"},{"$f":"IF(ISNA(VLOOKUP(E30,Data!$A$2:$I$4020,9,FALSE)),\"\",VLOOKUP(E30,Data!$A$2:$I$4020,9,FALSE))","v":"Alberta Social Housing Corporation"},{"$f":"IF(ISNA(VLOOKUP(E30,Data!$A$2:$J$4020,10,FALSE)),\"\",VLOOKUP(E30,Data!$A$2:$J$4020,10,FALSE))","v":"Community Housing Program"},4,"4 - Significant - Limited Back Up","3 - Poor","5 - Ensure Reliability","3 - Moderate","Roofing","Replace shingles and eavestroughs in townhouse sections ","Shingles 17+ years old.","No","No",{"v":28500,"d":"$28,500.00"},null,null,{"$f":"SUM(S30:U30)","v":{"v":28500,"d":"$28,500.00"}},{"v":7,"d":"$7.00"}]
[{"v":124227312295,"d":"1242-2731-2295"},{"$f":"IF(A31=\"\",\"\",VLOOKUP(A31,Data!$B$2:$D$4020,3,FALSE))","v":"NPF"},{"$f":"IF(A31=\"\",\"\",VLOOKUP(A31,Data!$B$2:$F$4020,5,FALSE))","v":"Grimshaw 2 (FCLS)"},"4214 - 52 Street",{"$f":"CONCATENATE(A31,D31)","v":"1242273122954214 - 52 Street"},{"$f":"IF(ISNA(VLOOKUP(E31,Data!$A$2:$I$4020,7,FALSE)),\"\",VLOOKUP(E31,Data!$A$2:$I$4020,7,FALSE))","v":"Grimshaw"},{"$f":"IF(ISNA(VLOOKUP(E31,Data!$A$2:$I$4020,9,FALSE)),\"\",VLOOKUP(E31,Data!$A$2:$I$4020,9,FALSE))","v":"Alberta Social Housing Corporation"},{"$f":"IF(ISNA(VLOOKUP(E31,Data!$A$2:$J$4020,10,FALSE)),\"\",VLOOKUP(E31,Data!$A$2:$J$4020,10,FALSE))","v":"Community Housing Program"},1,"5 - Significant - No Back Up","5 - Failed/Imminent","5 - Ensure Reliability","5 - Critical","Roofing","Replace shingles and eavestroughs ","Original roof, 19+ years old","No","No",{"v":9000,"d":"$9,000.00"},null,null,{"$f":"SUM(S31:U31)","v":{"v":9000,"d":"$9,000.00"}},{"v":5,"d":"$5.00"},"Note: This unit is listed as a potential Asset Transfer."]
[{"v":124227223204,"d":"1242-2722-3204"},{"$f":"IF(A32=\"\",\"\",VLOOKUP(A32,Data!$B$2:$D$4020,3,FALSE))","v":"NPF"},{"$f":"IF(A32=\"\",\"\",VLOOKUP(A32,Data!$B$2:$F$4020,5,FALSE))","v":"Grimshaw R&N 1"},"5418 - 53 Street",{"$f":"CONCATENATE(A32,D32)","v":"1242272232045418 - 53 Street"},{"$f":"IF(ISNA(VLOOKUP(E32,Data!$A$2:$I$4020,7,FALSE)),\"\",VLOOKUP(E32,Data!$A$2:$I$4020,7,FALSE))","v":"Grimshaw"},{"$f":"IF(ISNA(VLOOKUP(E32,Data!$A$2:$I$4020,9,FALSE)),\"\",VLOOKUP(E32,Data!$A$2:$I$4020,9,FALSE))","v":"Alberta Social Housing Corporation"},{"$f":"IF(ISNA(VLOOKUP(E32,Data!$A$2:$J$4020,10,FALSE)),\"\",VLOOKUP(E32,Data!$A$2:$J$4020,10,FALSE))","v":"Community Housing Program"},1,"6 - Significant - No Back Up","3 - Poor","5 - Ensure Reliability","3 - Moderate","Roofing","Replace shingles and eavestroughs ","Shingles 17+ years old.","No","No",{"v":9000,"d":"$9,000.00"},null,null,{"$f":"SUM(S32:U32)","v":{"v":9000,"d":"$9,000.00"}},{"v":28,"d":"$28.00"},"Note: This unit is listed as a potential Asset Transfer."]
[{"v":124227223013,"d":"1242-2722-3013"},{"$f":"IF(A33=\"\",\"\",VLOOKUP(A33,Data!$B$2:$D$4020,3,FALSE))","v":"NPF"},{"$f":"IF(A33=\"\",\"\",VLOOKUP(A33,Data!$B$2:$F$4020,5,FALSE))","v":"Grimshaw R&N 3"},"4330 - 54 Street",{"$f":"CONCATENATE(A33,D33)","v":"1242272230134330 - 54 Street"},{"$f":"IF(ISNA(VLOOKUP(E33,Data!$A$2:$I$4020,7,FALSE)),\"\",VLOOKUP(E33,Data!$A$2:$I$4020,7,FALSE))","v":"Grimshaw"},{"$f":"IF(ISNA(VLOOKUP(E33,Data!$A$2:$I$4020,9,FALSE)),\"\",VLOOKUP(E33,Data!$A$2:$I$4020,9,FALSE))","v":"Alberta Social Housing Corporation"},{"$f":"IF(ISNA(VLOOKUP(E33,Data!$A$2:$J$4020,10,FALSE)),\"\",VLOOKUP(E33,Data!$A$2:$J$4020,10,FALSE))","v":"Community Housing Program"},1,"7 - Significant - No Back Up","3 - Poor","5 - Ensure Reliability","3 - Moderate","Roofing","Replace shingles and eavestroughs","Shingles are curling, 18+ years old","No","No",{"v":9000,"d":"$9,000.00"},null,null,{"$f":"SUM(S33:U33)","v":{"v":9000,"d":"$9,000.00"}},{"v":29,"d":"$29.00"},"Note: This unit is listed as a potential Asset Transfer."]
[{"v":124227223172,"d":"1242-2722-3172"},{"$f":"IF(A34=\"\",\"\",VLOOKUP(A34,Data!$B$2:$D$4020,3,FALSE))","v":"NPF"},{"$f":"IF(A34=\"\",\"\",VLOOKUP(A34,Data!$B$2:$F$4020,5,FALSE))","v":"Grimshaw R&N 4"},"4717 - 44 Avenue",{"$f":"CONCATENATE(A34,D34)","v":"1242272231724717 - 44 Avenue"},{"$f":"IF(ISNA(VLOOKUP(E34,Data!$A$2:$I$4020,7,FALSE)),\"\",VLOOKUP(E34,Data!$A$2:$I$4020,7,FALSE))","v":"Grimshaw"},{"$f":"IF(ISNA(VLOOKUP(E34,Data!$A$2:$I$4020,9,FALSE)),\"\",VLOOKUP(E34,Data!$A$2:$I$4020,9,FALSE))","v":"Alberta Social Housing Corporation"},{"$f":"IF(ISNA(VLOOKUP(E34,Data!$A$2:$J$4020,10,FALSE)),\"\",VLOOKUP(E34,Data!$A$2:$J$4020,10,FALSE))","v":"Community Housing Program"},1,"8 - Significant - No Back Up","5 - Failed/Imminent","5 - Impacts Revenue","5 - Critical","Suite Renewal - vacant due to condition","Renovate 1 unit - kitchen cabinets, counters, flooring, full bathroom renovation, painting, plumbing and electrical fixtures ","Long term tenancy resulting in significant damage.","Yes","Yes",{"v":60000,"d":"$60,000.00"},null,null,{"$f":"SUM(S34:U34)","v":{"v":60000,"d":"$60,000.00"}},{"v":30,"d":"$30.00"},"Note: This unit is listed as a potential Asset Transfer."]
[{"v":122427552252,"d":"1224-2755-2252"},{"$f":"IF(A35=\"\",\"\",VLOOKUP(A35,Data!$B$2:$D$4020,3,FALSE))","v":"NPF"},{"$f":"IF(A35=\"\",\"\",VLOOKUP(A35,Data!$B$2:$F$4020,5,FALSE))","v":"Garrison Manor Addition"},"10705 - 104 Avenue",{"$f":"CONCATENATE(A35,D35)","v":"12242755225210705 - 104 Avenue"},{"$f":"IF(ISNA(VLOOKUP(E35,Data!$A$2:$I$4020,7,FALSE)),\"\",VLOOKUP(E35,Data!$A$2:$I$4020,7,FALSE))","v":"Fairview"},{"$f":"IF(ISNA(VLOOKUP(E35,Data!$A$2:$I$4020,9,FALSE)),\"\",VLOOKUP(E35,Data!$A$2:$I$4020,9,FALSE))","v":"Alberta Social Housing Corporation"},{"$f":"IF(ISNA(VLOOKUP(E35,Data!$A$2:$J$4020,10,FALSE)),\"\",VLOOKUP(E35,Data!$A$2:$J$4020,10,FALSE))","v":"Seniors Self Contained Program"},30,"9 - Significant - No Back Up","3 - Poor","5 - Ensure Reliability","3 - Moderate","Roofing","Replace shingles and eavestroughs","Shingles 18+ years old.","No","No",null,{"v":60000,"d":"$60,000.00"},null,{"$f":"SUM(S35:U35)","v":{"v":60000,"d":"$60,000.00"}},{"v":32,"d":"$32.00"}]
[{"v":122427552082,"d":"1224-2755-2082"},{"$f":"IF(A36=\"\",\"\",VLOOKUP(A36,Data!$B$2:$D$4020,3,FALSE))","v":"NPF"},{"$f":"IF(A36=\"\",\"\",VLOOKUP(A36,Data!$B$2:$F$4020,5,FALSE))","v":"Garrison Manor"},"10705 - 104 Avenue",{"$f":"CONCATENATE(A36,D36)","v":"12242755208210705 - 104 Avenue"},{"$f":"IF(ISNA(VLOOKUP(E36,Data!$A$2:$I$4020,7,FALSE)),\"\",VLOOKUP(E36,Data!$A$2:$I$4020,7,FALSE))","v":"Fairview"},{"$f":"IF(ISNA(VLOOKUP(E36,Data!$A$2:$I$4020,9,FALSE)),\"\",VLOOKUP(E36,Data!$A$2:$I$4020,9,FALSE))","v":"Alberta Social Housing Corporation"},{"$f":"IF(ISNA(VLOOKUP(E36,Data!$A$2:$J$4020,10,FALSE)),\"\",VLOOKUP(E36,Data!$A$2:$J$4020,10,FALSE))","v":"Seniors Self Contained Program"},16,"10 - Significant - No Back Up","3 - Poor","5 - Ensure Reliability","3 - Moderate","Roofing","Replace shingles and eavestroughs","Shingles 18+ years old.","No","No",null,{"v":28000,"d":"$28,000.00"},null,{"$f":"SUM(S36:U36)","v":{"v":28000,"d":"$28,000.00"}},{"v":33,"d":"$33.00"}]
[{"v":124227552204,"d":"1242-2755-2204"},"NPF","Legion Court","4703 - 50 Street",{"$f":"CONCATENATE(A37,D37)","v":"1242275522044703 - 50 Street"},"Grimshaw",{"$f":"IF(ISNA(VLOOKUP(E37,Data!$A$2:$I$4020,9,FALSE)),\"\",VLOOKUP(E37,Data!$A$2:$I$4020,9,FALSE))","v":"Alberta Social Housing Corporation"},{"$f":"IF(ISNA(VLOOKUP(E37,Data!$A$2:$J$4020,10,FALSE)),\"\",VLOOKUP(E37,Data!$A$2:$J$4020,10,FALSE))","v":"Seniors Self Contained Program"},16,"4 - Significant - Limited Back Up","5 - Failed/Imminent","5 - Health and Safety/Legislation","5 - Critical","Elevators","Elevator replacement or repair","Doors open while elevator is still moving and before reaching bottom","No","No",0,null,null,{"$f":"SUM(S37:U37)","v":0},{"v":3,"d":"$3.00"}]
[{"v":125427312877,"d":"1254-2731-2877"},{"$f":"IF(A38=\"\",\"\",VLOOKUP(A38,Data!$B$2:$D$4020,3,FALSE))","v":"NPF"},{"$f":"IF(A38=\"\",\"\",VLOOKUP(A38,Data!$B$2:$F$4020,5,FALSE))","v":"Manning 1"},"406 A&B - 2 Street NE",{"$f":"CONCATENATE(A38,D38)","v":"125427312877406 A&B - 2 Street NE"},"Manning",{"$f":"IF(ISNA(VLOOKUP(E38,Data!$A$2:$I$4020,9,FALSE)),\"\",VLOOKUP(E38,Data!$A$2:$I$4020,9,FALSE))","v":"Alberta Social Housing Corporation"},{"$f":"IF(ISNA(VLOOKUP(E38,Data!$A$2:$J$4020,10,FALSE)),\"\",VLOOKUP(E38,Data!$A$2:$J$4020,10,FALSE))","v":"Community Housing Program"},1,"5 - Significant - No Back Up","5 - Failed/Imminent","5 - Ensure Reliability","5 - Critical","Grounds Maintenance","Install weeping tile, initial fix of membrane installation did not work.","Basement floods and house is not rentable.","Yes","Yes",{"v":35000,"d":"$35,000.00"},null,null,{"$f":"SUM(S38:U38)","v":{"v":35000,"d":"$35,000.00"}},{"v":18,"d":"$18.00"}]
[{"v":125427312877,"d":"1254-2731-2877"},{"$f":"IF(A39=\"\",\"\",VLOOKUP(A39,Data!$B$2:$D$4020,3,FALSE))","v":"NPF"},{"$f":"IF(A39=\"\",\"\",VLOOKUP(A39,Data!$B$2:$F$4020,5,FALSE))","v":"Manning 1"},"403 A&B - 1 Street NE",{"$f":"CONCATENATE(A39,D39)","v":"125427312877403 A&B - 1 Street NE"},"Manning",{"$f":"IF(ISNA(VLOOKUP(E39,Data!$A$2:$I$4020,9,FALSE)),\"\",VLOOKUP(E39,Data!$A$2:$I$4020,9,FALSE))","v":"Alberta Social Housing Corporation"},{"$f":"IF(ISNA(VLOOKUP(E39,Data!$A$2:$J$4020,10,FALSE)),\"\",VLOOKUP(E39,Data!$A$2:$J$4020,10,FALSE))","v":"Community Housing Program"},2,"5 - Significant - No Back Up","5 - Failed/Imminent","5 - Ensure Reliability","5 - Critical","Grounds Maintenance","Install weeping tile, initial fix of membrane installation did not work.","Basement floods and units are not rentable.","Yes","Yes",{"v":70000,"d":"$70,000.00"},null,null,{"$f":"SUM(S39:U39)","v":{"v":70000,"d":"$70,000.00"}},{"v":19,"d":"$19.00"}]
[null,{"$f":"IF(A40=\"\",\"\",VLOOKUP(A40,Data!$B$2:$D$4020,3,FALSE))","v":""},{"$f":"IF(A40=\"\",\"\",VLOOKUP(A40,Data!$B$2:$F$4020,5,FALSE))","v":""},null,{"$f":"CONCATENATE(A40,D40)","v":""},{"$f":"IF(ISNA(VLOOKUP(E40,Data!$A$2:$I$4020,7,FALSE)),\"\",VLOOKUP(E40,Data!$A$2:$I$4020,7,FALSE))","v":""},{"$f":"IF(ISNA(VLOOKUP(E40,Data!$A$2:$I$4020,9,FALSE)),\"\",VLOOKUP(E40,Data!$A$2:$I$4020,9,FALSE))","v":""},{"$f":"IF(ISNA(VLOOKUP(E40,Data!$A$2:$J$4020,10,FALSE)),\"\",VLOOKUP(E40,Data!$A$2:$J$4020,10,FALSE))","v":""},{"$nulls":13},{"$f":"SUM(S40:U40)","v":0}]
[null,{"$f":"IF(A41=\"\",\"\",VLOOKUP(A41,Data!$B$2:$D$4020,3,FALSE))","v":""},{"$f":"IF(A41=\"\",\"\",VLOOKUP(A41,Data!$B$2:$F$4020,5,FALSE))","v":""},null,{"$f":"CONCATENATE(A41,D41)","v":""},{"$f":"IF(ISNA(VLOOKUP(E41,Data!$A$2:$I$4020,7,FALSE)),\"\",VLOOKUP(E41,Data!$A$2:$I$4020,7,FALSE))","v":""},{"$f":"IF(ISNA(VLOOKUP(E41,Data!$A$2:$I$4020,9,FALSE)),\"\",VLOOKUP(E41,Data!$A$2:$I$4020,9,FALSE))","v":""},{"$f":"IF(ISNA(VLOOKUP(E41,Data!$A$2:$J$4020,10,FALSE)),\"\",VLOOKUP(E41,Data!$A$2:$J$4020,10,FALSE))","v":""},{"$nulls":13},{"$f":"SUM(S41:U41)","v":0}]
[null,{"$f":"IF(A42=\"\",\"\",VLOOKUP(A42,Data!$B$2:$D$4020,3,FALSE))","v":""},{"$f":"IF(A42=\"\",\"\",VLOOKUP(A42,Data!$B$2:$F$4020,5,FALSE))","v":""},null,{"$f":"CONCATENATE(A42,D42)","v":""},{"$f":"IF(ISNA(VLOOKUP(E42,Data!$A$2:$I$4020,7,FALSE)),\"\",VLOOKUP(E42,Data!$A$2:$I$4020,7,FALSE))","v":""},{"$f":"IF(ISNA(VLOOKUP(E42,Data!$A$2:$I$4020,9,FALSE)),\"\",VLOOKUP(E42,Data!$A$2:$I$4020,9,FALSE))","v":""},{"$f":"IF(ISNA(VLOOKUP(E42,Data!$A$2:$J$4020,10,FALSE)),\"\",VLOOKUP(E42,Data!$A$2:$J$4020,10,FALSE))","v":""},{"$nulls":13},{"$f":"SUM(S42:U42)","v":0}]
[null,{"$f":"IF(A43=\"\",\"\",VLOOKUP(A43,Data!$B$2:$D$4020,3,FALSE))","v":""},{"$f":"IF(A43=\"\",\"\",VLOOKUP(A43,Data!$B$2:$F$4020,5,FALSE))","v":""},null,{"$f":"CONCATENATE(A43,D43)","v":""},{"$f":"IF(ISNA(VLOOKUP(E43,Data!$A$2:$I$4020,7,FALSE)),\"\",VLOOKUP(E43,Data!$A$2:$I$4020,7,FALSE))","v":""},{"$f":"IF(ISNA(VLOOKUP(E43,Data!$A$2:$I$4020,9,FALSE)),\"\",VLOOKUP(E43,Data!$A$2:$I$4020,9,FALSE))","v":""},{"$f":"IF(ISNA(VLOOKUP(E43,Data!$A$2:$J$4020,10,FALSE)),\"\",VLOOKUP(E43,Data!$A$2:$J$4020,10,FALSE))","v":""},{"$nulls":13},{"$f":"SUM(S43:U43)","v":0}]
[null,{"$f":"IF(A44=\"\",\"\",VLOOKUP(A44,Data!$B$2:$D$4020,3,FALSE))","v":""},{"$f":"IF(A44=\"\",\"\",VLOOKUP(A44,Data!$B$2:$F$4020,5,FALSE))","v":""},null,{"$f":"CONCATENATE(A44,D44)","v":""},{"$f":"IF(ISNA(VLOOKUP(E44,Data!$A$2:$I$4020,7,FALSE)),\"\",VLOOKUP(E44,Data!$A$2:$I$4020,7,FALSE))","v":""},{"$f":"IF(ISNA(VLOOKUP(E44,Data!$A$2:$I$4020,9,FALSE)),\"\",VLOOKUP(E44,Data!$A$2:$I$4020,9,FALSE))","v":""},{"$f":"IF(ISNA(VLOOKUP(E44,Data!$A$2:$J$4020,10,FALSE)),\"\",VLOOKUP(E44,Data!$A$2:$J$4020,10,FALSE))","v":""},{"$nulls":13},{"$f":"SUM(S44:U44)","v":0}]
[null,{"$f":"IF(A45=\"\",\"\",VLOOKUP(A45,Data!$B$2:$D$4020,3,FALSE))","v":""},{"$f":"IF(A45=\"\",\"\",VLOOKUP(A45,Data!$B$2:$F$4020,5,FALSE))","v":""},null,{"$f":"CONCATENATE(A45,D45)","v":""},{"$f":"IF(ISNA(VLOOKUP(E45,Data!$A$2:$I$4020,7,FALSE)),\"\",VLOOKUP(E45,Data!$A$2:$I$4020,7,FALSE))","v":""},{"$f":"IF(ISNA(VLOOKUP(E45,Data!$A$2:$I$4020,9,FALSE)),\"\",VLOOKUP(E45,Data!$A$2:$I$4020,9,FALSE))","v":""},{"$f":"IF(ISNA(VLOOKUP(E45,Data!$A$2:$J$4020,10,FALSE)),\"\",VLOOKUP(E45,Data!$A$2:$J$4020,10,FALSE))","v":""},{"$nulls":13},{"$f":"SUM(S45:U45)","v":0}]
[null,{"$f":"IF(A46=\"\",\"\",VLOOKUP(A46,Data!$B$2:$D$4020,3,FALSE))","v":""},{"$f":"IF(A46=\"\",\"\",VLOOKUP(A46,Data!$B$2:$F$4020,5,FALSE))","v":""},null,{"$f":"CONCATENATE(A46,D46)","v":""},{"$f":"IF(ISNA(VLOOKUP(E46,Data!$A$2:$I$4020,7,FALSE)),\"\",VLOOKUP(E46,Data!$A$2:$I$4020,7,FALSE))","v":""},{"$f":"IF(ISNA(VLOOKUP(E46,Data!$A$2:$I$4020,9,FALSE)),\"\",VLOOKUP(E46,Data!$A$2:$I$4020,9,FALSE))","v":""},{"$f":"IF(ISNA(VLOOKUP(E46,Data!$A$2:$J$4020,10,FALSE)),\"\",VLOOKUP(E46,Data!$A$2:$J$4020,10,FALSE))","v":""},{"$nulls":13},{"$f":"SUM(S46:U46)","v":0}]
[null,{"$f":"IF(A47=\"\",\"\",VLOOKUP(A47,Data!$B$2:$D$4020,3,FALSE))","v":""},{"$f":"IF(A47=\"\",\"\",VLOOKUP(A47,Data!$B$2:$F$4020,5,FALSE))","v":""},null,{"$f":"CONCATENATE(A47,D47)","v":""},{"$f":"IF(ISNA(VLOOKUP(E47,Data!$A$2:$I$4020,7,FALSE)),\"\",VLOOKUP(E47,Data!$A$2:$I$4020,7,FALSE))","v":""},{"$f":"IF(ISNA(VLOOKUP(E47,Data!$A$2:$I$4020,9,FALSE)),\"\",VLOOKUP(E47,Data!$A$2:$I$4020,9,FALSE))","v":""},{"$f":"IF(ISNA(VLOOKUP(E47,Data!$A$2:$J$4020,10,FALSE)),\"\",VLOOKUP(E47,Data!$A$2:$J$4020,10,FALSE))","v":""},{"$nulls":13},{"$f":"SUM(S47:U47)","v":0}]
[null,{"$f":"IF(A48=\"\",\"\",VLOOKUP(A48,Data!$B$2:$D$4020,3,FALSE))","v":""},{"$f":"IF(A48=\"\",\"\",VLOOKUP(A48,Data!$B$2:$F$4020,5,FALSE))","v":""},null,{"$f":"CONCATENATE(A48,D48)","v":""},{"$f":"IF(ISNA(VLOOKUP(E48,Data!$A$2:$I$4020,7,FALSE)),\"\",VLOOKUP(E48,Data!$A$2:$I$4020,7,FALSE))","v":""},{"$f":"IF(ISNA(VLOOKUP(E48,Data!$A$2:$I$4020,9,FALSE)),\"\",VLOOKUP(E48,Data!$A$2:$I$4020,9,FALSE))","v":""},{"$f":"IF(ISNA(VLOOKUP(E48,Data!$A$2:$J$4020,10,FALSE)),\"\",VLOOKUP(E48,Data!$A$2:$J$4020,10,FALSE))","v":""},{"$nulls":13},{"$f":"SUM(S48:U48)","v":0}]
[null,{"$f":"IF(A49=\"\",\"\",VLOOKUP(A49,Data!$B$2:$D$4020,3,FALSE))","v":""},{"$f":"IF(A49=\"\",\"\",VLOOKUP(A49,Data!$B$2:$F$4020,5,FALSE))","v":""},null,{"$f":"CONCATENATE(A49,D49)","v":""},{"$f":"IF(ISNA(VLOOKUP(E49,Data!$A$2:$I$4020,7,FALSE)),\"\",VLOOKUP(E49,Data!$A$2:$I$4020,7,FALSE))","v":""},{"$f":"IF(ISNA(VLOOKUP(E49,Data!$A$2:$I$4020,9,FALSE)),\"\",VLOOKUP(E49,Data!$A$2:$I$4020,9,FALSE))","v":""},{"$f":"IF(ISNA(VLOOKUP(E49,Data!$A$2:$J$4020,10,FALSE)),\"\",VLOOKUP(E49,Data!$A$2:$J$4020,10,FALSE))","v":""},{"$nulls":13},{"$f":"SUM(S49:U49)","v":0}]
[null,{"$f":"IF(A50=\"\",\"\",VLOOKUP(A50,Data!$B$2:$D$4020,3,FALSE))","v":""},{"$f":"IF(A50=\"\",\"\",VLOOKUP(A50,Data!$B$2:$F$4020,5,FALSE))","v":""},null,{"$f":"CONCATENATE(A50,D50)","v":""},{"$f":"IF(ISNA(VLOOKUP(E50,Data!$A$2:$I$4020,7,FALSE)),\"\",VLOOKUP(E50,Data!$A$2:$I$4020,7,FALSE))","v":""},{"$f":"IF(ISNA(VLOOKUP(E50,Data!$A$2:$I$4020,9,FALSE)),\"\",VLOOKUP(E50,Data!$A$2:$I$4020,9,FALSE))","v":""},{"$f":"IF(ISNA(VLOOKUP(E50,Data!$A$2:$J$4020,10,FALSE)),\"\",VLOOKUP(E50,Data!$A$2:$J$4020,10,FALSE))","v":""},{"$nulls":13},{"$f":"SUM(S50:U50)","v":0}]
[null,{"$f":"IF(A51=\"\",\"\",VLOOKUP(A51,Data!$B$2:$D$4020,3,FALSE))","v":""},{"$f":"IF(A51=\"\",\"\",VLOOKUP(A51,Data!$B$2:$F$4020,5,FALSE))","v":""},null,{"$f":"CONCATENATE(A51,D51)","v":""},{"$f":"IF(ISNA(VLOOKUP(E51,Data!$A$2:$I$4020,7,FALSE)),\"\",VLOOKUP(E51,Data!$A$2:$I$4020,7,FALSE))","v":""},{"$f":"IF(ISNA(VLOOKUP(E51,Data!$A$2:$I$4020,9,FALSE)),\"\",VLOOKUP(E51,Data!$A$2:$I$4020,9,FALSE))","v":""},{"$f":"IF(ISNA(VLOOKUP(E51,Data!$A$2:$J$4020,10,FALSE)),\"\",VLOOKUP(E51,Data!$A$2:$J$4020,10,FALSE))","v":""},{"$nulls":13},{"$f":"SUM(S51:U51)","v":0}]
[null,{"$f":"IF(A52=\"\",\"\",VLOOKUP(A52,Data!$B$2:$D$4020,3,FALSE))","v":""},{"$f":"IF(A52=\"\",\"\",VLOOKUP(A52,Data!$B$2:$F$4020,5,FALSE))","v":""},null,{"$f":"CONCATENATE(A52,D52)","v":""},{"$f":"IF(ISNA(VLOOKUP(E52,Data!$A$2:$I$4020,7,FALSE)),\"\",VLOOKUP(E52,Data!$A$2:$I$4020,7,FALSE))","v":""},{"$f":"IF(ISNA(VLOOKUP(E52,Data!$A$2:$I$4020,9,FALSE)),\"\",VLOOKUP(E52,Data!$A$2:$I$4020,9,FALSE))","v":""},{"$f":"IF(ISNA(VLOOKUP(E52,Data!$A$2:$J$4020,10,FALSE)),\"\",VLOOKUP(E52,Data!$A$2:$J$4020,10,FALSE))","v":""},{"$nulls":13},{"$f":"SUM(S52:U52)","v":0}]
[null,{"$f":"IF(A53=\"\",\"\",VLOOKUP(A53,Data!$B$2:$D$4020,3,FALSE))","v":""},{"$f":"IF(A53=\"\",\"\",VLOOKUP(A53,Data!$B$2:$F$4020,5,FALSE))","v":""},null,{"$f":"CONCATENATE(A53,D53)","v":""},{"$f":"IF(ISNA(VLOOKUP(E53,Data!$A$2:$I$4020,7,FALSE)),\"\",VLOOKUP(E53,Data!$A$2:$I$4020,7,FALSE))","v":""},{"$f":"IF(ISNA(VLOOKUP(E53,Data!$A$2:$I$4020,9,FALSE)),\"\",VLOOKUP(E53,Data!$A$2:$I$4020,9,FALSE))","v":""},{"$f":"IF(ISNA(VLOOKUP(E53,Data!$A$2:$J$4020,10,FALSE)),\"\",VLOOKUP(E53,Data!$A$2:$J$4020,10,FALSE))","v":""},{"$nulls":13},{"$f":"SUM(S53:U53)","v":0}]
[null,{"$f":"IF(A54=\"\",\"\",VLOOKUP(A54,Data!$B$2:$D$4020,3,FALSE))","v":""},{"$f":"IF(A54=\"\",\"\",VLOOKUP(A54,Data!$B$2:$F$4020,5,FALSE))","v":""},null,{"$f":"CONCATENATE(A54,D54)","v":""},{"$f":"IF(ISNA(VLOOKUP(E54,Data!$A$2:$I$4020,7,FALSE)),\"\",VLOOKUP(E54,Data!$A$2:$I$4020,7,FALSE))","v":""},{"$f":"IF(ISNA(VLOOKUP(E54,Data!$A$2:$I$4020,9,FALSE)),\"\",VLOOKUP(E54,Data!$A$2:$I$4020,9,FALSE))","v":""},{"$f":"IF(ISNA(VLOOKUP(E54,Data!$A$2:$J$4020,10,FALSE)),\"\",VLOOKUP(E54,Data!$A$2:$J$4020,10,FALSE))","v":""},{"$nulls":13},{"$f":"SUM(S54:U54)","v":0}]
[null,{"$f":"IF(A55=\"\",\"\",VLOOKUP(A55,Data!$B$2:$D$4020,3,FALSE))","v":""},{"$f":"IF(A55=\"\",\"\",VLOOKUP(A55,Data!$B$2:$F$4020,5,FALSE))","v":""},null,{"$f":"CONCATENATE(A55,D55)","v":""},{"$f":"IF(ISNA(VLOOKUP(E55,Data!$A$2:$I$4020,7,FALSE)),\"\",VLOOKUP(E55,Data!$A$2:$I$4020,7,FALSE))","v":""},{"$f":"IF(ISNA(VLOOKUP(E55,Data!$A$2:$I$4020,9,FALSE)),\"\",VLOOKUP(E55,Data!$A$2:$I$4020,9,FALSE))","v":""},{"$f":"IF(ISNA(VLOOKUP(E55,Data!$A$2:$J$4020,10,FALSE)),\"\",VLOOKUP(E55,Data!$A$2:$J$4020,10,FALSE))","v":""},{"$nulls":13},{"$f":"SUM(S55:U55)","v":0}]
[null,{"$f":"IF(A56=\"\",\"\",VLOOKUP(A56,Data!$B$2:$D$4020,3,FALSE))","v":""},{"$f":"IF(A56=\"\",\"\",VLOOKUP(A56,Data!$B$2:$F$4020,5,FALSE))","v":""},null,{"$f":"CONCATENATE(A56,D56)","v":""},{"$f":"IF(ISNA(VLOOKUP(E56,Data!$A$2:$I$4020,7,FALSE)),\"\",VLOOKUP(E56,Data!$A$2:$I$4020,7,FALSE))","v":""},{"$f":"IF(ISNA(VLOOKUP(E56,Data!$A$2:$I$4020,9,FALSE)),\"\",VLOOKUP(E56,Data!$A$2:$I$4020,9,FALSE))","v":""},{"$f":"IF(ISNA(VLOOKUP(E56,Data!$A$2:$J$4020,10,FALSE)),\"\",VLOOKUP(E56,Data!$A$2:$J$4020,10,FALSE))","v":""},{"$nulls":13},{"$f":"SUM(S56:U56)","v":0}]
[null,{"$f":"IF(A57=\"\",\"\",VLOOKUP(A57,Data!$B$2:$D$4020,3,FALSE))","v":""},{"$f":"IF(A57=\"\",\"\",VLOOKUP(A57,Data!$B$2:$F$4020,5,FALSE))","v":""},null,{"$f":"CONCATENATE(A57,D57)","v":""},{"$f":"IF(ISNA(VLOOKUP(E57,Data!$A$2:$I$4020,7,FALSE)),\"\",VLOOKUP(E57,Data!$A$2:$I$4020,7,FALSE))","v":""},{"$f":"IF(ISNA(VLOOKUP(E57,Data!$A$2:$I$4020,9,FALSE)),\"\",VLOOKUP(E57,Data!$A$2:$I$4020,9,FALSE))","v":""},{"$f":"IF(ISNA(VLOOKUP(E57,Data!$A$2:$J$4020,10,FALSE)),\"\",VLOOKUP(E57,Data!$A$2:$J$4020,10,FALSE))","v":""},{"$nulls":13},{"$f":"SUM(S57:U57)","v":0}]
[null,{"$f":"IF(A58=\"\",\"\",VLOOKUP(A58,Data!$B$2:$D$4020,3,FALSE))","v":""},{"$f":"IF(A58=\"\",\"\",VLOOKUP(A58,Data!$B$2:$F$4020,5,FALSE))","v":""},null,{"$f":"CONCATENATE(A58,D58)","v":""},{"$f":"IF(ISNA(VLOOKUP(E58,Data!$A$2:$I$4020,7,FALSE)),\"\",VLOOKUP(E58,Data!$A$2:$I$4020,7,FALSE))","v":""},{"$f":"IF(ISNA(VLOOKUP(E58,Data!$A$2:$I$4020,9,FALSE)),\"\",VLOOKUP(E58,Data!$A$2:$I$4020,9,FALSE))","v":""},{"$f":"IF(ISNA(VLOOKUP(E58,Data!$A$2:$J$4020,10,FALSE)),\"\",VLOOKUP(E58,Data!$A$2:$J$4020,10,FALSE))","v":""},{"$nulls":13},{"$f":"SUM(S58:U58)","v":0}]
[null,{"$f":"IF(A59=\"\",\"\",VLOOKUP(A59,Data!$B$2:$D$4020,3,FALSE))","v":""},{"$f":"IF(A59=\"\",\"\",VLOOKUP(A59,Data!$B$2:$F$4020,5,FALSE))","v":""},null,{"$f":"CONCATENATE(A59,D59)","v":""},{"$f":"IF(ISNA(VLOOKUP(E59,Data!$A$2:$I$4020,7,FALSE)),\"\",VLOOKUP(E59,Data!$A$2:$I$4020,7,FALSE))","v":""},{"$f":"IF(ISNA(VLOOKUP(E59,Data!$A$2:$I$4020,9,FALSE)),\"\",VLOOKUP(E59,Data!$A$2:$I$4020,9,FALSE))","v":""},{"$f":"IF(ISNA(VLOOKUP(E59,Data!$A$2:$J$4020,10,FALSE)),\"\",VLOOKUP(E59,Data!$A$2:$J$4020,10,FALSE))","v":""},{"$nulls":13},{"$f":"SUM(S59:U59)","v":0}]
[null,{"$f":"IF(A60=\"\",\"\",VLOOKUP(A60,Data!$B$2:$D$4020,3,FALSE))","v":""},{"$f":"IF(A60=\"\",\"\",VLOOKUP(A60,Data!$B$2:$F$4020,5,FALSE))","v":""},null,{"$f":"CONCATENATE(A60,D60)","v":""},{"$f":"IF(ISNA(VLOOKUP(E60,Data!$A$2:$I$4020,7,FALSE)),\"\",VLOOKUP(E60,Data!$A$2:$I$4020,7,FALSE))","v":""},{"$f":"IF(ISNA(VLOOKUP(E60,Data!$A$2:$I$4020,9,FALSE)),\"\",VLOOKUP(E60,Data!$A$2:$I$4020,9,FALSE))","v":""},{"$f":"IF(ISNA(VLOOKUP(E60,Data!$A$2:$J$4020,10,FALSE)),\"\",VLOOKUP(E60,Data!$A$2:$J$4020,10,FALSE))","v":""},{"$nulls":13},{"$f":"SUM(S60:U60)","v":0}]
[null,{"$f":"IF(A61=\"\",\"\",VLOOKUP(A61,Data!$B$2:$D$4020,3,FALSE))","v":""},{"$f":"IF(A61=\"\",\"\",VLOOKUP(A61,Data!$B$2:$F$4020,5,FALSE))","v":""},null,{"$f":"CONCATENATE(A61,D61)","v":""},{"$f":"IF(ISNA(VLOOKUP(E61,Data!$A$2:$I$4020,7,FALSE)),\"\",VLOOKUP(E61,Data!$A$2:$I$4020,7,FALSE))","v":""},{"$f":"IF(ISNA(VLOOKUP(E61,Data!$A$2:$I$4020,9,FALSE)),\"\",VLOOKUP(E61,Data!$A$2:$I$4020,9,FALSE))","v":""},{"$f":"IF(ISNA(VLOOKUP(E61,Data!$A$2:$J$4020,10,FALSE)),\"\",VLOOKUP(E61,Data!$A$2:$J$4020,10,FALSE))","v":""},{"$nulls":13},{"$f":"SUM(S61:U61)","v":0}]
[null,{"$f":"IF(A62=\"\",\"\",VLOOKUP(A62,Data!$B$2:$D$4020,3,FALSE))","v":""},{"$f":"IF(A62=\"\",\"\",VLOOKUP(A62,Data!$B$2:$F$4020,5,FALSE))","v":""},null,{"$f":"CONCATENATE(A62,D62)","v":""},{"$f":"IF(ISNA(VLOOKUP(E62,Data!$A$2:$I$4020,7,FALSE)),\"\",VLOOKUP(E62,Data!$A$2:$I$4020,7,FALSE))","v":""},{"$f":"IF(ISNA(VLOOKUP(E62,Data!$A$2:$I$4020,9,FALSE)),\"\",VLOOKUP(E62,Data!$A$2:$I$4020,9,FALSE))","v":""},{"$f":"IF(ISNA(VLOOKUP(E62,Data!$A$2:$J$4020,10,FALSE)),\"\",VLOOKUP(E62,Data!$A$2:$J$4020,10,FALSE))","v":""},{"$nulls":13},{"$f":"SUM(S62:U62)","v":0}]
[null,{"$f":"IF(A63=\"\",\"\",VLOOKUP(A63,Data!$B$2:$D$4020,3,FALSE))","v":""},{"$f":"IF(A63=\"\",\"\",VLOOKUP(A63,Data!$B$2:$F$4020,5,FALSE))","v":""},null,{"$f":"CONCATENATE(A63,D63)","v":""},{"$f":"IF(ISNA(VLOOKUP(E63,Data!$A$2:$I$4020,7,FALSE)),\"\",VLOOKUP(E63,Data!$A$2:$I$4020,7,FALSE))","v":""},{"$f":"IF(ISNA(VLOOKUP(E63,Data!$A$2:$I$4020,9,FALSE)),\"\",VLOOKUP(E63,Data!$A$2:$I$4020,9,FALSE))","v":""},{"$f":"IF(ISNA(VLOOKUP(E63,Data!$A$2:$J$4020,10,FALSE)),\"\",VLOOKUP(E63,Data!$A$2:$J$4020,10,FALSE))","v":""},{"$nulls":13},{"$f":"SUM(S63:U63)","v":0}]
[null,{"$f":"IF(A64=\"\",\"\",VLOOKUP(A64,Data!$B$2:$D$4020,3,FALSE))","v":""},{"$f":"IF(A64=\"\",\"\",VLOOKUP(A64,Data!$B$2:$F$4020,5,FALSE))","v":""},null,{"$f":"CONCATENATE(A64,D64)","v":""},{"$f":"IF(ISNA(VLOOKUP(E64,Data!$A$2:$I$4020,7,FALSE)),\"\",VLOOKUP(E64,Data!$A$2:$I$4020,7,FALSE))","v":""},{"$f":"IF(ISNA(VLOOKUP(E64,Data!$A$2:$I$4020,9,FALSE)),\"\",VLOOKUP(E64,Data!$A$2:$I$4020,9,FALSE))","v":""},{"$f":"IF(ISNA(VLOOKUP(E64,Data!$A$2:$J$4020,10,FALSE)),\"\",VLOOKUP(E64,Data!$A$2:$J$4020,10,FALSE))","v":""},{"$nulls":13},{"$f":"SUM(S64:U64)","v":0}]
[null,{"$f":"IF(A65=\"\",\"\",VLOOKUP(A65,Data!$B$2:$D$4020,3,FALSE))","v":""},{"$f":"IF(A65=\"\",\"\",VLOOKUP(A65,Data!$B$2:$F$4020,5,FALSE))","v":""},null,{"$f":"CONCATENATE(A65,D65)","v":""},{"$f":"IF(ISNA(VLOOKUP(E65,Data!$A$2:$I$4020,7,FALSE)),\"\",VLOOKUP(E65,Data!$A$2:$I$4020,7,FALSE))","v":""},{"$f":"IF(ISNA(VLOOKUP(E65,Data!$A$2:$I$4020,9,FALSE)),\"\",VLOOKUP(E65,Data!$A$2:$I$4020,9,FALSE))","v":""},{"$f":"IF(ISNA(VLOOKUP(E65,Data!$A$2:$J$4020,10,FALSE)),\"\",VLOOKUP(E65,Data!$A$2:$J$4020,10,FALSE))","v":""},{"$nulls":13},{"$f":"SUM(S65:U65)","v":0}]
[null,{"$f":"IF(A66=\"\",\"\",VLOOKUP(A66,Data!$B$2:$D$4020,3,FALSE))","v":""},{"$f":"IF(A66=\"\",\"\",VLOOKUP(A66,Data!$B$2:$F$4020,5,FALSE))","v":""},null,{"$f":"CONCATENATE(A66,D66)","v":""},{"$f":"IF(ISNA(VLOOKUP(E66,Data!$A$2:$I$4020,7,FALSE)),\"\",VLOOKUP(E66,Data!$A$2:$I$4020,7,FALSE))","v":""},{"$f":"IF(ISNA(VLOOKUP(E66,Data!$A$2:$I$4020,9,FALSE)),\"\",VLOOKUP(E66,Data!$A$2:$I$4020,9,FALSE))","v":""},{"$f":"IF(ISNA(VLOOKUP(E66,Data!$A$2:$J$4020,10,FALSE)),\"\",VLOOKUP(E66,Data!$A$2:$J$4020,10,FALSE))","v":""},{"$nulls":13},{"$f":"SUM(S66:U66)","v":0}]
[null,{"$f":"IF(A67=\"\",\"\",VLOOKUP(A67,Data!$B$2:$D$4020,3,FALSE))","v":""},{"$f":"IF(A67=\"\",\"\",VLOOKUP(A67,Data!$B$2:$F$4020,5,FALSE))","v":""},null,{"$f":"CONCATENATE(A67,D67)","v":""},{"$f":"IF(ISNA(VLOOKUP(E67,Data!$A$2:$I$4020,7,FALSE)),\"\",VLOOKUP(E67,Data!$A$2:$I$4020,7,FALSE))","v":""},{"$f":"IF(ISNA(VLOOKUP(E67,Data!$A$2:$I$4020,9,FALSE)),\"\",VLOOKUP(E67,Data!$A$2:$I$4020,9,FALSE))","v":""},{"$f":"IF(ISNA(VLOOKUP(E67,Data!$A$2:$J$4020,10,FALSE)),\"\",VLOOKUP(E67,Data!$A$2:$J$4020,10,FALSE))","v":""},{"$nulls":13},{"$f":"SUM(S67:U67)","v":0}]
[null,{"$f":"IF(A68=\"\",\"\",VLOOKUP(A68,Data!$B$2:$D$4020,3,FALSE))","v":""},{"$f":"IF(A68=\"\",\"\",VLOOKUP(A68,Data!$B$2:$F$4020,5,FALSE))","v":""},null,{"$f":"CONCATENATE(A68,D68)","v":""},{"$f":"IF(ISNA(VLOOKUP(E68,Data!$A$2:$I$4020,7,FALSE)),\"\",VLOOKUP(E68,Data!$A$2:$I$4020,7,FALSE))","v":""},{"$f":"IF(ISNA(VLOOKUP(E68,Data!$A$2:$I$4020,9,FALSE)),\"\",VLOOKUP(E68,Data!$A$2:$I$4020,9,FALSE))","v":""},{"$f":"IF(ISNA(VLOOKUP(E68,Data!$A$2:$J$4020,10,FALSE)),\"\",VLOOKUP(E68,Data!$A$2:$J$4020,10,FALSE))","v":""},{"$nulls":13},{"$f":"SUM(S68:U68)","v":0}]
[null,{"$f":"IF(A69=\"\",\"\",VLOOKUP(A69,Data!$B$2:$D$4020,3,FALSE))","v":""},{"$f":"IF(A69=\"\",\"\",VLOOKUP(A69,Data!$B$2:$F$4020,5,FALSE))","v":""},null,{"$f":"CONCATENATE(A69,D69)","v":""},{"$f":"IF(ISNA(VLOOKUP(E69,Data!$A$2:$I$4020,7,FALSE)),\"\",VLOOKUP(E69,Data!$A$2:$I$4020,7,FALSE))","v":""},{"$f":"IF(ISNA(VLOOKUP(E69,Data!$A$2:$I$4020,9,FALSE)),\"\",VLOOKUP(E69,Data!$A$2:$I$4020,9,FALSE))","v":""},{"$f":"IF(ISNA(VLOOKUP(E69,Data!$A$2:$J$4020,10,FALSE)),\"\",VLOOKUP(E69,Data!$A$2:$J$4020,10,FALSE))","v":""},{"$nulls":13},{"$f":"SUM(S69:U69)","v":0}]
[null,{"$f":"IF(A70=\"\",\"\",VLOOKUP(A70,Data!$B$2:$D$4020,3,FALSE))","v":""},{"$f":"IF(A70=\"\",\"\",VLOOKUP(A70,Data!$B$2:$F$4020,5,FALSE))","v":""},null,{"$f":"CONCATENATE(A70,D70)","v":""},{"$f":"IF(ISNA(VLOOKUP(E70,Data!$A$2:$I$4020,7,FALSE)),\"\",VLOOKUP(E70,Data!$A$2:$I$4020,7,FALSE))","v":""},{"$f":"IF(ISNA(VLOOKUP(E70,Data!$A$2:$I$4020,9,FALSE)),\"\",VLOOKUP(E70,Data!$A$2:$I$4020,9,FALSE))","v":""},{"$f":"IF(ISNA(VLOOKUP(E70,Data!$A$2:$J$4020,10,FALSE)),\"\",VLOOKUP(E70,Data!$A$2:$J$4020,10,FALSE))","v":""},{"$nulls":13},{"$f":"SUM(S70:U70)","v":0}]
[null,{"$f":"IF(A71=\"\",\"\",VLOOKUP(A71,Data!$B$2:$D$4020,3,FALSE))","v":""},{"$f":"IF(A71=\"\",\"\",VLOOKUP(A71,Data!$B$2:$F$4020,5,FALSE))","v":""},null,{"$f":"CONCATENATE(A71,D71)","v":""},{"$f":"IF(ISNA(VLOOKUP(E71,Data!$A$2:$I$4020,7,FALSE)),\"\",VLOOKUP(E71,Data!$A$2:$I$4020,7,FALSE))","v":""},{"$f":"IF(ISNA(VLOOKUP(E71,Data!$A$2:$I$4020,9,FALSE)),\"\",VLOOKUP(E71,Data!$A$2:$I$4020,9,FALSE))","v":""},{"$f":"IF(ISNA(VLOOKUP(E71,Data!$A$2:$J$4020,10,FALSE)),\"\",VLOOKUP(E71,Data!$A$2:$J$4020,10,FALSE))","v":""},{"$nulls":13},{"$f":"SUM(S71:U71)","v":0}]
[null,{"$f":"IF(A72=\"\",\"\",VLOOKUP(A72,Data!$B$2:$D$4020,3,FALSE))","v":""},{"$f":"IF(A72=\"\",\"\",VLOOKUP(A72,Data!$B$2:$F$4020,5,FALSE))","v":""},null,{"$f":"CONCATENATE(A72,D72)","v":""},{"$f":"IF(ISNA(VLOOKUP(E72,Data!$A$2:$I$4020,7,FALSE)),\"\",VLOOKUP(E72,Data!$A$2:$I$4020,7,FALSE))","v":""},{"$f":"IF(ISNA(VLOOKUP(E72,Data!$A$2:$I$4020,9,FALSE)),\"\",VLOOKUP(E72,Data!$A$2:$I$4020,9,FALSE))","v":""},{"$f":"IF(ISNA(VLOOKUP(E72,Data!$A$2:$J$4020,10,FALSE)),\"\",VLOOKUP(E72,Data!$A$2:$J$4020,10,FALSE))","v":""},{"$nulls":13},{"$f":"SUM(S72:U72)","v":0}]
[null,{"$f":"IF(A73=\"\",\"\",VLOOKUP(A73,Data!$B$2:$D$4020,3,FALSE))","v":""},{"$f":"IF(A73=\"\",\"\",VLOOKUP(A73,Data!$B$2:$F$4020,5,FALSE))","v":""},null,{"$f":"CONCATENATE(A73,D73)","v":""},{"$f":"IF(ISNA(VLOOKUP(E73,Data!$A$2:$I$4020,7,FALSE)),\"\",VLOOKUP(E73,Data!$A$2:$I$4020,7,FALSE))","v":""},{"$f":"IF(ISNA(VLOOKUP(E73,Data!$A$2:$I$4020,9,FALSE)),\"\",VLOOKUP(E73,Data!$A$2:$I$4020,9,FALSE))","v":""},{"$f":"IF(ISNA(VLOOKUP(E73,Data!$A$2:$J$4020,10,FALSE)),\"\",VLOOKUP(E73,Data!$A$2:$J$4020,10,FALSE))","v":""},{"$nulls":13},{"$f":"SUM(S73:U73)","v":0}]
[null,{"$f":"IF(A74=\"\",\"\",VLOOKUP(A74,Data!$B$2:$D$4020,3,FALSE))","v":""},{"$f":"IF(A74=\"\",\"\",VLOOKUP(A74,Data!$B$2:$F$4020,5,FALSE))","v":""},null,{"$f":"CONCATENATE(A74,D74)","v":""},{"$f":"IF(ISNA(VLOOKUP(E74,Data!$A$2:$I$4020,7,FALSE)),\"\",VLOOKUP(E74,Data!$A$2:$I$4020,7,FALSE))","v":""},{"$f":"IF(ISNA(VLOOKUP(E74,Data!$A$2:$I$4020,9,FALSE)),\"\",VLOOKUP(E74,Data!$A$2:$I$4020,9,FALSE))","v":""},{"$f":"IF(ISNA(VLOOKUP(E74,Data!$A$2:$J$4020,10,FALSE)),\"\",VLOOKUP(E74,Data!$A$2:$J$4020,10,FALSE))","v":""},{"$nulls":13},{"$f":"SUM(S74:U74)","v":0}]
[null,{"$f":"IF(A75=\"\",\"\",VLOOKUP(A75,Data!$B$2:$D$4020,3,FALSE))","v":""},{"$f":"IF(A75=\"\",\"\",VLOOKUP(A75,Data!$B$2:$F$4020,5,FALSE))","v":""},null,{"$f":"CONCATENATE(A75,D75)","v":""},{"$f":"IF(ISNA(VLOOKUP(E75,Data!$A$2:$I$4020,7,FALSE)),\"\",VLOOKUP(E75,Data!$A$2:$I$4020,7,FALSE))","v":""},{"$f":"IF(ISNA(VLOOKUP(E75,Data!$A$2:$I$4020,9,FALSE)),\"\",VLOOKUP(E75,Data!$A$2:$I$4020,9,FALSE))","v":""},{"$f":"IF(ISNA(VLOOKUP(E75,Data!$A$2:$J$4020,10,FALSE)),\"\",VLOOKUP(E75,Data!$A$2:$J$4020,10,FALSE))","v":""},{"$nulls":13},{"$f":"SUM(S75:U75)","v":0}]
[null,{"$f":"IF(A76=\"\",\"\",VLOOKUP(A76,Data!$B$2:$D$4020,3,FALSE))","v":""},{"$f":"IF(A76=\"\",\"\",VLOOKUP(A76,Data!$B$2:$F$4020,5,FALSE))","v":""},null,{"$f":"CONCATENATE(A76,D76)","v":""},{"$f":"IF(ISNA(VLOOKUP(E76,Data!$A$2:$I$4020,7,FALSE)),\"\",VLOOKUP(E76,Data!$A$2:$I$4020,7,FALSE))","v":""},{"$f":"IF(ISNA(VLOOKUP(E76,Data!$A$2:$I$4020,9,FALSE)),\"\",VLOOKUP(E76,Data!$A$2:$I$4020,9,FALSE))","v":""},{"$f":"IF(ISNA(VLOOKUP(E76,Data!$A$2:$J$4020,10,FALSE)),\"\",VLOOKUP(E76,Data!$A$2:$J$4020,10,FALSE))","v":""},{"$nulls":13},{"$f":"SUM(S76:U76)","v":0}]
[null,{"$f":"IF(A77=\"\",\"\",VLOOKUP(A77,Data!$B$2:$D$4020,3,FALSE))","v":""},{"$f":"IF(A77=\"\",\"\",VLOOKUP(A77,Data!$B$2:$F$4020,5,FALSE))","v":""},null,{"$f":"CONCATENATE(A77,D77)","v":""},{"$f":"IF(ISNA(VLOOKUP(E77,Data!$A$2:$I$4020,7,FALSE)),\"\",VLOOKUP(E77,Data!$A$2:$I$4020,7,FALSE))","v":""},{"$f":"IF(ISNA(VLOOKUP(E77,Data!$A$2:$I$4020,9,FALSE)),\"\",VLOOKUP(E77,Data!$A$2:$I$4020,9,FALSE))","v":""},{"$f":"IF(ISNA(VLOOKUP(E77,Data!$A$2:$J$4020,10,FALSE)),\"\",VLOOKUP(E77,Data!$A$2:$J$4020,10,FALSE))","v":""},{"$nulls":13},{"$f":"SUM(S77:U77)","v":0}]
[null,{"$f":"IF(A78=\"\",\"\",VLOOKUP(A78,Data!$B$2:$D$4020,3,FALSE))","v":""},{"$f":"IF(A78=\"\",\"\",VLOOKUP(A78,Data!$B$2:$F$4020,5,FALSE))","v":""},null,{"$f":"CONCATENATE(A78,D78)","v":""},{"$f":"IF(ISNA(VLOOKUP(E78,Data!$A$2:$I$4020,7,FALSE)),\"\",VLOOKUP(E78,Data!$A$2:$I$4020,7,FALSE))","v":""},{"$f":"IF(ISNA(VLOOKUP(E78,Data!$A$2:$I$4020,9,FALSE)),\"\",VLOOKUP(E78,Data!$A$2:$I$4020,9,FALSE))","v":""},{"$f":"IF(ISNA(VLOOKUP(E78,Data!$A$2:$J$4020,10,FALSE)),\"\",VLOOKUP(E78,Data!$A$2:$J$4020,10,FALSE))","v":""},{"$nulls":13},{"$f":"SUM(S78:U78)","v":0}]
[null,{"$f":"IF(A79=\"\",\"\",VLOOKUP(A79,Data!$B$2:$D$4020,3,FALSE))","v":""},{"$f":"IF(A79=\"\",\"\",VLOOKUP(A79,Data!$B$2:$F$4020,5,FALSE))","v":""},null,{"$f":"CONCATENATE(A79,D79)","v":""},{"$f":"IF(ISNA(VLOOKUP(E79,Data!$A$2:$I$4020,7,FALSE)),\"\",VLOOKUP(E79,Data!$A$2:$I$4020,7,FALSE))","v":""},{"$f":"IF(ISNA(VLOOKUP(E79,Data!$A$2:$I$4020,9,FALSE)),\"\",VLOOKUP(E79,Data!$A$2:$I$4020,9,FALSE))","v":""},{"$f":"IF(ISNA(VLOOKUP(E79,Data!$A$2:$J$4020,10,FALSE)),\"\",VLOOKUP(E79,Data!$A$2:$J$4020,10,FALSE))","v":""},{"$nulls":13},{"$f":"SUM(S79:U79)","v":0}]
[null,{"$f":"IF(A80=\"\",\"\",VLOOKUP(A80,Data!$B$2:$D$4020,3,FALSE))","v":""},{"$f":"IF(A80=\"\",\"\",VLOOKUP(A80,Data!$B$2:$F$4020,5,FALSE))","v":""},null,{"$f":"CONCATENATE(A80,D80)","v":""},{"$f":"IF(ISNA(VLOOKUP(E80,Data!$A$2:$I$4020,7,FALSE)),\"\",VLOOKUP(E80,Data!$A$2:$I$4020,7,FALSE))","v":""},{"$f":"IF(ISNA(VLOOKUP(E80,Data!$A$2:$I$4020,9,FALSE)),\"\",VLOOKUP(E80,Data!$A$2:$I$4020,9,FALSE))","v":""},{"$f":"IF(ISNA(VLOOKUP(E80,Data!$A$2:$J$4020,10,FALSE)),\"\",VLOOKUP(E80,Data!$A$2:$J$4020,10,FALSE))","v":""},{"$nulls":13},{"$f":"SUM(S80:U80)","v":0}]
[null,{"$f":"IF(A81=\"\",\"\",VLOOKUP(A81,Data!$B$2:$D$4020,3,FALSE))","v":""},{"$f":"IF(A81=\"\",\"\",VLOOKUP(A81,Data!$B$2:$F$4020,5,FALSE))","v":""},null,{"$f":"CONCATENATE(A81,D81)","v":""},{"$f":"IF(ISNA(VLOOKUP(E81,Data!$A$2:$I$4020,7,FALSE)),\"\",VLOOKUP(E81,Data!$A$2:$I$4020,7,FALSE))","v":""},{"$f":"IF(ISNA(VLOOKUP(E81,Data!$A$2:$I$4020,9,FALSE)),\"\",VLOOKUP(E81,Data!$A$2:$I$4020,9,FALSE))","v":""},{"$f":"IF(ISNA(VLOOKUP(E81,Data!$A$2:$J$4020,10,FALSE)),\"\",VLOOKUP(E81,Data!$A$2:$J$4020,10,FALSE))","v":""},{"$nulls":13},{"$f":"SUM(S81:U81)","v":0}]
[null,{"$f":"IF(A82=\"\",\"\",VLOOKUP(A82,Data!$B$2:$D$4020,3,FALSE))","v":""},{"$f":"IF(A82=\"\",\"\",VLOOKUP(A82,Data!$B$2:$F$4020,5,FALSE))","v":""},null,{"$f":"CONCATENATE(A82,D82)","v":""},{"$f":"IF(ISNA(VLOOKUP(E82,Data!$A$2:$I$4020,7,FALSE)),\"\",VLOOKUP(E82,Data!$A$2:$I$4020,7,FALSE))","v":""},{"$f":"IF(ISNA(VLOOKUP(E82,Data!$A$2:$I$4020,9,FALSE)),\"\",VLOOKUP(E82,Data!$A$2:$I$4020,9,FALSE))","v":""},{"$f":"IF(ISNA(VLOOKUP(E82,Data!$A$2:$J$4020,10,FALSE)),\"\",VLOOKUP(E82,Data!$A$2:$J$4020,10,FALSE))","v":""},{"$nulls":13},{"$f":"SUM(S82:U82)","v":0}]
[null,{"$f":"IF(A83=\"\",\"\",VLOOKUP(A83,Data!$B$2:$D$4020,3,FALSE))","v":""},{"$f":"IF(A83=\"\",\"\",VLOOKUP(A83,Data!$B$2:$F$4020,5,FALSE))","v":""},null,{"$f":"CONCATENATE(A83,D83)","v":""},{"$f":"IF(ISNA(VLOOKUP(E83,Data!$A$2:$I$4020,7,FALSE)),\"\",VLOOKUP(E83,Data!$A$2:$I$4020,7,FALSE))","v":""},{"$f":"IF(ISNA(VLOOKUP(E83,Data!$A$2:$I$4020,9,FALSE)),\"\",VLOOKUP(E83,Data!$A$2:$I$4020,9,FALSE))","v":""},{"$f":"IF(ISNA(VLOOKUP(E83,Data!$A$2:$J$4020,10,FALSE)),\"\",VLOOKUP(E83,Data!$A$2:$J$4020,10,FALSE))","v":""},{"$nulls":13},{"$f":"SUM(S83:U83)","v":0}]
[null,{"$f":"IF(A84=\"\",\"\",VLOOKUP(A84,Data!$B$2:$D$4020,3,FALSE))","v":""},{"$f":"IF(A84=\"\",\"\",VLOOKUP(A84,Data!$B$2:$F$4020,5,FALSE))","v":""},null,{"$f":"CONCATENATE(A84,D84)","v":""},{"$f":"IF(ISNA(VLOOKUP(E84,Data!$A$2:$I$4020,7,FALSE)),\"\",VLOOKUP(E84,Data!$A$2:$I$4020,7,FALSE))","v":""},{"$f":"IF(ISNA(VLOOKUP(E84,Data!$A$2:$I$4020,9,FALSE)),\"\",VLOOKUP(E84,Data!$A$2:$I$4020,9,FALSE))","v":""},{"$f":"IF(ISNA(VLOOKUP(E84,Data!$A$2:$J$4020,10,FALSE)),\"\",VLOOKUP(E84,Data!$A$2:$J$4020,10,FALSE))","v":""},{"$nulls":13},{"$f":"SUM(S84:U84)","v":0}]
[null,{"$f":"IF(A85=\"\",\"\",VLOOKUP(A85,Data!$B$2:$D$4020,3,FALSE))","v":""},{"$f":"IF(A85=\"\",\"\",VLOOKUP(A85,Data!$B$2:$F$4020,5,FALSE))","v":""},null,{"$f":"CONCATENATE(A85,D85)","v":""},{"$f":"IF(ISNA(VLOOKUP(E85,Data!$A$2:$I$4020,7,FALSE)),\"\",VLOOKUP(E85,Data!$A$2:$I$4020,7,FALSE))","v":""},{"$f":"IF(ISNA(VLOOKUP(E85,Data!$A$2:$I$4020,9,FALSE)),\"\",VLOOKUP(E85,Data!$A$2:$I$4020,9,FALSE))","v":""},{"$f":"IF(ISNA(VLOOKUP(E85,Data!$A$2:$J$4020,10,FALSE)),\"\",VLOOKUP(E85,Data!$A$2:$J$4020,10,FALSE))","v":""},{"$nulls":13},{"$f":"SUM(S85:U85)","v":0}]
[null,{"$f":"IF(A86=\"\",\"\",VLOOKUP(A86,Data!$B$2:$D$4020,3,FALSE))","v":""},{"$f":"IF(A86=\"\",\"\",VLOOKUP(A86,Data!$B$2:$F$4020,5,FALSE))","v":""},null,{"$f":"CONCATENATE(A86,D86)","v":""},{"$f":"IF(ISNA(VLOOKUP(E86,Data!$A$2:$I$4020,7,FALSE)),\"\",VLOOKUP(E86,Data!$A$2:$I$4020,7,FALSE))","v":""},{"$f":"IF(ISNA(VLOOKUP(E86,Data!$A$2:$I$4020,9,FALSE)),\"\",VLOOKUP(E86,Data!$A$2:$I$4020,9,FALSE))","v":""},{"$f":"IF(ISNA(VLOOKUP(E86,Data!$A$2:$J$4020,10,FALSE)),\"\",VLOOKUP(E86,Data!$A$2:$J$4020,10,FALSE))","v":""},{"$nulls":13},{"$f":"SUM(S86:U86)","v":0}]
[null,{"$f":"IF(A87=\"\",\"\",VLOOKUP(A87,Data!$B$2:$D$4020,3,FALSE))","v":""},{"$f":"IF(A87=\"\",\"\",VLOOKUP(A87,Data!$B$2:$F$4020,5,FALSE))","v":""},null,{"$f":"CONCATENATE(A87,D87)","v":""},{"$f":"IF(ISNA(VLOOKUP(E87,Data!$A$2:$I$4020,7,FALSE)),\"\",VLOOKUP(E87,Data!$A$2:$I$4020,7,FALSE))","v":""},{"$f":"IF(ISNA(VLOOKUP(E87,Data!$A$2:$I$4020,9,FALSE)),\"\",VLOOKUP(E87,Data!$A$2:$I$4020,9,FALSE))","v":""},{"$f":"IF(ISNA(VLOOKUP(E87,Data!$A$2:$J$4020,10,FALSE)),\"\",VLOOKUP(E87,Data!$A$2:$J$4020,10,FALSE))","v":""},{"$nulls":13},{"$f":"SUM(S87:U87)","v":0}]
[null,{"$f":"IF(A88=\"\",\"\",VLOOKUP(A88,Data!$B$2:$D$4020,3,FALSE))","v":""},{"$f":"IF(A88=\"\",\"\",VLOOKUP(A88,Data!$B$2:$F$4020,5,FALSE))","v":""},null,{"$f":"CONCATENATE(A88,D88)","v":""},{"$f":"IF(ISNA(VLOOKUP(E88,Data!$A$2:$I$4020,7,FALSE)),\"\",VLOOKUP(E88,Data!$A$2:$I$4020,7,FALSE))","v":""},{"$f":"IF(ISNA(VLOOKUP(E88,Data!$A$2:$I$4020,9,FALSE)),\"\",VLOOKUP(E88,Data!$A$2:$I$4020,9,FALSE))","v":""},{"$f":"IF(ISNA(VLOOKUP(E88,Data!$A$2:$J$4020,10,FALSE)),\"\",VLOOKUP(E88,Data!$A$2:$J$4020,10,FALSE))","v":""},{"$nulls":13},{"$f":"SUM(S88:U88)","v":0}]
[null,{"$f":"IF(A89=\"\",\"\",VLOOKUP(A89,Data!$B$2:$D$4020,3,FALSE))","v":""},{"$f":"IF(A89=\"\",\"\",VLOOKUP(A89,Data!$B$2:$F$4020,5,FALSE))","v":""},null,{"$f":"CONCATENATE(A89,D89)","v":""},{"$f":"IF(ISNA(VLOOKUP(E89,Data!$A$2:$I$4020,7,FALSE)),\"\",VLOOKUP(E89,Data!$A$2:$I$4020,7,FALSE))","v":""},{"$f":"IF(ISNA(VLOOKUP(E89,Data!$A$2:$I$4020,9,FALSE)),\"\",VLOOKUP(E89,Data!$A$2:$I$4020,9,FALSE))","v":""},{"$f":"IF(ISNA(VLOOKUP(E89,Data!$A$2:$J$4020,10,FALSE)),\"\",VLOOKUP(E89,Data!$A$2:$J$4020,10,FALSE))","v":""},{"$nulls":13},{"$f":"SUM(S89:U89)","v":0}]
[null,{"$f":"IF(A90=\"\",\"\",VLOOKUP(A90,Data!$B$2:$D$4020,3,FALSE))","v":""},{"$f":"IF(A90=\"\",\"\",VLOOKUP(A90,Data!$B$2:$F$4020,5,FALSE))","v":""},null,{"$f":"CONCATENATE(A90,D90)","v":""},{"$f":"IF(ISNA(VLOOKUP(E90,Data!$A$2:$I$4020,7,FALSE)),\"\",VLOOKUP(E90,Data!$A$2:$I$4020,7,FALSE))","v":""},{"$f":"IF(ISNA(VLOOKUP(E90,Data!$A$2:$I$4020,9,FALSE)),\"\",VLOOKUP(E90,Data!$A$2:$I$4020,9,FALSE))","v":""},{"$f":"IF(ISNA(VLOOKUP(E90,Data!$A$2:$J$4020,10,FALSE)),\"\",VLOOKUP(E90,Data!$A$2:$J$4020,10,FALSE))","v":""},{"$nulls":13},{"$f":"SUM(S90:U90)","v":0}]
[null,{"$f":"IF(A91=\"\",\"\",VLOOKUP(A91,Data!$B$2:$D$4020,3,FALSE))","v":""},{"$f":"IF(A91=\"\",\"\",VLOOKUP(A91,Data!$B$2:$F$4020,5,FALSE))","v":""},null,{"$f":"CONCATENATE(A91,D91)","v":""},{"$f":"IF(ISNA(VLOOKUP(E91,Data!$A$2:$I$4020,7,FALSE)),\"\",VLOOKUP(E91,Data!$A$2:$I$4020,7,FALSE))","v":""},{"$f":"IF(ISNA(VLOOKUP(E91,Data!$A$2:$I$4020,9,FALSE)),\"\",VLOOKUP(E91,Data!$A$2:$I$4020,9,FALSE))","v":""},{"$f":"IF(ISNA(VLOOKUP(E91,Data!$A$2:$J$4020,10,FALSE)),\"\",VLOOKUP(E91,Data!$A$2:$J$4020,10,FALSE))","v":""},{"$nulls":13},{"$f":"SUM(S91:U91)","v":0}]
[null,{"$f":"IF(A92=\"\",\"\",VLOOKUP(A92,Data!$B$2:$D$4020,3,FALSE))","v":""},{"$f":"IF(A92=\"\",\"\",VLOOKUP(A92,Data!$B$2:$F$4020,5,FALSE))","v":""},null,{"$f":"CONCATENATE(A92,D92)","v":""},{"$f":"IF(ISNA(VLOOKUP(E92,Data!$A$2:$I$4020,7,FALSE)),\"\",VLOOKUP(E92,Data!$A$2:$I$4020,7,FALSE))","v":""},{"$f":"IF(ISNA(VLOOKUP(E92,Data!$A$2:$I$4020,9,FALSE)),\"\",VLOOKUP(E92,Data!$A$2:$I$4020,9,FALSE))","v":""},{"$f":"IF(ISNA(VLOOKUP(E92,Data!$A$2:$J$4020,10,FALSE)),\"\",VLOOKUP(E92,Data!$A$2:$J$4020,10,FALSE))","v":""},{"$nulls":13},{"$f":"SUM(S92:U92)","v":0}]
[null,{"$f":"IF(A93=\"\",\"\",VLOOKUP(A93,Data!$B$2:$D$4020,3,FALSE))","v":""},{"$f":"IF(A93=\"\",\"\",VLOOKUP(A93,Data!$B$2:$F$4020,5,FALSE))","v":""},null,{"$f":"CONCATENATE(A93,D93)","v":""},{"$f":"IF(ISNA(VLOOKUP(E93,Data!$A$2:$I$4020,7,FALSE)),\"\",VLOOKUP(E93,Data!$A$2:$I$4020,7,FALSE))","v":""},{"$f":"IF(ISNA(VLOOKUP(E93,Data!$A$2:$I$4020,9,FALSE)),\"\",VLOOKUP(E93,Data!$A$2:$I$4020,9,FALSE))","v":""},{"$f":"IF(ISNA(VLOOKUP(E93,Data!$A$2:$J$4020,10,FALSE)),\"\",VLOOKUP(E93,Data!$A$2:$J$4020,10,FALSE))","v":""},{"$nulls":13},{"$f":"SUM(S93:U93)","v":0}]
[null,{"$f":"IF(A94=\"\",\"\",VLOOKUP(A94,Data!$B$2:$D$4020,3,FALSE))","v":""},{"$f":"IF(A94=\"\",\"\",VLOOKUP(A94,Data!$B$2:$F$4020,5,FALSE))","v":""},null,{"$f":"CONCATENATE(A94,D94)","v":""},{"$f":"IF(ISNA(VLOOKUP(E94,Data!$A$2:$I$4020,7,FALSE)),\"\",VLOOKUP(E94,Data!$A$2:$I$4020,7,FALSE))","v":""},{"$f":"IF(ISNA(VLOOKUP(E94,Data!$A$2:$I$4020,9,FALSE)),\"\",VLOOKUP(E94,Data!$A$2:$I$4020,9,FALSE))","v":""},{"$f":"IF(ISNA(VLOOKUP(E94,Data!$A$2:$J$4020,10,FALSE)),\"\",VLOOKUP(E94,Data!$A$2:$J$4020,10,FALSE))","v":""},{"$nulls":13},{"$f":"SUM(S94:U94)","v":0}]
[null,{"$f":"IF(A95=\"\",\"\",VLOOKUP(A95,Data!$B$2:$D$4020,3,FALSE))","v":""},{"$f":"IF(A95=\"\",\"\",VLOOKUP(A95,Data!$B$2:$F$4020,5,FALSE))","v":""},null,{"$f":"CONCATENATE(A95,D95)","v":""},{"$f":"IF(ISNA(VLOOKUP(E95,Data!$A$2:$I$4020,7,FALSE)),\"\",VLOOKUP(E95,Data!$A$2:$I$4020,7,FALSE))","v":""},{"$f":"IF(ISNA(VLOOKUP(E95,Data!$A$2:$I$4020,9,FALSE)),\"\",VLOOKUP(E95,Data!$A$2:$I$4020,9,FALSE))","v":""},{"$f":"IF(ISNA(VLOOKUP(E95,Data!$A$2:$J$4020,10,FALSE)),\"\",VLOOKUP(E95,Data!$A$2:$J$4020,10,FALSE))","v":""},{"$nulls":13},{"$f":"SUM(S95:U95)","v":0}]
[null,{"$f":"IF(A96=\"\",\"\",VLOOKUP(A96,Data!$B$2:$D$4020,3,FALSE))","v":""},{"$f":"IF(A96=\"\",\"\",VLOOKUP(A96,Data!$B$2:$F$4020,5,FALSE))","v":""},null,{"$f":"CONCATENATE(A96,D96)","v":""},{"$f":"IF(ISNA(VLOOKUP(E96,Data!$A$2:$I$4020,7,FALSE)),\"\",VLOOKUP(E96,Data!$A$2:$I$4020,7,FALSE))","v":""},{"$f":"IF(ISNA(VLOOKUP(E96,Data!$A$2:$I$4020,9,FALSE)),\"\",VLOOKUP(E96,Data!$A$2:$I$4020,9,FALSE))","v":""},{"$f":"IF(ISNA(VLOOKUP(E96,Data!$A$2:$J$4020,10,FALSE)),\"\",VLOOKUP(E96,Data!$A$2:$J$4020,10,FALSE))","v":""},{"$nulls":13},{"$f":"SUM(S96:U96)","v":0}]
[null,{"$f":"IF(A97=\"\",\"\",VLOOKUP(A97,Data!$B$2:$D$4020,3,FALSE))","v":""},{"$f":"IF(A97=\"\",\"\",VLOOKUP(A97,Data!$B$2:$F$4020,5,FALSE))","v":""},null,{"$f":"CONCATENATE(A97,D97)","v":""},{"$f":"IF(ISNA(VLOOKUP(E97,Data!$A$2:$I$4020,7,FALSE)),\"\",VLOOKUP(E97,Data!$A$2:$I$4020,7,FALSE))","v":""},{"$f":"IF(ISNA(VLOOKUP(E97,Data!$A$2:$I$4020,9,FALSE)),\"\",VLOOKUP(E97,Data!$A$2:$I$4020,9,FALSE))","v":""},{"$f":"IF(ISNA(VLOOKUP(E97,Data!$A$2:$J$4020,10,FALSE)),\"\",VLOOKUP(E97,Data!$A$2:$J$4020,10,FALSE))","v":""},{"$nulls":13},{"$f":"SUM(S97:U97)","v":0}]
[null,{"$f":"IF(A98=\"\",\"\",VLOOKUP(A98,Data!$B$2:$D$4020,3,FALSE))","v":""},{"$f":"IF(A98=\"\",\"\",VLOOKUP(A98,Data!$B$2:$F$4020,5,FALSE))","v":""},null,{"$f":"CONCATENATE(A98,D98)","v":""},{"$f":"IF(ISNA(VLOOKUP(E98,Data!$A$2:$I$4020,7,FALSE)),\"\",VLOOKUP(E98,Data!$A$2:$I$4020,7,FALSE))","v":""},{"$f":"IF(ISNA(VLOOKUP(E98,Data!$A$2:$I$4020,9,FALSE)),\"\",VLOOKUP(E98,Data!$A$2:$I$4020,9,FALSE))","v":""},{"$f":"IF(ISNA(VLOOKUP(E98,Data!$A$2:$J$4020,10,FALSE)),\"\",VLOOKUP(E98,Data!$A$2:$J$4020,10,FALSE))","v":""},{"$nulls":13},{"$f":"SUM(S98:U98)","v":0}]
[null,{"$f":"IF(A99=\"\",\"\",VLOOKUP(A99,Data!$B$2:$D$4020,3,FALSE))","v":""},{"$f":"IF(A99=\"\",\"\",VLOOKUP(A99,Data!$B$2:$F$4020,5,FALSE))","v":""},null,{"$f":"CONCATENATE(A99,D99)","v":""},{"$f":"IF(ISNA(VLOOKUP(E99,Data!$A$2:$I$4020,7,FALSE)),\"\",VLOOKUP(E99,Data!$A$2:$I$4020,7,FALSE))","v":""},{"$f":"IF(ISNA(VLOOKUP(E99,Data!$A$2:$I$4020,9,FALSE)),\"\",VLOOKUP(E99,Data!$A$2:$I$4020,9,FALSE))","v":""},{"$f":"IF(ISNA(VLOOKUP(E99,Data!$A$2:$J$4020,10,FALSE)),\"\",VLOOKUP(E99,Data!$A$2:$J$4020,10,FALSE))","v":""},{"$nulls":13},{"$f":"SUM(S99:U99)","v":0}]
[null,{"$f":"IF(A100=\"\",\"\",VLOOKUP(A100,Data!$B$2:$D$4020,3,FALSE))","v":""},{"$f":"IF(A100=\"\",\"\",VLOOKUP(A100,Data!$B$2:$F$4020,5,FALSE))","v":""},null,{"$f":"CONCATENATE(A100,D100)","v":""},{"$f":"IF(ISNA(VLOOKUP(E100,Data!$A$2:$I$4020,7,FALSE)),\"\",VLOOKUP(E100,Data!$A$2:$I$4020,7,FALSE))","v":""},{"$f":"IF(ISNA(VLOOKUP(E100,Data!$A$2:$I$4020,9,FALSE)),\"\",VLOOKUP(E100,Data!$A$2:$I$4020,9,FALSE))","v":""},{"$f":"IF(ISNA(VLOOKUP(E100,Data!$A$2:$J$4020,10,FALSE)),\"\",VLOOKUP(E100,Data!$A$2:$J$4020,10,FALSE))","v":""},{"$nulls":13},{"$f":"SUM(S100:U100)","v":0}]
[null,{"$f":"IF(A101=\"\",\"\",VLOOKUP(A101,Data!$B$2:$D$4020,3,FALSE))","v":""},{"$f":"IF(A101=\"\",\"\",VLOOKUP(A101,Data!$B$2:$F$4020,5,FALSE))","v":""},null,{"$f":"CONCATENATE(A101,D101)","v":""},{"$f":"IF(ISNA(VLOOKUP(E101,Data!$A$2:$I$4020,7,FALSE)),\"\",VLOOKUP(E101,Data!$A$2:$I$4020,7,FALSE))","v":""},{"$f":"IF(ISNA(VLOOKUP(E101,Data!$A$2:$I$4020,9,FALSE)),\"\",VLOOKUP(E101,Data!$A$2:$I$4020,9,FALSE))","v":""},{"$f":"IF(ISNA(VLOOKUP(E101,Data!$A$2:$J$4020,10,FALSE)),\"\",VLOOKUP(E101,Data!$A$2:$J$4020,10,FALSE))","v":""},{"$nulls":13},{"$f":"SUM(S101:U101)","v":0}]
[null,{"$f":"IF(A102=\"\",\"\",VLOOKUP(A102,Data!$B$2:$D$4020,3,FALSE))","v":""},{"$f":"IF(A102=\"\",\"\",VLOOKUP(A102,Data!$B$2:$F$4020,5,FALSE))","v":""},null,{"$f":"CONCATENATE(A102,D102)","v":""},{"$f":"IF(ISNA(VLOOKUP(E102,Data!$A$2:$I$4020,7,FALSE)),\"\",VLOOKUP(E102,Data!$A$2:$I$4020,7,FALSE))","v":""},{"$f":"IF(ISNA(VLOOKUP(E102,Data!$A$2:$I$4020,9,FALSE)),\"\",VLOOKUP(E102,Data!$A$2:$I$4020,9,FALSE))","v":""},{"$f":"IF(ISNA(VLOOKUP(E102,Data!$A$2:$J$4020,10,FALSE)),\"\",VLOOKUP(E102,Data!$A$2:$J$4020,10,FALSE))","v":""},{"$nulls":13},{"$f":"SUM(S102:U102)","v":0}]
[null,{"$f":"IF(A103=\"\",\"\",VLOOKUP(A103,Data!$B$2:$D$4020,3,FALSE))","v":""},{"$f":"IF(A103=\"\",\"\",VLOOKUP(A103,Data!$B$2:$F$4020,5,FALSE))","v":""},null,{"$f":"CONCATENATE(A103,D103)","v":""},{"$f":"IF(ISNA(VLOOKUP(E103,Data!$A$2:$I$4020,7,FALSE)),\"\",VLOOKUP(E103,Data!$A$2:$I$4020,7,FALSE))","v":""},{"$f":"IF(ISNA(VLOOKUP(E103,Data!$A$2:$I$4020,9,FALSE)),\"\",VLOOKUP(E103,Data!$A$2:$I$4020,9,FALSE))","v":""},{"$f":"IF(ISNA(VLOOKUP(E103,Data!$A$2:$J$4020,10,FALSE)),\"\",VLOOKUP(E103,Data!$A$2:$J$4020,10,FALSE))","v":""},{"$nulls":13},{"$f":"SUM(S103:U103)","v":0}]
[null,{"$f":"IF(A104=\"\",\"\",VLOOKUP(A104,Data!$B$2:$D$4020,3,FALSE))","v":""},{"$f":"IF(A104=\"\",\"\",VLOOKUP(A104,Data!$B$2:$F$4020,5,FALSE))","v":""},null,{"$f":"CONCATENATE(A104,D104)","v":""},{"$f":"IF(ISNA(VLOOKUP(E104,Data!$A$2:$I$4020,7,FALSE)),\"\",VLOOKUP(E104,Data!$A$2:$I$4020,7,FALSE))","v":""},{"$f":"IF(ISNA(VLOOKUP(E104,Data!$A$2:$I$4020,9,FALSE)),\"\",VLOOKUP(E104,Data!$A$2:$I$4020,9,FALSE))","v":""},{"$f":"IF(ISNA(VLOOKUP(E104,Data!$A$2:$J$4020,10,FALSE)),\"\",VLOOKUP(E104,Data!$A$2:$J$4020,10,FALSE))","v":""},{"$nulls":13},{"$f":"SUM(S104:U104)","v":0}]
[null,{"$f":"IF(A105=\"\",\"\",VLOOKUP(A105,Data!$B$2:$D$4020,3,FALSE))","v":""},{"$f":"IF(A105=\"\",\"\",VLOOKUP(A105,Data!$B$2:$F$4020,5,FALSE))","v":""},null,{"$f":"CONCATENATE(A105,D105)","v":""},{"$f":"IF(ISNA(VLOOKUP(E105,Data!$A$2:$I$4020,7,FALSE)),\"\",VLOOKUP(E105,Data!$A$2:$I$4020,7,FALSE))","v":""},{"$f":"IF(ISNA(VLOOKUP(E105,Data!$A$2:$I$4020,9,FALSE)),\"\",VLOOKUP(E105,Data!$A$2:$I$4020,9,FALSE))","v":""},{"$f":"IF(ISNA(VLOOKUP(E105,Data!$A$2:$J$4020,10,FALSE)),\"\",VLOOKUP(E105,Data!$A$2:$J$4020,10,FALSE))","v":""},{"$nulls":13},{"$f":"SUM(S105:U105)","v":0}]
[null,{"$f":"IF(A106=\"\",\"\",VLOOKUP(A106,Data!$B$2:$D$4020,3,FALSE))","v":""},{"$f":"IF(A106=\"\",\"\",VLOOKUP(A106,Data!$B$2:$F$4020,5,FALSE))","v":""},null,{"$f":"CONCATENATE(A106,D106)","v":""},{"$f":"IF(ISNA(VLOOKUP(E106,Data!$A$2:$I$4020,7,FALSE)),\"\",VLOOKUP(E106,Data!$A$2:$I$4020,7,FALSE))","v":""},{"$f":"IF(ISNA(VLOOKUP(E106,Data!$A$2:$I$4020,9,FALSE)),\"\",VLOOKUP(E106,Data!$A$2:$I$4020,9,FALSE))","v":""},{"$f":"IF(ISNA(VLOOKUP(E106,Data!$A$2:$J$4020,10,FALSE)),\"\",VLOOKUP(E106,Data!$A$2:$J$4020,10,FALSE))","v":""},{"$nulls":13},{"$f":"SUM(S106:U106)","v":0}]
[null,{"$f":"IF(A107=\"\",\"\",VLOOKUP(A107,Data!$B$2:$D$4020,3,FALSE))","v":""},{"$f":"IF(A107=\"\",\"\",VLOOKUP(A107,Data!$B$2:$F$4020,5,FALSE))","v":""},null,{"$f":"CONCATENATE(A107,D107)","v":""},{"$f":"IF(ISNA(VLOOKUP(E107,Data!$A$2:$I$4020,7,FALSE)),\"\",VLOOKUP(E107,Data!$A$2:$I$4020,7,FALSE))","v":""},{"$f":"IF(ISNA(VLOOKUP(E107,Data!$A$2:$I$4020,9,FALSE)),\"\",VLOOKUP(E107,Data!$A$2:$I$4020,9,FALSE))","v":""},{"$f":"IF(ISNA(VLOOKUP(E107,Data!$A$2:$J$4020,10,FALSE)),\"\",VLOOKUP(E107,Data!$A$2:$J$4020,10,FALSE))","v":""},{"$nulls":13},{"$f":"SUM(S107:U107)","v":0}]
[null,{"$f":"IF(A108=\"\",\"\",VLOOKUP(A108,Data!$B$2:$D$4020,3,FALSE))","v":""},{"$f":"IF(A108=\"\",\"\",VLOOKUP(A108,Data!$B$2:$F$4020,5,FALSE))","v":""},null,{"$f":"CONCATENATE(A108,D108)","v":""},{"$f":"IF(ISNA(VLOOKUP(E108,Data!$A$2:$I$4020,7,FALSE)),\"\",VLOOKUP(E108,Data!$A$2:$I$4020,7,FALSE))","v":""},{"$f":"IF(ISNA(VLOOKUP(E108,Data!$A$2:$I$4020,9,FALSE)),\"\",VLOOKUP(E108,Data!$A$2:$I$4020,9,FALSE))","v":""},{"$f":"IF(ISNA(VLOOKUP(E108,Data!$A$2:$J$4020,10,FALSE)),\"\",VLOOKUP(E108,Data!$A$2:$J$4020,10,FALSE))","v":""},{"$nulls":13},{"$f":"SUM(S108:U108)","v":0}]
[null,{"$f":"IF(A109=\"\",\"\",VLOOKUP(A109,Data!$B$2:$D$4020,3,FALSE))","v":""},{"$f":"IF(A109=\"\",\"\",VLOOKUP(A109,Data!$B$2:$F$4020,5,FALSE))","v":""},null,{"$f":"CONCATENATE(A109,D109)","v":""},{"$f":"IF(ISNA(VLOOKUP(E109,Data!$A$2:$I$4020,7,FALSE)),\"\",VLOOKUP(E109,Data!$A$2:$I$4020,7,FALSE))","v":""},{"$f":"IF(ISNA(VLOOKUP(E109,Data!$A$2:$I$4020,9,FALSE)),\"\",VLOOKUP(E109,Data!$A$2:$I$4020,9,FALSE))","v":""},{"$f":"IF(ISNA(VLOOKUP(E109,Data!$A$2:$J$4020,10,FALSE)),\"\",VLOOKUP(E109,Data!$A$2:$J$4020,10,FALSE))","v":""},{"$nulls":13},{"$f":"SUM(S109:U109)","v":0}]
[null,{"$f":"IF(A110=\"\",\"\",VLOOKUP(A110,Data!$B$2:$D$4020,3,FALSE))","v":""},{"$f":"IF(A110=\"\",\"\",VLOOKUP(A110,Data!$B$2:$F$4020,5,FALSE))","v":""},null,{"$f":"CONCATENATE(A110,D110)","v":""},{"$f":"IF(ISNA(VLOOKUP(E110,Data!$A$2:$I$4020,7,FALSE)),\"\",VLOOKUP(E110,Data!$A$2:$I$4020,7,FALSE))","v":""},{"$f":"IF(ISNA(VLOOKUP(E110,Data!$A$2:$I$4020,9,FALSE)),\"\",VLOOKUP(E110,Data!$A$2:$I$4020,9,FALSE))","v":""},{"$f":"IF(ISNA(VLOOKUP(E110,Data!$A$2:$J$4020,10,FALSE)),\"\",VLOOKUP(E110,Data!$A$2:$J$4020,10,FALSE))","v":""},{"$nulls":13},{"$f":"SUM(S110:U110)","v":0}]
[null,{"$f":"IF(A111=\"\",\"\",VLOOKUP(A111,Data!$B$2:$D$4020,3,FALSE))","v":""},{"$f":"IF(A111=\"\",\"\",VLOOKUP(A111,Data!$B$2:$F$4020,5,FALSE))","v":""},null,{"$f":"CONCATENATE(A111,D111)","v":""},{"$f":"IF(ISNA(VLOOKUP(E111,Data!$A$2:$I$4020,7,FALSE)),\"\",VLOOKUP(E111,Data!$A$2:$I$4020,7,FALSE))","v":""},{"$f":"IF(ISNA(VLOOKUP(E111,Data!$A$2:$I$4020,9,FALSE)),\"\",VLOOKUP(E111,Data!$A$2:$I$4020,9,FALSE))","v":""},{"$f":"IF(ISNA(VLOOKUP(E111,Data!$A$2:$J$4020,10,FALSE)),\"\",VLOOKUP(E111,Data!$A$2:$J$4020,10,FALSE))","v":""},{"$nulls":13},{"$f":"SUM(S111:U111)","v":0}]
[null,{"$f":"IF(A112=\"\",\"\",VLOOKUP(A112,Data!$B$2:$D$4020,3,FALSE))","v":""},{"$f":"IF(A112=\"\",\"\",VLOOKUP(A112,Data!$B$2:$F$4020,5,FALSE))","v":""},null,{"$f":"CONCATENATE(A112,D112)","v":""},{"$f":"IF(ISNA(VLOOKUP(E112,Data!$A$2:$I$4020,7,FALSE)),\"\",VLOOKUP(E112,Data!$A$2:$I$4020,7,FALSE))","v":""},{"$f":"IF(ISNA(VLOOKUP(E112,Data!$A$2:$I$4020,9,FALSE)),\"\",VLOOKUP(E112,Data!$A$2:$I$4020,9,FALSE))","v":""},{"$f":"IF(ISNA(VLOOKUP(E112,Data!$A$2:$J$4020,10,FALSE)),\"\",VLOOKUP(E112,Data!$A$2:$J$4020,10,FALSE))","v":""},{"$nulls":13},{"$f":"SUM(S112:U112)","v":0}]
[null,{"$f":"IF(A113=\"\",\"\",VLOOKUP(A113,Data!$B$2:$D$4020,3,FALSE))","v":""},{"$f":"IF(A113=\"\",\"\",VLOOKUP(A113,Data!$B$2:$F$4020,5,FALSE))","v":""},null,{"$f":"CONCATENATE(A113,D113)","v":""},{"$f":"IF(ISNA(VLOOKUP(E113,Data!$A$2:$I$4020,7,FALSE)),\"\",VLOOKUP(E113,Data!$A$2:$I$4020,7,FALSE))","v":""},{"$f":"IF(ISNA(VLOOKUP(E113,Data!$A$2:$I$4020,9,FALSE)),\"\",VLOOKUP(E113,Data!$A$2:$I$4020,9,FALSE))","v":""},{"$f":"IF(ISNA(VLOOKUP(E113,Data!$A$2:$J$4020,10,FALSE)),\"\",VLOOKUP(E113,Data!$A$2:$J$4020,10,FALSE))","v":""},{"$nulls":13},{"$f":"SUM(S113:U113)","v":0}]
[null,{"$f":"IF(A114=\"\",\"\",VLOOKUP(A114,Data!$B$2:$D$4020,3,FALSE))","v":""},{"$f":"IF(A114=\"\",\"\",VLOOKUP(A114,Data!$B$2:$F$4020,5,FALSE))","v":""},null,{"$f":"CONCATENATE(A114,D114)","v":""},{"$f":"IF(ISNA(VLOOKUP(E114,Data!$A$2:$I$4020,7,FALSE)),\"\",VLOOKUP(E114,Data!$A$2:$I$4020,7,FALSE))","v":""},{"$f":"IF(ISNA(VLOOKUP(E114,Data!$A$2:$I$4020,9,FALSE)),\"\",VLOOKUP(E114,Data!$A$2:$I$4020,9,FALSE))","v":""},{"$f":"IF(ISNA(VLOOKUP(E114,Data!$A$2:$J$4020,10,FALSE)),\"\",VLOOKUP(E114,Data!$A$2:$J$4020,10,FALSE))","v":""},{"$nulls":13},{"$f":"SUM(S114:U114)","v":0}]
[null,{"$f":"IF(A115=\"\",\"\",VLOOKUP(A115,Data!$B$2:$D$4020,3,FALSE))","v":""},{"$f":"IF(A115=\"\",\"\",VLOOKUP(A115,Data!$B$2:$F$4020,5,FALSE))","v":""},null,{"$f":"CONCATENATE(A115,D115)","v":""},{"$f":"IF(ISNA(VLOOKUP(E115,Data!$A$2:$I$4020,7,FALSE)),\"\",VLOOKUP(E115,Data!$A$2:$I$4020,7,FALSE))","v":""},{"$f":"IF(ISNA(VLOOKUP(E115,Data!$A$2:$I$4020,9,FALSE)),\"\",VLOOKUP(E115,Data!$A$2:$I$4020,9,FALSE))","v":""},{"$f":"IF(ISNA(VLOOKUP(E115,Data!$A$2:$J$4020,10,FALSE)),\"\",VLOOKUP(E115,Data!$A$2:$J$4020,10,FALSE))","v":""},{"$nulls":13},{"$f":"SUM(S115:U115)","v":0}]
[null,{"$f":"IF(A116=\"\",\"\",VLOOKUP(A116,Data!$B$2:$D$4020,3,FALSE))","v":""},{"$f":"IF(A116=\"\",\"\",VLOOKUP(A116,Data!$B$2:$F$4020,5,FALSE))","v":""},null,{"$f":"CONCATENATE(A116,D116)","v":""},{"$f":"IF(ISNA(VLOOKUP(E116,Data!$A$2:$I$4020,7,FALSE)),\"\",VLOOKUP(E116,Data!$A$2:$I$4020,7,FALSE))","v":""},{"$f":"IF(ISNA(VLOOKUP(E116,Data!$A$2:$I$4020,9,FALSE)),\"\",VLOOKUP(E116,Data!$A$2:$I$4020,9,FALSE))","v":""},{"$f":"IF(ISNA(VLOOKUP(E116,Data!$A$2:$J$4020,10,FALSE)),\"\",VLOOKUP(E116,Data!$A$2:$J$4020,10,FALSE))","v":""},{"$nulls":13},{"$f":"SUM(S116:U116)","v":0}]
[null,{"$f":"IF(A117=\"\",\"\",VLOOKUP(A117,Data!$B$2:$D$4020,3,FALSE))","v":""},{"$f":"IF(A117=\"\",\"\",VLOOKUP(A117,Data!$B$2:$F$4020,5,FALSE))","v":""},null,{"$f":"CONCATENATE(A117,D117)","v":""},{"$f":"IF(ISNA(VLOOKUP(E117,Data!$A$2:$I$4020,7,FALSE)),\"\",VLOOKUP(E117,Data!$A$2:$I$4020,7,FALSE))","v":""},{"$f":"IF(ISNA(VLOOKUP(E117,Data!$A$2:$I$4020,9,FALSE)),\"\",VLOOKUP(E117,Data!$A$2:$I$4020,9,FALSE))","v":""},{"$f":"IF(ISNA(VLOOKUP(E117,Data!$A$2:$J$4020,10,FALSE)),\"\",VLOOKUP(E117,Data!$A$2:$J$4020,10,FALSE))","v":""},{"$nulls":13},{"$f":"SUM(S117:U117)","v":0}]
[null,{"$f":"IF(A118=\"\",\"\",VLOOKUP(A118,Data!$B$2:$D$4020,3,FALSE))","v":""},{"$f":"IF(A118=\"\",\"\",VLOOKUP(A118,Data!$B$2:$F$4020,5,FALSE))","v":""},null,{"$f":"CONCATENATE(A118,D118)","v":""},{"$f":"IF(ISNA(VLOOKUP(E118,Data!$A$2:$I$4020,7,FALSE)),\"\",VLOOKUP(E118,Data!$A$2:$I$4020,7,FALSE))","v":""},{"$f":"IF(ISNA(VLOOKUP(E118,Data!$A$2:$I$4020,9,FALSE)),\"\",VLOOKUP(E118,Data!$A$2:$I$4020,9,FALSE))","v":""},{"$f":"IF(ISNA(VLOOKUP(E118,Data!$A$2:$J$4020,10,FALSE)),\"\",VLOOKUP(E118,Data!$A$2:$J$4020,10,FALSE))","v":""},{"$nulls":13},{"$f":"SUM(S118:U118)","v":0}]
[null,{"$f":"IF(A119=\"\",\"\",VLOOKUP(A119,Data!$B$2:$D$4020,3,FALSE))","v":""},{"$f":"IF(A119=\"\",\"\",VLOOKUP(A119,Data!$B$2:$F$4020,5,FALSE))","v":""},null,{"$f":"CONCATENATE(A119,D119)","v":""},{"$f":"IF(ISNA(VLOOKUP(E119,Data!$A$2:$I$4020,7,FALSE)),\"\",VLOOKUP(E119,Data!$A$2:$I$4020,7,FALSE))","v":""},{"$f":"IF(ISNA(VLOOKUP(E119,Data!$A$2:$I$4020,9,FALSE)),\"\",VLOOKUP(E119,Data!$A$2:$I$4020,9,FALSE))","v":""},{"$f":"IF(ISNA(VLOOKUP(E119,Data!$A$2:$J$4020,10,FALSE)),\"\",VLOOKUP(E119,Data!$A$2:$J$4020,10,FALSE))","v":""},{"$nulls":13},{"$f":"SUM(S119:U119)","v":0}]
[null,{"$f":"IF(A120=\"\",\"\",VLOOKUP(A120,Data!$B$2:$D$4020,3,FALSE))","v":""},{"$f":"IF(A120=\"\",\"\",VLOOKUP(A120,Data!$B$2:$F$4020,5,FALSE))","v":""},null,{"$f":"CONCATENATE(A120,D120)","v":""},{"$f":"IF(ISNA(VLOOKUP(E120,Data!$A$2:$I$4020,7,FALSE)),\"\",VLOOKUP(E120,Data!$A$2:$I$4020,7,FALSE))","v":""},{"$f":"IF(ISNA(VLOOKUP(E120,Data!$A$2:$I$4020,9,FALSE)),\"\",VLOOKUP(E120,Data!$A$2:$I$4020,9,FALSE))","v":""},{"$f":"IF(ISNA(VLOOKUP(E120,Data!$A$2:$J$4020,10,FALSE)),\"\",VLOOKUP(E120,Data!$A$2:$J$4020,10,FALSE))","v":""},{"$nulls":13},{"$f":"SUM(S120:U120)","v":0}]
[null,{"$f":"IF(A121=\"\",\"\",VLOOKUP(A121,Data!$B$2:$D$4020,3,FALSE))","v":""},{"$f":"IF(A121=\"\",\"\",VLOOKUP(A121,Data!$B$2:$F$4020,5,FALSE))","v":""},null,{"$f":"CONCATENATE(A121,D121)","v":""},{"$f":"IF(ISNA(VLOOKUP(E121,Data!$A$2:$I$4020,7,FALSE)),\"\",VLOOKUP(E121,Data!$A$2:$I$4020,7,FALSE))","v":""},{"$f":"IF(ISNA(VLOOKUP(E121,Data!$A$2:$I$4020,9,FALSE)),\"\",VLOOKUP(E121,Data!$A$2:$I$4020,9,FALSE))","v":""},{"$f":"IF(ISNA(VLOOKUP(E121,Data!$A$2:$J$4020,10,FALSE)),\"\",VLOOKUP(E121,Data!$A$2:$J$4020,10,FALSE))","v":""},{"$nulls":13},{"$f":"SUM(S121:U121)","v":0}]
[null,{"$f":"IF(A122=\"\",\"\",VLOOKUP(A122,Data!$B$2:$D$4020,3,FALSE))","v":""},{"$f":"IF(A122=\"\",\"\",VLOOKUP(A122,Data!$B$2:$F$4020,5,FALSE))","v":""},null,{"$f":"CONCATENATE(A122,D122)","v":""},{"$f":"IF(ISNA(VLOOKUP(E122,Data!$A$2:$I$4020,7,FALSE)),\"\",VLOOKUP(E122,Data!$A$2:$I$4020,7,FALSE))","v":""},{"$f":"IF(ISNA(VLOOKUP(E122,Data!$A$2:$I$4020,9,FALSE)),\"\",VLOOKUP(E122,Data!$A$2:$I$4020,9,FALSE))","v":""},{"$f":"IF(ISNA(VLOOKUP(E122,Data!$A$2:$J$4020,10,FALSE)),\"\",VLOOKUP(E122,Data!$A$2:$J$4020,10,FALSE))","v":""},{"$nulls":13},{"$f":"SUM(S122:U122)","v":0}]
[null,{"$f":"IF(A123=\"\",\"\",VLOOKUP(A123,Data!$B$2:$D$4020,3,FALSE))","v":""},{"$f":"IF(A123=\"\",\"\",VLOOKUP(A123,Data!$B$2:$F$4020,5,FALSE))","v":""},null,{"$f":"CONCATENATE(A123,D123)","v":""},{"$f":"IF(ISNA(VLOOKUP(E123,Data!$A$2:$I$4020,7,FALSE)),\"\",VLOOKUP(E123,Data!$A$2:$I$4020,7,FALSE))","v":""},{"$f":"IF(ISNA(VLOOKUP(E123,Data!$A$2:$I$4020,9,FALSE)),\"\",VLOOKUP(E123,Data!$A$2:$I$4020,9,FALSE))","v":""},{"$f":"IF(ISNA(VLOOKUP(E123,Data!$A$2:$J$4020,10,FALSE)),\"\",VLOOKUP(E123,Data!$A$2:$J$4020,10,FALSE))","v":""},{"$nulls":13},{"$f":"SUM(S123:U123)","v":0}]
[null,{"$f":"IF(A124=\"\",\"\",VLOOKUP(A124,Data!$B$2:$D$4020,3,FALSE))","v":""},{"$f":"IF(A124=\"\",\"\",VLOOKUP(A124,Data!$B$2:$F$4020,5,FALSE))","v":""},null,{"$f":"CONCATENATE(A124,D124)","v":""},{"$f":"IF(ISNA(VLOOKUP(E124,Data!$A$2:$I$4020,7,FALSE)),\"\",VLOOKUP(E124,Data!$A$2:$I$4020,7,FALSE))","v":""},{"$f":"IF(ISNA(VLOOKUP(E124,Data!$A$2:$I$4020,9,FALSE)),\"\",VLOOKUP(E124,Data!$A$2:$I$4020,9,FALSE))","v":""},{"$f":"IF(ISNA(VLOOKUP(E124,Data!$A$2:$J$4020,10,FALSE)),\"\",VLOOKUP(E124,Data!$A$2:$J$4020,10,FALSE))","v":""},{"$nulls":13},{"$f":"SUM(S124:U124)","v":0}]
[null,{"$f":"IF(A125=\"\",\"\",VLOOKUP(A125,Data!$B$2:$D$4020,3,FALSE))","v":""},{"$f":"IF(A125=\"\",\"\",VLOOKUP(A125,Data!$B$2:$F$4020,5,FALSE))","v":""},null,{"$f":"CONCATENATE(A125,D125)","v":""},{"$f":"IF(ISNA(VLOOKUP(E125,Data!$A$2:$I$4020,7,FALSE)),\"\",VLOOKUP(E125,Data!$A$2:$I$4020,7,FALSE))","v":""},{"$f":"IF(ISNA(VLOOKUP(E125,Data!$A$2:$I$4020,9,FALSE)),\"\",VLOOKUP(E125,Data!$A$2:$I$4020,9,FALSE))","v":""},{"$f":"IF(ISNA(VLOOKUP(E125,Data!$A$2:$J$4020,10,FALSE)),\"\",VLOOKUP(E125,Data!$A$2:$J$4020,10,FALSE))","v":""},{"$nulls":13},{"$f":"SUM(S125:U125)","v":0}]
[null,{"$f":"IF(A126=\"\",\"\",VLOOKUP(A126,Data!$B$2:$D$4020,3,FALSE))","v":""},{"$f":"IF(A126=\"\",\"\",VLOOKUP(A126,Data!$B$2:$F$4020,5,FALSE))","v":""},null,{"$f":"CONCATENATE(A126,D126)","v":""},{"$f":"IF(ISNA(VLOOKUP(E126,Data!$A$2:$I$4020,7,FALSE)),\"\",VLOOKUP(E126,Data!$A$2:$I$4020,7,FALSE))","v":""},{"$f":"IF(ISNA(VLOOKUP(E126,Data!$A$2:$I$4020,9,FALSE)),\"\",VLOOKUP(E126,Data!$A$2:$I$4020,9,FALSE))","v":""},{"$f":"IF(ISNA(VLOOKUP(E126,Data!$A$2:$J$4020,10,FALSE)),\"\",VLOOKUP(E126,Data!$A$2:$J$4020,10,FALSE))","v":""},{"$nulls":13},{"$f":"SUM(S126:U126)","v":0}]
[null,{"$f":"IF(A127=\"\",\"\",VLOOKUP(A127,Data!$B$2:$D$4020,3,FALSE))","v":""},{"$f":"IF(A127=\"\",\"\",VLOOKUP(A127,Data!$B$2:$F$4020,5,FALSE))","v":""},null,{"$f":"CONCATENATE(A127,D127)","v":""},{"$f":"IF(ISNA(VLOOKUP(E127,Data!$A$2:$I$4020,7,FALSE)),\"\",VLOOKUP(E127,Data!$A$2:$I$4020,7,FALSE))","v":""},{"$f":"IF(ISNA(VLOOKUP(E127,Data!$A$2:$I$4020,9,FALSE)),\"\",VLOOKUP(E127,Data!$A$2:$I$4020,9,FALSE))","v":""},{"$f":"IF(ISNA(VLOOKUP(E127,Data!$A$2:$J$4020,10,FALSE)),\"\",VLOOKUP(E127,Data!$A$2:$J$4020,10,FALSE))","v":""},{"$nulls":13},{"$f":"SUM(S127:U127)","v":0}]
[null,{"$f":"IF(A128=\"\",\"\",VLOOKUP(A128,Data!$B$2:$D$4020,3,FALSE))","v":""},{"$f":"IF(A128=\"\",\"\",VLOOKUP(A128,Data!$B$2:$F$4020,5,FALSE))","v":""},null,{"$f":"CONCATENATE(A128,D128)","v":""},{"$f":"IF(ISNA(VLOOKUP(E128,Data!$A$2:$I$4020,7,FALSE)),\"\",VLOOKUP(E128,Data!$A$2:$I$4020,7,FALSE))","v":""},{"$f":"IF(ISNA(VLOOKUP(E128,Data!$A$2:$I$4020,9,FALSE)),\"\",VLOOKUP(E128,Data!$A$2:$I$4020,9,FALSE))","v":""},{"$f":"IF(ISNA(VLOOKUP(E128,Data!$A$2:$J$4020,10,FALSE)),\"\",VLOOKUP(E128,Data!$A$2:$J$4020,10,FALSE))","v":""},{"$nulls":13},{"$f":"SUM(S128:U128)","v":0}]
[null,{"$f":"IF(A129=\"\",\"\",VLOOKUP(A129,Data!$B$2:$D$4020,3,FALSE))","v":""},{"$f":"IF(A129=\"\",\"\",VLOOKUP(A129,Data!$B$2:$F$4020,5,FALSE))","v":""},null,{"$f":"CONCATENATE(A129,D129)","v":""},{"$f":"IF(ISNA(VLOOKUP(E129,Data!$A$2:$I$4020,7,FALSE)),\"\",VLOOKUP(E129,Data!$A$2:$I$4020,7,FALSE))","v":""},{"$f":"IF(ISNA(VLOOKUP(E129,Data!$A$2:$I$4020,9,FALSE)),\"\",VLOOKUP(E129,Data!$A$2:$I$4020,9,FALSE))","v":""},{"$f":"IF(ISNA(VLOOKUP(E129,Data!$A$2:$J$4020,10,FALSE)),\"\",VLOOKUP(E129,Data!$A$2:$J$4020,10,FALSE))","v":""},{"$nulls":13},{"$f":"SUM(S129:U129)","v":0}]
[null,{"$f":"IF(A130=\"\",\"\",VLOOKUP(A130,Data!$B$2:$D$4020,3,FALSE))","v":""},{"$f":"IF(A130=\"\",\"\",VLOOKUP(A130,Data!$B$2:$F$4020,5,FALSE))","v":""},null,{"$f":"CONCATENATE(A130,D130)","v":""},{"$f":"IF(ISNA(VLOOKUP(E130,Data!$A$2:$I$4020,7,FALSE)),\"\",VLOOKUP(E130,Data!$A$2:$I$4020,7,FALSE))","v":""},{"$f":"IF(ISNA(VLOOKUP(E130,Data!$A$2:$I$4020,9,FALSE)),\"\",VLOOKUP(E130,Data!$A$2:$I$4020,9,FALSE))","v":""},{"$f":"IF(ISNA(VLOOKUP(E130,Data!$A$2:$J$4020,10,FALSE)),\"\",VLOOKUP(E130,Data!$A$2:$J$4020,10,FALSE))","v":""},{"$nulls":13},{"$f":"SUM(S130:U130)","v":0}]
[null,{"$f":"IF(A131=\"\",\"\",VLOOKUP(A131,Data!$B$2:$D$4020,3,FALSE))","v":""},{"$f":"IF(A131=\"\",\"\",VLOOKUP(A131,Data!$B$2:$F$4020,5,FALSE))","v":""},null,{"$f":"CONCATENATE(A131,D131)","v":""},{"$f":"IF(ISNA(VLOOKUP(E131,Data!$A$2:$I$4020,7,FALSE)),\"\",VLOOKUP(E131,Data!$A$2:$I$4020,7,FALSE))","v":""},{"$f":"IF(ISNA(VLOOKUP(E131,Data!$A$2:$I$4020,9,FALSE)),\"\",VLOOKUP(E131,Data!$A$2:$I$4020,9,FALSE))","v":""},{"$f":"IF(ISNA(VLOOKUP(E131,Data!$A$2:$J$4020,10,FALSE)),\"\",VLOOKUP(E131,Data!$A$2:$J$4020,10,FALSE))","v":""},{"$nulls":13},{"$f":"SUM(S131:U131)","v":0}]
[null,{"$f":"IF(A132=\"\",\"\",VLOOKUP(A132,Data!$B$2:$D$4020,3,FALSE))","v":""},{"$f":"IF(A132=\"\",\"\",VLOOKUP(A132,Data!$B$2:$F$4020,5,FALSE))","v":""},null,{"$f":"CONCATENATE(A132,D132)","v":""},{"$f":"IF(ISNA(VLOOKUP(E132,Data!$A$2:$I$4020,7,FALSE)),\"\",VLOOKUP(E132,Data!$A$2:$I$4020,7,FALSE))","v":""},{"$f":"IF(ISNA(VLOOKUP(E132,Data!$A$2:$I$4020,9,FALSE)),\"\",VLOOKUP(E132,Data!$A$2:$I$4020,9,FALSE))","v":""},{"$f":"IF(ISNA(VLOOKUP(E132,Data!$A$2:$J$4020,10,FALSE)),\"\",VLOOKUP(E132,Data!$A$2:$J$4020,10,FALSE))","v":""},{"$nulls":13},{"$f":"SUM(S132:U132)","v":0}]
[null,{"$f":"IF(A133=\"\",\"\",VLOOKUP(A133,Data!$B$2:$D$4020,3,FALSE))","v":""},{"$f":"IF(A133=\"\",\"\",VLOOKUP(A133,Data!$B$2:$F$4020,5,FALSE))","v":""},null,{"$f":"CONCATENATE(A133,D133)","v":""},{"$f":"IF(ISNA(VLOOKUP(E133,Data!$A$2:$I$4020,7,FALSE)),\"\",VLOOKUP(E133,Data!$A$2:$I$4020,7,FALSE))","v":""},{"$f":"IF(ISNA(VLOOKUP(E133,Data!$A$2:$I$4020,9,FALSE)),\"\",VLOOKUP(E133,Data!$A$2:$I$4020,9,FALSE))","v":""},{"$f":"IF(ISNA(VLOOKUP(E133,Data!$A$2:$J$4020,10,FALSE)),\"\",VLOOKUP(E133,Data!$A$2:$J$4020,10,FALSE))","v":""},{"$nulls":13},{"$f":"SUM(S133:U133)","v":0}]
[null,{"$f":"IF(A134=\"\",\"\",VLOOKUP(A134,Data!$B$2:$D$4020,3,FALSE))","v":""},{"$f":"IF(A134=\"\",\"\",VLOOKUP(A134,Data!$B$2:$F$4020,5,FALSE))","v":""},null,{"$f":"CONCATENATE(A134,D134)","v":""},{"$f":"IF(ISNA(VLOOKUP(E134,Data!$A$2:$I$4020,7,FALSE)),\"\",VLOOKUP(E134,Data!$A$2:$I$4020,7,FALSE))","v":""},{"$f":"IF(ISNA(VLOOKUP(E134,Data!$A$2:$I$4020,9,FALSE)),\"\",VLOOKUP(E134,Data!$A$2:$I$4020,9,FALSE))","v":""},{"$f":"IF(ISNA(VLOOKUP(E134,Data!$A$2:$J$4020,10,FALSE)),\"\",VLOOKUP(E134,Data!$A$2:$J$4020,10,FALSE))","v":""},{"$nulls":13},{"$f":"SUM(S134:U134)","v":0}]
[null,{"$f":"IF(A135=\"\",\"\",VLOOKUP(A135,Data!$B$2:$D$4020,3,FALSE))","v":""},{"$f":"IF(A135=\"\",\"\",VLOOKUP(A135,Data!$B$2:$F$4020,5,FALSE))","v":""},null,{"$f":"CONCATENATE(A135,D135)","v":""},{"$f":"IF(ISNA(VLOOKUP(E135,Data!$A$2:$I$4020,7,FALSE)),\"\",VLOOKUP(E135,Data!$A$2:$I$4020,7,FALSE))","v":""},{"$f":"IF(ISNA(VLOOKUP(E135,Data!$A$2:$I$4020,9,FALSE)),\"\",VLOOKUP(E135,Data!$A$2:$I$4020,9,FALSE))","v":""},{"$f":"IF(ISNA(VLOOKUP(E135,Data!$A$2:$J$4020,10,FALSE)),\"\",VLOOKUP(E135,Data!$A$2:$J$4020,10,FALSE))","v":""},{"$nulls":13},{"$f":"SUM(S135:U135)","v":0}]
[null,{"$f":"IF(A136=\"\",\"\",VLOOKUP(A136,Data!$B$2:$D$4020,3,FALSE))","v":""},{"$f":"IF(A136=\"\",\"\",VLOOKUP(A136,Data!$B$2:$F$4020,5,FALSE))","v":""},null,{"$f":"CONCATENATE(A136,D136)","v":""},{"$f":"IF(ISNA(VLOOKUP(E136,Data!$A$2:$I$4020,7,FALSE)),\"\",VLOOKUP(E136,Data!$A$2:$I$4020,7,FALSE))","v":""},{"$f":"IF(ISNA(VLOOKUP(E136,Data!$A$2:$I$4020,9,FALSE)),\"\",VLOOKUP(E136,Data!$A$2:$I$4020,9,FALSE))","v":""},{"$f":"IF(ISNA(VLOOKUP(E136,Data!$A$2:$J$4020,10,FALSE)),\"\",VLOOKUP(E136,Data!$A$2:$J$4020,10,FALSE))","v":""},{"$nulls":13},{"$f":"SUM(S136:U136)","v":0}]
[null,{"$f":"IF(A137=\"\",\"\",VLOOKUP(A137,Data!$B$2:$D$4020,3,FALSE))","v":""},{"$f":"IF(A137=\"\",\"\",VLOOKUP(A137,Data!$B$2:$F$4020,5,FALSE))","v":""},null,{"$f":"CONCATENATE(A137,D137)","v":""},{"$f":"IF(ISNA(VLOOKUP(E137,Data!$A$2:$I$4020,7,FALSE)),\"\",VLOOKUP(E137,Data!$A$2:$I$4020,7,FALSE))","v":""},{"$f":"IF(ISNA(VLOOKUP(E137,Data!$A$2:$I$4020,9,FALSE)),\"\",VLOOKUP(E137,Data!$A$2:$I$4020,9,FALSE))","v":""},{"$f":"IF(ISNA(VLOOKUP(E137,Data!$A$2:$J$4020,10,FALSE)),\"\",VLOOKUP(E137,Data!$A$2:$J$4020,10,FALSE))","v":""},{"$nulls":13},{"$f":"SUM(S137:U137)","v":0}]
[null,{"$f":"IF(A138=\"\",\"\",VLOOKUP(A138,Data!$B$2:$D$4020,3,FALSE))","v":""},{"$f":"IF(A138=\"\",\"\",VLOOKUP(A138,Data!$B$2:$F$4020,5,FALSE))","v":""},null,{"$f":"CONCATENATE(A138,D138)","v":""},{"$f":"IF(ISNA(VLOOKUP(E138,Data!$A$2:$I$4020,7,FALSE)),\"\",VLOOKUP(E138,Data!$A$2:$I$4020,7,FALSE))","v":""},{"$f":"IF(ISNA(VLOOKUP(E138,Data!$A$2:$I$4020,9,FALSE)),\"\",VLOOKUP(E138,Data!$A$2:$I$4020,9,FALSE))","v":""},{"$f":"IF(ISNA(VLOOKUP(E138,Data!$A$2:$J$4020,10,FALSE)),\"\",VLOOKUP(E138,Data!$A$2:$J$4020,10,FALSE))","v":""},{"$nulls":13},{"$f":"SUM(S138:U138)","v":0}]
[null,{"$f":"IF(A139=\"\",\"\",VLOOKUP(A139,Data!$B$2:$D$4020,3,FALSE))","v":""},{"$f":"IF(A139=\"\",\"\",VLOOKUP(A139,Data!$B$2:$F$4020,5,FALSE))","v":""},null,{"$f":"CONCATENATE(A139,D139)","v":""},{"$f":"IF(ISNA(VLOOKUP(E139,Data!$A$2:$I$4020,7,FALSE)),\"\",VLOOKUP(E139,Data!$A$2:$I$4020,7,FALSE))","v":""},{"$f":"IF(ISNA(VLOOKUP(E139,Data!$A$2:$I$4020,9,FALSE)),\"\",VLOOKUP(E139,Data!$A$2:$I$4020,9,FALSE))","v":""},{"$f":"IF(ISNA(VLOOKUP(E139,Data!$A$2:$J$4020,10,FALSE)),\"\",VLOOKUP(E139,Data!$A$2:$J$4020,10,FALSE))","v":""},{"$nulls":13},{"$f":"SUM(S139:U139)","v":0}]
[null,{"$f":"IF(A140=\"\",\"\",VLOOKUP(A140,Data!$B$2:$D$4020,3,FALSE))","v":""},{"$f":"IF(A140=\"\",\"\",VLOOKUP(A140,Data!$B$2:$F$4020,5,FALSE))","v":""},null,{"$f":"CONCATENATE(A140,D140)","v":""},{"$f":"IF(ISNA(VLOOKUP(E140,Data!$A$2:$I$4020,7,FALSE)),\"\",VLOOKUP(E140,Data!$A$2:$I$4020,7,FALSE))","v":""},{"$f":"IF(ISNA(VLOOKUP(E140,Data!$A$2:$I$4020,9,FALSE)),\"\",VLOOKUP(E140,Data!$A$2:$I$4020,9,FALSE))","v":""},{"$f":"IF(ISNA(VLOOKUP(E140,Data!$A$2:$J$4020,10,FALSE)),\"\",VLOOKUP(E140,Data!$A$2:$J$4020,10,FALSE))","v":""},{"$nulls":13},{"$f":"SUM(S140:U140)","v":0}]
[null,{"$f":"IF(A141=\"\",\"\",VLOOKUP(A141,Data!$B$2:$D$4020,3,FALSE))","v":""},{"$f":"IF(A141=\"\",\"\",VLOOKUP(A141,Data!$B$2:$F$4020,5,FALSE))","v":""},null,{"$f":"CONCATENATE(A141,D141)","v":""},{"$f":"IF(ISNA(VLOOKUP(E141,Data!$A$2:$I$4020,7,FALSE)),\"\",VLOOKUP(E141,Data!$A$2:$I$4020,7,FALSE))","v":""},{"$f":"IF(ISNA(VLOOKUP(E141,Data!$A$2:$I$4020,9,FALSE)),\"\",VLOOKUP(E141,Data!$A$2:$I$4020,9,FALSE))","v":""},{"$f":"IF(ISNA(VLOOKUP(E141,Data!$A$2:$J$4020,10,FALSE)),\"\",VLOOKUP(E141,Data!$A$2:$J$4020,10,FALSE))","v":""},{"$nulls":13},{"$f":"SUM(S141:U141)","v":0}]
[null,{"$f":"IF(A142=\"\",\"\",VLOOKUP(A142,Data!$B$2:$D$4020,3,FALSE))","v":""},{"$f":"IF(A142=\"\",\"\",VLOOKUP(A142,Data!$B$2:$F$4020,5,FALSE))","v":""},null,{"$f":"CONCATENATE(A142,D142)","v":""},{"$f":"IF(ISNA(VLOOKUP(E142,Data!$A$2:$I$4020,7,FALSE)),\"\",VLOOKUP(E142,Data!$A$2:$I$4020,7,FALSE))","v":""},{"$f":"IF(ISNA(VLOOKUP(E142,Data!$A$2:$I$4020,9,FALSE)),\"\",VLOOKUP(E142,Data!$A$2:$I$4020,9,FALSE))","v":""},{"$f":"IF(ISNA(VLOOKUP(E142,Data!$A$2:$J$4020,10,FALSE)),\"\",VLOOKUP(E142,Data!$A$2:$J$4020,10,FALSE))","v":""},{"$nulls":13},{"$f":"SUM(S142:U142)","v":0}]
[null,{"$f":"IF(A143=\"\",\"\",VLOOKUP(A143,Data!$B$2:$D$4020,3,FALSE))","v":""},{"$f":"IF(A143=\"\",\"\",VLOOKUP(A143,Data!$B$2:$F$4020,5,FALSE))","v":""},null,{"$f":"CONCATENATE(A143,D143)","v":""},{"$f":"IF(ISNA(VLOOKUP(E143,Data!$A$2:$I$4020,7,FALSE)),\"\",VLOOKUP(E143,Data!$A$2:$I$4020,7,FALSE))","v":""},{"$f":"IF(ISNA(VLOOKUP(E143,Data!$A$2:$I$4020,9,FALSE)),\"\",VLOOKUP(E143,Data!$A$2:$I$4020,9,FALSE))","v":""},{"$f":"IF(ISNA(VLOOKUP(E143,Data!$A$2:$J$4020,10,FALSE)),\"\",VLOOKUP(E143,Data!$A$2:$J$4020,10,FALSE))","v":""},{"$nulls":13},{"$f":"SUM(S143:U143)","v":0}]
[null,{"$f":"IF(A144=\"\",\"\",VLOOKUP(A144,Data!$B$2:$D$4020,3,FALSE))","v":""},{"$f":"IF(A144=\"\",\"\",VLOOKUP(A144,Data!$B$2:$F$4020,5,FALSE))","v":""},null,{"$f":"CONCATENATE(A144,D144)","v":""},{"$f":"IF(ISNA(VLOOKUP(E144,Data!$A$2:$I$4020,7,FALSE)),\"\",VLOOKUP(E144,Data!$A$2:$I$4020,7,FALSE))","v":""},{"$f":"IF(ISNA(VLOOKUP(E144,Data!$A$2:$I$4020,9,FALSE)),\"\",VLOOKUP(E144,Data!$A$2:$I$4020,9,FALSE))","v":""},{"$f":"IF(ISNA(VLOOKUP(E144,Data!$A$2:$J$4020,10,FALSE)),\"\",VLOOKUP(E144,Data!$A$2:$J$4020,10,FALSE))","v":""},{"$nulls":13},{"$f":"SUM(S144:U144)","v":0}]
[null,{"$f":"IF(A145=\"\",\"\",VLOOKUP(A145,Data!$B$2:$D$4020,3,FALSE))","v":""},{"$f":"IF(A145=\"\",\"\",VLOOKUP(A145,Data!$B$2:$F$4020,5,FALSE))","v":""},null,{"$f":"CONCATENATE(A145,D145)","v":""},{"$f":"IF(ISNA(VLOOKUP(E145,Data!$A$2:$I$4020,7,FALSE)),\"\",VLOOKUP(E145,Data!$A$2:$I$4020,7,FALSE))","v":""},{"$f":"IF(ISNA(VLOOKUP(E145,Data!$A$2:$I$4020,9,FALSE)),\"\",VLOOKUP(E145,Data!$A$2:$I$4020,9,FALSE))","v":""},{"$f":"IF(ISNA(VLOOKUP(E145,Data!$A$2:$J$4020,10,FALSE)),\"\",VLOOKUP(E145,Data!$A$2:$J$4020,10,FALSE))","v":""},{"$nulls":13},{"$f":"SUM(S145:U145)","v":0}]
[null,{"$f":"IF(A146=\"\",\"\",VLOOKUP(A146,Data!$B$2:$D$4020,3,FALSE))","v":""},{"$f":"IF(A146=\"\",\"\",VLOOKUP(A146,Data!$B$2:$F$4020,5,FALSE))","v":""},null,{"$f":"CONCATENATE(A146,D146)","v":""},{"$f":"IF(ISNA(VLOOKUP(E146,Data!$A$2:$I$4020,7,FALSE)),\"\",VLOOKUP(E146,Data!$A$2:$I$4020,7,FALSE))","v":""},{"$f":"IF(ISNA(VLOOKUP(E146,Data!$A$2:$I$4020,9,FALSE)),\"\",VLOOKUP(E146,Data!$A$2:$I$4020,9,FALSE))","v":""},{"$f":"IF(ISNA(VLOOKUP(E146,Data!$A$2:$J$4020,10,FALSE)),\"\",VLOOKUP(E146,Data!$A$2:$J$4020,10,FALSE))","v":""},{"$nulls":13},{"$f":"SUM(S146:U146)","v":0}]
[null,{"$f":"IF(A147=\"\",\"\",VLOOKUP(A147,Data!$B$2:$D$4020,3,FALSE))","v":""},{"$f":"IF(A147=\"\",\"\",VLOOKUP(A147,Data!$B$2:$F$4020,5,FALSE))","v":""},null,{"$f":"CONCATENATE(A147,D147)","v":""},{"$f":"IF(ISNA(VLOOKUP(E147,Data!$A$2:$I$4020,7,FALSE)),\"\",VLOOKUP(E147,Data!$A$2:$I$4020,7,FALSE))","v":""},{"$f":"IF(ISNA(VLOOKUP(E147,Data!$A$2:$I$4020,9,FALSE)),\"\",VLOOKUP(E147,Data!$A$2:$I$4020,9,FALSE))","v":""},{"$f":"IF(ISNA(VLOOKUP(E147,Data!$A$2:$J$4020,10,FALSE)),\"\",VLOOKUP(E147,Data!$A$2:$J$4020,10,FALSE))","v":""},{"$nulls":13},{"$f":"SUM(S147:U147)","v":0}]
[null,{"$f":"IF(A148=\"\",\"\",VLOOKUP(A148,Data!$B$2:$D$4020,3,FALSE))","v":""},{"$f":"IF(A148=\"\",\"\",VLOOKUP(A148,Data!$B$2:$F$4020,5,FALSE))","v":""},null,{"$f":"CONCATENATE(A148,D148)","v":""},{"$f":"IF(ISNA(VLOOKUP(E148,Data!$A$2:$I$4020,7,FALSE)),\"\",VLOOKUP(E148,Data!$A$2:$I$4020,7,FALSE))","v":""},{"$f":"IF(ISNA(VLOOKUP(E148,Data!$A$2:$I$4020,9,FALSE)),\"\",VLOOKUP(E148,Data!$A$2:$I$4020,9,FALSE))","v":""},{"$f":"IF(ISNA(VLOOKUP(E148,Data!$A$2:$J$4020,10,FALSE)),\"\",VLOOKUP(E148,Data!$A$2:$J$4020,10,FALSE))","v":""},{"$nulls":13},{"$f":"SUM(S148:U148)","v":0}]
[null,{"$f":"IF(A149=\"\",\"\",VLOOKUP(A149,Data!$B$2:$D$4020,3,FALSE))","v":""},{"$f":"IF(A149=\"\",\"\",VLOOKUP(A149,Data!$B$2:$F$4020,5,FALSE))","v":""},null,{"$f":"CONCATENATE(A149,D149)","v":""},{"$f":"IF(ISNA(VLOOKUP(E149,Data!$A$2:$I$4020,7,FALSE)),\"\",VLOOKUP(E149,Data!$A$2:$I$4020,7,FALSE))","v":""},{"$f":"IF(ISNA(VLOOKUP(E149,Data!$A$2:$I$4020,9,FALSE)),\"\",VLOOKUP(E149,Data!$A$2:$I$4020,9,FALSE))","v":""},{"$f":"IF(ISNA(VLOOKUP(E149,Data!$A$2:$J$4020,10,FALSE)),\"\",VLOOKUP(E149,Data!$A$2:$J$4020,10,FALSE))","v":""},{"$nulls":13},{"$f":"SUM(S149:U149)","v":0}]
[null,{"$f":"IF(A150=\"\",\"\",VLOOKUP(A150,Data!$B$2:$D$4020,3,FALSE))","v":""},{"$f":"IF(A150=\"\",\"\",VLOOKUP(A150,Data!$B$2:$F$4020,5,FALSE))","v":""},null,{"$f":"CONCATENATE(A150,D150)","v":""},{"$f":"IF(ISNA(VLOOKUP(E150,Data!$A$2:$I$4020,7,FALSE)),\"\",VLOOKUP(E150,Data!$A$2:$I$4020,7,FALSE))","v":""},{"$f":"IF(ISNA(VLOOKUP(E150,Data!$A$2:$I$4020,9,FALSE)),\"\",VLOOKUP(E150,Data!$A$2:$I$4020,9,FALSE))","v":""},{"$f":"IF(ISNA(VLOOKUP(E150,Data!$A$2:$J$4020,10,FALSE)),\"\",VLOOKUP(E150,Data!$A$2:$J$4020,10,FALSE))","v":""},{"$nulls":13},{"$f":"SUM(S150:U150)","v":0}]
[null,{"$f":"IF(A151=\"\",\"\",VLOOKUP(A151,Data!$B$2:$D$4020,3,FALSE))","v":""},{"$f":"IF(A151=\"\",\"\",VLOOKUP(A151,Data!$B$2:$F$4020,5,FALSE))","v":""},null,{"$f":"CONCATENATE(A151,D151)","v":""},{"$f":"IF(ISNA(VLOOKUP(E151,Data!$A$2:$I$4020,7,FALSE)),\"\",VLOOKUP(E151,Data!$A$2:$I$4020,7,FALSE))","v":""},{"$f":"IF(ISNA(VLOOKUP(E151,Data!$A$2:$I$4020,9,FALSE)),\"\",VLOOKUP(E151,Data!$A$2:$I$4020,9,FALSE))","v":""},{"$f":"IF(ISNA(VLOOKUP(E151,Data!$A$2:$J$4020,10,FALSE)),\"\",VLOOKUP(E151,Data!$A$2:$J$4020,10,FALSE))","v":""},{"$nulls":13},{"$f":"SUM(S151:U151)","v":0}]
[null,{"$f":"IF(A152=\"\",\"\",VLOOKUP(A152,Data!$B$2:$D$4020,3,FALSE))","v":""},{"$f":"IF(A152=\"\",\"\",VLOOKUP(A152,Data!$B$2:$F$4020,5,FALSE))","v":""},null,{"$f":"CONCATENATE(A152,D152)","v":""},{"$f":"IF(ISNA(VLOOKUP(E152,Data!$A$2:$I$4020,7,FALSE)),\"\",VLOOKUP(E152,Data!$A$2:$I$4020,7,FALSE))","v":""},{"$f":"IF(ISNA(VLOOKUP(E152,Data!$A$2:$I$4020,9,FALSE)),\"\",VLOOKUP(E152,Data!$A$2:$I$4020,9,FALSE))","v":""},{"$f":"IF(ISNA(VLOOKUP(E152,Data!$A$2:$J$4020,10,FALSE)),\"\",VLOOKUP(E152,Data!$A$2:$J$4020,10,FALSE))","v":""},{"$nulls":13},{"$f":"SUM(S152:U152)","v":0}]
[null,{"$f":"IF(A153=\"\",\"\",VLOOKUP(A153,Data!$B$2:$D$4020,3,FALSE))","v":""},{"$f":"IF(A153=\"\",\"\",VLOOKUP(A153,Data!$B$2:$F$4020,5,FALSE))","v":""},null,{"$f":"CONCATENATE(A153,D153)","v":""},{"$f":"IF(ISNA(VLOOKUP(E153,Data!$A$2:$I$4020,7,FALSE)),\"\",VLOOKUP(E153,Data!$A$2:$I$4020,7,FALSE))","v":""},{"$f":"IF(ISNA(VLOOKUP(E153,Data!$A$2:$I$4020,9,FALSE)),\"\",VLOOKUP(E153,Data!$A$2:$I$4020,9,FALSE))","v":""},{"$f":"IF(ISNA(VLOOKUP(E153,Data!$A$2:$J$4020,10,FALSE)),\"\",VLOOKUP(E153,Data!$A$2:$J$4020,10,FALSE))","v":""},{"$nulls":13},{"$f":"SUM(S153:U153)","v":0}]
[null,{"$f":"IF(A154=\"\",\"\",VLOOKUP(A154,Data!$B$2:$D$4020,3,FALSE))","v":""},{"$f":"IF(A154=\"\",\"\",VLOOKUP(A154,Data!$B$2:$F$4020,5,FALSE))","v":""},null,{"$f":"CONCATENATE(A154,D154)","v":""},{"$f":"IF(ISNA(VLOOKUP(E154,Data!$A$2:$I$4020,7,FALSE)),\"\",VLOOKUP(E154,Data!$A$2:$I$4020,7,FALSE))","v":""},{"$f":"IF(ISNA(VLOOKUP(E154,Data!$A$2:$I$4020,9,FALSE)),\"\",VLOOKUP(E154,Data!$A$2:$I$4020,9,FALSE))","v":""},{"$f":"IF(ISNA(VLOOKUP(E154,Data!$A$2:$J$4020,10,FALSE)),\"\",VLOOKUP(E154,Data!$A$2:$J$4020,10,FALSE))","v":""},{"$nulls":13},{"$f":"SUM(S154:U154)","v":0}]
[null,{"$f":"IF(A155=\"\",\"\",VLOOKUP(A155,Data!$B$2:$D$4020,3,FALSE))","v":""},{"$f":"IF(A155=\"\",\"\",VLOOKUP(A155,Data!$B$2:$F$4020,5,FALSE))","v":""},null,{"$f":"CONCATENATE(A155,D155)","v":""},{"$f":"IF(ISNA(VLOOKUP(E155,Data!$A$2:$I$4020,7,FALSE)),\"\",VLOOKUP(E155,Data!$A$2:$I$4020,7,FALSE))","v":""},{"$f":"IF(ISNA(VLOOKUP(E155,Data!$A$2:$I$4020,9,FALSE)),\"\",VLOOKUP(E155,Data!$A$2:$I$4020,9,FALSE))","v":""},{"$f":"IF(ISNA(VLOOKUP(E155,Data!$A$2:$J$4020,10,FALSE)),\"\",VLOOKUP(E155,Data!$A$2:$J$4020,10,FALSE))","v":""},{"$nulls":13},{"$f":"SUM(S155:U155)","v":0}]
[null,{"$f":"IF(A156=\"\",\"\",VLOOKUP(A156,Data!$B$2:$D$4020,3,FALSE))","v":""},{"$f":"IF(A156=\"\",\"\",VLOOKUP(A156,Data!$B$2:$F$4020,5,FALSE))","v":""},null,{"$f":"CONCATENATE(A156,D156)","v":""},{"$f":"IF(ISNA(VLOOKUP(E156,Data!$A$2:$I$4020,7,FALSE)),\"\",VLOOKUP(E156,Data!$A$2:$I$4020,7,FALSE))","v":""},{"$f":"IF(ISNA(VLOOKUP(E156,Data!$A$2:$I$4020,9,FALSE)),\"\",VLOOKUP(E156,Data!$A$2:$I$4020,9,FALSE))","v":""},{"$f":"IF(ISNA(VLOOKUP(E156,Data!$A$2:$J$4020,10,FALSE)),\"\",VLOOKUP(E156,Data!$A$2:$J$4020,10,FALSE))","v":""},{"$nulls":13},{"$f":"SUM(S156:U156)","v":0}]
[null,{"$f":"IF(A157=\"\",\"\",VLOOKUP(A157,Data!$B$2:$D$4020,3,FALSE))","v":""},{"$f":"IF(A157=\"\",\"\",VLOOKUP(A157,Data!$B$2:$F$4020,5,FALSE))","v":""},null,{"$f":"CONCATENATE(A157,D157)","v":""},{"$f":"IF(ISNA(VLOOKUP(E157,Data!$A$2:$I$4020,7,FALSE)),\"\",VLOOKUP(E157,Data!$A$2:$I$4020,7,FALSE))","v":""},{"$f":"IF(ISNA(VLOOKUP(E157,Data!$A$2:$I$4020,9,FALSE)),\"\",VLOOKUP(E157,Data!$A$2:$I$4020,9,FALSE))","v":""},{"$f":"IF(ISNA(VLOOKUP(E157,Data!$A$2:$J$4020,10,FALSE)),\"\",VLOOKUP(E157,Data!$A$2:$J$4020,10,FALSE))","v":""},{"$nulls":13},{"$f":"SUM(S157:U157)","v":0}]
[null,{"$f":"IF(A158=\"\",\"\",VLOOKUP(A158,Data!$B$2:$D$4020,3,FALSE))","v":""},{"$f":"IF(A158=\"\",\"\",VLOOKUP(A158,Data!$B$2:$F$4020,5,FALSE))","v":""},null,{"$f":"CONCATENATE(A158,D158)","v":""},{"$f":"IF(ISNA(VLOOKUP(E158,Data!$A$2:$I$4020,7,FALSE)),\"\",VLOOKUP(E158,Data!$A$2:$I$4020,7,FALSE))","v":""},{"$f":"IF(ISNA(VLOOKUP(E158,Data!$A$2:$I$4020,9,FALSE)),\"\",VLOOKUP(E158,Data!$A$2:$I$4020,9,FALSE))","v":""},{"$f":"IF(ISNA(VLOOKUP(E158,Data!$A$2:$J$4020,10,FALSE)),\"\",VLOOKUP(E158,Data!$A$2:$J$4020,10,FALSE))","v":""},{"$nulls":13},{"$f":"SUM(S158:U158)","v":0}]
[null,{"$f":"IF(A159=\"\",\"\",VLOOKUP(A159,Data!$B$2:$D$4020,3,FALSE))","v":""},{"$f":"IF(A159=\"\",\"\",VLOOKUP(A159,Data!$B$2:$F$4020,5,FALSE))","v":""},null,{"$f":"CONCATENATE(A159,D159)","v":""},{"$f":"IF(ISNA(VLOOKUP(E159,Data!$A$2:$I$4020,7,FALSE)),\"\",VLOOKUP(E159,Data!$A$2:$I$4020,7,FALSE))","v":""},{"$f":"IF(ISNA(VLOOKUP(E159,Data!$A$2:$I$4020,9,FALSE)),\"\",VLOOKUP(E159,Data!$A$2:$I$4020,9,FALSE))","v":""},{"$f":"IF(ISNA(VLOOKUP(E159,Data!$A$2:$J$4020,10,FALSE)),\"\",VLOOKUP(E159,Data!$A$2:$J$4020,10,FALSE))","v":""},{"$nulls":13},{"$f":"SUM(S159:U159)","v":0}]
[null,{"$f":"IF(A160=\"\",\"\",VLOOKUP(A160,Data!$B$2:$D$4020,3,FALSE))","v":""},{"$f":"IF(A160=\"\",\"\",VLOOKUP(A160,Data!$B$2:$F$4020,5,FALSE))","v":""},null,{"$f":"CONCATENATE(A160,D160)","v":""},{"$f":"IF(ISNA(VLOOKUP(E160,Data!$A$2:$I$4020,7,FALSE)),\"\",VLOOKUP(E160,Data!$A$2:$I$4020,7,FALSE))","v":""},{"$f":"IF(ISNA(VLOOKUP(E160,Data!$A$2:$I$4020,9,FALSE)),\"\",VLOOKUP(E160,Data!$A$2:$I$4020,9,FALSE))","v":""},{"$f":"IF(ISNA(VLOOKUP(E160,Data!$A$2:$J$4020,10,FALSE)),\"\",VLOOKUP(E160,Data!$A$2:$J$4020,10,FALSE))","v":""},{"$nulls":13},{"$f":"SUM(S160:U160)","v":0}]
[null,{"$f":"IF(A161=\"\",\"\",VLOOKUP(A161,Data!$B$2:$D$4020,3,FALSE))","v":""},{"$f":"IF(A161=\"\",\"\",VLOOKUP(A161,Data!$B$2:$F$4020,5,FALSE))","v":""},null,{"$f":"CONCATENATE(A161,D161)","v":""},{"$f":"IF(ISNA(VLOOKUP(E161,Data!$A$2:$I$4020,7,FALSE)),\"\",VLOOKUP(E161,Data!$A$2:$I$4020,7,FALSE))","v":""},{"$f":"IF(ISNA(VLOOKUP(E161,Data!$A$2:$I$4020,9,FALSE)),\"\",VLOOKUP(E161,Data!$A$2:$I$4020,9,FALSE))","v":""},{"$f":"IF(ISNA(VLOOKUP(E161,Data!$A$2:$J$4020,10,FALSE)),\"\",VLOOKUP(E161,Data!$A$2:$J$4020,10,FALSE))","v":""},{"$nulls":13},{"$f":"SUM(S161:U161)","v":0}]
[null,{"$f":"IF(A162=\"\",\"\",VLOOKUP(A162,Data!$B$2:$D$4020,3,FALSE))","v":""},{"$f":"IF(A162=\"\",\"\",VLOOKUP(A162,Data!$B$2:$F$4020,5,FALSE))","v":""},null,{"$f":"CONCATENATE(A162,D162)","v":""},{"$f":"IF(ISNA(VLOOKUP(E162,Data!$A$2:$I$4020,7,FALSE)),\"\",VLOOKUP(E162,Data!$A$2:$I$4020,7,FALSE))","v":""},{"$f":"IF(ISNA(VLOOKUP(E162,Data!$A$2:$I$4020,9,FALSE)),\"\",VLOOKUP(E162,Data!$A$2:$I$4020,9,FALSE))","v":""},{"$f":"IF(ISNA(VLOOKUP(E162,Data!$A$2:$J$4020,10,FALSE)),\"\",VLOOKUP(E162,Data!$A$2:$J$4020,10,FALSE))","v":""},{"$nulls":13},{"$f":"SUM(S162:U162)","v":0}]
[null,{"$f":"IF(A163=\"\",\"\",VLOOKUP(A163,Data!$B$2:$D$4020,3,FALSE))","v":""},{"$f":"IF(A163=\"\",\"\",VLOOKUP(A163,Data!$B$2:$F$4020,5,FALSE))","v":""},null,{"$f":"CONCATENATE(A163,D163)","v":""},{"$f":"IF(ISNA(VLOOKUP(E163,Data!$A$2:$I$4020,7,FALSE)),\"\",VLOOKUP(E163,Data!$A$2:$I$4020,7,FALSE))","v":""},{"$f":"IF(ISNA(VLOOKUP(E163,Data!$A$2:$I$4020,9,FALSE)),\"\",VLOOKUP(E163,Data!$A$2:$I$4020,9,FALSE))","v":""},{"$f":"IF(ISNA(VLOOKUP(E163,Data!$A$2:$J$4020,10,FALSE)),\"\",VLOOKUP(E163,Data!$A$2:$J$4020,10,FALSE))","v":""},{"$nulls":13},{"$f":"SUM(S163:U163)","v":0}]
[null,{"$f":"IF(A164=\"\",\"\",VLOOKUP(A164,Data!$B$2:$D$4020,3,FALSE))","v":""},{"$f":"IF(A164=\"\",\"\",VLOOKUP(A164,Data!$B$2:$F$4020,5,FALSE))","v":""},null,{"$f":"CONCATENATE(A164,D164)","v":""},{"$f":"IF(ISNA(VLOOKUP(E164,Data!$A$2:$I$4020,7,FALSE)),\"\",VLOOKUP(E164,Data!$A$2:$I$4020,7,FALSE))","v":""},{"$f":"IF(ISNA(VLOOKUP(E164,Data!$A$2:$I$4020,9,FALSE)),\"\",VLOOKUP(E164,Data!$A$2:$I$4020,9,FALSE))","v":""},{"$f":"IF(ISNA(VLOOKUP(E164,Data!$A$2:$J$4020,10,FALSE)),\"\",VLOOKUP(E164,Data!$A$2:$J$4020,10,FALSE))","v":""},{"$nulls":13},{"$f":"SUM(S164:U164)","v":0}]
[null,{"$f":"IF(A165=\"\",\"\",VLOOKUP(A165,Data!$B$2:$D$4020,3,FALSE))","v":""},{"$f":"IF(A165=\"\",\"\",VLOOKUP(A165,Data!$B$2:$F$4020,5,FALSE))","v":""},null,{"$f":"CONCATENATE(A165,D165)","v":""},{"$f":"IF(ISNA(VLOOKUP(E165,Data!$A$2:$I$4020,7,FALSE)),\"\",VLOOKUP(E165,Data!$A$2:$I$4020,7,FALSE))","v":""},{"$f":"IF(ISNA(VLOOKUP(E165,Data!$A$2:$I$4020,9,FALSE)),\"\",VLOOKUP(E165,Data!$A$2:$I$4020,9,FALSE))","v":""},{"$f":"IF(ISNA(VLOOKUP(E165,Data!$A$2:$J$4020,10,FALSE)),\"\",VLOOKUP(E165,Data!$A$2:$J$4020,10,FALSE))","v":""},{"$nulls":13},{"$f":"SUM(S165:U165)","v":0}]
[null,{"$f":"IF(A166=\"\",\"\",VLOOKUP(A166,Data!$B$2:$D$4020,3,FALSE))","v":""},{"$f":"IF(A166=\"\",\"\",VLOOKUP(A166,Data!$B$2:$F$4020,5,FALSE))","v":""},null,{"$f":"CONCATENATE(A166,D166)","v":""},{"$f":"IF(ISNA(VLOOKUP(E166,Data!$A$2:$I$4020,7,FALSE)),\"\",VLOOKUP(E166,Data!$A$2:$I$4020,7,FALSE))","v":""},{"$f":"IF(ISNA(VLOOKUP(E166,Data!$A$2:$I$4020,9,FALSE)),\"\",VLOOKUP(E166,Data!$A$2:$I$4020,9,FALSE))","v":""},{"$f":"IF(ISNA(VLOOKUP(E166,Data!$A$2:$J$4020,10,FALSE)),\"\",VLOOKUP(E166,Data!$A$2:$J$4020,10,FALSE))","v":""},{"$nulls":13},{"$f":"SUM(S166:U166)","v":0}]
[null,{"$f":"IF(A167=\"\",\"\",VLOOKUP(A167,Data!$B$2:$D$4020,3,FALSE))","v":""},{"$f":"IF(A167=\"\",\"\",VLOOKUP(A167,Data!$B$2:$F$4020,5,FALSE))","v":""},null,{"$f":"CONCATENATE(A167,D167)","v":""},{"$f":"IF(ISNA(VLOOKUP(E167,Data!$A$2:$I$4020,7,FALSE)),\"\",VLOOKUP(E167,Data!$A$2:$I$4020,7,FALSE))","v":""},{"$f":"IF(ISNA(VLOOKUP(E167,Data!$A$2:$I$4020,9,FALSE)),\"\",VLOOKUP(E167,Data!$A$2:$I$4020,9,FALSE))","v":""},{"$f":"IF(ISNA(VLOOKUP(E167,Data!$A$2:$J$4020,10,FALSE)),\"\",VLOOKUP(E167,Data!$A$2:$J$4020,10,FALSE))","v":""},{"$nulls":13},{"$f":"SUM(S167:U167)","v":0}]
[null,{"$f":"IF(A168=\"\",\"\",VLOOKUP(A168,Data!$B$2:$D$4020,3,FALSE))","v":""},{"$f":"IF(A168=\"\",\"\",VLOOKUP(A168,Data!$B$2:$F$4020,5,FALSE))","v":""},null,{"$f":"CONCATENATE(A168,D168)","v":""},{"$f":"IF(ISNA(VLOOKUP(E168,Data!$A$2:$I$4020,7,FALSE)),\"\",VLOOKUP(E168,Data!$A$2:$I$4020,7,FALSE))","v":""},{"$f":"IF(ISNA(VLOOKUP(E168,Data!$A$2:$I$4020,9,FALSE)),\"\",VLOOKUP(E168,Data!$A$2:$I$4020,9,FALSE))","v":""},{"$f":"IF(ISNA(VLOOKUP(E168,Data!$A$2:$J$4020,10,FALSE)),\"\",VLOOKUP(E168,Data!$A$2:$J$4020,10,FALSE))","v":""},{"$nulls":13},{"$f":"SUM(S168:U168)","v":0}]
[null,{"$f":"IF(A169=\"\",\"\",VLOOKUP(A169,Data!$B$2:$D$4020,3,FALSE))","v":""},{"$f":"IF(A169=\"\",\"\",VLOOKUP(A169,Data!$B$2:$F$4020,5,FALSE))","v":""},null,{"$f":"CONCATENATE(A169,D169)","v":""},{"$f":"IF(ISNA(VLOOKUP(E169,Data!$A$2:$I$4020,7,FALSE)),\"\",VLOOKUP(E169,Data!$A$2:$I$4020,7,FALSE))","v":""},{"$f":"IF(ISNA(VLOOKUP(E169,Data!$A$2:$I$4020,9,FALSE)),\"\",VLOOKUP(E169,Data!$A$2:$I$4020,9,FALSE))","v":""},{"$f":"IF(ISNA(VLOOKUP(E169,Data!$A$2:$J$4020,10,FALSE)),\"\",VLOOKUP(E169,Data!$A$2:$J$4020,10,FALSE))","v":""},{"$nulls":13},{"$f":"SUM(S169:U169)","v":0}]
[null,{"$f":"IF(A170=\"\",\"\",VLOOKUP(A170,Data!$B$2:$D$4020,3,FALSE))","v":""},{"$f":"IF(A170=\"\",\"\",VLOOKUP(A170,Data!$B$2:$F$4020,5,FALSE))","v":""},null,{"$f":"CONCATENATE(A170,D170)","v":""},{"$f":"IF(ISNA(VLOOKUP(E170,Data!$A$2:$I$4020,7,FALSE)),\"\",VLOOKUP(E170,Data!$A$2:$I$4020,7,FALSE))","v":""},{"$f":"IF(ISNA(VLOOKUP(E170,Data!$A$2:$I$4020,9,FALSE)),\"\",VLOOKUP(E170,Data!$A$2:$I$4020,9,FALSE))","v":""},{"$f":"IF(ISNA(VLOOKUP(E170,Data!$A$2:$J$4020,10,FALSE)),\"\",VLOOKUP(E170,Data!$A$2:$J$4020,10,FALSE))","v":""},{"$nulls":13},{"$f":"SUM(S170:U170)","v":0}]
[null,{"$f":"IF(A171=\"\",\"\",VLOOKUP(A171,Data!$B$2:$D$4020,3,FALSE))","v":""},{"$f":"IF(A171=\"\",\"\",VLOOKUP(A171,Data!$B$2:$F$4020,5,FALSE))","v":""},null,{"$f":"CONCATENATE(A171,D171)","v":""},{"$f":"IF(ISNA(VLOOKUP(E171,Data!$A$2:$I$4020,7,FALSE)),\"\",VLOOKUP(E171,Data!$A$2:$I$4020,7,FALSE))","v":""},{"$f":"IF(ISNA(VLOOKUP(E171,Data!$A$2:$I$4020,9,FALSE)),\"\",VLOOKUP(E171,Data!$A$2:$I$4020,9,FALSE))","v":""},{"$f":"IF(ISNA(VLOOKUP(E171,Data!$A$2:$J$4020,10,FALSE)),\"\",VLOOKUP(E171,Data!$A$2:$J$4020,10,FALSE))","v":""},{"$nulls":13},{"$f":"SUM(S171:U171)","v":0}]
[null,{"$f":"IF(A172=\"\",\"\",VLOOKUP(A172,Data!$B$2:$D$4020,3,FALSE))","v":""},{"$f":"IF(A172=\"\",\"\",VLOOKUP(A172,Data!$B$2:$F$4020,5,FALSE))","v":""},null,{"$f":"CONCATENATE(A172,D172)","v":""},{"$f":"IF(ISNA(VLOOKUP(E172,Data!$A$2:$I$4020,7,FALSE)),\"\",VLOOKUP(E172,Data!$A$2:$I$4020,7,FALSE))","v":""},{"$f":"IF(ISNA(VLOOKUP(E172,Data!$A$2:$I$4020,9,FALSE)),\"\",VLOOKUP(E172,Data!$A$2:$I$4020,9,FALSE))","v":""},{"$f":"IF(ISNA(VLOOKUP(E172,Data!$A$2:$J$4020,10,FALSE)),\"\",VLOOKUP(E172,Data!$A$2:$J$4020,10,FALSE))","v":""},{"$nulls":13},{"$f":"SUM(S172:U172)","v":0}]
[null,{"$f":"IF(A173=\"\",\"\",VLOOKUP(A173,Data!$B$2:$D$4020,3,FALSE))","v":""},{"$f":"IF(A173=\"\",\"\",VLOOKUP(A173,Data!$B$2:$F$4020,5,FALSE))","v":""},null,{"$f":"CONCATENATE(A173,D173)","v":""},{"$f":"IF(ISNA(VLOOKUP(E173,Data!$A$2:$I$4020,7,FALSE)),\"\",VLOOKUP(E173,Data!$A$2:$I$4020,7,FALSE))","v":""},{"$f":"IF(ISNA(VLOOKUP(E173,Data!$A$2:$I$4020,9,FALSE)),\"\",VLOOKUP(E173,Data!$A$2:$I$4020,9,FALSE))","v":""},{"$f":"IF(ISNA(VLOOKUP(E173,Data!$A$2:$J$4020,10,FALSE)),\"\",VLOOKUP(E173,Data!$A$2:$J$4020,10,FALSE))","v":""},{"$nulls":13},{"$f":"SUM(S173:U173)","v":0}]
[null,{"$f":"IF(A174=\"\",\"\",VLOOKUP(A174,Data!$B$2:$D$4020,3,FALSE))","v":""},{"$f":"IF(A174=\"\",\"\",VLOOKUP(A174,Data!$B$2:$F$4020,5,FALSE))","v":""},null,{"$f":"CONCATENATE(A174,D174)","v":""},{"$f":"IF(ISNA(VLOOKUP(E174,Data!$A$2:$I$4020,7,FALSE)),\"\",VLOOKUP(E174,Data!$A$2:$I$4020,7,FALSE))","v":""},{"$f":"IF(ISNA(VLOOKUP(E174,Data!$A$2:$I$4020,9,FALSE)),\"\",VLOOKUP(E174,Data!$A$2:$I$4020,9,FALSE))","v":""},{"$f":"IF(ISNA(VLOOKUP(E174,Data!$A$2:$J$4020,10,FALSE)),\"\",VLOOKUP(E174,Data!$A$2:$J$4020,10,FALSE))","v":""},{"$nulls":13},{"$f":"SUM(S174:U174)","v":0}]
[null,{"$f":"IF(A175=\"\",\"\",VLOOKUP(A175,Data!$B$2:$D$4020,3,FALSE))","v":""},{"$f":"IF(A175=\"\",\"\",VLOOKUP(A175,Data!$B$2:$F$4020,5,FALSE))","v":""},null,{"$f":"CONCATENATE(A175,D175)","v":""},{"$f":"IF(ISNA(VLOOKUP(E175,Data!$A$2:$I$4020,7,FALSE)),\"\",VLOOKUP(E175,Data!$A$2:$I$4020,7,FALSE))","v":""},{"$f":"IF(ISNA(VLOOKUP(E175,Data!$A$2:$I$4020,9,FALSE)),\"\",VLOOKUP(E175,Data!$A$2:$I$4020,9,FALSE))","v":""},{"$f":"IF(ISNA(VLOOKUP(E175,Data!$A$2:$J$4020,10,FALSE)),\"\",VLOOKUP(E175,Data!$A$2:$J$4020,10,FALSE))","v":""},{"$nulls":13},{"$f":"SUM(S175:U175)","v":0}]
[null,{"$f":"IF(A176=\"\",\"\",VLOOKUP(A176,Data!$B$2:$D$4020,3,FALSE))","v":""},{"$f":"IF(A176=\"\",\"\",VLOOKUP(A176,Data!$B$2:$F$4020,5,FALSE))","v":""},null,{"$f":"CONCATENATE(A176,D176)","v":""},{"$f":"IF(ISNA(VLOOKUP(E176,Data!$A$2:$I$4020,7,FALSE)),\"\",VLOOKUP(E176,Data!$A$2:$I$4020,7,FALSE))","v":""},{"$f":"IF(ISNA(VLOOKUP(E176,Data!$A$2:$I$4020,9,FALSE)),\"\",VLOOKUP(E176,Data!$A$2:$I$4020,9,FALSE))","v":""},{"$f":"IF(ISNA(VLOOKUP(E176,Data!$A$2:$J$4020,10,FALSE)),\"\",VLOOKUP(E176,Data!$A$2:$J$4020,10,FALSE))","v":""},{"$nulls":13},{"$f":"SUM(S176:U176)","v":0}]
[null,{"$f":"IF(A177=\"\",\"\",VLOOKUP(A177,Data!$B$2:$D$4020,3,FALSE))","v":""},{"$f":"IF(A177=\"\",\"\",VLOOKUP(A177,Data!$B$2:$F$4020,5,FALSE))","v":""},null,{"$f":"CONCATENATE(A177,D177)","v":""},{"$f":"IF(ISNA(VLOOKUP(E177,Data!$A$2:$I$4020,7,FALSE)),\"\",VLOOKUP(E177,Data!$A$2:$I$4020,7,FALSE))","v":""},{"$f":"IF(ISNA(VLOOKUP(E177,Data!$A$2:$I$4020,9,FALSE)),\"\",VLOOKUP(E177,Data!$A$2:$I$4020,9,FALSE))","v":""},{"$f":"IF(ISNA(VLOOKUP(E177,Data!$A$2:$J$4020,10,FALSE)),\"\",VLOOKUP(E177,Data!$A$2:$J$4020,10,FALSE))","v":""},{"$nulls":13},{"$f":"SUM(S177:U177)","v":0}]
[null,{"$f":"IF(A178=\"\",\"\",VLOOKUP(A178,Data!$B$2:$D$4020,3,FALSE))","v":""},{"$f":"IF(A178=\"\",\"\",VLOOKUP(A178,Data!$B$2:$F$4020,5,FALSE))","v":""},null,{"$f":"CONCATENATE(A178,D178)","v":""},{"$f":"IF(ISNA(VLOOKUP(E178,Data!$A$2:$I$4020,7,FALSE)),\"\",VLOOKUP(E178,Data!$A$2:$I$4020,7,FALSE))","v":""},{"$f":"IF(ISNA(VLOOKUP(E178,Data!$A$2:$I$4020,9,FALSE)),\"\",VLOOKUP(E178,Data!$A$2:$I$4020,9,FALSE))","v":""},{"$f":"IF(ISNA(VLOOKUP(E178,Data!$A$2:$J$4020,10,FALSE)),\"\",VLOOKUP(E178,Data!$A$2:$J$4020,10,FALSE))","v":""},{"$nulls":13},{"$f":"SUM(S178:U178)","v":0}]
[null,{"$f":"IF(A179=\"\",\"\",VLOOKUP(A179,Data!$B$2:$D$4020,3,FALSE))","v":""},{"$f":"IF(A179=\"\",\"\",VLOOKUP(A179,Data!$B$2:$F$4020,5,FALSE))","v":""},null,{"$f":"CONCATENATE(A179,D179)","v":""},{"$f":"IF(ISNA(VLOOKUP(E179,Data!$A$2:$I$4020,7,FALSE)),\"\",VLOOKUP(E179,Data!$A$2:$I$4020,7,FALSE))","v":""},{"$f":"IF(ISNA(VLOOKUP(E179,Data!$A$2:$I$4020,9,FALSE)),\"\",VLOOKUP(E179,Data!$A$2:$I$4020,9,FALSE))","v":""},{"$f":"IF(ISNA(VLOOKUP(E179,Data!$A$2:$J$4020,10,FALSE)),\"\",VLOOKUP(E179,Data!$A$2:$J$4020,10,FALSE))","v":""},{"$nulls":13},{"$f":"SUM(S179:U179)","v":0}]
[null,{"$f":"IF(A180=\"\",\"\",VLOOKUP(A180,Data!$B$2:$D$4020,3,FALSE))","v":""},{"$f":"IF(A180=\"\",\"\",VLOOKUP(A180,Data!$B$2:$F$4020,5,FALSE))","v":""},null,{"$f":"CONCATENATE(A180,D180)","v":""},{"$f":"IF(ISNA(VLOOKUP(E180,Data!$A$2:$I$4020,7,FALSE)),\"\",VLOOKUP(E180,Data!$A$2:$I$4020,7,FALSE))","v":""},{"$f":"IF(ISNA(VLOOKUP(E180,Data!$A$2:$I$4020,9,FALSE)),\"\",VLOOKUP(E180,Data!$A$2:$I$4020,9,FALSE))","v":""},{"$f":"IF(ISNA(VLOOKUP(E180,Data!$A$2:$J$4020,10,FALSE)),\"\",VLOOKUP(E180,Data!$A$2:$J$4020,10,FALSE))","v":""},{"$nulls":13},{"$f":"SUM(S180:U180)","v":0}]
[null,{"$f":"IF(A181=\"\",\"\",VLOOKUP(A181,Data!$B$2:$D$4020,3,FALSE))","v":""},{"$f":"IF(A181=\"\",\"\",VLOOKUP(A181,Data!$B$2:$F$4020,5,FALSE))","v":""},null,{"$f":"CONCATENATE(A181,D181)","v":""},{"$f":"IF(ISNA(VLOOKUP(E181,Data!$A$2:$I$4020,7,FALSE)),\"\",VLOOKUP(E181,Data!$A$2:$I$4020,7,FALSE))","v":""},{"$f":"IF(ISNA(VLOOKUP(E181,Data!$A$2:$I$4020,9,FALSE)),\"\",VLOOKUP(E181,Data!$A$2:$I$4020,9,FALSE))","v":""},{"$f":"IF(ISNA(VLOOKUP(E181,Data!$A$2:$J$4020,10,FALSE)),\"\",VLOOKUP(E181,Data!$A$2:$J$4020,10,FALSE))","v":""},{"$nulls":13},{"$f":"SUM(S181:U181)","v":0}]
[null,{"$f":"IF(A182=\"\",\"\",VLOOKUP(A182,Data!$B$2:$D$4020,3,FALSE))","v":""},{"$f":"IF(A182=\"\",\"\",VLOOKUP(A182,Data!$B$2:$F$4020,5,FALSE))","v":""},null,{"$f":"CONCATENATE(A182,D182)","v":""},{"$f":"IF(ISNA(VLOOKUP(E182,Data!$A$2:$I$4020,7,FALSE)),\"\",VLOOKUP(E182,Data!$A$2:$I$4020,7,FALSE))","v":""},{"$f":"IF(ISNA(VLOOKUP(E182,Data!$A$2:$I$4020,9,FALSE)),\"\",VLOOKUP(E182,Data!$A$2:$I$4020,9,FALSE))","v":""},{"$f":"IF(ISNA(VLOOKUP(E182,Data!$A$2:$J$4020,10,FALSE)),\"\",VLOOKUP(E182,Data!$A$2:$J$4020,10,FALSE))","v":""},{"$nulls":13},{"$f":"SUM(S182:U182)","v":0}]
[null,{"$f":"IF(A183=\"\",\"\",VLOOKUP(A183,Data!$B$2:$D$4020,3,FALSE))","v":""},{"$f":"IF(A183=\"\",\"\",VLOOKUP(A183,Data!$B$2:$F$4020,5,FALSE))","v":""},null,{"$f":"CONCATENATE(A183,D183)","v":""},{"$f":"IF(ISNA(VLOOKUP(E183,Data!$A$2:$I$4020,7,FALSE)),\"\",VLOOKUP(E183,Data!$A$2:$I$4020,7,FALSE))","v":""},{"$f":"IF(ISNA(VLOOKUP(E183,Data!$A$2:$I$4020,9,FALSE)),\"\",VLOOKUP(E183,Data!$A$2:$I$4020,9,FALSE))","v":""},{"$f":"IF(ISNA(VLOOKUP(E183,Data!$A$2:$J$4020,10,FALSE)),\"\",VLOOKUP(E183,Data!$A$2:$J$4020,10,FALSE))","v":""},{"$nulls":13},{"$f":"SUM(S183:U183)","v":0}]
[null,{"$f":"IF(A184=\"\",\"\",VLOOKUP(A184,Data!$B$2:$D$4020,3,FALSE))","v":""},{"$f":"IF(A184=\"\",\"\",VLOOKUP(A184,Data!$B$2:$F$4020,5,FALSE))","v":""},null,{"$f":"CONCATENATE(A184,D184)","v":""},{"$f":"IF(ISNA(VLOOKUP(E184,Data!$A$2:$I$4020,7,FALSE)),\"\",VLOOKUP(E184,Data!$A$2:$I$4020,7,FALSE))","v":""},{"$f":"IF(ISNA(VLOOKUP(E184,Data!$A$2:$I$4020,9,FALSE)),\"\",VLOOKUP(E184,Data!$A$2:$I$4020,9,FALSE))","v":""},{"$f":"IF(ISNA(VLOOKUP(E184,Data!$A$2:$J$4020,10,FALSE)),\"\",VLOOKUP(E184,Data!$A$2:$J$4020,10,FALSE))","v":""},{"$nulls":13},{"$f":"SUM(S184:U184)","v":0}]
[null,{"$f":"IF(A185=\"\",\"\",VLOOKUP(A185,Data!$B$2:$D$4020,3,FALSE))","v":""},{"$f":"IF(A185=\"\",\"\",VLOOKUP(A185,Data!$B$2:$F$4020,5,FALSE))","v":""},null,{"$f":"CONCATENATE(A185,D185)","v":""},{"$f":"IF(ISNA(VLOOKUP(E185,Data!$A$2:$I$4020,7,FALSE)),\"\",VLOOKUP(E185,Data!$A$2:$I$4020,7,FALSE))","v":""},{"$f":"IF(ISNA(VLOOKUP(E185,Data!$A$2:$I$4020,9,FALSE)),\"\",VLOOKUP(E185,Data!$A$2:$I$4020,9,FALSE))","v":""},{"$f":"IF(ISNA(VLOOKUP(E185,Data!$A$2:$J$4020,10,FALSE)),\"\",VLOOKUP(E185,Data!$A$2:$J$4020,10,FALSE))","v":""},{"$nulls":13},{"$f":"SUM(S185:U185)","v":0}]
[null,{"$f":"IF(A186=\"\",\"\",VLOOKUP(A186,Data!$B$2:$D$4020,3,FALSE))","v":""},{"$f":"IF(A186=\"\",\"\",VLOOKUP(A186,Data!$B$2:$F$4020,5,FALSE))","v":""},null,{"$f":"CONCATENATE(A186,D186)","v":""},{"$f":"IF(ISNA(VLOOKUP(E186,Data!$A$2:$I$4020,7,FALSE)),\"\",VLOOKUP(E186,Data!$A$2:$I$4020,7,FALSE))","v":""},{"$f":"IF(ISNA(VLOOKUP(E186,Data!$A$2:$I$4020,9,FALSE)),\"\",VLOOKUP(E186,Data!$A$2:$I$4020,9,FALSE))","v":""},{"$f":"IF(ISNA(VLOOKUP(E186,Data!$A$2:$J$4020,10,FALSE)),\"\",VLOOKUP(E186,Data!$A$2:$J$4020,10,FALSE))","v":""},{"$nulls":13},{"$f":"SUM(S186:U186)","v":0}]
[null,{"$f":"IF(A187=\"\",\"\",VLOOKUP(A187,Data!$B$2:$D$4020,3,FALSE))","v":""},{"$f":"IF(A187=\"\",\"\",VLOOKUP(A187,Data!$B$2:$F$4020,5,FALSE))","v":""},null,{"$f":"CONCATENATE(A187,D187)","v":""},{"$f":"IF(ISNA(VLOOKUP(E187,Data!$A$2:$I$4020,7,FALSE)),\"\",VLOOKUP(E187,Data!$A$2:$I$4020,7,FALSE))","v":""},{"$f":"IF(ISNA(VLOOKUP(E187,Data!$A$2:$I$4020,9,FALSE)),\"\",VLOOKUP(E187,Data!$A$2:$I$4020,9,FALSE))","v":""},{"$f":"IF(ISNA(VLOOKUP(E187,Data!$A$2:$J$4020,10,FALSE)),\"\",VLOOKUP(E187,Data!$A$2:$J$4020,10,FALSE))","v":""},{"$nulls":13},{"$f":"SUM(S187:U187)","v":0}]
[null,{"$f":"IF(A188=\"\",\"\",VLOOKUP(A188,Data!$B$2:$D$4020,3,FALSE))","v":""},{"$f":"IF(A188=\"\",\"\",VLOOKUP(A188,Data!$B$2:$F$4020,5,FALSE))","v":""},null,{"$f":"CONCATENATE(A188,D188)","v":""},{"$f":"IF(ISNA(VLOOKUP(E188,Data!$A$2:$I$4020,7,FALSE)),\"\",VLOOKUP(E188,Data!$A$2:$I$4020,7,FALSE))","v":""},{"$f":"IF(ISNA(VLOOKUP(E188,Data!$A$2:$I$4020,9,FALSE)),\"\",VLOOKUP(E188,Data!$A$2:$I$4020,9,FALSE))","v":""},{"$f":"IF(ISNA(VLOOKUP(E188,Data!$A$2:$J$4020,10,FALSE)),\"\",VLOOKUP(E188,Data!$A$2:$J$4020,10,FALSE))","v":""},{"$nulls":13},{"$f":"SUM(S188:U188)","v":0}]
[null,{"$f":"IF(A189=\"\",\"\",VLOOKUP(A189,Data!$B$2:$D$4020,3,FALSE))","v":""},{"$f":"IF(A189=\"\",\"\",VLOOKUP(A189,Data!$B$2:$F$4020,5,FALSE))","v":""},null,{"$f":"CONCATENATE(A189,D189)","v":""},{"$f":"IF(ISNA(VLOOKUP(E189,Data!$A$2:$I$4020,7,FALSE)),\"\",VLOOKUP(E189,Data!$A$2:$I$4020,7,FALSE))","v":""},{"$f":"IF(ISNA(VLOOKUP(E189,Data!$A$2:$I$4020,9,FALSE)),\"\",VLOOKUP(E189,Data!$A$2:$I$4020,9,FALSE))","v":""},{"$f":"IF(ISNA(VLOOKUP(E189,Data!$A$2:$J$4020,10,FALSE)),\"\",VLOOKUP(E189,Data!$A$2:$J$4020,10,FALSE))","v":""},{"$nulls":13},{"$f":"SUM(S189:U189)","v":0}]
[null,{"$f":"IF(A190=\"\",\"\",VLOOKUP(A190,Data!$B$2:$D$4020,3,FALSE))","v":""},{"$f":"IF(A190=\"\",\"\",VLOOKUP(A190,Data!$B$2:$F$4020,5,FALSE))","v":""},null,{"$f":"CONCATENATE(A190,D190)","v":""},{"$f":"IF(ISNA(VLOOKUP(E190,Data!$A$2:$I$4020,7,FALSE)),\"\",VLOOKUP(E190,Data!$A$2:$I$4020,7,FALSE))","v":""},{"$f":"IF(ISNA(VLOOKUP(E190,Data!$A$2:$I$4020,9,FALSE)),\"\",VLOOKUP(E190,Data!$A$2:$I$4020,9,FALSE))","v":""},{"$f":"IF(ISNA(VLOOKUP(E190,Data!$A$2:$J$4020,10,FALSE)),\"\",VLOOKUP(E190,Data!$A$2:$J$4020,10,FALSE))","v":""},{"$nulls":13},{"$f":"SUM(S190:U190)","v":0}]
[null,{"$f":"IF(A191=\"\",\"\",VLOOKUP(A191,Data!$B$2:$D$4020,3,FALSE))","v":""},{"$f":"IF(A191=\"\",\"\",VLOOKUP(A191,Data!$B$2:$F$4020,5,FALSE))","v":""},null,{"$f":"CONCATENATE(A191,D191)","v":""},{"$f":"IF(ISNA(VLOOKUP(E191,Data!$A$2:$I$4020,7,FALSE)),\"\",VLOOKUP(E191,Data!$A$2:$I$4020,7,FALSE))","v":""},{"$f":"IF(ISNA(VLOOKUP(E191,Data!$A$2:$I$4020,9,FALSE)),\"\",VLOOKUP(E191,Data!$A$2:$I$4020,9,FALSE))","v":""},{"$f":"IF(ISNA(VLOOKUP(E191,Data!$A$2:$J$4020,10,FALSE)),\"\",VLOOKUP(E191,Data!$A$2:$J$4020,10,FALSE))","v":""},{"$nulls":13},{"$f":"SUM(S191:U191)","v":0}]
[null,{"$f":"IF(A192=\"\",\"\",VLOOKUP(A192,Data!$B$2:$D$4020,3,FALSE))","v":""},{"$f":"IF(A192=\"\",\"\",VLOOKUP(A192,Data!$B$2:$F$4020,5,FALSE))","v":""},null,{"$f":"CONCATENATE(A192,D192)","v":""},{"$f":"IF(ISNA(VLOOKUP(E192,Data!$A$2:$I$4020,7,FALSE)),\"\",VLOOKUP(E192,Data!$A$2:$I$4020,7,FALSE))","v":""},{"$f":"IF(ISNA(VLOOKUP(E192,Data!$A$2:$I$4020,9,FALSE)),\"\",VLOOKUP(E192,Data!$A$2:$I$4020,9,FALSE))","v":""},{"$f":"IF(ISNA(VLOOKUP(E192,Data!$A$2:$J$4020,10,FALSE)),\"\",VLOOKUP(E192,Data!$A$2:$J$4020,10,FALSE))","v":""},{"$nulls":13},{"$f":"SUM(S192:U192)","v":0}]
[null,{"$f":"IF(A193=\"\",\"\",VLOOKUP(A193,Data!$B$2:$D$4020,3,FALSE))","v":""},{"$f":"IF(A193=\"\",\"\",VLOOKUP(A193,Data!$B$2:$F$4020,5,FALSE))","v":""},null,{"$f":"CONCATENATE(A193,D193)","v":""},{"$f":"IF(ISNA(VLOOKUP(E193,Data!$A$2:$I$4020,7,FALSE)),\"\",VLOOKUP(E193,Data!$A$2:$I$4020,7,FALSE))","v":""},{"$f":"IF(ISNA(VLOOKUP(E193,Data!$A$2:$I$4020,9,FALSE)),\"\",VLOOKUP(E193,Data!$A$2:$I$4020,9,FALSE))","v":""},{"$f":"IF(ISNA(VLOOKUP(E193,Data!$A$2:$J$4020,10,FALSE)),\"\",VLOOKUP(E193,Data!$A$2:$J$4020,10,FALSE))","v":""},{"$nulls":13},{"$f":"SUM(S193:U193)","v":0}]
[null,{"$f":"IF(A194=\"\",\"\",VLOOKUP(A194,Data!$B$2:$D$4020,3,FALSE))","v":""},{"$f":"IF(A194=\"\",\"\",VLOOKUP(A194,Data!$B$2:$F$4020,5,FALSE))","v":""},null,{"$f":"CONCATENATE(A194,D194)","v":""},{"$f":"IF(ISNA(VLOOKUP(E194,Data!$A$2:$I$4020,7,FALSE)),\"\",VLOOKUP(E194,Data!$A$2:$I$4020,7,FALSE))","v":""},{"$f":"IF(ISNA(VLOOKUP(E194,Data!$A$2:$I$4020,9,FALSE)),\"\",VLOOKUP(E194,Data!$A$2:$I$4020,9,FALSE))","v":""},{"$f":"IF(ISNA(VLOOKUP(E194,Data!$A$2:$J$4020,10,FALSE)),\"\",VLOOKUP(E194,Data!$A$2:$J$4020,10,FALSE))","v":""},{"$nulls":13},{"$f":"SUM(S194:U194)","v":0}]
[null,{"$f":"IF(A195=\"\",\"\",VLOOKUP(A195,Data!$B$2:$D$4020,3,FALSE))","v":""},{"$f":"IF(A195=\"\",\"\",VLOOKUP(A195,Data!$B$2:$F$4020,5,FALSE))","v":""},null,{"$f":"CONCATENATE(A195,D195)","v":""},{"$f":"IF(ISNA(VLOOKUP(E195,Data!$A$2:$I$4020,7,FALSE)),\"\",VLOOKUP(E195,Data!$A$2:$I$4020,7,FALSE))","v":""},{"$f":"IF(ISNA(VLOOKUP(E195,Data!$A$2:$I$4020,9,FALSE)),\"\",VLOOKUP(E195,Data!$A$2:$I$4020,9,FALSE))","v":""},{"$f":"IF(ISNA(VLOOKUP(E195,Data!$A$2:$J$4020,10,FALSE)),\"\",VLOOKUP(E195,Data!$A$2:$J$4020,10,FALSE))","v":""},{"$nulls":13},{"$f":"SUM(S195:U195)","v":0}]
[null,{"$f":"IF(A196=\"\",\"\",VLOOKUP(A196,Data!$B$2:$D$4020,3,FALSE))","v":""},{"$f":"IF(A196=\"\",\"\",VLOOKUP(A196,Data!$B$2:$F$4020,5,FALSE))","v":""},null,{"$f":"CONCATENATE(A196,D196)","v":""},{"$f":"IF(ISNA(VLOOKUP(E196,Data!$A$2:$I$4020,7,FALSE)),\"\",VLOOKUP(E196,Data!$A$2:$I$4020,7,FALSE))","v":""},{"$f":"IF(ISNA(VLOOKUP(E196,Data!$A$2:$I$4020,9,FALSE)),\"\",VLOOKUP(E196,Data!$A$2:$I$4020,9,FALSE))","v":""},{"$f":"IF(ISNA(VLOOKUP(E196,Data!$A$2:$J$4020,10,FALSE)),\"\",VLOOKUP(E196,Data!$A$2:$J$4020,10,FALSE))","v":""},{"$nulls":13},{"$f":"SUM(S196:U196)","v":0}]
[null,{"$f":"IF(A197=\"\",\"\",VLOOKUP(A197,Data!$B$2:$D$4020,3,FALSE))","v":""},{"$f":"IF(A197=\"\",\"\",VLOOKUP(A197,Data!$B$2:$F$4020,5,FALSE))","v":""},null,{"$f":"CONCATENATE(A197,D197)","v":""},{"$f":"IF(ISNA(VLOOKUP(E197,Data!$A$2:$I$4020,7,FALSE)),\"\",VLOOKUP(E197,Data!$A$2:$I$4020,7,FALSE))","v":""},{"$f":"IF(ISNA(VLOOKUP(E197,Data!$A$2:$I$4020,9,FALSE)),\"\",VLOOKUP(E197,Data!$A$2:$I$4020,9,FALSE))","v":""},{"$f":"IF(ISNA(VLOOKUP(E197,Data!$A$2:$J$4020,10,FALSE)),\"\",VLOOKUP(E197,Data!$A$2:$J$4020,10,FALSE))","v":""},{"$nulls":13},{"$f":"SUM(S197:U197)","v":0}]
[null,{"$f":"IF(A198=\"\",\"\",VLOOKUP(A198,Data!$B$2:$D$4020,3,FALSE))","v":""},{"$f":"IF(A198=\"\",\"\",VLOOKUP(A198,Data!$B$2:$F$4020,5,FALSE))","v":""},null,{"$f":"CONCATENATE(A198,D198)","v":""},{"$f":"IF(ISNA(VLOOKUP(E198,Data!$A$2:$I$4020,7,FALSE)),\"\",VLOOKUP(E198,Data!$A$2:$I$4020,7,FALSE))","v":""},{"$f":"IF(ISNA(VLOOKUP(E198,Data!$A$2:$I$4020,9,FALSE)),\"\",VLOOKUP(E198,Data!$A$2:$I$4020,9,FALSE))","v":""},{"$f":"IF(ISNA(VLOOKUP(E198,Data!$A$2:$J$4020,10,FALSE)),\"\",VLOOKUP(E198,Data!$A$2:$J$4020,10,FALSE))","v":""},{"$nulls":13},{"$f":"SUM(S198:U198)","v":0}]
[null,{"$f":"IF(A199=\"\",\"\",VLOOKUP(A199,Data!$B$2:$D$4020,3,FALSE))","v":""},{"$f":"IF(A199=\"\",\"\",VLOOKUP(A199,Data!$B$2:$F$4020,5,FALSE))","v":""},null,{"$f":"CONCATENATE(A199,D199)","v":""},{"$f":"IF(ISNA(VLOOKUP(E199,Data!$A$2:$I$4020,7,FALSE)),\"\",VLOOKUP(E199,Data!$A$2:$I$4020,7,FALSE))","v":""},{"$f":"IF(ISNA(VLOOKUP(E199,Data!$A$2:$I$4020,9,FALSE)),\"\",VLOOKUP(E199,Data!$A$2:$I$4020,9,FALSE))","v":""},{"$f":"IF(ISNA(VLOOKUP(E199,Data!$A$2:$J$4020,10,FALSE)),\"\",VLOOKUP(E199,Data!$A$2:$J$4020,10,FALSE))","v":""},{"$nulls":13},{"$f":"SUM(S199:U199)","v":0}]
[null,{"$f":"IF(A200=\"\",\"\",VLOOKUP(A200,Data!$B$2:$D$4020,3,FALSE))","v":""},{"$f":"IF(A200=\"\",\"\",VLOOKUP(A200,Data!$B$2:$F$4020,5,FALSE))","v":""},null,{"$f":"CONCATENATE(A200,D200)","v":""},{"$f":"IF(ISNA(VLOOKUP(E200,Data!$A$2:$I$4020,7,FALSE)),\"\",VLOOKUP(E200,Data!$A$2:$I$4020,7,FALSE))","v":""},{"$f":"IF(ISNA(VLOOKUP(E200,Data!$A$2:$I$4020,9,FALSE)),\"\",VLOOKUP(E200,Data!$A$2:$I$4020,9,FALSE))","v":""},{"$f":"IF(ISNA(VLOOKUP(E200,Data!$A$2:$J$4020,10,FALSE)),\"\",VLOOKUP(E200,Data!$A$2:$J$4020,10,FALSE))","v":""},{"$nulls":13},{"$f":"SUM(S200:U200)","v":0}]
[null,{"$f":"IF(A201=\"\",\"\",VLOOKUP(A201,Data!$B$2:$D$4020,3,FALSE))","v":""},{"$f":"IF(A201=\"\",\"\",VLOOKUP(A201,Data!$B$2:$F$4020,5,FALSE))","v":""},null,{"$f":"CONCATENATE(A201,D201)","v":""},{"$f":"IF(ISNA(VLOOKUP(E201,Data!$A$2:$I$4020,7,FALSE)),\"\",VLOOKUP(E201,Data!$A$2:$I$4020,7,FALSE))","v":""},{"$f":"IF(ISNA(VLOOKUP(E201,Data!$A$2:$I$4020,9,FALSE)),\"\",VLOOKUP(E201,Data!$A$2:$I$4020,9,FALSE))","v":""},{"$f":"IF(ISNA(VLOOKUP(E201,Data!$A$2:$J$4020,10,FALSE)),\"\",VLOOKUP(E201,Data!$A$2:$J$4020,10,FALSE))","v":""},{"$nulls":13},{"$f":"SUM(S201:U201)","v":0}]
[null,{"$f":"IF(A202=\"\",\"\",VLOOKUP(A202,Data!$B$2:$D$4020,3,FALSE))","v":""},{"$f":"IF(A202=\"\",\"\",VLOOKUP(A202,Data!$B$2:$F$4020,5,FALSE))","v":""},null,{"$f":"CONCATENATE(A202,D202)","v":""},{"$f":"IF(ISNA(VLOOKUP(E202,Data!$A$2:$I$4020,7,FALSE)),\"\",VLOOKUP(E202,Data!$A$2:$I$4020,7,FALSE))","v":""},{"$f":"IF(ISNA(VLOOKUP(E202,Data!$A$2:$I$4020,9,FALSE)),\"\",VLOOKUP(E202,Data!$A$2:$I$4020,9,FALSE))","v":""},{"$f":"IF(ISNA(VLOOKUP(E202,Data!$A$2:$J$4020,10,FALSE)),\"\",VLOOKUP(E202,Data!$A$2:$J$4020,10,FALSE))","v":""},{"$nulls":13},{"$f":"SUM(S202:U202)","v":0}]
[null,{"$f":"IF(A203=\"\",\"\",VLOOKUP(A203,Data!$B$2:$D$4020,3,FALSE))","v":""},{"$f":"IF(A203=\"\",\"\",VLOOKUP(A203,Data!$B$2:$F$4020,5,FALSE))","v":""},null,{"$f":"CONCATENATE(A203,D203)","v":""},{"$f":"IF(ISNA(VLOOKUP(E203,Data!$A$2:$I$4020,7,FALSE)),\"\",VLOOKUP(E203,Data!$A$2:$I$4020,7,FALSE))","v":""},{"$f":"IF(ISNA(VLOOKUP(E203,Data!$A$2:$I$4020,9,FALSE)),\"\",VLOOKUP(E203,Data!$A$2:$I$4020,9,FALSE))","v":""},{"$f":"IF(ISNA(VLOOKUP(E203,Data!$A$2:$J$4020,10,FALSE)),\"\",VLOOKUP(E203,Data!$A$2:$J$4020,10,FALSE))","v":""},{"$nulls":13},{"$f":"SUM(S203:U203)","v":0}]
[null,{"$f":"IF(A204=\"\",\"\",VLOOKUP(A204,Data!$B$2:$D$4020,3,FALSE))","v":""},{"$f":"IF(A204=\"\",\"\",VLOOKUP(A204,Data!$B$2:$F$4020,5,FALSE))","v":""},null,{"$f":"CONCATENATE(A204,D204)","v":""},{"$f":"IF(ISNA(VLOOKUP(E204,Data!$A$2:$I$4020,7,FALSE)),\"\",VLOOKUP(E204,Data!$A$2:$I$4020,7,FALSE))","v":""},{"$f":"IF(ISNA(VLOOKUP(E204,Data!$A$2:$I$4020,9,FALSE)),\"\",VLOOKUP(E204,Data!$A$2:$I$4020,9,FALSE))","v":""},{"$f":"IF(ISNA(VLOOKUP(E204,Data!$A$2:$J$4020,10,FALSE)),\"\",VLOOKUP(E204,Data!$A$2:$J$4020,10,FALSE))","v":""},{"$nulls":13},{"$f":"SUM(S204:U204)","v":0}]
[null,{"$f":"IF(A205=\"\",\"\",VLOOKUP(A205,Data!$B$2:$D$4020,3,FALSE))","v":""},{"$f":"IF(A205=\"\",\"\",VLOOKUP(A205,Data!$B$2:$F$4020,5,FALSE))","v":""},null,{"$f":"CONCATENATE(A205,D205)","v":""},{"$f":"IF(ISNA(VLOOKUP(E205,Data!$A$2:$I$4020,7,FALSE)),\"\",VLOOKUP(E205,Data!$A$2:$I$4020,7,FALSE))","v":""},{"$f":"IF(ISNA(VLOOKUP(E205,Data!$A$2:$I$4020,9,FALSE)),\"\",VLOOKUP(E205,Data!$A$2:$I$4020,9,FALSE))","v":""},{"$f":"IF(ISNA(VLOOKUP(E205,Data!$A$2:$J$4020,10,FALSE)),\"\",VLOOKUP(E205,Data!$A$2:$J$4020,10,FALSE))","v":""},{"$nulls":13},{"$f":"SUM(S205:U205)","v":0}]
[null,{"$f":"IF(A206=\"\",\"\",VLOOKUP(A206,Data!$B$2:$D$4020,3,FALSE))","v":""},{"$f":"IF(A206=\"\",\"\",VLOOKUP(A206,Data!$B$2:$F$4020,5,FALSE))","v":""},null,{"$f":"CONCATENATE(A206,D206)","v":""},{"$f":"IF(ISNA(VLOOKUP(E206,Data!$A$2:$I$4020,7,FALSE)),\"\",VLOOKUP(E206,Data!$A$2:$I$4020,7,FALSE))","v":""},{"$f":"IF(ISNA(VLOOKUP(E206,Data!$A$2:$I$4020,9,FALSE)),\"\",VLOOKUP(E206,Data!$A$2:$I$4020,9,FALSE))","v":""},{"$f":"IF(ISNA(VLOOKUP(E206,Data!$A$2:$J$4020,10,FALSE)),\"\",VLOOKUP(E206,Data!$A$2:$J$4020,10,FALSE))","v":""},{"$nulls":13},{"$f":"SUM(S206:U206)","v":0}]
[null,{"$f":"IF(A207=\"\",\"\",VLOOKUP(A207,Data!$B$2:$D$4020,3,FALSE))","v":""},{"$f":"IF(A207=\"\",\"\",VLOOKUP(A207,Data!$B$2:$F$4020,5,FALSE))","v":""},null,{"$f":"CONCATENATE(A207,D207)","v":""},{"$f":"IF(ISNA(VLOOKUP(E207,Data!$A$2:$I$4020,7,FALSE)),\"\",VLOOKUP(E207,Data!$A$2:$I$4020,7,FALSE))","v":""},{"$f":"IF(ISNA(VLOOKUP(E207,Data!$A$2:$I$4020,9,FALSE)),\"\",VLOOKUP(E207,Data!$A$2:$I$4020,9,FALSE))","v":""},{"$f":"IF(ISNA(VLOOKUP(E207,Data!$A$2:$J$4020,10,FALSE)),\"\",VLOOKUP(E207,Data!$A$2:$J$4020,10,FALSE))","v":""},{"$nulls":13},{"$f":"SUM(S207:U207)","v":0}]
[null,{"$f":"IF(A208=\"\",\"\",VLOOKUP(A208,Data!$B$2:$D$4020,3,FALSE))","v":""},{"$f":"IF(A208=\"\",\"\",VLOOKUP(A208,Data!$B$2:$F$4020,5,FALSE))","v":""},null,{"$f":"CONCATENATE(A208,D208)","v":""},{"$f":"IF(ISNA(VLOOKUP(E208,Data!$A$2:$I$4020,7,FALSE)),\"\",VLOOKUP(E208,Data!$A$2:$I$4020,7,FALSE))","v":""},{"$f":"IF(ISNA(VLOOKUP(E208,Data!$A$2:$I$4020,9,FALSE)),\"\",VLOOKUP(E208,Data!$A$2:$I$4020,9,FALSE))","v":""},{"$f":"IF(ISNA(VLOOKUP(E208,Data!$A$2:$J$4020,10,FALSE)),\"\",VLOOKUP(E208,Data!$A$2:$J$4020,10,FALSE))","v":""},{"$nulls":13},{"$f":"SUM(S208:U208)","v":0}]
[null,{"$f":"IF(A209=\"\",\"\",VLOOKUP(A209,Data!$B$2:$D$4020,3,FALSE))","v":""},{"$f":"IF(A209=\"\",\"\",VLOOKUP(A209,Data!$B$2:$F$4020,5,FALSE))","v":""},null,{"$f":"CONCATENATE(A209,D209)","v":""},{"$f":"IF(ISNA(VLOOKUP(E209,Data!$A$2:$I$4020,7,FALSE)),\"\",VLOOKUP(E209,Data!$A$2:$I$4020,7,FALSE))","v":""},{"$f":"IF(ISNA(VLOOKUP(E209,Data!$A$2:$I$4020,9,FALSE)),\"\",VLOOKUP(E209,Data!$A$2:$I$4020,9,FALSE))","v":""},{"$f":"IF(ISNA(VLOOKUP(E209,Data!$A$2:$J$4020,10,FALSE)),\"\",VLOOKUP(E209,Data!$A$2:$J$4020,10,FALSE))","v":""},{"$nulls":13},{"$f":"SUM(S209:U209)","v":0}]
[null,{"$f":"IF(A210=\"\",\"\",VLOOKUP(A210,Data!$B$2:$D$4020,3,FALSE))","v":""},{"$f":"IF(A210=\"\",\"\",VLOOKUP(A210,Data!$B$2:$F$4020,5,FALSE))","v":""},null,{"$f":"CONCATENATE(A210,D210)","v":""},{"$f":"IF(ISNA(VLOOKUP(E210,Data!$A$2:$I$4020,7,FALSE)),\"\",VLOOKUP(E210,Data!$A$2:$I$4020,7,FALSE))","v":""},{"$f":"IF(ISNA(VLOOKUP(E210,Data!$A$2:$I$4020,9,FALSE)),\"\",VLOOKUP(E210,Data!$A$2:$I$4020,9,FALSE))","v":""},{"$f":"IF(ISNA(VLOOKUP(E210,Data!$A$2:$J$4020,10,FALSE)),\"\",VLOOKUP(E210,Data!$A$2:$J$4020,10,FALSE))","v":""},{"$nulls":13},{"$f":"SUM(S210:U210)","v":0}]
[null,{"$f":"IF(A211=\"\",\"\",VLOOKUP(A211,Data!$B$2:$D$4020,3,FALSE))","v":""},{"$f":"IF(A211=\"\",\"\",VLOOKUP(A211,Data!$B$2:$F$4020,5,FALSE))","v":""},null,{"$f":"CONCATENATE(A211,D211)","v":""},{"$f":"IF(ISNA(VLOOKUP(E211,Data!$A$2:$I$4020,7,FALSE)),\"\",VLOOKUP(E211,Data!$A$2:$I$4020,7,FALSE))","v":""},{"$f":"IF(ISNA(VLOOKUP(E211,Data!$A$2:$I$4020,9,FALSE)),\"\",VLOOKUP(E211,Data!$A$2:$I$4020,9,FALSE))","v":""},{"$f":"IF(ISNA(VLOOKUP(E211,Data!$A$2:$J$4020,10,FALSE)),\"\",VLOOKUP(E211,Data!$A$2:$J$4020,10,FALSE))","v":""},{"$nulls":13},{"$f":"SUM(S211:U211)","v":0}]
[null,{"$f":"IF(A212=\"\",\"\",VLOOKUP(A212,Data!$B$2:$D$4020,3,FALSE))","v":""},{"$f":"IF(A212=\"\",\"\",VLOOKUP(A212,Data!$B$2:$F$4020,5,FALSE))","v":""},null,{"$f":"CONCATENATE(A212,D212)","v":""},{"$f":"IF(ISNA(VLOOKUP(E212,Data!$A$2:$I$4020,7,FALSE)),\"\",VLOOKUP(E212,Data!$A$2:$I$4020,7,FALSE))","v":""},{"$f":"IF(ISNA(VLOOKUP(E212,Data!$A$2:$I$4020,9,FALSE)),\"\",VLOOKUP(E212,Data!$A$2:$I$4020,9,FALSE))","v":""},{"$f":"IF(ISNA(VLOOKUP(E212,Data!$A$2:$J$4020,10,FALSE)),\"\",VLOOKUP(E212,Data!$A$2:$J$4020,10,FALSE))","v":""},{"$nulls":13},{"$f":"SUM(S212:U212)","v":0}]
[null,{"$f":"IF(A213=\"\",\"\",VLOOKUP(A213,Data!$B$2:$D$4020,3,FALSE))","v":""},{"$f":"IF(A213=\"\",\"\",VLOOKUP(A213,Data!$B$2:$F$4020,5,FALSE))","v":""},null,{"$f":"CONCATENATE(A213,D213)","v":""},{"$f":"IF(ISNA(VLOOKUP(E213,Data!$A$2:$I$4020,7,FALSE)),\"\",VLOOKUP(E213,Data!$A$2:$I$4020,7,FALSE))","v":""},{"$f":"IF(ISNA(VLOOKUP(E213,Data!$A$2:$I$4020,9,FALSE)),\"\",VLOOKUP(E213,Data!$A$2:$I$4020,9,FALSE))","v":""},{"$f":"IF(ISNA(VLOOKUP(E213,Data!$A$2:$J$4020,10,FALSE)),\"\",VLOOKUP(E213,Data!$A$2:$J$4020,10,FALSE))","v":""},{"$nulls":13},{"$f":"SUM(S213:U213)","v":0}]
[null,{"$f":"IF(A214=\"\",\"\",VLOOKUP(A214,Data!$B$2:$D$4020,3,FALSE))","v":""},{"$f":"IF(A214=\"\",\"\",VLOOKUP(A214,Data!$B$2:$F$4020,5,FALSE))","v":""},null,{"$f":"CONCATENATE(A214,D214)","v":""},{"$f":"IF(ISNA(VLOOKUP(E214,Data!$A$2:$I$4020,7,FALSE)),\"\",VLOOKUP(E214,Data!$A$2:$I$4020,7,FALSE))","v":""},{"$f":"IF(ISNA(VLOOKUP(E214,Data!$A$2:$I$4020,9,FALSE)),\"\",VLOOKUP(E214,Data!$A$2:$I$4020,9,FALSE))","v":""},{"$f":"IF(ISNA(VLOOKUP(E214,Data!$A$2:$J$4020,10,FALSE)),\"\",VLOOKUP(E214,Data!$A$2:$J$4020,10,FALSE))","v":""},{"$nulls":13},{"$f":"SUM(S214:U214)","v":0}]
[null,{"$f":"IF(A215=\"\",\"\",VLOOKUP(A215,Data!$B$2:$D$4020,3,FALSE))","v":""},{"$f":"IF(A215=\"\",\"\",VLOOKUP(A215,Data!$B$2:$F$4020,5,FALSE))","v":""},null,{"$f":"CONCATENATE(A215,D215)","v":""},{"$f":"IF(ISNA(VLOOKUP(E215,Data!$A$2:$I$4020,7,FALSE)),\"\",VLOOKUP(E215,Data!$A$2:$I$4020,7,FALSE))","v":""},{"$f":"IF(ISNA(VLOOKUP(E215,Data!$A$2:$I$4020,9,FALSE)),\"\",VLOOKUP(E215,Data!$A$2:$I$4020,9,FALSE))","v":""},{"$f":"IF(ISNA(VLOOKUP(E215,Data!$A$2:$J$4020,10,FALSE)),\"\",VLOOKUP(E215,Data!$A$2:$J$4020,10,FALSE))","v":""},{"$nulls":13},{"$f":"SUM(S215:U215)","v":0}]
[null,{"$f":"IF(A216=\"\",\"\",VLOOKUP(A216,Data!$B$2:$D$4020,3,FALSE))","v":""},{"$f":"IF(A216=\"\",\"\",VLOOKUP(A216,Data!$B$2:$F$4020,5,FALSE))","v":""},null,{"$f":"CONCATENATE(A216,D216)","v":""},{"$f":"IF(ISNA(VLOOKUP(E216,Data!$A$2:$I$4020,7,FALSE)),\"\",VLOOKUP(E216,Data!$A$2:$I$4020,7,FALSE))","v":""},{"$f":"IF(ISNA(VLOOKUP(E216,Data!$A$2:$I$4020,9,FALSE)),\"\",VLOOKUP(E216,Data!$A$2:$I$4020,9,FALSE))","v":""},{"$f":"IF(ISNA(VLOOKUP(E216,Data!$A$2:$J$4020,10,FALSE)),\"\",VLOOKUP(E216,Data!$A$2:$J$4020,10,FALSE))","v":""},{"$nulls":13},{"$f":"SUM(S216:U216)","v":0}]
[null,{"$f":"IF(A217=\"\",\"\",VLOOKUP(A217,Data!$B$2:$D$4020,3,FALSE))","v":""},{"$f":"IF(A217=\"\",\"\",VLOOKUP(A217,Data!$B$2:$F$4020,5,FALSE))","v":""},null,{"$f":"CONCATENATE(A217,D217)","v":""},{"$f":"IF(ISNA(VLOOKUP(E217,Data!$A$2:$I$4020,7,FALSE)),\"\",VLOOKUP(E217,Data!$A$2:$I$4020,7,FALSE))","v":""},{"$f":"IF(ISNA(VLOOKUP(E217,Data!$A$2:$I$4020,9,FALSE)),\"\",VLOOKUP(E217,Data!$A$2:$I$4020,9,FALSE))","v":""},{"$f":"IF(ISNA(VLOOKUP(E217,Data!$A$2:$J$4020,10,FALSE)),\"\",VLOOKUP(E217,Data!$A$2:$J$4020,10,FALSE))","v":""},{"$nulls":13},{"$f":"SUM(S217:U217)","v":0}]
[null,{"$f":"IF(A218=\"\",\"\",VLOOKUP(A218,Data!$B$2:$D$4020,3,FALSE))","v":""},{"$f":"IF(A218=\"\",\"\",VLOOKUP(A218,Data!$B$2:$F$4020,5,FALSE))","v":""},null,{"$f":"CONCATENATE(A218,D218)","v":""},{"$f":"IF(ISNA(VLOOKUP(E218,Data!$A$2:$I$4020,7,FALSE)),\"\",VLOOKUP(E218,Data!$A$2:$I$4020,7,FALSE))","v":""},{"$f":"IF(ISNA(VLOOKUP(E218,Data!$A$2:$I$4020,9,FALSE)),\"\",VLOOKUP(E218,Data!$A$2:$I$4020,9,FALSE))","v":""},{"$f":"IF(ISNA(VLOOKUP(E218,Data!$A$2:$J$4020,10,FALSE)),\"\",VLOOKUP(E218,Data!$A$2:$J$4020,10,FALSE))","v":""},{"$nulls":13},{"$f":"SUM(S218:U218)","v":0}]
[null,{"$f":"IF(A219=\"\",\"\",VLOOKUP(A219,Data!$B$2:$D$4020,3,FALSE))","v":""},{"$f":"IF(A219=\"\",\"\",VLOOKUP(A219,Data!$B$2:$F$4020,5,FALSE))","v":""},null,{"$f":"CONCATENATE(A219,D219)","v":""},{"$f":"IF(ISNA(VLOOKUP(E219,Data!$A$2:$I$4020,7,FALSE)),\"\",VLOOKUP(E219,Data!$A$2:$I$4020,7,FALSE))","v":""},{"$f":"IF(ISNA(VLOOKUP(E219,Data!$A$2:$I$4020,9,FALSE)),\"\",VLOOKUP(E219,Data!$A$2:$I$4020,9,FALSE))","v":""},{"$f":"IF(ISNA(VLOOKUP(E219,Data!$A$2:$J$4020,10,FALSE)),\"\",VLOOKUP(E219,Data!$A$2:$J$4020,10,FALSE))","v":""},{"$nulls":13},{"$f":"SUM(S219:U219)","v":0}]
[null,{"$f":"IF(A220=\"\",\"\",VLOOKUP(A220,Data!$B$2:$D$4020,3,FALSE))","v":""},{"$f":"IF(A220=\"\",\"\",VLOOKUP(A220,Data!$B$2:$F$4020,5,FALSE))","v":""},null,{"$f":"CONCATENATE(A220,D220)","v":""},{"$f":"IF(ISNA(VLOOKUP(E220,Data!$A$2:$I$4020,7,FALSE)),\"\",VLOOKUP(E220,Data!$A$2:$I$4020,7,FALSE))","v":""},{"$f":"IF(ISNA(VLOOKUP(E220,Data!$A$2:$I$4020,9,FALSE)),\"\",VLOOKUP(E220,Data!$A$2:$I$4020,9,FALSE))","v":""},{"$f":"IF(ISNA(VLOOKUP(E220,Data!$A$2:$J$4020,10,FALSE)),\"\",VLOOKUP(E220,Data!$A$2:$J$4020,10,FALSE))","v":""},{"$nulls":13},{"$f":"SUM(S220:U220)","v":0}]
[null,{"$f":"IF(A221=\"\",\"\",VLOOKUP(A221,Data!$B$2:$D$4020,3,FALSE))","v":""},{"$f":"IF(A221=\"\",\"\",VLOOKUP(A221,Data!$B$2:$F$4020,5,FALSE))","v":""},null,{"$f":"CONCATENATE(A221,D221)","v":""},{"$f":"IF(ISNA(VLOOKUP(E221,Data!$A$2:$I$4020,7,FALSE)),\"\",VLOOKUP(E221,Data!$A$2:$I$4020,7,FALSE))","v":""},{"$f":"IF(ISNA(VLOOKUP(E221,Data!$A$2:$I$4020,9,FALSE)),\"\",VLOOKUP(E221,Data!$A$2:$I$4020,9,FALSE))","v":""},{"$f":"IF(ISNA(VLOOKUP(E221,Data!$A$2:$J$4020,10,FALSE)),\"\",VLOOKUP(E221,Data!$A$2:$J$4020,10,FALSE))","v":""},{"$nulls":13},{"$f":"SUM(S221:U221)","v":0}]
[null,{"$f":"IF(A222=\"\",\"\",VLOOKUP(A222,Data!$B$2:$D$4020,3,FALSE))","v":""},{"$f":"IF(A222=\"\",\"\",VLOOKUP(A222,Data!$B$2:$F$4020,5,FALSE))","v":""},null,{"$f":"CONCATENATE(A222,D222)","v":""},{"$f":"IF(ISNA(VLOOKUP(E222,Data!$A$2:$I$4020,7,FALSE)),\"\",VLOOKUP(E222,Data!$A$2:$I$4020,7,FALSE))","v":""},{"$f":"IF(ISNA(VLOOKUP(E222,Data!$A$2:$I$4020,9,FALSE)),\"\",VLOOKUP(E222,Data!$A$2:$I$4020,9,FALSE))","v":""},{"$f":"IF(ISNA(VLOOKUP(E222,Data!$A$2:$J$4020,10,FALSE)),\"\",VLOOKUP(E222,Data!$A$2:$J$4020,10,FALSE))","v":""},{"$nulls":13},{"$f":"SUM(S222:U222)","v":0}]
[null,{"$f":"IF(A223=\"\",\"\",VLOOKUP(A223,Data!$B$2:$D$4020,3,FALSE))","v":""},{"$f":"IF(A223=\"\",\"\",VLOOKUP(A223,Data!$B$2:$F$4020,5,FALSE))","v":""},null,{"$f":"CONCATENATE(A223,D223)","v":""},{"$f":"IF(ISNA(VLOOKUP(E223,Data!$A$2:$I$4020,7,FALSE)),\"\",VLOOKUP(E223,Data!$A$2:$I$4020,7,FALSE))","v":""},{"$f":"IF(ISNA(VLOOKUP(E223,Data!$A$2:$I$4020,9,FALSE)),\"\",VLOOKUP(E223,Data!$A$2:$I$4020,9,FALSE))","v":""},{"$f":"IF(ISNA(VLOOKUP(E223,Data!$A$2:$J$4020,10,FALSE)),\"\",VLOOKUP(E223,Data!$A$2:$J$4020,10,FALSE))","v":""},{"$nulls":13},{"$f":"SUM(S223:U223)","v":0}]
[null,{"$f":"IF(A224=\"\",\"\",VLOOKUP(A224,Data!$B$2:$D$4020,3,FALSE))","v":""},{"$f":"IF(A224=\"\",\"\",VLOOKUP(A224,Data!$B$2:$F$4020,5,FALSE))","v":""},null,{"$f":"CONCATENATE(A224,D224)","v":""},{"$f":"IF(ISNA(VLOOKUP(E224,Data!$A$2:$I$4020,7,FALSE)),\"\",VLOOKUP(E224,Data!$A$2:$I$4020,7,FALSE))","v":""},{"$f":"IF(ISNA(VLOOKUP(E224,Data!$A$2:$I$4020,9,FALSE)),\"\",VLOOKUP(E224,Data!$A$2:$I$4020,9,FALSE))","v":""},{"$f":"IF(ISNA(VLOOKUP(E224,Data!$A$2:$J$4020,10,FALSE)),\"\",VLOOKUP(E224,Data!$A$2:$J$4020,10,FALSE))","v":""},{"$nulls":13},{"$f":"SUM(S224:U224)","v":0}]
[null,{"$f":"IF(A225=\"\",\"\",VLOOKUP(A225,Data!$B$2:$D$4020,3,FALSE))","v":""},{"$f":"IF(A225=\"\",\"\",VLOOKUP(A225,Data!$B$2:$F$4020,5,FALSE))","v":""},null,{"$f":"CONCATENATE(A225,D225)","v":""},{"$f":"IF(ISNA(VLOOKUP(E225,Data!$A$2:$I$4020,7,FALSE)),\"\",VLOOKUP(E225,Data!$A$2:$I$4020,7,FALSE))","v":""},{"$f":"IF(ISNA(VLOOKUP(E225,Data!$A$2:$I$4020,9,FALSE)),\"\",VLOOKUP(E225,Data!$A$2:$I$4020,9,FALSE))","v":""},{"$f":"IF(ISNA(VLOOKUP(E225,Data!$A$2:$J$4020,10,FALSE)),\"\",VLOOKUP(E225,Data!$A$2:$J$4020,10,FALSE))","v":""},{"$nulls":13},{"$f":"SUM(S225:U225)","v":0}]
[null,{"$f":"IF(A226=\"\",\"\",VLOOKUP(A226,Data!$B$2:$D$4020,3,FALSE))","v":""},{"$f":"IF(A226=\"\",\"\",VLOOKUP(A226,Data!$B$2:$F$4020,5,FALSE))","v":""},null,{"$f":"CONCATENATE(A226,D226)","v":""},{"$f":"IF(ISNA(VLOOKUP(E226,Data!$A$2:$I$4020,7,FALSE)),\"\",VLOOKUP(E226,Data!$A$2:$I$4020,7,FALSE))","v":""},{"$f":"IF(ISNA(VLOOKUP(E226,Data!$A$2:$I$4020,9,FALSE)),\"\",VLOOKUP(E226,Data!$A$2:$I$4020,9,FALSE))","v":""},{"$f":"IF(ISNA(VLOOKUP(E226,Data!$A$2:$J$4020,10,FALSE)),\"\",VLOOKUP(E226,Data!$A$2:$J$4020,10,FALSE))","v":""},{"$nulls":13},{"$f":"SUM(S226:U226)","v":0}]
[null,{"$f":"IF(A227=\"\",\"\",VLOOKUP(A227,Data!$B$2:$D$4020,3,FALSE))","v":""},{"$f":"IF(A227=\"\",\"\",VLOOKUP(A227,Data!$B$2:$F$4020,5,FALSE))","v":""},null,{"$f":"CONCATENATE(A227,D227)","v":""},{"$f":"IF(ISNA(VLOOKUP(E227,Data!$A$2:$I$4020,7,FALSE)),\"\",VLOOKUP(E227,Data!$A$2:$I$4020,7,FALSE))","v":""},{"$f":"IF(ISNA(VLOOKUP(E227,Data!$A$2:$I$4020,9,FALSE)),\"\",VLOOKUP(E227,Data!$A$2:$I$4020,9,FALSE))","v":""},{"$f":"IF(ISNA(VLOOKUP(E227,Data!$A$2:$J$4020,10,FALSE)),\"\",VLOOKUP(E227,Data!$A$2:$J$4020,10,FALSE))","v":""},{"$nulls":13},{"$f":"SUM(S227:U227)","v":0}]
[null,{"$f":"IF(A228=\"\",\"\",VLOOKUP(A228,Data!$B$2:$D$4020,3,FALSE))","v":""},{"$f":"IF(A228=\"\",\"\",VLOOKUP(A228,Data!$B$2:$F$4020,5,FALSE))","v":""},null,{"$f":"CONCATENATE(A228,D228)","v":""},{"$f":"IF(ISNA(VLOOKUP(E228,Data!$A$2:$I$4020,7,FALSE)),\"\",VLOOKUP(E228,Data!$A$2:$I$4020,7,FALSE))","v":""},{"$f":"IF(ISNA(VLOOKUP(E228,Data!$A$2:$I$4020,9,FALSE)),\"\",VLOOKUP(E228,Data!$A$2:$I$4020,9,FALSE))","v":""},{"$f":"IF(ISNA(VLOOKUP(E228,Data!$A$2:$J$4020,10,FALSE)),\"\",VLOOKUP(E228,Data!$A$2:$J$4020,10,FALSE))","v":""},{"$nulls":13},{"$f":"SUM(S228:U228)","v":0}]
[null,{"$f":"IF(A229=\"\",\"\",VLOOKUP(A229,Data!$B$2:$D$4020,3,FALSE))","v":""},{"$f":"IF(A229=\"\",\"\",VLOOKUP(A229,Data!$B$2:$F$4020,5,FALSE))","v":""},null,{"$f":"CONCATENATE(A229,D229)","v":""},{"$f":"IF(ISNA(VLOOKUP(E229,Data!$A$2:$I$4020,7,FALSE)),\"\",VLOOKUP(E229,Data!$A$2:$I$4020,7,FALSE))","v":""},{"$f":"IF(ISNA(VLOOKUP(E229,Data!$A$2:$I$4020,9,FALSE)),\"\",VLOOKUP(E229,Data!$A$2:$I$4020,9,FALSE))","v":""},{"$f":"IF(ISNA(VLOOKUP(E229,Data!$A$2:$J$4020,10,FALSE)),\"\",VLOOKUP(E229,Data!$A$2:$J$4020,10,FALSE))","v":""},{"$nulls":13},{"$f":"SUM(S229:U229)","v":0}]
[null,{"$f":"IF(A230=\"\",\"\",VLOOKUP(A230,Data!$B$2:$D$4020,3,FALSE))","v":""},{"$f":"IF(A230=\"\",\"\",VLOOKUP(A230,Data!$B$2:$F$4020,5,FALSE))","v":""},null,{"$f":"CONCATENATE(A230,D230)","v":""},{"$f":"IF(ISNA(VLOOKUP(E230,Data!$A$2:$I$4020,7,FALSE)),\"\",VLOOKUP(E230,Data!$A$2:$I$4020,7,FALSE))","v":""},{"$f":"IF(ISNA(VLOOKUP(E230,Data!$A$2:$I$4020,9,FALSE)),\"\",VLOOKUP(E230,Data!$A$2:$I$4020,9,FALSE))","v":""},{"$f":"IF(ISNA(VLOOKUP(E230,Data!$A$2:$J$4020,10,FALSE)),\"\",VLOOKUP(E230,Data!$A$2:$J$4020,10,FALSE))","v":""},{"$nulls":13},{"$f":"SUM(S230:U230)","v":0}]
[null,{"$f":"IF(A231=\"\",\"\",VLOOKUP(A231,Data!$B$2:$D$4020,3,FALSE))","v":""},{"$f":"IF(A231=\"\",\"\",VLOOKUP(A231,Data!$B$2:$F$4020,5,FALSE))","v":""},null,{"$f":"CONCATENATE(A231,D231)","v":""},{"$f":"IF(ISNA(VLOOKUP(E231,Data!$A$2:$I$4020,7,FALSE)),\"\",VLOOKUP(E231,Data!$A$2:$I$4020,7,FALSE))","v":""},{"$f":"IF(ISNA(VLOOKUP(E231,Data!$A$2:$I$4020,9,FALSE)),\"\",VLOOKUP(E231,Data!$A$2:$I$4020,9,FALSE))","v":""},{"$f":"IF(ISNA(VLOOKUP(E231,Data!$A$2:$J$4020,10,FALSE)),\"\",VLOOKUP(E231,Data!$A$2:$J$4020,10,FALSE))","v":""},{"$nulls":13},{"$f":"SUM(S231:U231)","v":0}]
[null,{"$f":"IF(A232=\"\",\"\",VLOOKUP(A232,Data!$B$2:$D$4020,3,FALSE))","v":""},{"$f":"IF(A232=\"\",\"\",VLOOKUP(A232,Data!$B$2:$F$4020,5,FALSE))","v":""},null,{"$f":"CONCATENATE(A232,D232)","v":""},{"$f":"IF(ISNA(VLOOKUP(E232,Data!$A$2:$I$4020,7,FALSE)),\"\",VLOOKUP(E232,Data!$A$2:$I$4020,7,FALSE))","v":""},{"$f":"IF(ISNA(VLOOKUP(E232,Data!$A$2:$I$4020,9,FALSE)),\"\",VLOOKUP(E232,Data!$A$2:$I$4020,9,FALSE))","v":""},{"$f":"IF(ISNA(VLOOKUP(E232,Data!$A$2:$J$4020,10,FALSE)),\"\",VLOOKUP(E232,Data!$A$2:$J$4020,10,FALSE))","v":""},{"$nulls":13},{"$f":"SUM(S232:U232)","v":0}]
[null,{"$f":"IF(A233=\"\",\"\",VLOOKUP(A233,Data!$B$2:$D$4020,3,FALSE))","v":""},{"$f":"IF(A233=\"\",\"\",VLOOKUP(A233,Data!$B$2:$F$4020,5,FALSE))","v":""},null,{"$f":"CONCATENATE(A233,D233)","v":""},{"$f":"IF(ISNA(VLOOKUP(E233,Data!$A$2:$I$4020,7,FALSE)),\"\",VLOOKUP(E233,Data!$A$2:$I$4020,7,FALSE))","v":""},{"$f":"IF(ISNA(VLOOKUP(E233,Data!$A$2:$I$4020,9,FALSE)),\"\",VLOOKUP(E233,Data!$A$2:$I$4020,9,FALSE))","v":""},{"$f":"IF(ISNA(VLOOKUP(E233,Data!$A$2:$J$4020,10,FALSE)),\"\",VLOOKUP(E233,Data!$A$2:$J$4020,10,FALSE))","v":""},{"$nulls":13},{"$f":"SUM(S233:U233)","v":0}]
[null,{"$f":"IF(A234=\"\",\"\",VLOOKUP(A234,Data!$B$2:$D$4020,3,FALSE))","v":""},{"$f":"IF(A234=\"\",\"\",VLOOKUP(A234,Data!$B$2:$F$4020,5,FALSE))","v":""},null,{"$f":"CONCATENATE(A234,D234)","v":""},{"$f":"IF(ISNA(VLOOKUP(E234,Data!$A$2:$I$4020,7,FALSE)),\"\",VLOOKUP(E234,Data!$A$2:$I$4020,7,FALSE))","v":""},{"$f":"IF(ISNA(VLOOKUP(E234,Data!$A$2:$I$4020,9,FALSE)),\"\",VLOOKUP(E234,Data!$A$2:$I$4020,9,FALSE))","v":""},{"$f":"IF(ISNA(VLOOKUP(E234,Data!$A$2:$J$4020,10,FALSE)),\"\",VLOOKUP(E234,Data!$A$2:$J$4020,10,FALSE))","v":""},{"$nulls":13},{"$f":"SUM(S234:U234)","v":0}]
[null,{"$f":"IF(A235=\"\",\"\",VLOOKUP(A235,Data!$B$2:$D$4020,3,FALSE))","v":""},{"$f":"IF(A235=\"\",\"\",VLOOKUP(A235,Data!$B$2:$F$4020,5,FALSE))","v":""},null,{"$f":"CONCATENATE(A235,D235)","v":""},{"$f":"IF(ISNA(VLOOKUP(E235,Data!$A$2:$I$4020,7,FALSE)),\"\",VLOOKUP(E235,Data!$A$2:$I$4020,7,FALSE))","v":""},{"$f":"IF(ISNA(VLOOKUP(E235,Data!$A$2:$I$4020,9,FALSE)),\"\",VLOOKUP(E235,Data!$A$2:$I$4020,9,FALSE))","v":""},{"$f":"IF(ISNA(VLOOKUP(E235,Data!$A$2:$J$4020,10,FALSE)),\"\",VLOOKUP(E235,Data!$A$2:$J$4020,10,FALSE))","v":""},{"$nulls":13},{"$f":"SUM(S235:U235)","v":0}]
[null,{"$f":"IF(A236=\"\",\"\",VLOOKUP(A236,Data!$B$2:$D$4020,3,FALSE))","v":""},{"$f":"IF(A236=\"\",\"\",VLOOKUP(A236,Data!$B$2:$F$4020,5,FALSE))","v":""},null,{"$f":"CONCATENATE(A236,D236)","v":""},{"$f":"IF(ISNA(VLOOKUP(E236,Data!$A$2:$I$4020,7,FALSE)),\"\",VLOOKUP(E236,Data!$A$2:$I$4020,7,FALSE))","v":""},{"$f":"IF(ISNA(VLOOKUP(E236,Data!$A$2:$I$4020,9,FALSE)),\"\",VLOOKUP(E236,Data!$A$2:$I$4020,9,FALSE))","v":""},{"$f":"IF(ISNA(VLOOKUP(E236,Data!$A$2:$J$4020,10,FALSE)),\"\",VLOOKUP(E236,Data!$A$2:$J$4020,10,FALSE))","v":""},{"$nulls":13},{"$f":"SUM(S236:U236)","v":0}]
[null,{"$f":"IF(A237=\"\",\"\",VLOOKUP(A237,Data!$B$2:$D$4020,3,FALSE))","v":""},{"$f":"IF(A237=\"\",\"\",VLOOKUP(A237,Data!$B$2:$F$4020,5,FALSE))","v":""},null,{"$f":"CONCATENATE(A237,D237)","v":""},{"$f":"IF(ISNA(VLOOKUP(E237,Data!$A$2:$I$4020,7,FALSE)),\"\",VLOOKUP(E237,Data!$A$2:$I$4020,7,FALSE))","v":""},{"$f":"IF(ISNA(VLOOKUP(E237,Data!$A$2:$I$4020,9,FALSE)),\"\",VLOOKUP(E237,Data!$A$2:$I$4020,9,FALSE))","v":""},{"$f":"IF(ISNA(VLOOKUP(E237,Data!$A$2:$J$4020,10,FALSE)),\"\",VLOOKUP(E237,Data!$A$2:$J$4020,10,FALSE))","v":""},{"$nulls":13},{"$f":"SUM(S237:U237)","v":0}]
[null,{"$f":"IF(A238=\"\",\"\",VLOOKUP(A238,Data!$B$2:$D$4020,3,FALSE))","v":""},{"$f":"IF(A238=\"\",\"\",VLOOKUP(A238,Data!$B$2:$F$4020,5,FALSE))","v":""},null,{"$f":"CONCATENATE(A238,D238)","v":""},{"$f":"IF(ISNA(VLOOKUP(E238,Data!$A$2:$I$4020,7,FALSE)),\"\",VLOOKUP(E238,Data!$A$2:$I$4020,7,FALSE))","v":""},{"$f":"IF(ISNA(VLOOKUP(E238,Data!$A$2:$I$4020,9,FALSE)),\"\",VLOOKUP(E238,Data!$A$2:$I$4020,9,FALSE))","v":""},{"$f":"IF(ISNA(VLOOKUP(E238,Data!$A$2:$J$4020,10,FALSE)),\"\",VLOOKUP(E238,Data!$A$2:$J$4020,10,FALSE))","v":""},{"$nulls":13},{"$f":"SUM(S238:U238)","v":0}]
[null,{"$f":"IF(A239=\"\",\"\",VLOOKUP(A239,Data!$B$2:$D$4020,3,FALSE))","v":""},{"$f":"IF(A239=\"\",\"\",VLOOKUP(A239,Data!$B$2:$F$4020,5,FALSE))","v":""},null,{"$f":"CONCATENATE(A239,D239)","v":""},{"$f":"IF(ISNA(VLOOKUP(E239,Data!$A$2:$I$4020,7,FALSE)),\"\",VLOOKUP(E239,Data!$A$2:$I$4020,7,FALSE))","v":""},{"$f":"IF(ISNA(VLOOKUP(E239,Data!$A$2:$I$4020,9,FALSE)),\"\",VLOOKUP(E239,Data!$A$2:$I$4020,9,FALSE))","v":""},{"$f":"IF(ISNA(VLOOKUP(E239,Data!$A$2:$J$4020,10,FALSE)),\"\",VLOOKUP(E239,Data!$A$2:$J$4020,10,FALSE))","v":""},{"$nulls":13},{"$f":"SUM(S239:U239)","v":0}]
[null,{"$f":"IF(A240=\"\",\"\",VLOOKUP(A240,Data!$B$2:$D$4020,3,FALSE))","v":""},{"$f":"IF(A240=\"\",\"\",VLOOKUP(A240,Data!$B$2:$F$4020,5,FALSE))","v":""},null,{"$f":"CONCATENATE(A240,D240)","v":""},{"$f":"IF(ISNA(VLOOKUP(E240,Data!$A$2:$I$4020,7,FALSE)),\"\",VLOOKUP(E240,Data!$A$2:$I$4020,7,FALSE))","v":""},{"$f":"IF(ISNA(VLOOKUP(E240,Data!$A$2:$I$4020,9,FALSE)),\"\",VLOOKUP(E240,Data!$A$2:$I$4020,9,FALSE))","v":""},{"$f":"IF(ISNA(VLOOKUP(E240,Data!$A$2:$J$4020,10,FALSE)),\"\",VLOOKUP(E240,Data!$A$2:$J$4020,10,FALSE))","v":""},{"$nulls":13},{"$f":"SUM(S240:U240)","v":0}]
[null,{"$f":"IF(A241=\"\",\"\",VLOOKUP(A241,Data!$B$2:$D$4020,3,FALSE))","v":""},{"$f":"IF(A241=\"\",\"\",VLOOKUP(A241,Data!$B$2:$F$4020,5,FALSE))","v":""},null,{"$f":"CONCATENATE(A241,D241)","v":""},{"$f":"IF(ISNA(VLOOKUP(E241,Data!$A$2:$I$4020,7,FALSE)),\"\",VLOOKUP(E241,Data!$A$2:$I$4020,7,FALSE))","v":""},{"$f":"IF(ISNA(VLOOKUP(E241,Data!$A$2:$I$4020,9,FALSE)),\"\",VLOOKUP(E241,Data!$A$2:$I$4020,9,FALSE))","v":""},{"$f":"IF(ISNA(VLOOKUP(E241,Data!$A$2:$J$4020,10,FALSE)),\"\",VLOOKUP(E241,Data!$A$2:$J$4020,10,FALSE))","v":""},{"$nulls":13},{"$f":"SUM(S241:U241)","v":0}]
[null,{"$f":"IF(A242=\"\",\"\",VLOOKUP(A242,Data!$B$2:$D$4020,3,FALSE))","v":""},{"$f":"IF(A242=\"\",\"\",VLOOKUP(A242,Data!$B$2:$F$4020,5,FALSE))","v":""},null,{"$f":"CONCATENATE(A242,D242)","v":""},{"$f":"IF(ISNA(VLOOKUP(E242,Data!$A$2:$I$4020,7,FALSE)),\"\",VLOOKUP(E242,Data!$A$2:$I$4020,7,FALSE))","v":""},{"$f":"IF(ISNA(VLOOKUP(E242,Data!$A$2:$I$4020,9,FALSE)),\"\",VLOOKUP(E242,Data!$A$2:$I$4020,9,FALSE))","v":""},{"$f":"IF(ISNA(VLOOKUP(E242,Data!$A$2:$J$4020,10,FALSE)),\"\",VLOOKUP(E242,Data!$A$2:$J$4020,10,FALSE))","v":""},{"$nulls":13},{"$f":"SUM(S242:U242)","v":0}]
[null,{"$f":"IF(A243=\"\",\"\",VLOOKUP(A243,Data!$B$2:$D$4020,3,FALSE))","v":""},{"$f":"IF(A243=\"\",\"\",VLOOKUP(A243,Data!$B$2:$F$4020,5,FALSE))","v":""},null,{"$f":"CONCATENATE(A243,D243)","v":""},{"$f":"IF(ISNA(VLOOKUP(E243,Data!$A$2:$I$4020,7,FALSE)),\"\",VLOOKUP(E243,Data!$A$2:$I$4020,7,FALSE))","v":""},{"$f":"IF(ISNA(VLOOKUP(E243,Data!$A$2:$I$4020,9,FALSE)),\"\",VLOOKUP(E243,Data!$A$2:$I$4020,9,FALSE))","v":""},{"$f":"IF(ISNA(VLOOKUP(E243,Data!$A$2:$J$4020,10,FALSE)),\"\",VLOOKUP(E243,Data!$A$2:$J$4020,10,FALSE))","v":""},{"$nulls":13},{"$f":"SUM(S243:U243)","v":0}]
[null,{"$f":"IF(A244=\"\",\"\",VLOOKUP(A244,Data!$B$2:$D$4020,3,FALSE))","v":""},{"$f":"IF(A244=\"\",\"\",VLOOKUP(A244,Data!$B$2:$F$4020,5,FALSE))","v":""},null,{"$f":"CONCATENATE(A244,D244)","v":""},{"$f":"IF(ISNA(VLOOKUP(E244,Data!$A$2:$I$4020,7,FALSE)),\"\",VLOOKUP(E244,Data!$A$2:$I$4020,7,FALSE))","v":""},{"$f":"IF(ISNA(VLOOKUP(E244,Data!$A$2:$I$4020,9,FALSE)),\"\",VLOOKUP(E244,Data!$A$2:$I$4020,9,FALSE))","v":""},{"$f":"IF(ISNA(VLOOKUP(E244,Data!$A$2:$J$4020,10,FALSE)),\"\",VLOOKUP(E244,Data!$A$2:$J$4020,10,FALSE))","v":""},{"$nulls":13},{"$f":"SUM(S244:U244)","v":0}]
[null,{"$f":"IF(A245=\"\",\"\",VLOOKUP(A245,Data!$B$2:$D$4020,3,FALSE))","v":""},{"$f":"IF(A245=\"\",\"\",VLOOKUP(A245,Data!$B$2:$F$4020,5,FALSE))","v":""},null,{"$f":"CONCATENATE(A245,D245)","v":""},{"$f":"IF(ISNA(VLOOKUP(E245,Data!$A$2:$I$4020,7,FALSE)),\"\",VLOOKUP(E245,Data!$A$2:$I$4020,7,FALSE))","v":""},{"$f":"IF(ISNA(VLOOKUP(E245,Data!$A$2:$I$4020,9,FALSE)),\"\",VLOOKUP(E245,Data!$A$2:$I$4020,9,FALSE))","v":""},{"$f":"IF(ISNA(VLOOKUP(E245,Data!$A$2:$J$4020,10,FALSE)),\"\",VLOOKUP(E245,Data!$A$2:$J$4020,10,FALSE))","v":""},{"$nulls":13},{"$f":"SUM(S245:U245)","v":0}]
[null,{"$f":"IF(A246=\"\",\"\",VLOOKUP(A246,Data!$B$2:$D$4020,3,FALSE))","v":""},{"$f":"IF(A246=\"\",\"\",VLOOKUP(A246,Data!$B$2:$F$4020,5,FALSE))","v":""},null,{"$f":"CONCATENATE(A246,D246)","v":""},{"$f":"IF(ISNA(VLOOKUP(E246,Data!$A$2:$I$4020,7,FALSE)),\"\",VLOOKUP(E246,Data!$A$2:$I$4020,7,FALSE))","v":""},{"$f":"IF(ISNA(VLOOKUP(E246,Data!$A$2:$I$4020,9,FALSE)),\"\",VLOOKUP(E246,Data!$A$2:$I$4020,9,FALSE))","v":""},{"$f":"IF(ISNA(VLOOKUP(E246,Data!$A$2:$J$4020,10,FALSE)),\"\",VLOOKUP(E246,Data!$A$2:$J$4020,10,FALSE))","v":""},{"$nulls":13},{"$f":"SUM(S246:U246)","v":0}]
[null,{"$f":"IF(A247=\"\",\"\",VLOOKUP(A247,Data!$B$2:$D$4020,3,FALSE))","v":""},{"$f":"IF(A247=\"\",\"\",VLOOKUP(A247,Data!$B$2:$F$4020,5,FALSE))","v":""},null,{"$f":"CONCATENATE(A247,D247)","v":""},{"$f":"IF(ISNA(VLOOKUP(E247,Data!$A$2:$I$4020,7,FALSE)),\"\",VLOOKUP(E247,Data!$A$2:$I$4020,7,FALSE))","v":""},{"$f":"IF(ISNA(VLOOKUP(E247,Data!$A$2:$I$4020,9,FALSE)),\"\",VLOOKUP(E247,Data!$A$2:$I$4020,9,FALSE))","v":""},{"$f":"IF(ISNA(VLOOKUP(E247,Data!$A$2:$J$4020,10,FALSE)),\"\",VLOOKUP(E247,Data!$A$2:$J$4020,10,FALSE))","v":""},{"$nulls":13},{"$f":"SUM(S247:U247)","v":0}]
[null,{"$f":"IF(A248=\"\",\"\",VLOOKUP(A248,Data!$B$2:$D$4020,3,FALSE))","v":""},{"$f":"IF(A248=\"\",\"\",VLOOKUP(A248,Data!$B$2:$F$4020,5,FALSE))","v":""},null,{"$f":"CONCATENATE(A248,D248)","v":""},{"$f":"IF(ISNA(VLOOKUP(E248,Data!$A$2:$I$4020,7,FALSE)),\"\",VLOOKUP(E248,Data!$A$2:$I$4020,7,FALSE))","v":""},{"$f":"IF(ISNA(VLOOKUP(E248,Data!$A$2:$I$4020,9,FALSE)),\"\",VLOOKUP(E248,Data!$A$2:$I$4020,9,FALSE))","v":""},{"$f":"IF(ISNA(VLOOKUP(E248,Data!$A$2:$J$4020,10,FALSE)),\"\",VLOOKUP(E248,Data!$A$2:$J$4020,10,FALSE))","v":""},{"$nulls":13},{"$f":"SUM(S248:U248)","v":0}]
[null,{"$f":"IF(A249=\"\",\"\",VLOOKUP(A249,Data!$B$2:$D$4020,3,FALSE))","v":""},{"$f":"IF(A249=\"\",\"\",VLOOKUP(A249,Data!$B$2:$F$4020,5,FALSE))","v":""},null,{"$f":"CONCATENATE(A249,D249)","v":""},{"$f":"IF(ISNA(VLOOKUP(E249,Data!$A$2:$I$4020,7,FALSE)),\"\",VLOOKUP(E249,Data!$A$2:$I$4020,7,FALSE))","v":""},{"$f":"IF(ISNA(VLOOKUP(E249,Data!$A$2:$I$4020,9,FALSE)),\"\",VLOOKUP(E249,Data!$A$2:$I$4020,9,FALSE))","v":""},{"$f":"IF(ISNA(VLOOKUP(E249,Data!$A$2:$J$4020,10,FALSE)),\"\",VLOOKUP(E249,Data!$A$2:$J$4020,10,FALSE))","v":""},{"$nulls":13},{"$f":"SUM(S249:U249)","v":0}]
[null,{"$f":"IF(A250=\"\",\"\",VLOOKUP(A250,Data!$B$2:$D$4020,3,FALSE))","v":""},{"$f":"IF(A250=\"\",\"\",VLOOKUP(A250,Data!$B$2:$F$4020,5,FALSE))","v":""},null,{"$f":"CONCATENATE(A250,D250)","v":""},{"$f":"IF(ISNA(VLOOKUP(E250,Data!$A$2:$I$4020,7,FALSE)),\"\",VLOOKUP(E250,Data!$A$2:$I$4020,7,FALSE))","v":""},{"$f":"IF(ISNA(VLOOKUP(E250,Data!$A$2:$I$4020,9,FALSE)),\"\",VLOOKUP(E250,Data!$A$2:$I$4020,9,FALSE))","v":""},{"$f":"IF(ISNA(VLOOKUP(E250,Data!$A$2:$J$4020,10,FALSE)),\"\",VLOOKUP(E250,Data!$A$2:$J$4020,10,FALSE))","v":""},{"$nulls":13},{"$f":"SUM(S250:U250)","v":0}]
[null,{"$f":"IF(A251=\"\",\"\",VLOOKUP(A251,Data!$B$2:$D$4020,3,FALSE))","v":""},{"$f":"IF(A251=\"\",\"\",VLOOKUP(A251,Data!$B$2:$F$4020,5,FALSE))","v":""},null,{"$f":"CONCATENATE(A251,D251)","v":""},{"$f":"IF(ISNA(VLOOKUP(E251,Data!$A$2:$I$4020,7,FALSE)),\"\",VLOOKUP(E251,Data!$A$2:$I$4020,7,FALSE))","v":""},{"$f":"IF(ISNA(VLOOKUP(E251,Data!$A$2:$I$4020,9,FALSE)),\"\",VLOOKUP(E251,Data!$A$2:$I$4020,9,FALSE))","v":""},{"$f":"IF(ISNA(VLOOKUP(E251,Data!$A$2:$J$4020,10,FALSE)),\"\",VLOOKUP(E251,Data!$A$2:$J$4020,10,FALSE))","v":""},{"$nulls":13},{"$f":"SUM(S251:U251)","v":0}]
[null,{"$f":"IF(A252=\"\",\"\",VLOOKUP(A252,Data!$B$2:$D$4020,3,FALSE))","v":""},{"$f":"IF(A252=\"\",\"\",VLOOKUP(A252,Data!$B$2:$F$4020,5,FALSE))","v":""},null,{"$f":"CONCATENATE(A252,D252)","v":""},{"$f":"IF(ISNA(VLOOKUP(E252,Data!$A$2:$I$4020,7,FALSE)),\"\",VLOOKUP(E252,Data!$A$2:$I$4020,7,FALSE))","v":""},{"$f":"IF(ISNA(VLOOKUP(E252,Data!$A$2:$I$4020,9,FALSE)),\"\",VLOOKUP(E252,Data!$A$2:$I$4020,9,FALSE))","v":""},{"$f":"IF(ISNA(VLOOKUP(E252,Data!$A$2:$J$4020,10,FALSE)),\"\",VLOOKUP(E252,Data!$A$2:$J$4020,10,FALSE))","v":""},{"$nulls":13},{"$f":"SUM(S252:U252)","v":0}]
[null,{"$f":"IF(A253=\"\",\"\",VLOOKUP(A253,Data!$B$2:$D$4020,3,FALSE))","v":""},{"$f":"IF(A253=\"\",\"\",VLOOKUP(A253,Data!$B$2:$F$4020,5,FALSE))","v":""},null,{"$f":"CONCATENATE(A253,D253)","v":""},{"$f":"IF(ISNA(VLOOKUP(E253,Data!$A$2:$I$4020,7,FALSE)),\"\",VLOOKUP(E253,Data!$A$2:$I$4020,7,FALSE))","v":""},{"$f":"IF(ISNA(VLOOKUP(E253,Data!$A$2:$I$4020,9,FALSE)),\"\",VLOOKUP(E253,Data!$A$2:$I$4020,9,FALSE))","v":""},{"$f":"IF(ISNA(VLOOKUP(E253,Data!$A$2:$J$4020,10,FALSE)),\"\",VLOOKUP(E253,Data!$A$2:$J$4020,10,FALSE))","v":""},{"$nulls":13},{"$f":"SUM(S253:U253)","v":0}]
[null,{"$f":"IF(A254=\"\",\"\",VLOOKUP(A254,Data!$B$2:$D$4020,3,FALSE))","v":""},{"$f":"IF(A254=\"\",\"\",VLOOKUP(A254,Data!$B$2:$F$4020,5,FALSE))","v":""},null,{"$f":"CONCATENATE(A254,D254)","v":""},{"$f":"IF(ISNA(VLOOKUP(E254,Data!$A$2:$I$4020,7,FALSE)),\"\",VLOOKUP(E254,Data!$A$2:$I$4020,7,FALSE))","v":""},{"$f":"IF(ISNA(VLOOKUP(E254,Data!$A$2:$I$4020,9,FALSE)),\"\",VLOOKUP(E254,Data!$A$2:$I$4020,9,FALSE))","v":""},{"$f":"IF(ISNA(VLOOKUP(E254,Data!$A$2:$J$4020,10,FALSE)),\"\",VLOOKUP(E254,Data!$A$2:$J$4020,10,FALSE))","v":""},{"$nulls":13},{"$f":"SUM(S254:U254)","v":0}]
[null,{"$f":"IF(A255=\"\",\"\",VLOOKUP(A255,Data!$B$2:$D$4020,3,FALSE))","v":""},{"$f":"IF(A255=\"\",\"\",VLOOKUP(A255,Data!$B$2:$F$4020,5,FALSE))","v":""},null,{"$f":"CONCATENATE(A255,D255)","v":""},{"$f":"IF(ISNA(VLOOKUP(E255,Data!$A$2:$I$4020,7,FALSE)),\"\",VLOOKUP(E255,Data!$A$2:$I$4020,7,FALSE))","v":""},{"$f":"IF(ISNA(VLOOKUP(E255,Data!$A$2:$I$4020,9,FALSE)),\"\",VLOOKUP(E255,Data!$A$2:$I$4020,9,FALSE))","v":""},{"$f":"IF(ISNA(VLOOKUP(E255,Data!$A$2:$J$4020,10,FALSE)),\"\",VLOOKUP(E255,Data!$A$2:$J$4020,10,FALSE))","v":""},{"$nulls":13},{"$f":"SUM(S255:U255)","v":0}]
[null,{"$f":"IF(A256=\"\",\"\",VLOOKUP(A256,Data!$B$2:$D$4020,3,FALSE))","v":""},{"$f":"IF(A256=\"\",\"\",VLOOKUP(A256,Data!$B$2:$F$4020,5,FALSE))","v":""},null,{"$f":"CONCATENATE(A256,D256)","v":""},{"$f":"IF(ISNA(VLOOKUP(E256,Data!$A$2:$I$4020,7,FALSE)),\"\",VLOOKUP(E256,Data!$A$2:$I$4020,7,FALSE))","v":""},{"$f":"IF(ISNA(VLOOKUP(E256,Data!$A$2:$I$4020,9,FALSE)),\"\",VLOOKUP(E256,Data!$A$2:$I$4020,9,FALSE))","v":""},{"$f":"IF(ISNA(VLOOKUP(E256,Data!$A$2:$J$4020,10,FALSE)),\"\",VLOOKUP(E256,Data!$A$2:$J$4020,10,FALSE))","v":""},{"$nulls":13},{"$f":"SUM(S256:U256)","v":0}]
[null,{"$f":"IF(A257=\"\",\"\",VLOOKUP(A257,Data!$B$2:$D$4020,3,FALSE))","v":""},{"$f":"IF(A257=\"\",\"\",VLOOKUP(A257,Data!$B$2:$F$4020,5,FALSE))","v":""},null,{"$f":"CONCATENATE(A257,D257)","v":""},{"$f":"IF(ISNA(VLOOKUP(E257,Data!$A$2:$I$4020,7,FALSE)),\"\",VLOOKUP(E257,Data!$A$2:$I$4020,7,FALSE))","v":""},{"$f":"IF(ISNA(VLOOKUP(E257,Data!$A$2:$I$4020,9,FALSE)),\"\",VLOOKUP(E257,Data!$A$2:$I$4020,9,FALSE))","v":""},{"$f":"IF(ISNA(VLOOKUP(E257,Data!$A$2:$J$4020,10,FALSE)),\"\",VLOOKUP(E257,Data!$A$2:$J$4020,10,FALSE))","v":""},{"$nulls":13},{"$f":"SUM(S257:U257)","v":0}]
[null,{"$f":"IF(A258=\"\",\"\",VLOOKUP(A258,Data!$B$2:$D$4020,3,FALSE))","v":""},{"$f":"IF(A258=\"\",\"\",VLOOKUP(A258,Data!$B$2:$F$4020,5,FALSE))","v":""},null,{"$f":"CONCATENATE(A258,D258)","v":""},{"$f":"IF(ISNA(VLOOKUP(E258,Data!$A$2:$I$4020,7,FALSE)),\"\",VLOOKUP(E258,Data!$A$2:$I$4020,7,FALSE))","v":""},{"$f":"IF(ISNA(VLOOKUP(E258,Data!$A$2:$I$4020,9,FALSE)),\"\",VLOOKUP(E258,Data!$A$2:$I$4020,9,FALSE))","v":""},{"$f":"IF(ISNA(VLOOKUP(E258,Data!$A$2:$J$4020,10,FALSE)),\"\",VLOOKUP(E258,Data!$A$2:$J$4020,10,FALSE))","v":""},{"$nulls":13},{"$f":"SUM(S258:U258)","v":0}]
[null,{"$f":"IF(A259=\"\",\"\",VLOOKUP(A259,Data!$B$2:$D$4020,3,FALSE))","v":""},{"$f":"IF(A259=\"\",\"\",VLOOKUP(A259,Data!$B$2:$F$4020,5,FALSE))","v":""},null,{"$f":"CONCATENATE(A259,D259)","v":""},{"$f":"IF(ISNA(VLOOKUP(E259,Data!$A$2:$I$4020,7,FALSE)),\"\",VLOOKUP(E259,Data!$A$2:$I$4020,7,FALSE))","v":""},{"$f":"IF(ISNA(VLOOKUP(E259,Data!$A$2:$I$4020,9,FALSE)),\"\",VLOOKUP(E259,Data!$A$2:$I$4020,9,FALSE))","v":""},{"$f":"IF(ISNA(VLOOKUP(E259,Data!$A$2:$J$4020,10,FALSE)),\"\",VLOOKUP(E259,Data!$A$2:$J$4020,10,FALSE))","v":""},{"$nulls":13},{"$f":"SUM(S259:U259)","v":0}]
[null,{"$f":"IF(A260=\"\",\"\",VLOOKUP(A260,Data!$B$2:$D$4020,3,FALSE))","v":""},{"$f":"IF(A260=\"\",\"\",VLOOKUP(A260,Data!$B$2:$F$4020,5,FALSE))","v":""},null,{"$f":"CONCATENATE(A260,D260)","v":""},{"$f":"IF(ISNA(VLOOKUP(E260,Data!$A$2:$I$4020,7,FALSE)),\"\",VLOOKUP(E260,Data!$A$2:$I$4020,7,FALSE))","v":""},{"$f":"IF(ISNA(VLOOKUP(E260,Data!$A$2:$I$4020,9,FALSE)),\"\",VLOOKUP(E260,Data!$A$2:$I$4020,9,FALSE))","v":""},{"$f":"IF(ISNA(VLOOKUP(E260,Data!$A$2:$J$4020,10,FALSE)),\"\",VLOOKUP(E260,Data!$A$2:$J$4020,10,FALSE))","v":""},{"$nulls":13},{"$f":"SUM(S260:U260)","v":0}]
[null,{"$f":"IF(A261=\"\",\"\",VLOOKUP(A261,Data!$B$2:$D$4020,3,FALSE))","v":""},{"$f":"IF(A261=\"\",\"\",VLOOKUP(A261,Data!$B$2:$F$4020,5,FALSE))","v":""},null,{"$f":"CONCATENATE(A261,D261)","v":""},{"$f":"IF(ISNA(VLOOKUP(E261,Data!$A$2:$I$4020,7,FALSE)),\"\",VLOOKUP(E261,Data!$A$2:$I$4020,7,FALSE))","v":""},{"$f":"IF(ISNA(VLOOKUP(E261,Data!$A$2:$I$4020,9,FALSE)),\"\",VLOOKUP(E261,Data!$A$2:$I$4020,9,FALSE))","v":""},{"$f":"IF(ISNA(VLOOKUP(E261,Data!$A$2:$J$4020,10,FALSE)),\"\",VLOOKUP(E261,Data!$A$2:$J$4020,10,FALSE))","v":""},{"$nulls":13},{"$f":"SUM(S261:U261)","v":0}]
[null,{"$f":"IF(A262=\"\",\"\",VLOOKUP(A262,Data!$B$2:$D$4020,3,FALSE))","v":""},{"$f":"IF(A262=\"\",\"\",VLOOKUP(A262,Data!$B$2:$F$4020,5,FALSE))","v":""},null,{"$f":"CONCATENATE(A262,D262)","v":""},{"$f":"IF(ISNA(VLOOKUP(E262,Data!$A$2:$I$4020,7,FALSE)),\"\",VLOOKUP(E262,Data!$A$2:$I$4020,7,FALSE))","v":""},{"$f":"IF(ISNA(VLOOKUP(E262,Data!$A$2:$I$4020,9,FALSE)),\"\",VLOOKUP(E262,Data!$A$2:$I$4020,9,FALSE))","v":""},{"$f":"IF(ISNA(VLOOKUP(E262,Data!$A$2:$J$4020,10,FALSE)),\"\",VLOOKUP(E262,Data!$A$2:$J$4020,10,FALSE))","v":""},{"$nulls":13},{"$f":"SUM(S262:U262)","v":0}]
[null,{"$f":"IF(A263=\"\",\"\",VLOOKUP(A263,Data!$B$2:$D$4020,3,FALSE))","v":""},{"$f":"IF(A263=\"\",\"\",VLOOKUP(A263,Data!$B$2:$F$4020,5,FALSE))","v":""},null,{"$f":"CONCATENATE(A263,D263)","v":""},{"$f":"IF(ISNA(VLOOKUP(E263,Data!$A$2:$I$4020,7,FALSE)),\"\",VLOOKUP(E263,Data!$A$2:$I$4020,7,FALSE))","v":""},{"$f":"IF(ISNA(VLOOKUP(E263,Data!$A$2:$I$4020,9,FALSE)),\"\",VLOOKUP(E263,Data!$A$2:$I$4020,9,FALSE))","v":""},{"$f":"IF(ISNA(VLOOKUP(E263,Data!$A$2:$J$4020,10,FALSE)),\"\",VLOOKUP(E263,Data!$A$2:$J$4020,10,FALSE))","v":""},{"$nulls":13},{"$f":"SUM(S263:U263)","v":0}]
[null,{"$f":"IF(A264=\"\",\"\",VLOOKUP(A264,Data!$B$2:$D$4020,3,FALSE))","v":""},{"$f":"IF(A264=\"\",\"\",VLOOKUP(A264,Data!$B$2:$F$4020,5,FALSE))","v":""},null,{"$f":"CONCATENATE(A264,D264)","v":""},{"$f":"IF(ISNA(VLOOKUP(E264,Data!$A$2:$I$4020,7,FALSE)),\"\",VLOOKUP(E264,Data!$A$2:$I$4020,7,FALSE))","v":""},{"$f":"IF(ISNA(VLOOKUP(E264,Data!$A$2:$I$4020,9,FALSE)),\"\",VLOOKUP(E264,Data!$A$2:$I$4020,9,FALSE))","v":""},{"$f":"IF(ISNA(VLOOKUP(E264,Data!$A$2:$J$4020,10,FALSE)),\"\",VLOOKUP(E264,Data!$A$2:$J$4020,10,FALSE))","v":""},{"$nulls":13},{"$f":"SUM(S264:U264)","v":0}]
[null,{"$f":"IF(A265=\"\",\"\",VLOOKUP(A265,Data!$B$2:$D$4020,3,FALSE))","v":""},{"$f":"IF(A265=\"\",\"\",VLOOKUP(A265,Data!$B$2:$F$4020,5,FALSE))","v":""},null,{"$f":"CONCATENATE(A265,D265)","v":""},{"$f":"IF(ISNA(VLOOKUP(E265,Data!$A$2:$I$4020,7,FALSE)),\"\",VLOOKUP(E265,Data!$A$2:$I$4020,7,FALSE))","v":""},{"$f":"IF(ISNA(VLOOKUP(E265,Data!$A$2:$I$4020,9,FALSE)),\"\",VLOOKUP(E265,Data!$A$2:$I$4020,9,FALSE))","v":""},{"$f":"IF(ISNA(VLOOKUP(E265,Data!$A$2:$J$4020,10,FALSE)),\"\",VLOOKUP(E265,Data!$A$2:$J$4020,10,FALSE))","v":""},{"$nulls":13},{"$f":"SUM(S265:U265)","v":0}]
[null,{"$f":"IF(A266=\"\",\"\",VLOOKUP(A266,Data!$B$2:$D$4020,3,FALSE))","v":""},{"$f":"IF(A266=\"\",\"\",VLOOKUP(A266,Data!$B$2:$F$4020,5,FALSE))","v":""},null,{"$f":"CONCATENATE(A266,D266)","v":""},{"$f":"IF(ISNA(VLOOKUP(E266,Data!$A$2:$I$4020,7,FALSE)),\"\",VLOOKUP(E266,Data!$A$2:$I$4020,7,FALSE))","v":""},{"$f":"IF(ISNA(VLOOKUP(E266,Data!$A$2:$I$4020,9,FALSE)),\"\",VLOOKUP(E266,Data!$A$2:$I$4020,9,FALSE))","v":""},{"$f":"IF(ISNA(VLOOKUP(E266,Data!$A$2:$J$4020,10,FALSE)),\"\",VLOOKUP(E266,Data!$A$2:$J$4020,10,FALSE))","v":""},{"$nulls":13},{"$f":"SUM(S266:U266)","v":0}]
[null,{"$f":"IF(A267=\"\",\"\",VLOOKUP(A267,Data!$B$2:$D$4020,3,FALSE))","v":""},{"$f":"IF(A267=\"\",\"\",VLOOKUP(A267,Data!$B$2:$F$4020,5,FALSE))","v":""},null,{"$f":"CONCATENATE(A267,D267)","v":""},{"$f":"IF(ISNA(VLOOKUP(E267,Data!$A$2:$I$4020,7,FALSE)),\"\",VLOOKUP(E267,Data!$A$2:$I$4020,7,FALSE))","v":""},{"$f":"IF(ISNA(VLOOKUP(E267,Data!$A$2:$I$4020,9,FALSE)),\"\",VLOOKUP(E267,Data!$A$2:$I$4020,9,FALSE))","v":""},{"$f":"IF(ISNA(VLOOKUP(E267,Data!$A$2:$J$4020,10,FALSE)),\"\",VLOOKUP(E267,Data!$A$2:$J$4020,10,FALSE))","v":""},{"$nulls":13},{"$f":"SUM(S267:U267)","v":0}]
[null,{"$f":"IF(A268=\"\",\"\",VLOOKUP(A268,Data!$B$2:$D$4020,3,FALSE))","v":""},{"$f":"IF(A268=\"\",\"\",VLOOKUP(A268,Data!$B$2:$F$4020,5,FALSE))","v":""},null,{"$f":"CONCATENATE(A268,D268)","v":""},{"$f":"IF(ISNA(VLOOKUP(E268,Data!$A$2:$I$4020,7,FALSE)),\"\",VLOOKUP(E268,Data!$A$2:$I$4020,7,FALSE))","v":""},{"$f":"IF(ISNA(VLOOKUP(E268,Data!$A$2:$I$4020,9,FALSE)),\"\",VLOOKUP(E268,Data!$A$2:$I$4020,9,FALSE))","v":""},{"$f":"IF(ISNA(VLOOKUP(E268,Data!$A$2:$J$4020,10,FALSE)),\"\",VLOOKUP(E268,Data!$A$2:$J$4020,10,FALSE))","v":""},{"$nulls":13},{"$f":"SUM(S268:U268)","v":0}]
[null,{"$f":"IF(A269=\"\",\"\",VLOOKUP(A269,Data!$B$2:$D$4020,3,FALSE))","v":""},{"$f":"IF(A269=\"\",\"\",VLOOKUP(A269,Data!$B$2:$F$4020,5,FALSE))","v":""},null,{"$f":"CONCATENATE(A269,D269)","v":""},{"$f":"IF(ISNA(VLOOKUP(E269,Data!$A$2:$I$4020,7,FALSE)),\"\",VLOOKUP(E269,Data!$A$2:$I$4020,7,FALSE))","v":""},{"$f":"IF(ISNA(VLOOKUP(E269,Data!$A$2:$I$4020,9,FALSE)),\"\",VLOOKUP(E269,Data!$A$2:$I$4020,9,FALSE))","v":""},{"$f":"IF(ISNA(VLOOKUP(E269,Data!$A$2:$J$4020,10,FALSE)),\"\",VLOOKUP(E269,Data!$A$2:$J$4020,10,FALSE))","v":""},{"$nulls":13},{"$f":"SUM(S269:U269)","v":0}]
[null,{"$f":"IF(A270=\"\",\"\",VLOOKUP(A270,Data!$B$2:$D$4020,3,FALSE))","v":""},{"$f":"IF(A270=\"\",\"\",VLOOKUP(A270,Data!$B$2:$F$4020,5,FALSE))","v":""},null,{"$f":"CONCATENATE(A270,D270)","v":""},{"$f":"IF(ISNA(VLOOKUP(E270,Data!$A$2:$I$4020,7,FALSE)),\"\",VLOOKUP(E270,Data!$A$2:$I$4020,7,FALSE))","v":""},{"$f":"IF(ISNA(VLOOKUP(E270,Data!$A$2:$I$4020,9,FALSE)),\"\",VLOOKUP(E270,Data!$A$2:$I$4020,9,FALSE))","v":""},{"$f":"IF(ISNA(VLOOKUP(E270,Data!$A$2:$J$4020,10,FALSE)),\"\",VLOOKUP(E270,Data!$A$2:$J$4020,10,FALSE))","v":""},{"$nulls":13},{"$f":"SUM(S270:U270)","v":0}]
[null,{"$f":"IF(A271=\"\",\"\",VLOOKUP(A271,Data!$B$2:$D$4020,3,FALSE))","v":""},{"$f":"IF(A271=\"\",\"\",VLOOKUP(A271,Data!$B$2:$F$4020,5,FALSE))","v":""},null,{"$f":"CONCATENATE(A271,D271)","v":""},{"$f":"IF(ISNA(VLOOKUP(E271,Data!$A$2:$I$4020,7,FALSE)),\"\",VLOOKUP(E271,Data!$A$2:$I$4020,7,FALSE))","v":""},{"$f":"IF(ISNA(VLOOKUP(E271,Data!$A$2:$I$4020,9,FALSE)),\"\",VLOOKUP(E271,Data!$A$2:$I$4020,9,FALSE))","v":""},{"$f":"IF(ISNA(VLOOKUP(E271,Data!$A$2:$J$4020,10,FALSE)),\"\",VLOOKUP(E271,Data!$A$2:$J$4020,10,FALSE))","v":""},{"$nulls":13},{"$f":"SUM(S271:U271)","v":0}]
[null,{"$f":"IF(A272=\"\",\"\",VLOOKUP(A272,Data!$B$2:$D$4020,3,FALSE))","v":""},{"$f":"IF(A272=\"\",\"\",VLOOKUP(A272,Data!$B$2:$F$4020,5,FALSE))","v":""},null,{"$f":"CONCATENATE(A272,D272)","v":""},{"$f":"IF(ISNA(VLOOKUP(E272,Data!$A$2:$I$4020,7,FALSE)),\"\",VLOOKUP(E272,Data!$A$2:$I$4020,7,FALSE))","v":""},{"$f":"IF(ISNA(VLOOKUP(E272,Data!$A$2:$I$4020,9,FALSE)),\"\",VLOOKUP(E272,Data!$A$2:$I$4020,9,FALSE))","v":""},{"$f":"IF(ISNA(VLOOKUP(E272,Data!$A$2:$J$4020,10,FALSE)),\"\",VLOOKUP(E272,Data!$A$2:$J$4020,10,FALSE))","v":""},{"$nulls":13},{"$f":"SUM(S272:U272)","v":0}]
[null,{"$f":"IF(A273=\"\",\"\",VLOOKUP(A273,Data!$B$2:$D$4020,3,FALSE))","v":""},{"$f":"IF(A273=\"\",\"\",VLOOKUP(A273,Data!$B$2:$F$4020,5,FALSE))","v":""},null,{"$f":"CONCATENATE(A273,D273)","v":""},{"$f":"IF(ISNA(VLOOKUP(E273,Data!$A$2:$I$4020,7,FALSE)),\"\",VLOOKUP(E273,Data!$A$2:$I$4020,7,FALSE))","v":""},{"$f":"IF(ISNA(VLOOKUP(E273,Data!$A$2:$I$4020,9,FALSE)),\"\",VLOOKUP(E273,Data!$A$2:$I$4020,9,FALSE))","v":""},{"$f":"IF(ISNA(VLOOKUP(E273,Data!$A$2:$J$4020,10,FALSE)),\"\",VLOOKUP(E273,Data!$A$2:$J$4020,10,FALSE))","v":""},{"$nulls":13},{"$f":"SUM(S273:U273)","v":0}]
[null,{"$f":"IF(A274=\"\",\"\",VLOOKUP(A274,Data!$B$2:$D$4020,3,FALSE))","v":""},{"$f":"IF(A274=\"\",\"\",VLOOKUP(A274,Data!$B$2:$F$4020,5,FALSE))","v":""},null,{"$f":"CONCATENATE(A274,D274)","v":""},{"$f":"IF(ISNA(VLOOKUP(E274,Data!$A$2:$I$4020,7,FALSE)),\"\",VLOOKUP(E274,Data!$A$2:$I$4020,7,FALSE))","v":""},{"$f":"IF(ISNA(VLOOKUP(E274,Data!$A$2:$I$4020,9,FALSE)),\"\",VLOOKUP(E274,Data!$A$2:$I$4020,9,FALSE))","v":""},{"$f":"IF(ISNA(VLOOKUP(E274,Data!$A$2:$J$4020,10,FALSE)),\"\",VLOOKUP(E274,Data!$A$2:$J$4020,10,FALSE))","v":""},{"$nulls":13},{"$f":"SUM(S274:U274)","v":0}]
[null,{"$f":"IF(A275=\"\",\"\",VLOOKUP(A275,Data!$B$2:$D$4020,3,FALSE))","v":""},{"$f":"IF(A275=\"\",\"\",VLOOKUP(A275,Data!$B$2:$F$4020,5,FALSE))","v":""},null,{"$f":"CONCATENATE(A275,D275)","v":""},{"$f":"IF(ISNA(VLOOKUP(E275,Data!$A$2:$I$4020,7,FALSE)),\"\",VLOOKUP(E275,Data!$A$2:$I$4020,7,FALSE))","v":""},{"$f":"IF(ISNA(VLOOKUP(E275,Data!$A$2:$I$4020,9,FALSE)),\"\",VLOOKUP(E275,Data!$A$2:$I$4020,9,FALSE))","v":""},{"$f":"IF(ISNA(VLOOKUP(E275,Data!$A$2:$J$4020,10,FALSE)),\"\",VLOOKUP(E275,Data!$A$2:$J$4020,10,FALSE))","v":""},{"$nulls":13},{"$f":"SUM(S275:U275)","v":0}]
[null,{"$f":"IF(A276=\"\",\"\",VLOOKUP(A276,Data!$B$2:$D$4020,3,FALSE))","v":""},{"$f":"IF(A276=\"\",\"\",VLOOKUP(A276,Data!$B$2:$F$4020,5,FALSE))","v":""},null,{"$f":"CONCATENATE(A276,D276)","v":""},{"$f":"IF(ISNA(VLOOKUP(E276,Data!$A$2:$I$4020,7,FALSE)),\"\",VLOOKUP(E276,Data!$A$2:$I$4020,7,FALSE))","v":""},{"$f":"IF(ISNA(VLOOKUP(E276,Data!$A$2:$I$4020,9,FALSE)),\"\",VLOOKUP(E276,Data!$A$2:$I$4020,9,FALSE))","v":""},{"$f":"IF(ISNA(VLOOKUP(E276,Data!$A$2:$J$4020,10,FALSE)),\"\",VLOOKUP(E276,Data!$A$2:$J$4020,10,FALSE))","v":""},{"$nulls":13},{"$f":"SUM(S276:U276)","v":0}]
[null,{"$f":"IF(A277=\"\",\"\",VLOOKUP(A277,Data!$B$2:$D$4020,3,FALSE))","v":""},{"$f":"IF(A277=\"\",\"\",VLOOKUP(A277,Data!$B$2:$F$4020,5,FALSE))","v":""},null,{"$f":"CONCATENATE(A277,D277)","v":""},{"$f":"IF(ISNA(VLOOKUP(E277,Data!$A$2:$I$4020,7,FALSE)),\"\",VLOOKUP(E277,Data!$A$2:$I$4020,7,FALSE))","v":""},{"$f":"IF(ISNA(VLOOKUP(E277,Data!$A$2:$I$4020,9,FALSE)),\"\",VLOOKUP(E277,Data!$A$2:$I$4020,9,FALSE))","v":""},{"$f":"IF(ISNA(VLOOKUP(E277,Data!$A$2:$J$4020,10,FALSE)),\"\",VLOOKUP(E277,Data!$A$2:$J$4020,10,FALSE))","v":""},{"$nulls":13},{"$f":"SUM(S277:U277)","v":0}]
[null,{"$f":"IF(A278=\"\",\"\",VLOOKUP(A278,Data!$B$2:$D$4020,3,FALSE))","v":""},{"$f":"IF(A278=\"\",\"\",VLOOKUP(A278,Data!$B$2:$F$4020,5,FALSE))","v":""},null,{"$f":"CONCATENATE(A278,D278)","v":""},{"$f":"IF(ISNA(VLOOKUP(E278,Data!$A$2:$I$4020,7,FALSE)),\"\",VLOOKUP(E278,Data!$A$2:$I$4020,7,FALSE))","v":""},{"$f":"IF(ISNA(VLOOKUP(E278,Data!$A$2:$I$4020,9,FALSE)),\"\",VLOOKUP(E278,Data!$A$2:$I$4020,9,FALSE))","v":""},{"$f":"IF(ISNA(VLOOKUP(E278,Data!$A$2:$J$4020,10,FALSE)),\"\",VLOOKUP(E278,Data!$A$2:$J$4020,10,FALSE))","v":""},{"$nulls":13},{"$f":"SUM(S278:U278)","v":0}]
[null,{"$f":"IF(A279=\"\",\"\",VLOOKUP(A279,Data!$B$2:$D$4020,3,FALSE))","v":""},{"$f":"IF(A279=\"\",\"\",VLOOKUP(A279,Data!$B$2:$F$4020,5,FALSE))","v":""},null,{"$f":"CONCATENATE(A279,D279)","v":""},{"$f":"IF(ISNA(VLOOKUP(E279,Data!$A$2:$I$4020,7,FALSE)),\"\",VLOOKUP(E279,Data!$A$2:$I$4020,7,FALSE))","v":""},{"$f":"IF(ISNA(VLOOKUP(E279,Data!$A$2:$I$4020,9,FALSE)),\"\",VLOOKUP(E279,Data!$A$2:$I$4020,9,FALSE))","v":""},{"$f":"IF(ISNA(VLOOKUP(E279,Data!$A$2:$J$4020,10,FALSE)),\"\",VLOOKUP(E279,Data!$A$2:$J$4020,10,FALSE))","v":""},{"$nulls":13},{"$f":"SUM(S279:U279)","v":0}]
[null,{"$f":"IF(A280=\"\",\"\",VLOOKUP(A280,Data!$B$2:$D$4020,3,FALSE))","v":""},{"$f":"IF(A280=\"\",\"\",VLOOKUP(A280,Data!$B$2:$F$4020,5,FALSE))","v":""},null,{"$f":"CONCATENATE(A280,D280)","v":""},{"$f":"IF(ISNA(VLOOKUP(E280,Data!$A$2:$I$4020,7,FALSE)),\"\",VLOOKUP(E280,Data!$A$2:$I$4020,7,FALSE))","v":""},{"$f":"IF(ISNA(VLOOKUP(E280,Data!$A$2:$I$4020,9,FALSE)),\"\",VLOOKUP(E280,Data!$A$2:$I$4020,9,FALSE))","v":""},{"$f":"IF(ISNA(VLOOKUP(E280,Data!$A$2:$J$4020,10,FALSE)),\"\",VLOOKUP(E280,Data!$A$2:$J$4020,10,FALSE))","v":""},{"$nulls":13},{"$f":"SUM(S280:U280)","v":0}]
[null,{"$f":"IF(A281=\"\",\"\",VLOOKUP(A281,Data!$B$2:$D$4020,3,FALSE))","v":""},{"$f":"IF(A281=\"\",\"\",VLOOKUP(A281,Data!$B$2:$F$4020,5,FALSE))","v":""},null,{"$f":"CONCATENATE(A281,D281)","v":""},{"$f":"IF(ISNA(VLOOKUP(E281,Data!$A$2:$I$4020,7,FALSE)),\"\",VLOOKUP(E281,Data!$A$2:$I$4020,7,FALSE))","v":""},{"$f":"IF(ISNA(VLOOKUP(E281,Data!$A$2:$I$4020,9,FALSE)),\"\",VLOOKUP(E281,Data!$A$2:$I$4020,9,FALSE))","v":""},{"$f":"IF(ISNA(VLOOKUP(E281,Data!$A$2:$J$4020,10,FALSE)),\"\",VLOOKUP(E281,Data!$A$2:$J$4020,10,FALSE))","v":""},{"$nulls":13},{"$f":"SUM(S281:U281)","v":0}]
[null,{"$f":"IF(A282=\"\",\"\",VLOOKUP(A282,Data!$B$2:$D$4020,3,FALSE))","v":""},{"$f":"IF(A282=\"\",\"\",VLOOKUP(A282,Data!$B$2:$F$4020,5,FALSE))","v":""},null,{"$f":"CONCATENATE(A282,D282)","v":""},{"$f":"IF(ISNA(VLOOKUP(E282,Data!$A$2:$I$4020,7,FALSE)),\"\",VLOOKUP(E282,Data!$A$2:$I$4020,7,FALSE))","v":""},{"$f":"IF(ISNA(VLOOKUP(E282,Data!$A$2:$I$4020,9,FALSE)),\"\",VLOOKUP(E282,Data!$A$2:$I$4020,9,FALSE))","v":""},{"$f":"IF(ISNA(VLOOKUP(E282,Data!$A$2:$J$4020,10,FALSE)),\"\",VLOOKUP(E282,Data!$A$2:$J$4020,10,FALSE))","v":""},{"$nulls":13},{"$f":"SUM(S282:U282)","v":0}]
[null,{"$f":"IF(A283=\"\",\"\",VLOOKUP(A283,Data!$B$2:$D$4020,3,FALSE))","v":""},{"$f":"IF(A283=\"\",\"\",VLOOKUP(A283,Data!$B$2:$F$4020,5,FALSE))","v":""},null,{"$f":"CONCATENATE(A283,D283)","v":""},{"$f":"IF(ISNA(VLOOKUP(E283,Data!$A$2:$I$4020,7,FALSE)),\"\",VLOOKUP(E283,Data!$A$2:$I$4020,7,FALSE))","v":""},{"$f":"IF(ISNA(VLOOKUP(E283,Data!$A$2:$I$4020,9,FALSE)),\"\",VLOOKUP(E283,Data!$A$2:$I$4020,9,FALSE))","v":""},{"$f":"IF(ISNA(VLOOKUP(E283,Data!$A$2:$J$4020,10,FALSE)),\"\",VLOOKUP(E283,Data!$A$2:$J$4020,10,FALSE))","v":""},{"$nulls":13},{"$f":"SUM(S283:U283)","v":0}]
[null,{"$f":"IF(A284=\"\",\"\",VLOOKUP(A284,Data!$B$2:$D$4020,3,FALSE))","v":""},{"$f":"IF(A284=\"\",\"\",VLOOKUP(A284,Data!$B$2:$F$4020,5,FALSE))","v":""},null,{"$f":"CONCATENATE(A284,D284)","v":""},{"$f":"IF(ISNA(VLOOKUP(E284,Data!$A$2:$I$4020,7,FALSE)),\"\",VLOOKUP(E284,Data!$A$2:$I$4020,7,FALSE))","v":""},{"$f":"IF(ISNA(VLOOKUP(E284,Data!$A$2:$I$4020,9,FALSE)),\"\",VLOOKUP(E284,Data!$A$2:$I$4020,9,FALSE))","v":""},{"$f":"IF(ISNA(VLOOKUP(E284,Data!$A$2:$J$4020,10,FALSE)),\"\",VLOOKUP(E284,Data!$A$2:$J$4020,10,FALSE))","v":""},{"$nulls":13},{"$f":"SUM(S284:U284)","v":0}]
[null,{"$f":"IF(A285=\"\",\"\",VLOOKUP(A285,Data!$B$2:$D$4020,3,FALSE))","v":""},{"$f":"IF(A285=\"\",\"\",VLOOKUP(A285,Data!$B$2:$F$4020,5,FALSE))","v":""},null,{"$f":"CONCATENATE(A285,D285)","v":""},{"$f":"IF(ISNA(VLOOKUP(E285,Data!$A$2:$I$4020,7,FALSE)),\"\",VLOOKUP(E285,Data!$A$2:$I$4020,7,FALSE))","v":""},{"$f":"IF(ISNA(VLOOKUP(E285,Data!$A$2:$I$4020,9,FALSE)),\"\",VLOOKUP(E285,Data!$A$2:$I$4020,9,FALSE))","v":""},{"$f":"IF(ISNA(VLOOKUP(E285,Data!$A$2:$J$4020,10,FALSE)),\"\",VLOOKUP(E285,Data!$A$2:$J$4020,10,FALSE))","v":""},{"$nulls":13},{"$f":"SUM(S285:U285)","v":0}]
[null,{"$f":"IF(A286=\"\",\"\",VLOOKUP(A286,Data!$B$2:$D$4020,3,FALSE))","v":""},{"$f":"IF(A286=\"\",\"\",VLOOKUP(A286,Data!$B$2:$F$4020,5,FALSE))","v":""},null,{"$f":"CONCATENATE(A286,D286)","v":""},{"$f":"IF(ISNA(VLOOKUP(E286,Data!$A$2:$I$4020,7,FALSE)),\"\",VLOOKUP(E286,Data!$A$2:$I$4020,7,FALSE))","v":""},{"$f":"IF(ISNA(VLOOKUP(E286,Data!$A$2:$I$4020,9,FALSE)),\"\",VLOOKUP(E286,Data!$A$2:$I$4020,9,FALSE))","v":""},{"$f":"IF(ISNA(VLOOKUP(E286,Data!$A$2:$J$4020,10,FALSE)),\"\",VLOOKUP(E286,Data!$A$2:$J$4020,10,FALSE))","v":""},{"$nulls":13},{"$f":"SUM(S286:U286)","v":0}]
[null,{"$f":"IF(A287=\"\",\"\",VLOOKUP(A287,Data!$B$2:$D$4020,3,FALSE))","v":""},{"$f":"IF(A287=\"\",\"\",VLOOKUP(A287,Data!$B$2:$F$4020,5,FALSE))","v":""},null,{"$f":"CONCATENATE(A287,D287)","v":""},{"$f":"IF(ISNA(VLOOKUP(E287,Data!$A$2:$I$4020,7,FALSE)),\"\",VLOOKUP(E287,Data!$A$2:$I$4020,7,FALSE))","v":""},{"$f":"IF(ISNA(VLOOKUP(E287,Data!$A$2:$I$4020,9,FALSE)),\"\",VLOOKUP(E287,Data!$A$2:$I$4020,9,FALSE))","v":""},{"$f":"IF(ISNA(VLOOKUP(E287,Data!$A$2:$J$4020,10,FALSE)),\"\",VLOOKUP(E287,Data!$A$2:$J$4020,10,FALSE))","v":""},{"$nulls":13},{"$f":"SUM(S287:U287)","v":0}]
[null,{"$f":"IF(A288=\"\",\"\",VLOOKUP(A288,Data!$B$2:$D$4020,3,FALSE))","v":""},{"$f":"IF(A288=\"\",\"\",VLOOKUP(A288,Data!$B$2:$F$4020,5,FALSE))","v":""},null,{"$f":"CONCATENATE(A288,D288)","v":""},{"$f":"IF(ISNA(VLOOKUP(E288,Data!$A$2:$I$4020,7,FALSE)),\"\",VLOOKUP(E288,Data!$A$2:$I$4020,7,FALSE))","v":""},{"$f":"IF(ISNA(VLOOKUP(E288,Data!$A$2:$I$4020,9,FALSE)),\"\",VLOOKUP(E288,Data!$A$2:$I$4020,9,FALSE))","v":""},{"$f":"IF(ISNA(VLOOKUP(E288,Data!$A$2:$J$4020,10,FALSE)),\"\",VLOOKUP(E288,Data!$A$2:$J$4020,10,FALSE))","v":""},{"$nulls":13},{"$f":"SUM(S288:U288)","v":0}]
[null,{"$f":"IF(A289=\"\",\"\",VLOOKUP(A289,Data!$B$2:$D$4020,3,FALSE))","v":""},{"$f":"IF(A289=\"\",\"\",VLOOKUP(A289,Data!$B$2:$F$4020,5,FALSE))","v":""},null,{"$f":"CONCATENATE(A289,D289)","v":""},{"$f":"IF(ISNA(VLOOKUP(E289,Data!$A$2:$I$4020,7,FALSE)),\"\",VLOOKUP(E289,Data!$A$2:$I$4020,7,FALSE))","v":""},{"$f":"IF(ISNA(VLOOKUP(E289,Data!$A$2:$I$4020,9,FALSE)),\"\",VLOOKUP(E289,Data!$A$2:$I$4020,9,FALSE))","v":""},{"$f":"IF(ISNA(VLOOKUP(E289,Data!$A$2:$J$4020,10,FALSE)),\"\",VLOOKUP(E289,Data!$A$2:$J$4020,10,FALSE))","v":""},{"$nulls":13},{"$f":"SUM(S289:U289)","v":0}]
[null,{"$f":"IF(A290=\"\",\"\",VLOOKUP(A290,Data!$B$2:$D$4020,3,FALSE))","v":""},{"$f":"IF(A290=\"\",\"\",VLOOKUP(A290,Data!$B$2:$F$4020,5,FALSE))","v":""},null,{"$f":"CONCATENATE(A290,D290)","v":""},{"$f":"IF(ISNA(VLOOKUP(E290,Data!$A$2:$I$4020,7,FALSE)),\"\",VLOOKUP(E290,Data!$A$2:$I$4020,7,FALSE))","v":""},{"$f":"IF(ISNA(VLOOKUP(E290,Data!$A$2:$I$4020,9,FALSE)),\"\",VLOOKUP(E290,Data!$A$2:$I$4020,9,FALSE))","v":""},{"$f":"IF(ISNA(VLOOKUP(E290,Data!$A$2:$J$4020,10,FALSE)),\"\",VLOOKUP(E290,Data!$A$2:$J$4020,10,FALSE))","v":""},{"$nulls":13},{"$f":"SUM(S290:U290)","v":0}]
[null,{"$f":"IF(A291=\"\",\"\",VLOOKUP(A291,Data!$B$2:$D$4020,3,FALSE))","v":""},{"$f":"IF(A291=\"\",\"\",VLOOKUP(A291,Data!$B$2:$F$4020,5,FALSE))","v":""},null,{"$f":"CONCATENATE(A291,D291)","v":""},{"$f":"IF(ISNA(VLOOKUP(E291,Data!$A$2:$I$4020,7,FALSE)),\"\",VLOOKUP(E291,Data!$A$2:$I$4020,7,FALSE))","v":""},{"$f":"IF(ISNA(VLOOKUP(E291,Data!$A$2:$I$4020,9,FALSE)),\"\",VLOOKUP(E291,Data!$A$2:$I$4020,9,FALSE))","v":""},{"$f":"IF(ISNA(VLOOKUP(E291,Data!$A$2:$J$4020,10,FALSE)),\"\",VLOOKUP(E291,Data!$A$2:$J$4020,10,FALSE))","v":""},{"$nulls":13},{"$f":"SUM(S291:U291)","v":0}]
[null,{"$f":"IF(A292=\"\",\"\",VLOOKUP(A292,Data!$B$2:$D$4020,3,FALSE))","v":""},{"$f":"IF(A292=\"\",\"\",VLOOKUP(A292,Data!$B$2:$F$4020,5,FALSE))","v":""},null,{"$f":"CONCATENATE(A292,D292)","v":""},{"$f":"IF(ISNA(VLOOKUP(E292,Data!$A$2:$I$4020,7,FALSE)),\"\",VLOOKUP(E292,Data!$A$2:$I$4020,7,FALSE))","v":""},{"$f":"IF(ISNA(VLOOKUP(E292,Data!$A$2:$I$4020,9,FALSE)),\"\",VLOOKUP(E292,Data!$A$2:$I$4020,9,FALSE))","v":""},{"$f":"IF(ISNA(VLOOKUP(E292,Data!$A$2:$J$4020,10,FALSE)),\"\",VLOOKUP(E292,Data!$A$2:$J$4020,10,FALSE))","v":""},{"$nulls":13},{"$f":"SUM(S292:U292)","v":0}]
[null,{"$f":"IF(A293=\"\",\"\",VLOOKUP(A293,Data!$B$2:$D$4020,3,FALSE))","v":""},{"$f":"IF(A293=\"\",\"\",VLOOKUP(A293,Data!$B$2:$F$4020,5,FALSE))","v":""},null,{"$f":"CONCATENATE(A293,D293)","v":""},{"$f":"IF(ISNA(VLOOKUP(E293,Data!$A$2:$I$4020,7,FALSE)),\"\",VLOOKUP(E293,Data!$A$2:$I$4020,7,FALSE))","v":""},{"$f":"IF(ISNA(VLOOKUP(E293,Data!$A$2:$I$4020,9,FALSE)),\"\",VLOOKUP(E293,Data!$A$2:$I$4020,9,FALSE))","v":""},{"$f":"IF(ISNA(VLOOKUP(E293,Data!$A$2:$J$4020,10,FALSE)),\"\",VLOOKUP(E293,Data!$A$2:$J$4020,10,FALSE))","v":""},{"$nulls":13},{"$f":"SUM(S293:U293)","v":0}]
[null,{"$f":"IF(A294=\"\",\"\",VLOOKUP(A294,Data!$B$2:$D$4020,3,FALSE))","v":""},{"$f":"IF(A294=\"\",\"\",VLOOKUP(A294,Data!$B$2:$F$4020,5,FALSE))","v":""},null,{"$f":"CONCATENATE(A294,D294)","v":""},{"$f":"IF(ISNA(VLOOKUP(E294,Data!$A$2:$I$4020,7,FALSE)),\"\",VLOOKUP(E294,Data!$A$2:$I$4020,7,FALSE))","v":""},{"$f":"IF(ISNA(VLOOKUP(E294,Data!$A$2:$I$4020,9,FALSE)),\"\",VLOOKUP(E294,Data!$A$2:$I$4020,9,FALSE))","v":""},{"$f":"IF(ISNA(VLOOKUP(E294,Data!$A$2:$J$4020,10,FALSE)),\"\",VLOOKUP(E294,Data!$A$2:$J$4020,10,FALSE))","v":""},{"$nulls":13},{"$f":"SUM(S294:U294)","v":0}]
[null,{"$f":"IF(A295=\"\",\"\",VLOOKUP(A295,Data!$B$2:$D$4020,3,FALSE))","v":""},{"$f":"IF(A295=\"\",\"\",VLOOKUP(A295,Data!$B$2:$F$4020,5,FALSE))","v":""},null,{"$f":"CONCATENATE(A295,D295)","v":""},{"$f":"IF(ISNA(VLOOKUP(E295,Data!$A$2:$I$4020,7,FALSE)),\"\",VLOOKUP(E295,Data!$A$2:$I$4020,7,FALSE))","v":""},{"$f":"IF(ISNA(VLOOKUP(E295,Data!$A$2:$I$4020,9,FALSE)),\"\",VLOOKUP(E295,Data!$A$2:$I$4020,9,FALSE))","v":""},{"$f":"IF(ISNA(VLOOKUP(E295,Data!$A$2:$J$4020,10,FALSE)),\"\",VLOOKUP(E295,Data!$A$2:$J$4020,10,FALSE))","v":""},{"$nulls":13},{"$f":"SUM(S295:U295)","v":0}]
[null,{"$f":"IF(A296=\"\",\"\",VLOOKUP(A296,Data!$B$2:$D$4020,3,FALSE))","v":""},{"$f":"IF(A296=\"\",\"\",VLOOKUP(A296,Data!$B$2:$F$4020,5,FALSE))","v":""},null,{"$f":"CONCATENATE(A296,D296)","v":""},{"$f":"IF(ISNA(VLOOKUP(E296,Data!$A$2:$I$4020,7,FALSE)),\"\",VLOOKUP(E296,Data!$A$2:$I$4020,7,FALSE))","v":""},{"$f":"IF(ISNA(VLOOKUP(E296,Data!$A$2:$I$4020,9,FALSE)),\"\",VLOOKUP(E296,Data!$A$2:$I$4020,9,FALSE))","v":""},{"$f":"IF(ISNA(VLOOKUP(E296,Data!$A$2:$J$4020,10,FALSE)),\"\",VLOOKUP(E296,Data!$A$2:$J$4020,10,FALSE))","v":""},{"$nulls":13},{"$f":"SUM(S296:U296)","v":0}]
[null,{"$f":"IF(A297=\"\",\"\",VLOOKUP(A297,Data!$B$2:$D$4020,3,FALSE))","v":""},{"$f":"IF(A297=\"\",\"\",VLOOKUP(A297,Data!$B$2:$F$4020,5,FALSE))","v":""},null,{"$f":"CONCATENATE(A297,D297)","v":""},{"$f":"IF(ISNA(VLOOKUP(E297,Data!$A$2:$I$4020,7,FALSE)),\"\",VLOOKUP(E297,Data!$A$2:$I$4020,7,FALSE))","v":""},{"$f":"IF(ISNA(VLOOKUP(E297,Data!$A$2:$I$4020,9,FALSE)),\"\",VLOOKUP(E297,Data!$A$2:$I$4020,9,FALSE))","v":""},{"$f":"IF(ISNA(VLOOKUP(E297,Data!$A$2:$J$4020,10,FALSE)),\"\",VLOOKUP(E297,Data!$A$2:$J$4020,10,FALSE))","v":""},{"$nulls":13},{"$f":"SUM(S297:U297)","v":0}]
[null,{"$f":"IF(A298=\"\",\"\",VLOOKUP(A298,Data!$B$2:$D$4020,3,FALSE))","v":""},{"$f":"IF(A298=\"\",\"\",VLOOKUP(A298,Data!$B$2:$F$4020,5,FALSE))","v":""},null,{"$f":"CONCATENATE(A298,D298)","v":""},{"$f":"IF(ISNA(VLOOKUP(E298,Data!$A$2:$I$4020,7,FALSE)),\"\",VLOOKUP(E298,Data!$A$2:$I$4020,7,FALSE))","v":""},{"$f":"IF(ISNA(VLOOKUP(E298,Data!$A$2:$I$4020,9,FALSE)),\"\",VLOOKUP(E298,Data!$A$2:$I$4020,9,FALSE))","v":""},{"$f":"IF(ISNA(VLOOKUP(E298,Data!$A$2:$J$4020,10,FALSE)),\"\",VLOOKUP(E298,Data!$A$2:$J$4020,10,FALSE))","v":""},{"$nulls":13},{"$f":"SUM(S298:U298)","v":0}]
[null,{"$f":"IF(A299=\"\",\"\",VLOOKUP(A299,Data!$B$2:$D$4020,3,FALSE))","v":""},{"$f":"IF(A299=\"\",\"\",VLOOKUP(A299,Data!$B$2:$F$4020,5,FALSE))","v":""},null,{"$f":"CONCATENATE(A299,D299)","v":""},{"$f":"IF(ISNA(VLOOKUP(E299,Data!$A$2:$I$4020,7,FALSE)),\"\",VLOOKUP(E299,Data!$A$2:$I$4020,7,FALSE))","v":""},{"$f":"IF(ISNA(VLOOKUP(E299,Data!$A$2:$I$4020,9,FALSE)),\"\",VLOOKUP(E299,Data!$A$2:$I$4020,9,FALSE))","v":""},{"$f":"IF(ISNA(VLOOKUP(E299,Data!$A$2:$J$4020,10,FALSE)),\"\",VLOOKUP(E299,Data!$A$2:$J$4020,10,FALSE))","v":""},{"$nulls":13},{"$f":"SUM(S299:U299)","v":0}]
[null,{"$f":"IF(A300=\"\",\"\",VLOOKUP(A300,Data!$B$2:$D$4020,3,FALSE))","v":""},{"$f":"IF(A300=\"\",\"\",VLOOKUP(A300,Data!$B$2:$F$4020,5,FALSE))","v":""},null,{"$f":"CONCATENATE(A300,D300)","v":""},{"$f":"IF(ISNA(VLOOKUP(E300,Data!$A$2:$I$4020,7,FALSE)),\"\",VLOOKUP(E300,Data!$A$2:$I$4020,7,FALSE))","v":""},{"$f":"IF(ISNA(VLOOKUP(E300,Data!$A$2:$I$4020,9,FALSE)),\"\",VLOOKUP(E300,Data!$A$2:$I$4020,9,FALSE))","v":""},{"$f":"IF(ISNA(VLOOKUP(E300,Data!$A$2:$J$4020,10,FALSE)),\"\",VLOOKUP(E300,Data!$A$2:$J$4020,10,FALSE))","v":""},{"$nulls":13},{"$f":"SUM(S300:U300)","v":0}]
[null,{"$f":"IF(A301=\"\",\"\",VLOOKUP(A301,Data!$B$2:$D$4020,3,FALSE))","v":""},{"$f":"IF(A301=\"\",\"\",VLOOKUP(A301,Data!$B$2:$F$4020,5,FALSE))","v":""},null,{"$f":"CONCATENATE(A301,D301)","v":""},{"$f":"IF(ISNA(VLOOKUP(E301,Data!$A$2:$I$4020,7,FALSE)),\"\",VLOOKUP(E301,Data!$A$2:$I$4020,7,FALSE))","v":""},{"$f":"IF(ISNA(VLOOKUP(E301,Data!$A$2:$I$4020,9,FALSE)),\"\",VLOOKUP(E301,Data!$A$2:$I$4020,9,FALSE))","v":""},{"$f":"IF(ISNA(VLOOKUP(E301,Data!$A$2:$J$4020,10,FALSE)),\"\",VLOOKUP(E301,Data!$A$2:$J$4020,10,FALSE))","v":""},{"$nulls":13},{"$f":"SUM(S301:U301)","v":0}]
[null,{"$f":"IF(A302=\"\",\"\",VLOOKUP(A302,Data!$B$2:$D$4020,3,FALSE))","v":""},{"$f":"IF(A302=\"\",\"\",VLOOKUP(A302,Data!$B$2:$F$4020,5,FALSE))","v":""},null,{"$f":"CONCATENATE(A302,D302)","v":""},{"$f":"IF(ISNA(VLOOKUP(E302,Data!$A$2:$I$4020,7,FALSE)),\"\",VLOOKUP(E302,Data!$A$2:$I$4020,7,FALSE))","v":""},{"$f":"IF(ISNA(VLOOKUP(E302,Data!$A$2:$I$4020,9,FALSE)),\"\",VLOOKUP(E302,Data!$A$2:$I$4020,9,FALSE))","v":""},{"$f":"IF(ISNA(VLOOKUP(E302,Data!$A$2:$J$4020,10,FALSE)),\"\",VLOOKUP(E302,Data!$A$2:$J$4020,10,FALSE))","v":""},{"$nulls":13},{"$f":"SUM(S302:U302)","v":0}]
[null,{"$f":"IF(A303=\"\",\"\",VLOOKUP(A303,Data!$B$2:$D$4020,3,FALSE))","v":""},{"$f":"IF(A303=\"\",\"\",VLOOKUP(A303,Data!$B$2:$F$4020,5,FALSE))","v":""},null,{"$f":"CONCATENATE(A303,D303)","v":""},{"$f":"IF(ISNA(VLOOKUP(E303,Data!$A$2:$I$4020,7,FALSE)),\"\",VLOOKUP(E303,Data!$A$2:$I$4020,7,FALSE))","v":""},{"$f":"IF(ISNA(VLOOKUP(E303,Data!$A$2:$I$4020,9,FALSE)),\"\",VLOOKUP(E303,Data!$A$2:$I$4020,9,FALSE))","v":""},{"$f":"IF(ISNA(VLOOKUP(E303,Data!$A$2:$J$4020,10,FALSE)),\"\",VLOOKUP(E303,Data!$A$2:$J$4020,10,FALSE))","v":""},{"$nulls":13},{"$f":"SUM(S303:U303)","v":0}]
[null,{"$f":"IF(A304=\"\",\"\",VLOOKUP(A304,Data!$B$2:$D$4020,3,FALSE))","v":""},{"$f":"IF(A304=\"\",\"\",VLOOKUP(A304,Data!$B$2:$F$4020,5,FALSE))","v":""},null,{"$f":"CONCATENATE(A304,D304)","v":""},{"$f":"IF(ISNA(VLOOKUP(E304,Data!$A$2:$I$4020,7,FALSE)),\"\",VLOOKUP(E304,Data!$A$2:$I$4020,7,FALSE))","v":""},{"$f":"IF(ISNA(VLOOKUP(E304,Data!$A$2:$I$4020,9,FALSE)),\"\",VLOOKUP(E304,Data!$A$2:$I$4020,9,FALSE))","v":""},{"$f":"IF(ISNA(VLOOKUP(E304,Data!$A$2:$J$4020,10,FALSE)),\"\",VLOOKUP(E304,Data!$A$2:$J$4020,10,FALSE))","v":""},{"$nulls":13},{"$f":"SUM(S304:U304)","v":0}]
[null,{"$f":"IF(A305=\"\",\"\",VLOOKUP(A305,Data!$B$2:$D$4020,3,FALSE))","v":""},{"$f":"IF(A305=\"\",\"\",VLOOKUP(A305,Data!$B$2:$F$4020,5,FALSE))","v":""},null,{"$f":"CONCATENATE(A305,D305)","v":""},{"$f":"IF(ISNA(VLOOKUP(E305,Data!$A$2:$I$4020,7,FALSE)),\"\",VLOOKUP(E305,Data!$A$2:$I$4020,7,FALSE))","v":""},{"$f":"IF(ISNA(VLOOKUP(E305,Data!$A$2:$I$4020,9,FALSE)),\"\",VLOOKUP(E305,Data!$A$2:$I$4020,9,FALSE))","v":""},{"$f":"IF(ISNA(VLOOKUP(E305,Data!$A$2:$J$4020,10,FALSE)),\"\",VLOOKUP(E305,Data!$A$2:$J$4020,10,FALSE))","v":""},{"$nulls":13},{"$f":"SUM(S305:U305)","v":0}]
[null,{"$f":"IF(A306=\"\",\"\",VLOOKUP(A306,Data!$B$2:$D$4020,3,FALSE))","v":""},{"$f":"IF(A306=\"\",\"\",VLOOKUP(A306,Data!$B$2:$F$4020,5,FALSE))","v":""},null,{"$f":"CONCATENATE(A306,D306)","v":""},{"$f":"IF(ISNA(VLOOKUP(E306,Data!$A$2:$I$4020,7,FALSE)),\"\",VLOOKUP(E306,Data!$A$2:$I$4020,7,FALSE))","v":""},{"$f":"IF(ISNA(VLOOKUP(E306,Data!$A$2:$I$4020,9,FALSE)),\"\",VLOOKUP(E306,Data!$A$2:$I$4020,9,FALSE))","v":""},{"$f":"IF(ISNA(VLOOKUP(E306,Data!$A$2:$J$4020,10,FALSE)),\"\",VLOOKUP(E306,Data!$A$2:$J$4020,10,FALSE))","v":""},{"$nulls":13},{"$f":"SUM(S306:U306)","v":0}]
[null,{"$f":"IF(A307=\"\",\"\",VLOOKUP(A307,Data!$B$2:$D$4020,3,FALSE))","v":""},{"$f":"IF(A307=\"\",\"\",VLOOKUP(A307,Data!$B$2:$F$4020,5,FALSE))","v":""},null,{"$f":"CONCATENATE(A307,D307)","v":""},{"$f":"IF(ISNA(VLOOKUP(E307,Data!$A$2:$I$4020,7,FALSE)),\"\",VLOOKUP(E307,Data!$A$2:$I$4020,7,FALSE))","v":""},{"$f":"IF(ISNA(VLOOKUP(E307,Data!$A$2:$I$4020,9,FALSE)),\"\",VLOOKUP(E307,Data!$A$2:$I$4020,9,FALSE))","v":""},{"$f":"IF(ISNA(VLOOKUP(E307,Data!$A$2:$J$4020,10,FALSE)),\"\",VLOOKUP(E307,Data!$A$2:$J$4020,10,FALSE))","v":""},{"$nulls":13},{"$f":"SUM(S307:U307)","v":0}]
[null,{"$f":"IF(A308=\"\",\"\",VLOOKUP(A308,Data!$B$2:$D$4020,3,FALSE))","v":""},{"$f":"IF(A308=\"\",\"\",VLOOKUP(A308,Data!$B$2:$F$4020,5,FALSE))","v":""},null,{"$f":"CONCATENATE(A308,D308)","v":""},{"$f":"IF(ISNA(VLOOKUP(E308,Data!$A$2:$I$4020,7,FALSE)),\"\",VLOOKUP(E308,Data!$A$2:$I$4020,7,FALSE))","v":""},{"$f":"IF(ISNA(VLOOKUP(E308,Data!$A$2:$I$4020,9,FALSE)),\"\",VLOOKUP(E308,Data!$A$2:$I$4020,9,FALSE))","v":""},{"$f":"IF(ISNA(VLOOKUP(E308,Data!$A$2:$J$4020,10,FALSE)),\"\",VLOOKUP(E308,Data!$A$2:$J$4020,10,FALSE))","v":""},{"$nulls":13},{"$f":"SUM(S308:U308)","v":0}]
[null,{"$f":"IF(A309=\"\",\"\",VLOOKUP(A309,Data!$B$2:$D$4020,3,FALSE))","v":""},{"$f":"IF(A309=\"\",\"\",VLOOKUP(A309,Data!$B$2:$F$4020,5,FALSE))","v":""},null,{"$f":"CONCATENATE(A309,D309)","v":""},{"$f":"IF(ISNA(VLOOKUP(E309,Data!$A$2:$I$4020,7,FALSE)),\"\",VLOOKUP(E309,Data!$A$2:$I$4020,7,FALSE))","v":""},{"$f":"IF(ISNA(VLOOKUP(E309,Data!$A$2:$I$4020,9,FALSE)),\"\",VLOOKUP(E309,Data!$A$2:$I$4020,9,FALSE))","v":""},{"$f":"IF(ISNA(VLOOKUP(E309,Data!$A$2:$J$4020,10,FALSE)),\"\",VLOOKUP(E309,Data!$A$2:$J$4020,10,FALSE))","v":""},{"$nulls":13},{"$f":"SUM(S309:U309)","v":0}]
[null,{"$f":"IF(A310=\"\",\"\",VLOOKUP(A310,Data!$B$2:$D$4020,3,FALSE))","v":""},{"$f":"IF(A310=\"\",\"\",VLOOKUP(A310,Data!$B$2:$F$4020,5,FALSE))","v":""},null,{"$f":"CONCATENATE(A310,D310)","v":""},{"$f":"IF(ISNA(VLOOKUP(E310,Data!$A$2:$I$4020,7,FALSE)),\"\",VLOOKUP(E310,Data!$A$2:$I$4020,7,FALSE))","v":""},{"$f":"IF(ISNA(VLOOKUP(E310,Data!$A$2:$I$4020,9,FALSE)),\"\",VLOOKUP(E310,Data!$A$2:$I$4020,9,FALSE))","v":""},{"$f":"IF(ISNA(VLOOKUP(E310,Data!$A$2:$J$4020,10,FALSE)),\"\",VLOOKUP(E310,Data!$A$2:$J$4020,10,FALSE))","v":""},{"$nulls":13},{"$f":"SUM(S310:U310)","v":0}]
[null,{"$f":"IF(A311=\"\",\"\",VLOOKUP(A311,Data!$B$2:$D$4020,3,FALSE))","v":""},{"$f":"IF(A311=\"\",\"\",VLOOKUP(A311,Data!$B$2:$F$4020,5,FALSE))","v":""},null,{"$f":"CONCATENATE(A311,D311)","v":""},{"$f":"IF(ISNA(VLOOKUP(E311,Data!$A$2:$I$4020,7,FALSE)),\"\",VLOOKUP(E311,Data!$A$2:$I$4020,7,FALSE))","v":""},{"$f":"IF(ISNA(VLOOKUP(E311,Data!$A$2:$I$4020,9,FALSE)),\"\",VLOOKUP(E311,Data!$A$2:$I$4020,9,FALSE))","v":""},{"$f":"IF(ISNA(VLOOKUP(E311,Data!$A$2:$J$4020,10,FALSE)),\"\",VLOOKUP(E311,Data!$A$2:$J$4020,10,FALSE))","v":""},{"$nulls":13},{"$f":"SUM(S311:U311)","v":0}]
[null,{"$f":"IF(A312=\"\",\"\",VLOOKUP(A312,Data!$B$2:$D$4020,3,FALSE))","v":""},{"$f":"IF(A312=\"\",\"\",VLOOKUP(A312,Data!$B$2:$F$4020,5,FALSE))","v":""},null,{"$f":"CONCATENATE(A312,D312)","v":""},{"$f":"IF(ISNA(VLOOKUP(E312,Data!$A$2:$I$4020,7,FALSE)),\"\",VLOOKUP(E312,Data!$A$2:$I$4020,7,FALSE))","v":""},{"$f":"IF(ISNA(VLOOKUP(E312,Data!$A$2:$I$4020,9,FALSE)),\"\",VLOOKUP(E312,Data!$A$2:$I$4020,9,FALSE))","v":""},{"$f":"IF(ISNA(VLOOKUP(E312,Data!$A$2:$J$4020,10,FALSE)),\"\",VLOOKUP(E312,Data!$A$2:$J$4020,10,FALSE))","v":""},{"$nulls":13},{"$f":"SUM(S312:U312)","v":0}]
[null,{"$f":"IF(A313=\"\",\"\",VLOOKUP(A313,Data!$B$2:$D$4020,3,FALSE))","v":""},{"$f":"IF(A313=\"\",\"\",VLOOKUP(A313,Data!$B$2:$F$4020,5,FALSE))","v":""},null,{"$f":"CONCATENATE(A313,D313)","v":""},{"$f":"IF(ISNA(VLOOKUP(E313,Data!$A$2:$I$4020,7,FALSE)),\"\",VLOOKUP(E313,Data!$A$2:$I$4020,7,FALSE))","v":""},{"$f":"IF(ISNA(VLOOKUP(E313,Data!$A$2:$I$4020,9,FALSE)),\"\",VLOOKUP(E313,Data!$A$2:$I$4020,9,FALSE))","v":""},{"$f":"IF(ISNA(VLOOKUP(E313,Data!$A$2:$J$4020,10,FALSE)),\"\",VLOOKUP(E313,Data!$A$2:$J$4020,10,FALSE))","v":""},{"$nulls":13},{"$f":"SUM(S313:U313)","v":0}]
[null,{"$f":"IF(A314=\"\",\"\",VLOOKUP(A314,Data!$B$2:$D$4020,3,FALSE))","v":""},{"$f":"IF(A314=\"\",\"\",VLOOKUP(A314,Data!$B$2:$F$4020,5,FALSE))","v":""},null,{"$f":"CONCATENATE(A314,D314)","v":""},{"$f":"IF(ISNA(VLOOKUP(E314,Data!$A$2:$I$4020,7,FALSE)),\"\",VLOOKUP(E314,Data!$A$2:$I$4020,7,FALSE))","v":""},{"$f":"IF(ISNA(VLOOKUP(E314,Data!$A$2:$I$4020,9,FALSE)),\"\",VLOOKUP(E314,Data!$A$2:$I$4020,9,FALSE))","v":""},{"$f":"IF(ISNA(VLOOKUP(E314,Data!$A$2:$J$4020,10,FALSE)),\"\",VLOOKUP(E314,Data!$A$2:$J$4020,10,FALSE))","v":""},{"$nulls":13},{"$f":"SUM(S314:U314)","v":0}]
[null,{"$f":"IF(A315=\"\",\"\",VLOOKUP(A315,Data!$B$2:$D$4020,3,FALSE))","v":""},{"$f":"IF(A315=\"\",\"\",VLOOKUP(A315,Data!$B$2:$F$4020,5,FALSE))","v":""},null,{"$f":"CONCATENATE(A315,D315)","v":""},{"$f":"IF(ISNA(VLOOKUP(E315,Data!$A$2:$I$4020,7,FALSE)),\"\",VLOOKUP(E315,Data!$A$2:$I$4020,7,FALSE))","v":""},{"$f":"IF(ISNA(VLOOKUP(E315,Data!$A$2:$I$4020,9,FALSE)),\"\",VLOOKUP(E315,Data!$A$2:$I$4020,9,FALSE))","v":""},{"$f":"IF(ISNA(VLOOKUP(E315,Data!$A$2:$J$4020,10,FALSE)),\"\",VLOOKUP(E315,Data!$A$2:$J$4020,10,FALSE))","v":""},{"$nulls":13},{"$f":"SUM(S315:U315)","v":0}]
[null,{"$f":"IF(A316=\"\",\"\",VLOOKUP(A316,Data!$B$2:$D$4020,3,FALSE))","v":""},{"$f":"IF(A316=\"\",\"\",VLOOKUP(A316,Data!$B$2:$F$4020,5,FALSE))","v":""},null,{"$f":"CONCATENATE(A316,D316)","v":""},{"$f":"IF(ISNA(VLOOKUP(E316,Data!$A$2:$I$4020,7,FALSE)),\"\",VLOOKUP(E316,Data!$A$2:$I$4020,7,FALSE))","v":""},{"$f":"IF(ISNA(VLOOKUP(E316,Data!$A$2:$I$4020,9,FALSE)),\"\",VLOOKUP(E316,Data!$A$2:$I$4020,9,FALSE))","v":""},{"$f":"IF(ISNA(VLOOKUP(E316,Data!$A$2:$J$4020,10,FALSE)),\"\",VLOOKUP(E316,Data!$A$2:$J$4020,10,FALSE))","v":""},{"$nulls":13},{"$f":"SUM(S316:U316)","v":0}]
[null,{"$f":"IF(A317=\"\",\"\",VLOOKUP(A317,Data!$B$2:$D$4020,3,FALSE))","v":""},{"$f":"IF(A317=\"\",\"\",VLOOKUP(A317,Data!$B$2:$F$4020,5,FALSE))","v":""},null,{"$f":"CONCATENATE(A317,D317)","v":""},{"$f":"IF(ISNA(VLOOKUP(E317,Data!$A$2:$I$4020,7,FALSE)),\"\",VLOOKUP(E317,Data!$A$2:$I$4020,7,FALSE))","v":""},{"$f":"IF(ISNA(VLOOKUP(E317,Data!$A$2:$I$4020,9,FALSE)),\"\",VLOOKUP(E317,Data!$A$2:$I$4020,9,FALSE))","v":""},{"$f":"IF(ISNA(VLOOKUP(E317,Data!$A$2:$J$4020,10,FALSE)),\"\",VLOOKUP(E317,Data!$A$2:$J$4020,10,FALSE))","v":""},{"$nulls":13},{"$f":"SUM(S317:U317)","v":0}]
[null,{"$f":"IF(A318=\"\",\"\",VLOOKUP(A318,Data!$B$2:$D$4020,3,FALSE))","v":""},{"$f":"IF(A318=\"\",\"\",VLOOKUP(A318,Data!$B$2:$F$4020,5,FALSE))","v":""},null,{"$f":"CONCATENATE(A318,D318)","v":""},{"$f":"IF(ISNA(VLOOKUP(E318,Data!$A$2:$I$4020,7,FALSE)),\"\",VLOOKUP(E318,Data!$A$2:$I$4020,7,FALSE))","v":""},{"$f":"IF(ISNA(VLOOKUP(E318,Data!$A$2:$I$4020,9,FALSE)),\"\",VLOOKUP(E318,Data!$A$2:$I$4020,9,FALSE))","v":""},{"$f":"IF(ISNA(VLOOKUP(E318,Data!$A$2:$J$4020,10,FALSE)),\"\",VLOOKUP(E318,Data!$A$2:$J$4020,10,FALSE))","v":""},{"$nulls":13},{"$f":"SUM(S318:U318)","v":0}]
[null,{"$f":"IF(A319=\"\",\"\",VLOOKUP(A319,Data!$B$2:$D$4020,3,FALSE))","v":""},{"$f":"IF(A319=\"\",\"\",VLOOKUP(A319,Data!$B$2:$F$4020,5,FALSE))","v":""},null,{"$f":"CONCATENATE(A319,D319)","v":""},{"$f":"IF(ISNA(VLOOKUP(E319,Data!$A$2:$I$4020,7,FALSE)),\"\",VLOOKUP(E319,Data!$A$2:$I$4020,7,FALSE))","v":""},{"$f":"IF(ISNA(VLOOKUP(E319,Data!$A$2:$I$4020,9,FALSE)),\"\",VLOOKUP(E319,Data!$A$2:$I$4020,9,FALSE))","v":""},{"$f":"IF(ISNA(VLOOKUP(E319,Data!$A$2:$J$4020,10,FALSE)),\"\",VLOOKUP(E319,Data!$A$2:$J$4020,10,FALSE))","v":""},{"$nulls":13},{"$f":"SUM(S319:U319)","v":0}]
[null,{"$f":"IF(A320=\"\",\"\",VLOOKUP(A320,Data!$B$2:$D$4020,3,FALSE))","v":""},{"$f":"IF(A320=\"\",\"\",VLOOKUP(A320,Data!$B$2:$F$4020,5,FALSE))","v":""},null,{"$f":"CONCATENATE(A320,D320)","v":""},{"$f":"IF(ISNA(VLOOKUP(E320,Data!$A$2:$I$4020,7,FALSE)),\"\",VLOOKUP(E320,Data!$A$2:$I$4020,7,FALSE))","v":""},{"$f":"IF(ISNA(VLOOKUP(E320,Data!$A$2:$I$4020,9,FALSE)),\"\",VLOOKUP(E320,Data!$A$2:$I$4020,9,FALSE))","v":""},{"$f":"IF(ISNA(VLOOKUP(E320,Data!$A$2:$J$4020,10,FALSE)),\"\",VLOOKUP(E320,Data!$A$2:$J$4020,10,FALSE))","v":""},{"$nulls":13},{"$f":"SUM(S320:U320)","v":0}]
[null,{"$f":"IF(A321=\"\",\"\",VLOOKUP(A321,Data!$B$2:$D$4020,3,FALSE))","v":""},{"$f":"IF(A321=\"\",\"\",VLOOKUP(A321,Data!$B$2:$F$4020,5,FALSE))","v":""},null,{"$f":"CONCATENATE(A321,D321)","v":""},{"$f":"IF(ISNA(VLOOKUP(E321,Data!$A$2:$I$4020,7,FALSE)),\"\",VLOOKUP(E321,Data!$A$2:$I$4020,7,FALSE))","v":""},{"$f":"IF(ISNA(VLOOKUP(E321,Data!$A$2:$I$4020,9,FALSE)),\"\",VLOOKUP(E321,Data!$A$2:$I$4020,9,FALSE))","v":""},{"$f":"IF(ISNA(VLOOKUP(E321,Data!$A$2:$J$4020,10,FALSE)),\"\",VLOOKUP(E321,Data!$A$2:$J$4020,10,FALSE))","v":""},{"$nulls":13},{"$f":"SUM(S321:U321)","v":0}]
[null,{"$f":"IF(A322=\"\",\"\",VLOOKUP(A322,Data!$B$2:$D$4020,3,FALSE))","v":""},{"$f":"IF(A322=\"\",\"\",VLOOKUP(A322,Data!$B$2:$F$4020,5,FALSE))","v":""},null,{"$f":"CONCATENATE(A322,D322)","v":""},{"$f":"IF(ISNA(VLOOKUP(E322,Data!$A$2:$I$4020,7,FALSE)),\"\",VLOOKUP(E322,Data!$A$2:$I$4020,7,FALSE))","v":""},{"$f":"IF(ISNA(VLOOKUP(E322,Data!$A$2:$I$4020,9,FALSE)),\"\",VLOOKUP(E322,Data!$A$2:$I$4020,9,FALSE))","v":""},{"$f":"IF(ISNA(VLOOKUP(E322,Data!$A$2:$J$4020,10,FALSE)),\"\",VLOOKUP(E322,Data!$A$2:$J$4020,10,FALSE))","v":""},{"$nulls":13},{"$f":"SUM(S322:U322)","v":0}]
[null,{"$f":"IF(A323=\"\",\"\",VLOOKUP(A323,Data!$B$2:$D$4020,3,FALSE))","v":""},{"$f":"IF(A323=\"\",\"\",VLOOKUP(A323,Data!$B$2:$F$4020,5,FALSE))","v":""},null,{"$f":"CONCATENATE(A323,D323)","v":""},{"$f":"IF(ISNA(VLOOKUP(E323,Data!$A$2:$I$4020,7,FALSE)),\"\",VLOOKUP(E323,Data!$A$2:$I$4020,7,FALSE))","v":""},{"$f":"IF(ISNA(VLOOKUP(E323,Data!$A$2:$I$4020,9,FALSE)),\"\",VLOOKUP(E323,Data!$A$2:$I$4020,9,FALSE))","v":""},{"$f":"IF(ISNA(VLOOKUP(E323,Data!$A$2:$J$4020,10,FALSE)),\"\",VLOOKUP(E323,Data!$A$2:$J$4020,10,FALSE))","v":""},{"$nulls":13},{"$f":"SUM(S323:U323)","v":0}]
[null,{"$f":"IF(A324=\"\",\"\",VLOOKUP(A324,Data!$B$2:$D$4020,3,FALSE))","v":""},{"$f":"IF(A324=\"\",\"\",VLOOKUP(A324,Data!$B$2:$F$4020,5,FALSE))","v":""},null,{"$f":"CONCATENATE(A324,D324)","v":""},{"$f":"IF(ISNA(VLOOKUP(E324,Data!$A$2:$I$4020,7,FALSE)),\"\",VLOOKUP(E324,Data!$A$2:$I$4020,7,FALSE))","v":""},{"$f":"IF(ISNA(VLOOKUP(E324,Data!$A$2:$I$4020,9,FALSE)),\"\",VLOOKUP(E324,Data!$A$2:$I$4020,9,FALSE))","v":""},{"$f":"IF(ISNA(VLOOKUP(E324,Data!$A$2:$J$4020,10,FALSE)),\"\",VLOOKUP(E324,Data!$A$2:$J$4020,10,FALSE))","v":""},{"$nulls":13},{"$f":"SUM(S324:U324)","v":0}]
[null,{"$f":"IF(A325=\"\",\"\",VLOOKUP(A325,Data!$B$2:$D$4020,3,FALSE))","v":""},{"$f":"IF(A325=\"\",\"\",VLOOKUP(A325,Data!$B$2:$F$4020,5,FALSE))","v":""},null,{"$f":"CONCATENATE(A325,D325)","v":""},{"$f":"IF(ISNA(VLOOKUP(E325,Data!$A$2:$I$4020,7,FALSE)),\"\",VLOOKUP(E325,Data!$A$2:$I$4020,7,FALSE))","v":""},{"$f":"IF(ISNA(VLOOKUP(E325,Data!$A$2:$I$4020,9,FALSE)),\"\",VLOOKUP(E325,Data!$A$2:$I$4020,9,FALSE))","v":""},{"$f":"IF(ISNA(VLOOKUP(E325,Data!$A$2:$J$4020,10,FALSE)),\"\",VLOOKUP(E325,Data!$A$2:$J$4020,10,FALSE))","v":""},{"$nulls":13},{"$f":"SUM(S325:U325)","v":0}]
[null,{"$f":"IF(A326=\"\",\"\",VLOOKUP(A326,Data!$B$2:$D$4020,3,FALSE))","v":""},{"$f":"IF(A326=\"\",\"\",VLOOKUP(A326,Data!$B$2:$F$4020,5,FALSE))","v":""},null,{"$f":"CONCATENATE(A326,D326)","v":""},{"$f":"IF(ISNA(VLOOKUP(E326,Data!$A$2:$I$4020,7,FALSE)),\"\",VLOOKUP(E326,Data!$A$2:$I$4020,7,FALSE))","v":""},{"$f":"IF(ISNA(VLOOKUP(E326,Data!$A$2:$I$4020,9,FALSE)),\"\",VLOOKUP(E326,Data!$A$2:$I$4020,9,FALSE))","v":""},{"$f":"IF(ISNA(VLOOKUP(E326,Data!$A$2:$J$4020,10,FALSE)),\"\",VLOOKUP(E326,Data!$A$2:$J$4020,10,FALSE))","v":""},{"$nulls":13},{"$f":"SUM(S326:U326)","v":0}]
[null,{"$f":"IF(A327=\"\",\"\",VLOOKUP(A327,Data!$B$2:$D$4020,3,FALSE))","v":""},{"$f":"IF(A327=\"\",\"\",VLOOKUP(A327,Data!$B$2:$F$4020,5,FALSE))","v":""},null,{"$f":"CONCATENATE(A327,D327)","v":""},{"$f":"IF(ISNA(VLOOKUP(E327,Data!$A$2:$I$4020,7,FALSE)),\"\",VLOOKUP(E327,Data!$A$2:$I$4020,7,FALSE))","v":""},{"$f":"IF(ISNA(VLOOKUP(E327,Data!$A$2:$I$4020,9,FALSE)),\"\",VLOOKUP(E327,Data!$A$2:$I$4020,9,FALSE))","v":""},{"$f":"IF(ISNA(VLOOKUP(E327,Data!$A$2:$J$4020,10,FALSE)),\"\",VLOOKUP(E327,Data!$A$2:$J$4020,10,FALSE))","v":""},{"$nulls":13},{"$f":"SUM(S327:U327)","v":0}]
[null,{"$f":"IF(A328=\"\",\"\",VLOOKUP(A328,Data!$B$2:$D$4020,3,FALSE))","v":""},{"$f":"IF(A328=\"\",\"\",VLOOKUP(A328,Data!$B$2:$F$4020,5,FALSE))","v":""},null,{"$f":"CONCATENATE(A328,D328)","v":""},{"$f":"IF(ISNA(VLOOKUP(E328,Data!$A$2:$I$4020,7,FALSE)),\"\",VLOOKUP(E328,Data!$A$2:$I$4020,7,FALSE))","v":""},{"$f":"IF(ISNA(VLOOKUP(E328,Data!$A$2:$I$4020,9,FALSE)),\"\",VLOOKUP(E328,Data!$A$2:$I$4020,9,FALSE))","v":""},{"$f":"IF(ISNA(VLOOKUP(E328,Data!$A$2:$J$4020,10,FALSE)),\"\",VLOOKUP(E328,Data!$A$2:$J$4020,10,FALSE))","v":""},{"$nulls":13},{"$f":"SUM(S328:U328)","v":0}]
[null,{"$f":"IF(A329=\"\",\"\",VLOOKUP(A329,Data!$B$2:$D$4020,3,FALSE))","v":""},{"$f":"IF(A329=\"\",\"\",VLOOKUP(A329,Data!$B$2:$F$4020,5,FALSE))","v":""},null,{"$f":"CONCATENATE(A329,D329)","v":""},{"$f":"IF(ISNA(VLOOKUP(E329,Data!$A$2:$I$4020,7,FALSE)),\"\",VLOOKUP(E329,Data!$A$2:$I$4020,7,FALSE))","v":""},{"$f":"IF(ISNA(VLOOKUP(E329,Data!$A$2:$I$4020,9,FALSE)),\"\",VLOOKUP(E329,Data!$A$2:$I$4020,9,FALSE))","v":""},{"$f":"IF(ISNA(VLOOKUP(E329,Data!$A$2:$J$4020,10,FALSE)),\"\",VLOOKUP(E329,Data!$A$2:$J$4020,10,FALSE))","v":""},{"$nulls":13},{"$f":"SUM(S329:U329)","v":0}]
[null,{"$f":"IF(A330=\"\",\"\",VLOOKUP(A330,Data!$B$2:$D$4020,3,FALSE))","v":""},{"$f":"IF(A330=\"\",\"\",VLOOKUP(A330,Data!$B$2:$F$4020,5,FALSE))","v":""},null,{"$f":"CONCATENATE(A330,D330)","v":""},{"$f":"IF(ISNA(VLOOKUP(E330,Data!$A$2:$I$4020,7,FALSE)),\"\",VLOOKUP(E330,Data!$A$2:$I$4020,7,FALSE))","v":""},{"$f":"IF(ISNA(VLOOKUP(E330,Data!$A$2:$I$4020,9,FALSE)),\"\",VLOOKUP(E330,Data!$A$2:$I$4020,9,FALSE))","v":""},{"$f":"IF(ISNA(VLOOKUP(E330,Data!$A$2:$J$4020,10,FALSE)),\"\",VLOOKUP(E330,Data!$A$2:$J$4020,10,FALSE))","v":""},{"$nulls":13},{"$f":"SUM(S330:U330)","v":0}]
[null,{"$f":"IF(A331=\"\",\"\",VLOOKUP(A331,Data!$B$2:$D$4020,3,FALSE))","v":""},{"$f":"IF(A331=\"\",\"\",VLOOKUP(A331,Data!$B$2:$F$4020,5,FALSE))","v":""},null,{"$f":"CONCATENATE(A331,D331)","v":""},{"$f":"IF(ISNA(VLOOKUP(E331,Data!$A$2:$I$4020,7,FALSE)),\"\",VLOOKUP(E331,Data!$A$2:$I$4020,7,FALSE))","v":""},{"$f":"IF(ISNA(VLOOKUP(E331,Data!$A$2:$I$4020,9,FALSE)),\"\",VLOOKUP(E331,Data!$A$2:$I$4020,9,FALSE))","v":""},{"$f":"IF(ISNA(VLOOKUP(E331,Data!$A$2:$J$4020,10,FALSE)),\"\",VLOOKUP(E331,Data!$A$2:$J$4020,10,FALSE))","v":""},{"$nulls":13},{"$f":"SUM(S331:U331)","v":0}]
[null,{"$f":"IF(A332=\"\",\"\",VLOOKUP(A332,Data!$B$2:$D$4020,3,FALSE))","v":""},{"$f":"IF(A332=\"\",\"\",VLOOKUP(A332,Data!$B$2:$F$4020,5,FALSE))","v":""},null,{"$f":"CONCATENATE(A332,D332)","v":""},{"$f":"IF(ISNA(VLOOKUP(E332,Data!$A$2:$I$4020,7,FALSE)),\"\",VLOOKUP(E332,Data!$A$2:$I$4020,7,FALSE))","v":""},{"$f":"IF(ISNA(VLOOKUP(E332,Data!$A$2:$I$4020,9,FALSE)),\"\",VLOOKUP(E332,Data!$A$2:$I$4020,9,FALSE))","v":""},{"$f":"IF(ISNA(VLOOKUP(E332,Data!$A$2:$J$4020,10,FALSE)),\"\",VLOOKUP(E332,Data!$A$2:$J$4020,10,FALSE))","v":""},{"$nulls":13},{"$f":"SUM(S332:U332)","v":0}]
[null,{"$f":"IF(A333=\"\",\"\",VLOOKUP(A333,Data!$B$2:$D$4020,3,FALSE))","v":""},{"$f":"IF(A333=\"\",\"\",VLOOKUP(A333,Data!$B$2:$F$4020,5,FALSE))","v":""},null,{"$f":"CONCATENATE(A333,D333)","v":""},{"$f":"IF(ISNA(VLOOKUP(E333,Data!$A$2:$I$4020,7,FALSE)),\"\",VLOOKUP(E333,Data!$A$2:$I$4020,7,FALSE))","v":""},{"$f":"IF(ISNA(VLOOKUP(E333,Data!$A$2:$I$4020,9,FALSE)),\"\",VLOOKUP(E333,Data!$A$2:$I$4020,9,FALSE))","v":""},{"$f":"IF(ISNA(VLOOKUP(E333,Data!$A$2:$J$4020,10,FALSE)),\"\",VLOOKUP(E333,Data!$A$2:$J$4020,10,FALSE))","v":""},{"$nulls":13},{"$f":"SUM(S333:U333)","v":0}]
[null,{"$f":"IF(A334=\"\",\"\",VLOOKUP(A334,Data!$B$2:$D$4020,3,FALSE))","v":""},{"$f":"IF(A334=\"\",\"\",VLOOKUP(A334,Data!$B$2:$F$4020,5,FALSE))","v":""},null,{"$f":"CONCATENATE(A334,D334)","v":""},{"$f":"IF(ISNA(VLOOKUP(E334,Data!$A$2:$I$4020,7,FALSE)),\"\",VLOOKUP(E334,Data!$A$2:$I$4020,7,FALSE))","v":""},{"$f":"IF(ISNA(VLOOKUP(E334,Data!$A$2:$I$4020,9,FALSE)),\"\",VLOOKUP(E334,Data!$A$2:$I$4020,9,FALSE))","v":""},{"$f":"IF(ISNA(VLOOKUP(E334,Data!$A$2:$J$4020,10,FALSE)),\"\",VLOOKUP(E334,Data!$A$2:$J$4020,10,FALSE))","v":""},{"$nulls":13},{"$f":"SUM(S334:U334)","v":0}]
[null,{"$f":"IF(A335=\"\",\"\",VLOOKUP(A335,Data!$B$2:$D$4020,3,FALSE))","v":""},{"$f":"IF(A335=\"\",\"\",VLOOKUP(A335,Data!$B$2:$F$4020,5,FALSE))","v":""},null,{"$f":"CONCATENATE(A335,D335)","v":""},{"$f":"IF(ISNA(VLOOKUP(E335,Data!$A$2:$I$4020,7,FALSE)),\"\",VLOOKUP(E335,Data!$A$2:$I$4020,7,FALSE))","v":""},{"$f":"IF(ISNA(VLOOKUP(E335,Data!$A$2:$I$4020,9,FALSE)),\"\",VLOOKUP(E335,Data!$A$2:$I$4020,9,FALSE))","v":""},{"$f":"IF(ISNA(VLOOKUP(E335,Data!$A$2:$J$4020,10,FALSE)),\"\",VLOOKUP(E335,Data!$A$2:$J$4020,10,FALSE))","v":""},{"$nulls":13},{"$f":"SUM(S335:U335)","v":0}]
[null,{"$f":"IF(A336=\"\",\"\",VLOOKUP(A336,Data!$B$2:$D$4020,3,FALSE))","v":""},{"$f":"IF(A336=\"\",\"\",VLOOKUP(A336,Data!$B$2:$F$4020,5,FALSE))","v":""},null,{"$f":"CONCATENATE(A336,D336)","v":""},{"$f":"IF(ISNA(VLOOKUP(E336,Data!$A$2:$I$4020,7,FALSE)),\"\",VLOOKUP(E336,Data!$A$2:$I$4020,7,FALSE))","v":""},{"$f":"IF(ISNA(VLOOKUP(E336,Data!$A$2:$I$4020,9,FALSE)),\"\",VLOOKUP(E336,Data!$A$2:$I$4020,9,FALSE))","v":""},{"$f":"IF(ISNA(VLOOKUP(E336,Data!$A$2:$J$4020,10,FALSE)),\"\",VLOOKUP(E336,Data!$A$2:$J$4020,10,FALSE))","v":""},{"$nulls":13},{"$f":"SUM(S336:U336)","v":0}]
[null,{"$f":"IF(A337=\"\",\"\",VLOOKUP(A337,Data!$B$2:$D$4020,3,FALSE))","v":""},{"$f":"IF(A337=\"\",\"\",VLOOKUP(A337,Data!$B$2:$F$4020,5,FALSE))","v":""},null,{"$f":"CONCATENATE(A337,D337)","v":""},{"$f":"IF(ISNA(VLOOKUP(E337,Data!$A$2:$I$4020,7,FALSE)),\"\",VLOOKUP(E337,Data!$A$2:$I$4020,7,FALSE))","v":""},{"$f":"IF(ISNA(VLOOKUP(E337,Data!$A$2:$I$4020,9,FALSE)),\"\",VLOOKUP(E337,Data!$A$2:$I$4020,9,FALSE))","v":""},{"$f":"IF(ISNA(VLOOKUP(E337,Data!$A$2:$J$4020,10,FALSE)),\"\",VLOOKUP(E337,Data!$A$2:$J$4020,10,FALSE))","v":""},{"$nulls":13},{"$f":"SUM(S337:U337)","v":0}]
[null,{"$f":"IF(A338=\"\",\"\",VLOOKUP(A338,Data!$B$2:$D$4020,3,FALSE))","v":""},{"$f":"IF(A338=\"\",\"\",VLOOKUP(A338,Data!$B$2:$F$4020,5,FALSE))","v":""},null,{"$f":"CONCATENATE(A338,D338)","v":""},{"$f":"IF(ISNA(VLOOKUP(E338,Data!$A$2:$I$4020,7,FALSE)),\"\",VLOOKUP(E338,Data!$A$2:$I$4020,7,FALSE))","v":""},{"$f":"IF(ISNA(VLOOKUP(E338,Data!$A$2:$I$4020,9,FALSE)),\"\",VLOOKUP(E338,Data!$A$2:$I$4020,9,FALSE))","v":""},{"$f":"IF(ISNA(VLOOKUP(E338,Data!$A$2:$J$4020,10,FALSE)),\"\",VLOOKUP(E338,Data!$A$2:$J$4020,10,FALSE))","v":""},{"$nulls":13},{"$f":"SUM(S338:U338)","v":0}]
[null,{"$f":"IF(A339=\"\",\"\",VLOOKUP(A339,Data!$B$2:$D$4020,3,FALSE))","v":""},{"$f":"IF(A339=\"\",\"\",VLOOKUP(A339,Data!$B$2:$F$4020,5,FALSE))","v":""},null,{"$f":"CONCATENATE(A339,D339)","v":""},{"$f":"IF(ISNA(VLOOKUP(E339,Data!$A$2:$I$4020,7,FALSE)),\"\",VLOOKUP(E339,Data!$A$2:$I$4020,7,FALSE))","v":""},{"$f":"IF(ISNA(VLOOKUP(E339,Data!$A$2:$I$4020,9,FALSE)),\"\",VLOOKUP(E339,Data!$A$2:$I$4020,9,FALSE))","v":""},{"$f":"IF(ISNA(VLOOKUP(E339,Data!$A$2:$J$4020,10,FALSE)),\"\",VLOOKUP(E339,Data!$A$2:$J$4020,10,FALSE))","v":""},{"$nulls":13},{"$f":"SUM(S339:U339)","v":0}]
[null,{"$f":"IF(A340=\"\",\"\",VLOOKUP(A340,Data!$B$2:$D$4020,3,FALSE))","v":""},{"$f":"IF(A340=\"\",\"\",VLOOKUP(A340,Data!$B$2:$F$4020,5,FALSE))","v":""},null,{"$f":"CONCATENATE(A340,D340)","v":""},{"$f":"IF(ISNA(VLOOKUP(E340,Data!$A$2:$I$4020,7,FALSE)),\"\",VLOOKUP(E340,Data!$A$2:$I$4020,7,FALSE))","v":""},{"$f":"IF(ISNA(VLOOKUP(E340,Data!$A$2:$I$4020,9,FALSE)),\"\",VLOOKUP(E340,Data!$A$2:$I$4020,9,FALSE))","v":""},{"$f":"IF(ISNA(VLOOKUP(E340,Data!$A$2:$J$4020,10,FALSE)),\"\",VLOOKUP(E340,Data!$A$2:$J$4020,10,FALSE))","v":""},{"$nulls":13},{"$f":"SUM(S340:U340)","v":0}]
[null,{"$f":"IF(A341=\"\",\"\",VLOOKUP(A341,Data!$B$2:$D$4020,3,FALSE))","v":""},{"$f":"IF(A341=\"\",\"\",VLOOKUP(A341,Data!$B$2:$F$4020,5,FALSE))","v":""},null,{"$f":"CONCATENATE(A341,D341)","v":""},{"$f":"IF(ISNA(VLOOKUP(E341,Data!$A$2:$I$4020,7,FALSE)),\"\",VLOOKUP(E341,Data!$A$2:$I$4020,7,FALSE))","v":""},{"$f":"IF(ISNA(VLOOKUP(E341,Data!$A$2:$I$4020,9,FALSE)),\"\",VLOOKUP(E341,Data!$A$2:$I$4020,9,FALSE))","v":""},{"$f":"IF(ISNA(VLOOKUP(E341,Data!$A$2:$J$4020,10,FALSE)),\"\",VLOOKUP(E341,Data!$A$2:$J$4020,10,FALSE))","v":""},{"$nulls":13},{"$f":"SUM(S341:U341)","v":0}]
[null,{"$f":"IF(A342=\"\",\"\",VLOOKUP(A342,Data!$B$2:$D$4020,3,FALSE))","v":""},{"$f":"IF(A342=\"\",\"\",VLOOKUP(A342,Data!$B$2:$F$4020,5,FALSE))","v":""},null,{"$f":"CONCATENATE(A342,D342)","v":""},{"$f":"IF(ISNA(VLOOKUP(E342,Data!$A$2:$I$4020,7,FALSE)),\"\",VLOOKUP(E342,Data!$A$2:$I$4020,7,FALSE))","v":""},{"$f":"IF(ISNA(VLOOKUP(E342,Data!$A$2:$I$4020,9,FALSE)),\"\",VLOOKUP(E342,Data!$A$2:$I$4020,9,FALSE))","v":""},{"$f":"IF(ISNA(VLOOKUP(E342,Data!$A$2:$J$4020,10,FALSE)),\"\",VLOOKUP(E342,Data!$A$2:$J$4020,10,FALSE))","v":""},{"$nulls":13},{"$f":"SUM(S342:U342)","v":0}]
[null,{"$f":"IF(A343=\"\",\"\",VLOOKUP(A343,Data!$B$2:$D$4020,3,FALSE))","v":""},{"$f":"IF(A343=\"\",\"\",VLOOKUP(A343,Data!$B$2:$F$4020,5,FALSE))","v":""},null,{"$f":"CONCATENATE(A343,D343)","v":""},{"$f":"IF(ISNA(VLOOKUP(E343,Data!$A$2:$I$4020,7,FALSE)),\"\",VLOOKUP(E343,Data!$A$2:$I$4020,7,FALSE))","v":""},{"$f":"IF(ISNA(VLOOKUP(E343,Data!$A$2:$I$4020,9,FALSE)),\"\",VLOOKUP(E343,Data!$A$2:$I$4020,9,FALSE))","v":""},{"$f":"IF(ISNA(VLOOKUP(E343,Data!$A$2:$J$4020,10,FALSE)),\"\",VLOOKUP(E343,Data!$A$2:$J$4020,10,FALSE))","v":""},{"$nulls":13},{"$f":"SUM(S343:U343)","v":0}]
[null,{"$f":"IF(A344=\"\",\"\",VLOOKUP(A344,Data!$B$2:$D$4020,3,FALSE))","v":""},{"$f":"IF(A344=\"\",\"\",VLOOKUP(A344,Data!$B$2:$F$4020,5,FALSE))","v":""},null,{"$f":"CONCATENATE(A344,D344)","v":""},{"$f":"IF(ISNA(VLOOKUP(E344,Data!$A$2:$I$4020,7,FALSE)),\"\",VLOOKUP(E344,Data!$A$2:$I$4020,7,FALSE))","v":""},{"$f":"IF(ISNA(VLOOKUP(E344,Data!$A$2:$I$4020,9,FALSE)),\"\",VLOOKUP(E344,Data!$A$2:$I$4020,9,FALSE))","v":""},{"$f":"IF(ISNA(VLOOKUP(E344,Data!$A$2:$J$4020,10,FALSE)),\"\",VLOOKUP(E344,Data!$A$2:$J$4020,10,FALSE))","v":""},{"$nulls":13},{"$f":"SUM(S344:U344)","v":0}]
[null,{"$f":"IF(A345=\"\",\"\",VLOOKUP(A345,Data!$B$2:$D$4020,3,FALSE))","v":""},{"$f":"IF(A345=\"\",\"\",VLOOKUP(A345,Data!$B$2:$F$4020,5,FALSE))","v":""},null,{"$f":"CONCATENATE(A345,D345)","v":""},{"$f":"IF(ISNA(VLOOKUP(E345,Data!$A$2:$I$4020,7,FALSE)),\"\",VLOOKUP(E345,Data!$A$2:$I$4020,7,FALSE))","v":""},{"$f":"IF(ISNA(VLOOKUP(E345,Data!$A$2:$I$4020,9,FALSE)),\"\",VLOOKUP(E345,Data!$A$2:$I$4020,9,FALSE))","v":""},{"$f":"IF(ISNA(VLOOKUP(E345,Data!$A$2:$J$4020,10,FALSE)),\"\",VLOOKUP(E345,Data!$A$2:$J$4020,10,FALSE))","v":""},{"$nulls":13},{"$f":"SUM(S345:U345)","v":0}]
[null,{"$f":"IF(A346=\"\",\"\",VLOOKUP(A346,Data!$B$2:$D$4020,3,FALSE))","v":""},{"$f":"IF(A346=\"\",\"\",VLOOKUP(A346,Data!$B$2:$F$4020,5,FALSE))","v":""},null,{"$f":"CONCATENATE(A346,D346)","v":""},{"$f":"IF(ISNA(VLOOKUP(E346,Data!$A$2:$I$4020,7,FALSE)),\"\",VLOOKUP(E346,Data!$A$2:$I$4020,7,FALSE))","v":""},{"$f":"IF(ISNA(VLOOKUP(E346,Data!$A$2:$I$4020,9,FALSE)),\"\",VLOOKUP(E346,Data!$A$2:$I$4020,9,FALSE))","v":""},{"$f":"IF(ISNA(VLOOKUP(E346,Data!$A$2:$J$4020,10,FALSE)),\"\",VLOOKUP(E346,Data!$A$2:$J$4020,10,FALSE))","v":""},{"$nulls":13},{"$f":"SUM(S346:U346)","v":0}]
[null,{"$f":"IF(A347=\"\",\"\",VLOOKUP(A347,Data!$B$2:$D$4020,3,FALSE))","v":""},{"$f":"IF(A347=\"\",\"\",VLOOKUP(A347,Data!$B$2:$F$4020,5,FALSE))","v":""},null,{"$f":"CONCATENATE(A347,D347)","v":""},{"$f":"IF(ISNA(VLOOKUP(E347,Data!$A$2:$I$4020,7,FALSE)),\"\",VLOOKUP(E347,Data!$A$2:$I$4020,7,FALSE))","v":""},{"$f":"IF(ISNA(VLOOKUP(E347,Data!$A$2:$I$4020,9,FALSE)),\"\",VLOOKUP(E347,Data!$A$2:$I$4020,9,FALSE))","v":""},{"$f":"IF(ISNA(VLOOKUP(E347,Data!$A$2:$J$4020,10,FALSE)),\"\",VLOOKUP(E347,Data!$A$2:$J$4020,10,FALSE))","v":""},{"$nulls":13},{"$f":"SUM(S347:U347)","v":0}]
[null,{"$f":"IF(A348=\"\",\"\",VLOOKUP(A348,Data!$B$2:$D$4020,3,FALSE))","v":""},{"$f":"IF(A348=\"\",\"\",VLOOKUP(A348,Data!$B$2:$F$4020,5,FALSE))","v":""},null,{"$f":"CONCATENATE(A348,D348)","v":""},{"$f":"IF(ISNA(VLOOKUP(E348,Data!$A$2:$I$4020,7,FALSE)),\"\",VLOOKUP(E348,Data!$A$2:$I$4020,7,FALSE))","v":""},{"$f":"IF(ISNA(VLOOKUP(E348,Data!$A$2:$I$4020,9,FALSE)),\"\",VLOOKUP(E348,Data!$A$2:$I$4020,9,FALSE))","v":""},{"$f":"IF(ISNA(VLOOKUP(E348,Data!$A$2:$J$4020,10,FALSE)),\"\",VLOOKUP(E348,Data!$A$2:$J$4020,10,FALSE))","v":""},{"$nulls":13},{"$f":"SUM(S348:U348)","v":0}]
[null,{"$f":"IF(A349=\"\",\"\",VLOOKUP(A349,Data!$B$2:$D$4020,3,FALSE))","v":""},{"$f":"IF(A349=\"\",\"\",VLOOKUP(A349,Data!$B$2:$F$4020,5,FALSE))","v":""},null,{"$f":"CONCATENATE(A349,D349)","v":""},{"$f":"IF(ISNA(VLOOKUP(E349,Data!$A$2:$I$4020,7,FALSE)),\"\",VLOOKUP(E349,Data!$A$2:$I$4020,7,FALSE))","v":""},{"$f":"IF(ISNA(VLOOKUP(E349,Data!$A$2:$I$4020,9,FALSE)),\"\",VLOOKUP(E349,Data!$A$2:$I$4020,9,FALSE))","v":""},{"$f":"IF(ISNA(VLOOKUP(E349,Data!$A$2:$J$4020,10,FALSE)),\"\",VLOOKUP(E349,Data!$A$2:$J$4020,10,FALSE))","v":""},{"$nulls":13},{"$f":"SUM(S349:U349)","v":0}]
[null,{"$f":"IF(A350=\"\",\"\",VLOOKUP(A350,Data!$B$2:$D$4020,3,FALSE))","v":""},{"$f":"IF(A350=\"\",\"\",VLOOKUP(A350,Data!$B$2:$F$4020,5,FALSE))","v":""},null,{"$f":"CONCATENATE(A350,D350)","v":""},{"$f":"IF(ISNA(VLOOKUP(E350,Data!$A$2:$I$4020,7,FALSE)),\"\",VLOOKUP(E350,Data!$A$2:$I$4020,7,FALSE))","v":""},{"$f":"IF(ISNA(VLOOKUP(E350,Data!$A$2:$I$4020,9,FALSE)),\"\",VLOOKUP(E350,Data!$A$2:$I$4020,9,FALSE))","v":""},{"$f":"IF(ISNA(VLOOKUP(E350,Data!$A$2:$J$4020,10,FALSE)),\"\",VLOOKUP(E350,Data!$A$2:$J$4020,10,FALSE))","v":""},{"$nulls":13},{"$f":"SUM(S350:U350)","v":0}]
[null,{"$f":"IF(A351=\"\",\"\",VLOOKUP(A351,Data!$B$2:$D$4020,3,FALSE))","v":""},{"$f":"IF(A351=\"\",\"\",VLOOKUP(A351,Data!$B$2:$F$4020,5,FALSE))","v":""},null,{"$f":"CONCATENATE(A351,D351)","v":""},{"$f":"IF(ISNA(VLOOKUP(E351,Data!$A$2:$I$4020,7,FALSE)),\"\",VLOOKUP(E351,Data!$A$2:$I$4020,7,FALSE))","v":""},{"$f":"IF(ISNA(VLOOKUP(E351,Data!$A$2:$I$4020,9,FALSE)),\"\",VLOOKUP(E351,Data!$A$2:$I$4020,9,FALSE))","v":""},{"$f":"IF(ISNA(VLOOKUP(E351,Data!$A$2:$J$4020,10,FALSE)),\"\",VLOOKUP(E351,Data!$A$2:$J$4020,10,FALSE))","v":""},{"$nulls":13},{"$f":"SUM(S351:U351)","v":0}]
[null,{"$f":"IF(A352=\"\",\"\",VLOOKUP(A352,Data!$B$2:$D$4020,3,FALSE))","v":""},{"$f":"IF(A352=\"\",\"\",VLOOKUP(A352,Data!$B$2:$F$4020,5,FALSE))","v":""},null,{"$f":"CONCATENATE(A352,D352)","v":""},{"$f":"IF(ISNA(VLOOKUP(E352,Data!$A$2:$I$4020,7,FALSE)),\"\",VLOOKUP(E352,Data!$A$2:$I$4020,7,FALSE))","v":""},{"$f":"IF(ISNA(VLOOKUP(E352,Data!$A$2:$I$4020,9,FALSE)),\"\",VLOOKUP(E352,Data!$A$2:$I$4020,9,FALSE))","v":""},{"$f":"IF(ISNA(VLOOKUP(E352,Data!$A$2:$J$4020,10,FALSE)),\"\",VLOOKUP(E352,Data!$A$2:$J$4020,10,FALSE))","v":""},{"$nulls":13},{"$f":"SUM(S352:U352)","v":0}]
[null,{"$f":"IF(A353=\"\",\"\",VLOOKUP(A353,Data!$B$2:$D$4020,3,FALSE))","v":""},{"$f":"IF(A353=\"\",\"\",VLOOKUP(A353,Data!$B$2:$F$4020,5,FALSE))","v":""},null,{"$f":"CONCATENATE(A353,D353)","v":""},{"$f":"IF(ISNA(VLOOKUP(E353,Data!$A$2:$I$4020,7,FALSE)),\"\",VLOOKUP(E353,Data!$A$2:$I$4020,7,FALSE))","v":""},{"$f":"IF(ISNA(VLOOKUP(E353,Data!$A$2:$I$4020,9,FALSE)),\"\",VLOOKUP(E353,Data!$A$2:$I$4020,9,FALSE))","v":""},{"$f":"IF(ISNA(VLOOKUP(E353,Data!$A$2:$J$4020,10,FALSE)),\"\",VLOOKUP(E353,Data!$A$2:$J$4020,10,FALSE))","v":""},{"$nulls":13},{"$f":"SUM(S353:U353)","v":0}]
[null,{"$f":"IF(A354=\"\",\"\",VLOOKUP(A354,Data!$B$2:$D$4020,3,FALSE))","v":""},{"$f":"IF(A354=\"\",\"\",VLOOKUP(A354,Data!$B$2:$F$4020,5,FALSE))","v":""},null,{"$f":"CONCATENATE(A354,D354)","v":""},{"$f":"IF(ISNA(VLOOKUP(E354,Data!$A$2:$I$4020,7,FALSE)),\"\",VLOOKUP(E354,Data!$A$2:$I$4020,7,FALSE))","v":""},{"$f":"IF(ISNA(VLOOKUP(E354,Data!$A$2:$I$4020,9,FALSE)),\"\",VLOOKUP(E354,Data!$A$2:$I$4020,9,FALSE))","v":""},{"$f":"IF(ISNA(VLOOKUP(E354,Data!$A$2:$J$4020,10,FALSE)),\"\",VLOOKUP(E354,Data!$A$2:$J$4020,10,FALSE))","v":""},{"$nulls":13},{"$f":"SUM(S354:U354)","v":0}]
[null,{"$f":"IF(A355=\"\",\"\",VLOOKUP(A355,Data!$B$2:$D$4020,3,FALSE))","v":""},{"$f":"IF(A355=\"\",\"\",VLOOKUP(A355,Data!$B$2:$F$4020,5,FALSE))","v":""},null,{"$f":"CONCATENATE(A355,D355)","v":""},{"$f":"IF(ISNA(VLOOKUP(E355,Data!$A$2:$I$4020,7,FALSE)),\"\",VLOOKUP(E355,Data!$A$2:$I$4020,7,FALSE))","v":""},{"$f":"IF(ISNA(VLOOKUP(E355,Data!$A$2:$I$4020,9,FALSE)),\"\",VLOOKUP(E355,Data!$A$2:$I$4020,9,FALSE))","v":""},{"$f":"IF(ISNA(VLOOKUP(E355,Data!$A$2:$J$4020,10,FALSE)),\"\",VLOOKUP(E355,Data!$A$2:$J$4020,10,FALSE))","v":""},{"$nulls":13},{"$f":"SUM(S355:U355)","v":0}]
[null,{"$f":"IF(A356=\"\",\"\",VLOOKUP(A356,Data!$B$2:$D$4020,3,FALSE))","v":""},{"$f":"IF(A356=\"\",\"\",VLOOKUP(A356,Data!$B$2:$F$4020,5,FALSE))","v":""},null,{"$f":"CONCATENATE(A356,D356)","v":""},{"$f":"IF(ISNA(VLOOKUP(E356,Data!$A$2:$I$4020,7,FALSE)),\"\",VLOOKUP(E356,Data!$A$2:$I$4020,7,FALSE))","v":""},{"$f":"IF(ISNA(VLOOKUP(E356,Data!$A$2:$I$4020,9,FALSE)),\"\",VLOOKUP(E356,Data!$A$2:$I$4020,9,FALSE))","v":""},{"$f":"IF(ISNA(VLOOKUP(E356,Data!$A$2:$J$4020,10,FALSE)),\"\",VLOOKUP(E356,Data!$A$2:$J$4020,10,FALSE))","v":""},{"$nulls":13},{"$f":"SUM(S356:U356)","v":0}]
[null,{"$f":"IF(A357=\"\",\"\",VLOOKUP(A357,Data!$B$2:$D$4020,3,FALSE))","v":""},{"$f":"IF(A357=\"\",\"\",VLOOKUP(A357,Data!$B$2:$F$4020,5,FALSE))","v":""},null,{"$f":"CONCATENATE(A357,D357)","v":""},{"$f":"IF(ISNA(VLOOKUP(E357,Data!$A$2:$I$4020,7,FALSE)),\"\",VLOOKUP(E357,Data!$A$2:$I$4020,7,FALSE))","v":""},{"$f":"IF(ISNA(VLOOKUP(E357,Data!$A$2:$I$4020,9,FALSE)),\"\",VLOOKUP(E357,Data!$A$2:$I$4020,9,FALSE))","v":""},{"$f":"IF(ISNA(VLOOKUP(E357,Data!$A$2:$J$4020,10,FALSE)),\"\",VLOOKUP(E357,Data!$A$2:$J$4020,10,FALSE))","v":""},{"$nulls":13},{"$f":"SUM(S357:U357)","v":0}]
[null,{"$f":"IF(A358=\"\",\"\",VLOOKUP(A358,Data!$B$2:$D$4020,3,FALSE))","v":""},{"$f":"IF(A358=\"\",\"\",VLOOKUP(A358,Data!$B$2:$F$4020,5,FALSE))","v":""},null,{"$f":"CONCATENATE(A358,D358)","v":""},{"$f":"IF(ISNA(VLOOKUP(E358,Data!$A$2:$I$4020,7,FALSE)),\"\",VLOOKUP(E358,Data!$A$2:$I$4020,7,FALSE))","v":""},{"$f":"IF(ISNA(VLOOKUP(E358,Data!$A$2:$I$4020,9,FALSE)),\"\",VLOOKUP(E358,Data!$A$2:$I$4020,9,FALSE))","v":""},{"$f":"IF(ISNA(VLOOKUP(E358,Data!$A$2:$J$4020,10,FALSE)),\"\",VLOOKUP(E358,Data!$A$2:$J$4020,10,FALSE))","v":""},{"$nulls":13},{"$f":"SUM(S358:U358)","v":0}]
[null,{"$f":"IF(A359=\"\",\"\",VLOOKUP(A359,Data!$B$2:$D$4020,3,FALSE))","v":""},{"$f":"IF(A359=\"\",\"\",VLOOKUP(A359,Data!$B$2:$F$4020,5,FALSE))","v":""},null,{"$f":"CONCATENATE(A359,D359)","v":""},{"$f":"IF(ISNA(VLOOKUP(E359,Data!$A$2:$I$4020,7,FALSE)),\"\",VLOOKUP(E359,Data!$A$2:$I$4020,7,FALSE))","v":""},{"$f":"IF(ISNA(VLOOKUP(E359,Data!$A$2:$I$4020,9,FALSE)),\"\",VLOOKUP(E359,Data!$A$2:$I$4020,9,FALSE))","v":""},{"$f":"IF(ISNA(VLOOKUP(E359,Data!$A$2:$J$4020,10,FALSE)),\"\",VLOOKUP(E359,Data!$A$2:$J$4020,10,FALSE))","v":""},{"$nulls":13},{"$f":"SUM(S359:U359)","v":0}]
[null,{"$f":"IF(A360=\"\",\"\",VLOOKUP(A360,Data!$B$2:$D$4020,3,FALSE))","v":""},{"$f":"IF(A360=\"\",\"\",VLOOKUP(A360,Data!$B$2:$F$4020,5,FALSE))","v":""},null,{"$f":"CONCATENATE(A360,D360)","v":""},{"$f":"IF(ISNA(VLOOKUP(E360,Data!$A$2:$I$4020,7,FALSE)),\"\",VLOOKUP(E360,Data!$A$2:$I$4020,7,FALSE))","v":""},{"$f":"IF(ISNA(VLOOKUP(E360,Data!$A$2:$I$4020,9,FALSE)),\"\",VLOOKUP(E360,Data!$A$2:$I$4020,9,FALSE))","v":""},{"$f":"IF(ISNA(VLOOKUP(E360,Data!$A$2:$J$4020,10,FALSE)),\"\",VLOOKUP(E360,Data!$A$2:$J$4020,10,FALSE))","v":""},{"$nulls":13},{"$f":"SUM(S360:U360)","v":0}]
[null,{"$f":"IF(A361=\"\",\"\",VLOOKUP(A361,Data!$B$2:$D$4020,3,FALSE))","v":""},{"$f":"IF(A361=\"\",\"\",VLOOKUP(A361,Data!$B$2:$F$4020,5,FALSE))","v":""},null,{"$f":"CONCATENATE(A361,D361)","v":""},{"$f":"IF(ISNA(VLOOKUP(E361,Data!$A$2:$I$4020,7,FALSE)),\"\",VLOOKUP(E361,Data!$A$2:$I$4020,7,FALSE))","v":""},{"$f":"IF(ISNA(VLOOKUP(E361,Data!$A$2:$I$4020,9,FALSE)),\"\",VLOOKUP(E361,Data!$A$2:$I$4020,9,FALSE))","v":""},{"$f":"IF(ISNA(VLOOKUP(E361,Data!$A$2:$J$4020,10,FALSE)),\"\",VLOOKUP(E361,Data!$A$2:$J$4020,10,FALSE))","v":""},{"$nulls":13},{"$f":"SUM(S361:U361)","v":0}]
[null,{"$f":"IF(A362=\"\",\"\",VLOOKUP(A362,Data!$B$2:$D$4020,3,FALSE))","v":""},{"$f":"IF(A362=\"\",\"\",VLOOKUP(A362,Data!$B$2:$F$4020,5,FALSE))","v":""},null,{"$f":"CONCATENATE(A362,D362)","v":""},{"$f":"IF(ISNA(VLOOKUP(E362,Data!$A$2:$I$4020,7,FALSE)),\"\",VLOOKUP(E362,Data!$A$2:$I$4020,7,FALSE))","v":""},{"$f":"IF(ISNA(VLOOKUP(E362,Data!$A$2:$I$4020,9,FALSE)),\"\",VLOOKUP(E362,Data!$A$2:$I$4020,9,FALSE))","v":""},{"$f":"IF(ISNA(VLOOKUP(E362,Data!$A$2:$J$4020,10,FALSE)),\"\",VLOOKUP(E362,Data!$A$2:$J$4020,10,FALSE))","v":""},{"$nulls":13},{"$f":"SUM(S362:U362)","v":0}]
[null,{"$f":"IF(A363=\"\",\"\",VLOOKUP(A363,Data!$B$2:$D$4020,3,FALSE))","v":""},{"$f":"IF(A363=\"\",\"\",VLOOKUP(A363,Data!$B$2:$F$4020,5,FALSE))","v":""},null,{"$f":"CONCATENATE(A363,D363)","v":""},{"$f":"IF(ISNA(VLOOKUP(E363,Data!$A$2:$I$4020,7,FALSE)),\"\",VLOOKUP(E363,Data!$A$2:$I$4020,7,FALSE))","v":""},{"$f":"IF(ISNA(VLOOKUP(E363,Data!$A$2:$I$4020,9,FALSE)),\"\",VLOOKUP(E363,Data!$A$2:$I$4020,9,FALSE))","v":""},{"$f":"IF(ISNA(VLOOKUP(E363,Data!$A$2:$J$4020,10,FALSE)),\"\",VLOOKUP(E363,Data!$A$2:$J$4020,10,FALSE))","v":""},{"$nulls":13},{"$f":"SUM(S363:U363)","v":0}]
[null,{"$f":"IF(A364=\"\",\"\",VLOOKUP(A364,Data!$B$2:$D$4020,3,FALSE))","v":""},{"$f":"IF(A364=\"\",\"\",VLOOKUP(A364,Data!$B$2:$F$4020,5,FALSE))","v":""},null,{"$f":"CONCATENATE(A364,D364)","v":""},{"$f":"IF(ISNA(VLOOKUP(E364,Data!$A$2:$I$4020,7,FALSE)),\"\",VLOOKUP(E364,Data!$A$2:$I$4020,7,FALSE))","v":""},{"$f":"IF(ISNA(VLOOKUP(E364,Data!$A$2:$I$4020,9,FALSE)),\"\",VLOOKUP(E364,Data!$A$2:$I$4020,9,FALSE))","v":""},{"$f":"IF(ISNA(VLOOKUP(E364,Data!$A$2:$J$4020,10,FALSE)),\"\",VLOOKUP(E364,Data!$A$2:$J$4020,10,FALSE))","v":""},{"$nulls":13},{"$f":"SUM(S364:U364)","v":0}]
[null,{"$f":"IF(A365=\"\",\"\",VLOOKUP(A365,Data!$B$2:$D$4020,3,FALSE))","v":""},{"$f":"IF(A365=\"\",\"\",VLOOKUP(A365,Data!$B$2:$F$4020,5,FALSE))","v":""},null,{"$f":"CONCATENATE(A365,D365)","v":""},{"$f":"IF(ISNA(VLOOKUP(E365,Data!$A$2:$I$4020,7,FALSE)),\"\",VLOOKUP(E365,Data!$A$2:$I$4020,7,FALSE))","v":""},{"$f":"IF(ISNA(VLOOKUP(E365,Data!$A$2:$I$4020,9,FALSE)),\"\",VLOOKUP(E365,Data!$A$2:$I$4020,9,FALSE))","v":""},{"$f":"IF(ISNA(VLOOKUP(E365,Data!$A$2:$J$4020,10,FALSE)),\"\",VLOOKUP(E365,Data!$A$2:$J$4020,10,FALSE))","v":""},{"$nulls":13},{"$f":"SUM(S365:U365)","v":0}]
[null,{"$f":"IF(A366=\"\",\"\",VLOOKUP(A366,Data!$B$2:$D$4020,3,FALSE))","v":""},{"$f":"IF(A366=\"\",\"\",VLOOKUP(A366,Data!$B$2:$F$4020,5,FALSE))","v":""},null,{"$f":"CONCATENATE(A366,D366)","v":""},{"$f":"IF(ISNA(VLOOKUP(E366,Data!$A$2:$I$4020,7,FALSE)),\"\",VLOOKUP(E366,Data!$A$2:$I$4020,7,FALSE))","v":""},{"$f":"IF(ISNA(VLOOKUP(E366,Data!$A$2:$I$4020,9,FALSE)),\"\",VLOOKUP(E366,Data!$A$2:$I$4020,9,FALSE))","v":""},{"$f":"IF(ISNA(VLOOKUP(E366,Data!$A$2:$J$4020,10,FALSE)),\"\",VLOOKUP(E366,Data!$A$2:$J$4020,10,FALSE))","v":""},{"$nulls":13},{"$f":"SUM(S366:U366)","v":0}]
[null,{"$f":"IF(A367=\"\",\"\",VLOOKUP(A367,Data!$B$2:$D$4020,3,FALSE))","v":""},{"$f":"IF(A367=\"\",\"\",VLOOKUP(A367,Data!$B$2:$F$4020,5,FALSE))","v":""},null,{"$f":"CONCATENATE(A367,D367)","v":""},{"$f":"IF(ISNA(VLOOKUP(E367,Data!$A$2:$I$4020,7,FALSE)),\"\",VLOOKUP(E367,Data!$A$2:$I$4020,7,FALSE))","v":""},{"$f":"IF(ISNA(VLOOKUP(E367,Data!$A$2:$I$4020,9,FALSE)),\"\",VLOOKUP(E367,Data!$A$2:$I$4020,9,FALSE))","v":""},{"$f":"IF(ISNA(VLOOKUP(E367,Data!$A$2:$J$4020,10,FALSE)),\"\",VLOOKUP(E367,Data!$A$2:$J$4020,10,FALSE))","v":""},{"$nulls":13},{"$f":"SUM(S367:U367)","v":0}]
[null,{"$f":"IF(A368=\"\",\"\",VLOOKUP(A368,Data!$B$2:$D$4020,3,FALSE))","v":""},{"$f":"IF(A368=\"\",\"\",VLOOKUP(A368,Data!$B$2:$F$4020,5,FALSE))","v":""},null,{"$f":"CONCATENATE(A368,D368)","v":""},{"$f":"IF(ISNA(VLOOKUP(E368,Data!$A$2:$I$4020,7,FALSE)),\"\",VLOOKUP(E368,Data!$A$2:$I$4020,7,FALSE))","v":""},{"$f":"IF(ISNA(VLOOKUP(E368,Data!$A$2:$I$4020,9,FALSE)),\"\",VLOOKUP(E368,Data!$A$2:$I$4020,9,FALSE))","v":""},{"$f":"IF(ISNA(VLOOKUP(E368,Data!$A$2:$J$4020,10,FALSE)),\"\",VLOOKUP(E368,Data!$A$2:$J$4020,10,FALSE))","v":""},{"$nulls":13},{"$f":"SUM(S368:U368)","v":0}]
[null,{"$f":"IF(A369=\"\",\"\",VLOOKUP(A369,Data!$B$2:$D$4020,3,FALSE))","v":""},{"$f":"IF(A369=\"\",\"\",VLOOKUP(A369,Data!$B$2:$F$4020,5,FALSE))","v":""},null,{"$f":"CONCATENATE(A369,D369)","v":""},{"$f":"IF(ISNA(VLOOKUP(E369,Data!$A$2:$I$4020,7,FALSE)),\"\",VLOOKUP(E369,Data!$A$2:$I$4020,7,FALSE))","v":""},{"$f":"IF(ISNA(VLOOKUP(E369,Data!$A$2:$I$4020,9,FALSE)),\"\",VLOOKUP(E369,Data!$A$2:$I$4020,9,FALSE))","v":""},{"$f":"IF(ISNA(VLOOKUP(E369,Data!$A$2:$J$4020,10,FALSE)),\"\",VLOOKUP(E369,Data!$A$2:$J$4020,10,FALSE))","v":""},{"$nulls":13},{"$f":"SUM(S369:U369)","v":0}]
[null,{"$f":"IF(A370=\"\",\"\",VLOOKUP(A370,Data!$B$2:$D$4020,3,FALSE))","v":""},{"$f":"IF(A370=\"\",\"\",VLOOKUP(A370,Data!$B$2:$F$4020,5,FALSE))","v":""},null,{"$f":"CONCATENATE(A370,D370)","v":""},{"$f":"IF(ISNA(VLOOKUP(E370,Data!$A$2:$I$4020,7,FALSE)),\"\",VLOOKUP(E370,Data!$A$2:$I$4020,7,FALSE))","v":""},{"$f":"IF(ISNA(VLOOKUP(E370,Data!$A$2:$I$4020,9,FALSE)),\"\",VLOOKUP(E370,Data!$A$2:$I$4020,9,FALSE))","v":""},{"$f":"IF(ISNA(VLOOKUP(E370,Data!$A$2:$J$4020,10,FALSE)),\"\",VLOOKUP(E370,Data!$A$2:$J$4020,10,FALSE))","v":""},{"$nulls":13},{"$f":"SUM(S370:U370)","v":0}]
[null,{"$f":"IF(A371=\"\",\"\",VLOOKUP(A371,Data!$B$2:$D$4020,3,FALSE))","v":""},{"$f":"IF(A371=\"\",\"\",VLOOKUP(A371,Data!$B$2:$F$4020,5,FALSE))","v":""},null,{"$f":"CONCATENATE(A371,D371)","v":""},{"$f":"IF(ISNA(VLOOKUP(E371,Data!$A$2:$I$4020,7,FALSE)),\"\",VLOOKUP(E371,Data!$A$2:$I$4020,7,FALSE))","v":""},{"$f":"IF(ISNA(VLOOKUP(E371,Data!$A$2:$I$4020,9,FALSE)),\"\",VLOOKUP(E371,Data!$A$2:$I$4020,9,FALSE))","v":""},{"$f":"IF(ISNA(VLOOKUP(E371,Data!$A$2:$J$4020,10,FALSE)),\"\",VLOOKUP(E371,Data!$A$2:$J$4020,10,FALSE))","v":""},{"$nulls":13},{"$f":"SUM(S371:U371)","v":0}]
[null,{"$f":"IF(A372=\"\",\"\",VLOOKUP(A372,Data!$B$2:$D$4020,3,FALSE))","v":""},{"$f":"IF(A372=\"\",\"\",VLOOKUP(A372,Data!$B$2:$F$4020,5,FALSE))","v":""},null,{"$f":"CONCATENATE(A372,D372)","v":""},{"$f":"IF(ISNA(VLOOKUP(E372,Data!$A$2:$I$4020,7,FALSE)),\"\",VLOOKUP(E372,Data!$A$2:$I$4020,7,FALSE))","v":""},{"$f":"IF(ISNA(VLOOKUP(E372,Data!$A$2:$I$4020,9,FALSE)),\"\",VLOOKUP(E372,Data!$A$2:$I$4020,9,FALSE))","v":""},{"$f":"IF(ISNA(VLOOKUP(E372,Data!$A$2:$J$4020,10,FALSE)),\"\",VLOOKUP(E372,Data!$A$2:$J$4020,10,FALSE))","v":""},{"$nulls":13},{"$f":"SUM(S372:U372)","v":0}]
[null,{"$f":"IF(A373=\"\",\"\",VLOOKUP(A373,Data!$B$2:$D$4020,3,FALSE))","v":""},{"$f":"IF(A373=\"\",\"\",VLOOKUP(A373,Data!$B$2:$F$4020,5,FALSE))","v":""},null,{"$f":"CONCATENATE(A373,D373)","v":""},{"$f":"IF(ISNA(VLOOKUP(E373,Data!$A$2:$I$4020,7,FALSE)),\"\",VLOOKUP(E373,Data!$A$2:$I$4020,7,FALSE))","v":""},{"$f":"IF(ISNA(VLOOKUP(E373,Data!$A$2:$I$4020,9,FALSE)),\"\",VLOOKUP(E373,Data!$A$2:$I$4020,9,FALSE))","v":""},{"$f":"IF(ISNA(VLOOKUP(E373,Data!$A$2:$J$4020,10,FALSE)),\"\",VLOOKUP(E373,Data!$A$2:$J$4020,10,FALSE))","v":""},{"$nulls":13},{"$f":"SUM(S373:U373)","v":0}]
[null,{"$f":"IF(A374=\"\",\"\",VLOOKUP(A374,Data!$B$2:$D$4020,3,FALSE))","v":""},{"$f":"IF(A374=\"\",\"\",VLOOKUP(A374,Data!$B$2:$F$4020,5,FALSE))","v":""},null,{"$f":"CONCATENATE(A374,D374)","v":""},{"$f":"IF(ISNA(VLOOKUP(E374,Data!$A$2:$I$4020,7,FALSE)),\"\",VLOOKUP(E374,Data!$A$2:$I$4020,7,FALSE))","v":""},{"$f":"IF(ISNA(VLOOKUP(E374,Data!$A$2:$I$4020,9,FALSE)),\"\",VLOOKUP(E374,Data!$A$2:$I$4020,9,FALSE))","v":""},{"$f":"IF(ISNA(VLOOKUP(E374,Data!$A$2:$J$4020,10,FALSE)),\"\",VLOOKUP(E374,Data!$A$2:$J$4020,10,FALSE))","v":""},{"$nulls":13},{"$f":"SUM(S374:U374)","v":0}]
[null,{"$f":"IF(A375=\"\",\"\",VLOOKUP(A375,Data!$B$2:$D$4020,3,FALSE))","v":""},{"$f":"IF(A375=\"\",\"\",VLOOKUP(A375,Data!$B$2:$F$4020,5,FALSE))","v":""},null,{"$f":"CONCATENATE(A375,D375)","v":""},{"$f":"IF(ISNA(VLOOKUP(E375,Data!$A$2:$I$4020,7,FALSE)),\"\",VLOOKUP(E375,Data!$A$2:$I$4020,7,FALSE))","v":""},{"$f":"IF(ISNA(VLOOKUP(E375,Data!$A$2:$I$4020,9,FALSE)),\"\",VLOOKUP(E375,Data!$A$2:$I$4020,9,FALSE))","v":""},{"$f":"IF(ISNA(VLOOKUP(E375,Data!$A$2:$J$4020,10,FALSE)),\"\",VLOOKUP(E375,Data!$A$2:$J$4020,10,FALSE))","v":""},{"$nulls":13},{"$f":"SUM(S375:U375)","v":0}]
[null,{"$f":"IF(A376=\"\",\"\",VLOOKUP(A376,Data!$B$2:$D$4020,3,FALSE))","v":""},{"$f":"IF(A376=\"\",\"\",VLOOKUP(A376,Data!$B$2:$F$4020,5,FALSE))","v":""},null,{"$f":"CONCATENATE(A376,D376)","v":""},{"$f":"IF(ISNA(VLOOKUP(E376,Data!$A$2:$I$4020,7,FALSE)),\"\",VLOOKUP(E376,Data!$A$2:$I$4020,7,FALSE))","v":""},{"$f":"IF(ISNA(VLOOKUP(E376,Data!$A$2:$I$4020,9,FALSE)),\"\",VLOOKUP(E376,Data!$A$2:$I$4020,9,FALSE))","v":""},{"$f":"IF(ISNA(VLOOKUP(E376,Data!$A$2:$J$4020,10,FALSE)),\"\",VLOOKUP(E376,Data!$A$2:$J$4020,10,FALSE))","v":""},{"$nulls":13},{"$f":"SUM(S376:U376)","v":0}]
[null,{"$f":"IF(A377=\"\",\"\",VLOOKUP(A377,Data!$B$2:$D$4020,3,FALSE))","v":""},{"$f":"IF(A377=\"\",\"\",VLOOKUP(A377,Data!$B$2:$F$4020,5,FALSE))","v":""},null,{"$f":"CONCATENATE(A377,D377)","v":""},{"$f":"IF(ISNA(VLOOKUP(E377,Data!$A$2:$I$4020,7,FALSE)),\"\",VLOOKUP(E377,Data!$A$2:$I$4020,7,FALSE))","v":""},{"$f":"IF(ISNA(VLOOKUP(E377,Data!$A$2:$I$4020,9,FALSE)),\"\",VLOOKUP(E377,Data!$A$2:$I$4020,9,FALSE))","v":""},{"$f":"IF(ISNA(VLOOKUP(E377,Data!$A$2:$J$4020,10,FALSE)),\"\",VLOOKUP(E377,Data!$A$2:$J$4020,10,FALSE))","v":""},{"$nulls":13},{"$f":"SUM(S377:U377)","v":0}]
[null,{"$f":"IF(A378=\"\",\"\",VLOOKUP(A378,Data!$B$2:$D$4020,3,FALSE))","v":""},{"$f":"IF(A378=\"\",\"\",VLOOKUP(A378,Data!$B$2:$F$4020,5,FALSE))","v":""},null,{"$f":"CONCATENATE(A378,D378)","v":""},{"$f":"IF(ISNA(VLOOKUP(E378,Data!$A$2:$I$4020,7,FALSE)),\"\",VLOOKUP(E378,Data!$A$2:$I$4020,7,FALSE))","v":""},{"$f":"IF(ISNA(VLOOKUP(E378,Data!$A$2:$I$4020,9,FALSE)),\"\",VLOOKUP(E378,Data!$A$2:$I$4020,9,FALSE))","v":""},{"$f":"IF(ISNA(VLOOKUP(E378,Data!$A$2:$J$4020,10,FALSE)),\"\",VLOOKUP(E378,Data!$A$2:$J$4020,10,FALSE))","v":""},{"$nulls":13},{"$f":"SUM(S378:U378)","v":0}]
[null,{"$f":"IF(A379=\"\",\"\",VLOOKUP(A379,Data!$B$2:$D$4020,3,FALSE))","v":""},{"$f":"IF(A379=\"\",\"\",VLOOKUP(A379,Data!$B$2:$F$4020,5,FALSE))","v":""},null,{"$f":"CONCATENATE(A379,D379)","v":""},{"$f":"IF(ISNA(VLOOKUP(E379,Data!$A$2:$I$4020,7,FALSE)),\"\",VLOOKUP(E379,Data!$A$2:$I$4020,7,FALSE))","v":""},{"$f":"IF(ISNA(VLOOKUP(E379,Data!$A$2:$I$4020,9,FALSE)),\"\",VLOOKUP(E379,Data!$A$2:$I$4020,9,FALSE))","v":""},{"$f":"IF(ISNA(VLOOKUP(E379,Data!$A$2:$J$4020,10,FALSE)),\"\",VLOOKUP(E379,Data!$A$2:$J$4020,10,FALSE))","v":""},{"$nulls":13},{"$f":"SUM(S379:U379)","v":0}]
[null,{"$f":"IF(A380=\"\",\"\",VLOOKUP(A380,Data!$B$2:$D$4020,3,FALSE))","v":""},{"$f":"IF(A380=\"\",\"\",VLOOKUP(A380,Data!$B$2:$F$4020,5,FALSE))","v":""},null,{"$f":"CONCATENATE(A380,D380)","v":""},{"$f":"IF(ISNA(VLOOKUP(E380,Data!$A$2:$I$4020,7,FALSE)),\"\",VLOOKUP(E380,Data!$A$2:$I$4020,7,FALSE))","v":""},{"$f":"IF(ISNA(VLOOKUP(E380,Data!$A$2:$I$4020,9,FALSE)),\"\",VLOOKUP(E380,Data!$A$2:$I$4020,9,FALSE))","v":""},{"$f":"IF(ISNA(VLOOKUP(E380,Data!$A$2:$J$4020,10,FALSE)),\"\",VLOOKUP(E380,Data!$A$2:$J$4020,10,FALSE))","v":""},{"$nulls":13},{"$f":"SUM(S380:U380)","v":0}]
[null,{"$f":"IF(A381=\"\",\"\",VLOOKUP(A381,Data!$B$2:$D$4020,3,FALSE))","v":""},{"$f":"IF(A381=\"\",\"\",VLOOKUP(A381,Data!$B$2:$F$4020,5,FALSE))","v":""},null,{"$f":"CONCATENATE(A381,D381)","v":""},{"$f":"IF(ISNA(VLOOKUP(E381,Data!$A$2:$I$4020,7,FALSE)),\"\",VLOOKUP(E381,Data!$A$2:$I$4020,7,FALSE))","v":""},{"$f":"IF(ISNA(VLOOKUP(E381,Data!$A$2:$I$4020,9,FALSE)),\"\",VLOOKUP(E381,Data!$A$2:$I$4020,9,FALSE))","v":""},{"$f":"IF(ISNA(VLOOKUP(E381,Data!$A$2:$J$4020,10,FALSE)),\"\",VLOOKUP(E381,Data!$A$2:$J$4020,10,FALSE))","v":""},{"$nulls":13},{"$f":"SUM(S381:U381)","v":0}]
[null,{"$f":"IF(A382=\"\",\"\",VLOOKUP(A382,Data!$B$2:$D$4020,3,FALSE))","v":""},{"$f":"IF(A382=\"\",\"\",VLOOKUP(A382,Data!$B$2:$F$4020,5,FALSE))","v":""},null,{"$f":"CONCATENATE(A382,D382)","v":""},{"$f":"IF(ISNA(VLOOKUP(E382,Data!$A$2:$I$4020,7,FALSE)),\"\",VLOOKUP(E382,Data!$A$2:$I$4020,7,FALSE))","v":""},{"$f":"IF(ISNA(VLOOKUP(E382,Data!$A$2:$I$4020,9,FALSE)),\"\",VLOOKUP(E382,Data!$A$2:$I$4020,9,FALSE))","v":""},{"$f":"IF(ISNA(VLOOKUP(E382,Data!$A$2:$J$4020,10,FALSE)),\"\",VLOOKUP(E382,Data!$A$2:$J$4020,10,FALSE))","v":""},{"$nulls":13},{"$f":"SUM(S382:U382)","v":0}]
[null,{"$f":"IF(A383=\"\",\"\",VLOOKUP(A383,Data!$B$2:$D$4020,3,FALSE))","v":""},{"$f":"IF(A383=\"\",\"\",VLOOKUP(A383,Data!$B$2:$F$4020,5,FALSE))","v":""},null,{"$f":"CONCATENATE(A383,D383)","v":""},{"$f":"IF(ISNA(VLOOKUP(E383,Data!$A$2:$I$4020,7,FALSE)),\"\",VLOOKUP(E383,Data!$A$2:$I$4020,7,FALSE))","v":""},{"$f":"IF(ISNA(VLOOKUP(E383,Data!$A$2:$I$4020,9,FALSE)),\"\",VLOOKUP(E383,Data!$A$2:$I$4020,9,FALSE))","v":""},{"$f":"IF(ISNA(VLOOKUP(E383,Data!$A$2:$J$4020,10,FALSE)),\"\",VLOOKUP(E383,Data!$A$2:$J$4020,10,FALSE))","v":""},{"$nulls":13},{"$f":"SUM(S383:U383)","v":0}]
[null,{"$f":"IF(A384=\"\",\"\",VLOOKUP(A384,Data!$B$2:$D$4020,3,FALSE))","v":""},{"$f":"IF(A384=\"\",\"\",VLOOKUP(A384,Data!$B$2:$F$4020,5,FALSE))","v":""},null,{"$f":"CONCATENATE(A384,D384)","v":""},{"$f":"IF(ISNA(VLOOKUP(E384,Data!$A$2:$I$4020,7,FALSE)),\"\",VLOOKUP(E384,Data!$A$2:$I$4020,7,FALSE))","v":""},{"$f":"IF(ISNA(VLOOKUP(E384,Data!$A$2:$I$4020,9,FALSE)),\"\",VLOOKUP(E384,Data!$A$2:$I$4020,9,FALSE))","v":""},{"$f":"IF(ISNA(VLOOKUP(E384,Data!$A$2:$J$4020,10,FALSE)),\"\",VLOOKUP(E384,Data!$A$2:$J$4020,10,FALSE))","v":""},{"$nulls":13},{"$f":"SUM(S384:U384)","v":0}]
[null,{"$f":"IF(A385=\"\",\"\",VLOOKUP(A385,Data!$B$2:$D$4020,3,FALSE))","v":""},{"$f":"IF(A385=\"\",\"\",VLOOKUP(A385,Data!$B$2:$F$4020,5,FALSE))","v":""},null,{"$f":"CONCATENATE(A385,D385)","v":""},{"$f":"IF(ISNA(VLOOKUP(E385,Data!$A$2:$I$4020,7,FALSE)),\"\",VLOOKUP(E385,Data!$A$2:$I$4020,7,FALSE))","v":""},{"$f":"IF(ISNA(VLOOKUP(E385,Data!$A$2:$I$4020,9,FALSE)),\"\",VLOOKUP(E385,Data!$A$2:$I$4020,9,FALSE))","v":""},{"$f":"IF(ISNA(VLOOKUP(E385,Data!$A$2:$J$4020,10,FALSE)),\"\",VLOOKUP(E385,Data!$A$2:$J$4020,10,FALSE))","v":""},{"$nulls":13},{"$f":"SUM(S385:U385)","v":0}]
[null,{"$f":"IF(A386=\"\",\"\",VLOOKUP(A386,Data!$B$2:$D$4020,3,FALSE))","v":""},{"$f":"IF(A386=\"\",\"\",VLOOKUP(A386,Data!$B$2:$F$4020,5,FALSE))","v":""},null,{"$f":"CONCATENATE(A386,D386)","v":""},{"$f":"IF(ISNA(VLOOKUP(E386,Data!$A$2:$I$4020,7,FALSE)),\"\",VLOOKUP(E386,Data!$A$2:$I$4020,7,FALSE))","v":""},{"$f":"IF(ISNA(VLOOKUP(E386,Data!$A$2:$I$4020,9,FALSE)),\"\",VLOOKUP(E386,Data!$A$2:$I$4020,9,FALSE))","v":""},{"$f":"IF(ISNA(VLOOKUP(E386,Data!$A$2:$J$4020,10,FALSE)),\"\",VLOOKUP(E386,Data!$A$2:$J$4020,10,FALSE))","v":""},{"$nulls":13},{"$f":"SUM(S386:U386)","v":0}]
[null,{"$f":"IF(A387=\"\",\"\",VLOOKUP(A387,Data!$B$2:$D$4020,3,FALSE))","v":""},{"$f":"IF(A387=\"\",\"\",VLOOKUP(A387,Data!$B$2:$F$4020,5,FALSE))","v":""},null,{"$f":"CONCATENATE(A387,D387)","v":""},{"$f":"IF(ISNA(VLOOKUP(E387,Data!$A$2:$I$4020,7,FALSE)),\"\",VLOOKUP(E387,Data!$A$2:$I$4020,7,FALSE))","v":""},{"$f":"IF(ISNA(VLOOKUP(E387,Data!$A$2:$I$4020,9,FALSE)),\"\",VLOOKUP(E387,Data!$A$2:$I$4020,9,FALSE))","v":""},{"$f":"IF(ISNA(VLOOKUP(E387,Data!$A$2:$J$4020,10,FALSE)),\"\",VLOOKUP(E387,Data!$A$2:$J$4020,10,FALSE))","v":""},{"$nulls":13},{"$f":"SUM(S387:U387)","v":0}]
[null,{"$f":"IF(A388=\"\",\"\",VLOOKUP(A388,Data!$B$2:$D$4020,3,FALSE))","v":""},{"$f":"IF(A388=\"\",\"\",VLOOKUP(A388,Data!$B$2:$F$4020,5,FALSE))","v":""},null,{"$f":"CONCATENATE(A388,D388)","v":""},{"$f":"IF(ISNA(VLOOKUP(E388,Data!$A$2:$I$4020,7,FALSE)),\"\",VLOOKUP(E388,Data!$A$2:$I$4020,7,FALSE))","v":""},{"$f":"IF(ISNA(VLOOKUP(E388,Data!$A$2:$I$4020,9,FALSE)),\"\",VLOOKUP(E388,Data!$A$2:$I$4020,9,FALSE))","v":""},{"$f":"IF(ISNA(VLOOKUP(E388,Data!$A$2:$J$4020,10,FALSE)),\"\",VLOOKUP(E388,Data!$A$2:$J$4020,10,FALSE))","v":""},{"$nulls":13},{"$f":"SUM(S388:U388)","v":0}]
[null,{"$f":"IF(A389=\"\",\"\",VLOOKUP(A389,Data!$B$2:$D$4020,3,FALSE))","v":""},{"$f":"IF(A389=\"\",\"\",VLOOKUP(A389,Data!$B$2:$F$4020,5,FALSE))","v":""},null,{"$f":"CONCATENATE(A389,D389)","v":""},{"$f":"IF(ISNA(VLOOKUP(E389,Data!$A$2:$I$4020,7,FALSE)),\"\",VLOOKUP(E389,Data!$A$2:$I$4020,7,FALSE))","v":""},{"$f":"IF(ISNA(VLOOKUP(E389,Data!$A$2:$I$4020,9,FALSE)),\"\",VLOOKUP(E389,Data!$A$2:$I$4020,9,FALSE))","v":""},{"$f":"IF(ISNA(VLOOKUP(E389,Data!$A$2:$J$4020,10,FALSE)),\"\",VLOOKUP(E389,Data!$A$2:$J$4020,10,FALSE))","v":""},{"$nulls":13},{"$f":"SUM(S389:U389)","v":0}]
[null,{"$f":"IF(A390=\"\",\"\",VLOOKUP(A390,Data!$B$2:$D$4020,3,FALSE))","v":""},{"$f":"IF(A390=\"\",\"\",VLOOKUP(A390,Data!$B$2:$F$4020,5,FALSE))","v":""},null,{"$f":"CONCATENATE(A390,D390)","v":""},{"$f":"IF(ISNA(VLOOKUP(E390,Data!$A$2:$I$4020,7,FALSE)),\"\",VLOOKUP(E390,Data!$A$2:$I$4020,7,FALSE))","v":""},{"$f":"IF(ISNA(VLOOKUP(E390,Data!$A$2:$I$4020,9,FALSE)),\"\",VLOOKUP(E390,Data!$A$2:$I$4020,9,FALSE))","v":""},{"$f":"IF(ISNA(VLOOKUP(E390,Data!$A$2:$J$4020,10,FALSE)),\"\",VLOOKUP(E390,Data!$A$2:$J$4020,10,FALSE))","v":""},{"$nulls":13},{"$f":"SUM(S390:U390)","v":0}]
[null,{"$f":"IF(A391=\"\",\"\",VLOOKUP(A391,Data!$B$2:$D$4020,3,FALSE))","v":""},{"$f":"IF(A391=\"\",\"\",VLOOKUP(A391,Data!$B$2:$F$4020,5,FALSE))","v":""},null,{"$f":"CONCATENATE(A391,D391)","v":""},{"$f":"IF(ISNA(VLOOKUP(E391,Data!$A$2:$I$4020,7,FALSE)),\"\",VLOOKUP(E391,Data!$A$2:$I$4020,7,FALSE))","v":""},{"$f":"IF(ISNA(VLOOKUP(E391,Data!$A$2:$I$4020,9,FALSE)),\"\",VLOOKUP(E391,Data!$A$2:$I$4020,9,FALSE))","v":""},{"$f":"IF(ISNA(VLOOKUP(E391,Data!$A$2:$J$4020,10,FALSE)),\"\",VLOOKUP(E391,Data!$A$2:$J$4020,10,FALSE))","v":""},{"$nulls":13},{"$f":"SUM(S391:U391)","v":0}]
[null,{"$f":"IF(A392=\"\",\"\",VLOOKUP(A392,Data!$B$2:$D$4020,3,FALSE))","v":""},{"$f":"IF(A392=\"\",\"\",VLOOKUP(A392,Data!$B$2:$F$4020,5,FALSE))","v":""},null,{"$f":"CONCATENATE(A392,D392)","v":""},{"$f":"IF(ISNA(VLOOKUP(E392,Data!$A$2:$I$4020,7,FALSE)),\"\",VLOOKUP(E392,Data!$A$2:$I$4020,7,FALSE))","v":""},{"$f":"IF(ISNA(VLOOKUP(E392,Data!$A$2:$I$4020,9,FALSE)),\"\",VLOOKUP(E392,Data!$A$2:$I$4020,9,FALSE))","v":""},{"$f":"IF(ISNA(VLOOKUP(E392,Data!$A$2:$J$4020,10,FALSE)),\"\",VLOOKUP(E392,Data!$A$2:$J$4020,10,FALSE))","v":""},{"$nulls":13},{"$f":"SUM(S392:U392)","v":0}]
[null,{"$f":"IF(A393=\"\",\"\",VLOOKUP(A393,Data!$B$2:$D$4020,3,FALSE))","v":""},{"$f":"IF(A393=\"\",\"\",VLOOKUP(A393,Data!$B$2:$F$4020,5,FALSE))","v":""},null,{"$f":"CONCATENATE(A393,D393)","v":""},{"$f":"IF(ISNA(VLOOKUP(E393,Data!$A$2:$I$4020,7,FALSE)),\"\",VLOOKUP(E393,Data!$A$2:$I$4020,7,FALSE))","v":""},{"$f":"IF(ISNA(VLOOKUP(E393,Data!$A$2:$I$4020,9,FALSE)),\"\",VLOOKUP(E393,Data!$A$2:$I$4020,9,FALSE))","v":""},{"$f":"IF(ISNA(VLOOKUP(E393,Data!$A$2:$J$4020,10,FALSE)),\"\",VLOOKUP(E393,Data!$A$2:$J$4020,10,FALSE))","v":""},{"$nulls":13},{"$f":"SUM(S393:U393)","v":0}]
[null,{"$f":"IF(A394=\"\",\"\",VLOOKUP(A394,Data!$B$2:$D$4020,3,FALSE))","v":""},{"$f":"IF(A394=\"\",\"\",VLOOKUP(A394,Data!$B$2:$F$4020,5,FALSE))","v":""},null,{"$f":"CONCATENATE(A394,D394)","v":""},{"$f":"IF(ISNA(VLOOKUP(E394,Data!$A$2:$I$4020,7,FALSE)),\"\",VLOOKUP(E394,Data!$A$2:$I$4020,7,FALSE))","v":""},{"$f":"IF(ISNA(VLOOKUP(E394,Data!$A$2:$I$4020,9,FALSE)),\"\",VLOOKUP(E394,Data!$A$2:$I$4020,9,FALSE))","v":""},{"$f":"IF(ISNA(VLOOKUP(E394,Data!$A$2:$J$4020,10,FALSE)),\"\",VLOOKUP(E394,Data!$A$2:$J$4020,10,FALSE))","v":""},{"$nulls":13},{"$f":"SUM(S394:U394)","v":0}]
[null,{"$f":"IF(A395=\"\",\"\",VLOOKUP(A395,Data!$B$2:$D$4020,3,FALSE))","v":""},{"$f":"IF(A395=\"\",\"\",VLOOKUP(A395,Data!$B$2:$F$4020,5,FALSE))","v":""},null,{"$f":"CONCATENATE(A395,D395)","v":""},{"$f":"IF(ISNA(VLOOKUP(E395,Data!$A$2:$I$4020,7,FALSE)),\"\",VLOOKUP(E395,Data!$A$2:$I$4020,7,FALSE))","v":""},{"$f":"IF(ISNA(VLOOKUP(E395,Data!$A$2:$I$4020,9,FALSE)),\"\",VLOOKUP(E395,Data!$A$2:$I$4020,9,FALSE))","v":""},{"$f":"IF(ISNA(VLOOKUP(E395,Data!$A$2:$J$4020,10,FALSE)),\"\",VLOOKUP(E395,Data!$A$2:$J$4020,10,FALSE))","v":""},{"$nulls":13},{"$f":"SUM(S395:U395)","v":0}]
[null,{"$f":"IF(A396=\"\",\"\",VLOOKUP(A396,Data!$B$2:$D$4020,3,FALSE))","v":""},{"$f":"IF(A396=\"\",\"\",VLOOKUP(A396,Data!$B$2:$F$4020,5,FALSE))","v":""},null,{"$f":"CONCATENATE(A396,D396)","v":""},{"$f":"IF(ISNA(VLOOKUP(E396,Data!$A$2:$I$4020,7,FALSE)),\"\",VLOOKUP(E396,Data!$A$2:$I$4020,7,FALSE))","v":""},{"$f":"IF(ISNA(VLOOKUP(E396,Data!$A$2:$I$4020,9,FALSE)),\"\",VLOOKUP(E396,Data!$A$2:$I$4020,9,FALSE))","v":""},{"$f":"IF(ISNA(VLOOKUP(E396,Data!$A$2:$J$4020,10,FALSE)),\"\",VLOOKUP(E396,Data!$A$2:$J$4020,10,FALSE))","v":""},{"$nulls":13},{"$f":"SUM(S396:U396)","v":0}]
[null,{"$f":"IF(A397=\"\",\"\",VLOOKUP(A397,Data!$B$2:$D$4020,3,FALSE))","v":""},{"$f":"IF(A397=\"\",\"\",VLOOKUP(A397,Data!$B$2:$F$4020,5,FALSE))","v":""},null,{"$f":"CONCATENATE(A397,D397)","v":""},{"$f":"IF(ISNA(VLOOKUP(E397,Data!$A$2:$I$4020,7,FALSE)),\"\",VLOOKUP(E397,Data!$A$2:$I$4020,7,FALSE))","v":""},{"$f":"IF(ISNA(VLOOKUP(E397,Data!$A$2:$I$4020,9,FALSE)),\"\",VLOOKUP(E397,Data!$A$2:$I$4020,9,FALSE))","v":""},{"$f":"IF(ISNA(VLOOKUP(E397,Data!$A$2:$J$4020,10,FALSE)),\"\",VLOOKUP(E397,Data!$A$2:$J$4020,10,FALSE))","v":""},{"$nulls":13},{"$f":"SUM(S397:U397)","v":0}]
[null,{"$f":"IF(A398=\"\",\"\",VLOOKUP(A398,Data!$B$2:$D$4020,3,FALSE))","v":""},{"$f":"IF(A398=\"\",\"\",VLOOKUP(A398,Data!$B$2:$F$4020,5,FALSE))","v":""},null,{"$f":"CONCATENATE(A398,D398)","v":""},{"$f":"IF(ISNA(VLOOKUP(E398,Data!$A$2:$I$4020,7,FALSE)),\"\",VLOOKUP(E398,Data!$A$2:$I$4020,7,FALSE))","v":""},{"$f":"IF(ISNA(VLOOKUP(E398,Data!$A$2:$I$4020,9,FALSE)),\"\",VLOOKUP(E398,Data!$A$2:$I$4020,9,FALSE))","v":""},{"$f":"IF(ISNA(VLOOKUP(E398,Data!$A$2:$J$4020,10,FALSE)),\"\",VLOOKUP(E398,Data!$A$2:$J$4020,10,FALSE))","v":""},{"$nulls":13},{"$f":"SUM(S398:U398)","v":0}]
[null,{"$f":"IF(A399=\"\",\"\",VLOOKUP(A399,Data!$B$2:$D$4020,3,FALSE))","v":""},{"$f":"IF(A399=\"\",\"\",VLOOKUP(A399,Data!$B$2:$F$4020,5,FALSE))","v":""},null,{"$f":"CONCATENATE(A399,D399)","v":""},{"$f":"IF(ISNA(VLOOKUP(E399,Data!$A$2:$I$4020,7,FALSE)),\"\",VLOOKUP(E399,Data!$A$2:$I$4020,7,FALSE))","v":""},{"$f":"IF(ISNA(VLOOKUP(E399,Data!$A$2:$I$4020,9,FALSE)),\"\",VLOOKUP(E399,Data!$A$2:$I$4020,9,FALSE))","v":""},{"$f":"IF(ISNA(VLOOKUP(E399,Data!$A$2:$J$4020,10,FALSE)),\"\",VLOOKUP(E399,Data!$A$2:$J$4020,10,FALSE))","v":""},{"$nulls":13},{"$f":"SUM(S399:U399)","v":0}]
[null,{"$f":"IF(A400=\"\",\"\",VLOOKUP(A400,Data!$B$2:$D$4020,3,FALSE))","v":""},{"$f":"IF(A400=\"\",\"\",VLOOKUP(A400,Data!$B$2:$F$4020,5,FALSE))","v":""},null,{"$f":"CONCATENATE(A400,D400)","v":""},{"$f":"IF(ISNA(VLOOKUP(E400,Data!$A$2:$I$4020,7,FALSE)),\"\",VLOOKUP(E400,Data!$A$2:$I$4020,7,FALSE))","v":""},{"$f":"IF(ISNA(VLOOKUP(E400,Data!$A$2:$I$4020,9,FALSE)),\"\",VLOOKUP(E400,Data!$A$2:$I$4020,9,FALSE))","v":""},{"$f":"IF(ISNA(VLOOKUP(E400,Data!$A$2:$J$4020,10,FALSE)),\"\",VLOOKUP(E400,Data!$A$2:$J$4020,10,FALSE))","v":""},{"$nulls":13},{"$f":"SUM(S400:U400)","v":0}]
[null,{"$f":"IF(A401=\"\",\"\",VLOOKUP(A401,Data!$B$2:$D$4020,3,FALSE))","v":""},{"$f":"IF(A401=\"\",\"\",VLOOKUP(A401,Data!$B$2:$F$4020,5,FALSE))","v":""},null,{"$f":"CONCATENATE(A401,D401)","v":""},{"$f":"IF(ISNA(VLOOKUP(E401,Data!$A$2:$I$4020,7,FALSE)),\"\",VLOOKUP(E401,Data!$A$2:$I$4020,7,FALSE))","v":""},{"$f":"IF(ISNA(VLOOKUP(E401,Data!$A$2:$I$4020,9,FALSE)),\"\",VLOOKUP(E401,Data!$A$2:$I$4020,9,FALSE))","v":""},{"$f":"IF(ISNA(VLOOKUP(E401,Data!$A$2:$J$4020,10,FALSE)),\"\",VLOOKUP(E401,Data!$A$2:$J$4020,10,FALSE))","v":""},{"$nulls":13},{"$f":"SUM(S401:U401)","v":0}]
[null,{"$f":"IF(A402=\"\",\"\",VLOOKUP(A402,Data!$B$2:$D$4020,3,FALSE))","v":""},{"$f":"IF(A402=\"\",\"\",VLOOKUP(A402,Data!$B$2:$F$4020,5,FALSE))","v":""},null,{"$f":"CONCATENATE(A402,D402)","v":""},{"$f":"IF(ISNA(VLOOKUP(E402,Data!$A$2:$I$4020,7,FALSE)),\"\",VLOOKUP(E402,Data!$A$2:$I$4020,7,FALSE))","v":""},{"$f":"IF(ISNA(VLOOKUP(E402,Data!$A$2:$I$4020,9,FALSE)),\"\",VLOOKUP(E402,Data!$A$2:$I$4020,9,FALSE))","v":""},{"$f":"IF(ISNA(VLOOKUP(E402,Data!$A$2:$J$4020,10,FALSE)),\"\",VLOOKUP(E402,Data!$A$2:$J$4020,10,FALSE))","v":""},{"$nulls":13},{"$f":"SUM(S402:U402)","v":0}]
[null,{"$f":"IF(A403=\"\",\"\",VLOOKUP(A403,Data!$B$2:$D$4020,3,FALSE))","v":""},{"$f":"IF(A403=\"\",\"\",VLOOKUP(A403,Data!$B$2:$F$4020,5,FALSE))","v":""},null,{"$f":"CONCATENATE(A403,D403)","v":""},{"$f":"IF(ISNA(VLOOKUP(E403,Data!$A$2:$I$4020,7,FALSE)),\"\",VLOOKUP(E403,Data!$A$2:$I$4020,7,FALSE))","v":""},{"$f":"IF(ISNA(VLOOKUP(E403,Data!$A$2:$I$4020,9,FALSE)),\"\",VLOOKUP(E403,Data!$A$2:$I$4020,9,FALSE))","v":""},{"$f":"IF(ISNA(VLOOKUP(E403,Data!$A$2:$J$4020,10,FALSE)),\"\",VLOOKUP(E403,Data!$A$2:$J$4020,10,FALSE))","v":""},{"$nulls":13},{"$f":"SUM(S403:U403)","v":0}]
[null,{"$f":"IF(A404=\"\",\"\",VLOOKUP(A404,Data!$B$2:$D$4020,3,FALSE))","v":""},{"$f":"IF(A404=\"\",\"\",VLOOKUP(A404,Data!$B$2:$F$4020,5,FALSE))","v":""},null,{"$f":"CONCATENATE(A404,D404)","v":""},{"$f":"IF(ISNA(VLOOKUP(E404,Data!$A$2:$I$4020,7,FALSE)),\"\",VLOOKUP(E404,Data!$A$2:$I$4020,7,FALSE))","v":""},{"$f":"IF(ISNA(VLOOKUP(E404,Data!$A$2:$I$4020,9,FALSE)),\"\",VLOOKUP(E404,Data!$A$2:$I$4020,9,FALSE))","v":""},{"$f":"IF(ISNA(VLOOKUP(E404,Data!$A$2:$J$4020,10,FALSE)),\"\",VLOOKUP(E404,Data!$A$2:$J$4020,10,FALSE))","v":""},{"$nulls":13},{"$f":"SUM(S404:U404)","v":0}]
[null,{"$f":"IF(A405=\"\",\"\",VLOOKUP(A405,Data!$B$2:$D$4020,3,FALSE))","v":""},{"$f":"IF(A405=\"\",\"\",VLOOKUP(A405,Data!$B$2:$F$4020,5,FALSE))","v":""},null,{"$f":"CONCATENATE(A405,D405)","v":""},{"$f":"IF(ISNA(VLOOKUP(E405,Data!$A$2:$I$4020,7,FALSE)),\"\",VLOOKUP(E405,Data!$A$2:$I$4020,7,FALSE))","v":""},{"$f":"IF(ISNA(VLOOKUP(E405,Data!$A$2:$I$4020,9,FALSE)),\"\",VLOOKUP(E405,Data!$A$2:$I$4020,9,FALSE))","v":""},{"$f":"IF(ISNA(VLOOKUP(E405,Data!$A$2:$J$4020,10,FALSE)),\"\",VLOOKUP(E405,Data!$A$2:$J$4020,10,FALSE))","v":""},{"$nulls":13},{"$f":"SUM(S405:U405)","v":0}]
[null,{"$f":"IF(A406=\"\",\"\",VLOOKUP(A406,Data!$B$2:$D$4020,3,FALSE))","v":""},{"$f":"IF(A406=\"\",\"\",VLOOKUP(A406,Data!$B$2:$F$4020,5,FALSE))","v":""},null,{"$f":"CONCATENATE(A406,D406)","v":""},{"$f":"IF(ISNA(VLOOKUP(E406,Data!$A$2:$I$4020,7,FALSE)),\"\",VLOOKUP(E406,Data!$A$2:$I$4020,7,FALSE))","v":""},{"$f":"IF(ISNA(VLOOKUP(E406,Data!$A$2:$I$4020,9,FALSE)),\"\",VLOOKUP(E406,Data!$A$2:$I$4020,9,FALSE))","v":""},{"$f":"IF(ISNA(VLOOKUP(E406,Data!$A$2:$J$4020,10,FALSE)),\"\",VLOOKUP(E406,Data!$A$2:$J$4020,10,FALSE))","v":""},{"$nulls":13},{"$f":"SUM(S406:U406)","v":0}]
[null,{"$f":"IF(A407=\"\",\"\",VLOOKUP(A407,Data!$B$2:$D$4020,3,FALSE))","v":""},{"$f":"IF(A407=\"\",\"\",VLOOKUP(A407,Data!$B$2:$F$4020,5,FALSE))","v":""},null,{"$f":"CONCATENATE(A407,D407)","v":""},{"$f":"IF(ISNA(VLOOKUP(E407,Data!$A$2:$I$4020,7,FALSE)),\"\",VLOOKUP(E407,Data!$A$2:$I$4020,7,FALSE))","v":""},{"$f":"IF(ISNA(VLOOKUP(E407,Data!$A$2:$I$4020,9,FALSE)),\"\",VLOOKUP(E407,Data!$A$2:$I$4020,9,FALSE))","v":""},{"$f":"IF(ISNA(VLOOKUP(E407,Data!$A$2:$J$4020,10,FALSE)),\"\",VLOOKUP(E407,Data!$A$2:$J$4020,10,FALSE))","v":""},{"$nulls":13},{"$f":"SUM(S407:U407)","v":0}]
[null,{"$f":"IF(A408=\"\",\"\",VLOOKUP(A408,Data!$B$2:$D$4020,3,FALSE))","v":""},{"$f":"IF(A408=\"\",\"\",VLOOKUP(A408,Data!$B$2:$F$4020,5,FALSE))","v":""},null,{"$f":"CONCATENATE(A408,D408)","v":""},{"$f":"IF(ISNA(VLOOKUP(E408,Data!$A$2:$I$4020,7,FALSE)),\"\",VLOOKUP(E408,Data!$A$2:$I$4020,7,FALSE))","v":""},{"$f":"IF(ISNA(VLOOKUP(E408,Data!$A$2:$I$4020,9,FALSE)),\"\",VLOOKUP(E408,Data!$A$2:$I$4020,9,FALSE))","v":""},{"$f":"IF(ISNA(VLOOKUP(E408,Data!$A$2:$J$4020,10,FALSE)),\"\",VLOOKUP(E408,Data!$A$2:$J$4020,10,FALSE))","v":""},{"$nulls":13},{"$f":"SUM(S408:U408)","v":0}]
[null,{"$f":"IF(A409=\"\",\"\",VLOOKUP(A409,Data!$B$2:$D$4020,3,FALSE))","v":""},{"$f":"IF(A409=\"\",\"\",VLOOKUP(A409,Data!$B$2:$F$4020,5,FALSE))","v":""},null,{"$f":"CONCATENATE(A409,D409)","v":""},{"$f":"IF(ISNA(VLOOKUP(E409,Data!$A$2:$I$4020,7,FALSE)),\"\",VLOOKUP(E409,Data!$A$2:$I$4020,7,FALSE))","v":""},{"$f":"IF(ISNA(VLOOKUP(E409,Data!$A$2:$I$4020,9,FALSE)),\"\",VLOOKUP(E409,Data!$A$2:$I$4020,9,FALSE))","v":""},{"$f":"IF(ISNA(VLOOKUP(E409,Data!$A$2:$J$4020,10,FALSE)),\"\",VLOOKUP(E409,Data!$A$2:$J$4020,10,FALSE))","v":""},{"$nulls":13},{"$f":"SUM(S409:U409)","v":0}]
[null,{"$f":"IF(A410=\"\",\"\",VLOOKUP(A410,Data!$B$2:$D$4020,3,FALSE))","v":""},{"$f":"IF(A410=\"\",\"\",VLOOKUP(A410,Data!$B$2:$F$4020,5,FALSE))","v":""},null,{"$f":"CONCATENATE(A410,D410)","v":""},{"$f":"IF(ISNA(VLOOKUP(E410,Data!$A$2:$I$4020,7,FALSE)),\"\",VLOOKUP(E410,Data!$A$2:$I$4020,7,FALSE))","v":""},{"$f":"IF(ISNA(VLOOKUP(E410,Data!$A$2:$I$4020,9,FALSE)),\"\",VLOOKUP(E410,Data!$A$2:$I$4020,9,FALSE))","v":""},{"$f":"IF(ISNA(VLOOKUP(E410,Data!$A$2:$J$4020,10,FALSE)),\"\",VLOOKUP(E410,Data!$A$2:$J$4020,10,FALSE))","v":""},{"$nulls":13},{"$f":"SUM(S410:U410)","v":0}]
[null,{"$f":"IF(A411=\"\",\"\",VLOOKUP(A411,Data!$B$2:$D$4020,3,FALSE))","v":""},{"$f":"IF(A411=\"\",\"\",VLOOKUP(A411,Data!$B$2:$F$4020,5,FALSE))","v":""},null,{"$f":"CONCATENATE(A411,D411)","v":""},{"$f":"IF(ISNA(VLOOKUP(E411,Data!$A$2:$I$4020,7,FALSE)),\"\",VLOOKUP(E411,Data!$A$2:$I$4020,7,FALSE))","v":""},{"$f":"IF(ISNA(VLOOKUP(E411,Data!$A$2:$I$4020,9,FALSE)),\"\",VLOOKUP(E411,Data!$A$2:$I$4020,9,FALSE))","v":""},{"$f":"IF(ISNA(VLOOKUP(E411,Data!$A$2:$J$4020,10,FALSE)),\"\",VLOOKUP(E411,Data!$A$2:$J$4020,10,FALSE))","v":""},{"$nulls":13},{"$f":"SUM(S411:U411)","v":0}]
[null,{"$f":"IF(A412=\"\",\"\",VLOOKUP(A412,Data!$B$2:$D$4020,3,FALSE))","v":""},{"$f":"IF(A412=\"\",\"\",VLOOKUP(A412,Data!$B$2:$F$4020,5,FALSE))","v":""},null,{"$f":"CONCATENATE(A412,D412)","v":""},{"$f":"IF(ISNA(VLOOKUP(E412,Data!$A$2:$I$4020,7,FALSE)),\"\",VLOOKUP(E412,Data!$A$2:$I$4020,7,FALSE))","v":""},{"$f":"IF(ISNA(VLOOKUP(E412,Data!$A$2:$I$4020,9,FALSE)),\"\",VLOOKUP(E412,Data!$A$2:$I$4020,9,FALSE))","v":""},{"$f":"IF(ISNA(VLOOKUP(E412,Data!$A$2:$J$4020,10,FALSE)),\"\",VLOOKUP(E412,Data!$A$2:$J$4020,10,FALSE))","v":""},{"$nulls":13},{"$f":"SUM(S412:U412)","v":0}]
[null,{"$f":"IF(A413=\"\",\"\",VLOOKUP(A413,Data!$B$2:$D$4020,3,FALSE))","v":""},{"$f":"IF(A413=\"\",\"\",VLOOKUP(A413,Data!$B$2:$F$4020,5,FALSE))","v":""},null,{"$f":"CONCATENATE(A413,D413)","v":""},{"$f":"IF(ISNA(VLOOKUP(E413,Data!$A$2:$I$4020,7,FALSE)),\"\",VLOOKUP(E413,Data!$A$2:$I$4020,7,FALSE))","v":""},{"$f":"IF(ISNA(VLOOKUP(E413,Data!$A$2:$I$4020,9,FALSE)),\"\",VLOOKUP(E413,Data!$A$2:$I$4020,9,FALSE))","v":""},{"$f":"IF(ISNA(VLOOKUP(E413,Data!$A$2:$J$4020,10,FALSE)),\"\",VLOOKUP(E413,Data!$A$2:$J$4020,10,FALSE))","v":""},{"$nulls":13},{"$f":"SUM(S413:U413)","v":0}]
[null,{"$f":"IF(A414=\"\",\"\",VLOOKUP(A414,Data!$B$2:$D$4020,3,FALSE))","v":""},{"$f":"IF(A414=\"\",\"\",VLOOKUP(A414,Data!$B$2:$F$4020,5,FALSE))","v":""},null,{"$f":"CONCATENATE(A414,D414)","v":""},{"$f":"IF(ISNA(VLOOKUP(E414,Data!$A$2:$I$4020,7,FALSE)),\"\",VLOOKUP(E414,Data!$A$2:$I$4020,7,FALSE))","v":""},{"$f":"IF(ISNA(VLOOKUP(E414,Data!$A$2:$I$4020,9,FALSE)),\"\",VLOOKUP(E414,Data!$A$2:$I$4020,9,FALSE))","v":""},{"$f":"IF(ISNA(VLOOKUP(E414,Data!$A$2:$J$4020,10,FALSE)),\"\",VLOOKUP(E414,Data!$A$2:$J$4020,10,FALSE))","v":""},{"$nulls":13},{"$f":"SUM(S414:U414)","v":0}]
[null,{"$f":"IF(A415=\"\",\"\",VLOOKUP(A415,Data!$B$2:$D$4020,3,FALSE))","v":""},{"$f":"IF(A415=\"\",\"\",VLOOKUP(A415,Data!$B$2:$F$4020,5,FALSE))","v":""},null,{"$f":"CONCATENATE(A415,D415)","v":""},{"$f":"IF(ISNA(VLOOKUP(E415,Data!$A$2:$I$4020,7,FALSE)),\"\",VLOOKUP(E415,Data!$A$2:$I$4020,7,FALSE))","v":""},{"$f":"IF(ISNA(VLOOKUP(E415,Data!$A$2:$I$4020,9,FALSE)),\"\",VLOOKUP(E415,Data!$A$2:$I$4020,9,FALSE))","v":""},{"$f":"IF(ISNA(VLOOKUP(E415,Data!$A$2:$J$4020,10,FALSE)),\"\",VLOOKUP(E415,Data!$A$2:$J$4020,10,FALSE))","v":""},{"$nulls":13},{"$f":"SUM(S415:U415)","v":0}]
[null,{"$f":"IF(A416=\"\",\"\",VLOOKUP(A416,Data!$B$2:$D$4020,3,FALSE))","v":""},{"$f":"IF(A416=\"\",\"\",VLOOKUP(A416,Data!$B$2:$F$4020,5,FALSE))","v":""},null,{"$f":"CONCATENATE(A416,D416)","v":""},{"$f":"IF(ISNA(VLOOKUP(E416,Data!$A$2:$I$4020,7,FALSE)),\"\",VLOOKUP(E416,Data!$A$2:$I$4020,7,FALSE))","v":""},{"$f":"IF(ISNA(VLOOKUP(E416,Data!$A$2:$I$4020,9,FALSE)),\"\",VLOOKUP(E416,Data!$A$2:$I$4020,9,FALSE))","v":""},{"$f":"IF(ISNA(VLOOKUP(E416,Data!$A$2:$J$4020,10,FALSE)),\"\",VLOOKUP(E416,Data!$A$2:$J$4020,10,FALSE))","v":""},{"$nulls":13},{"$f":"SUM(S416:U416)","v":0}]
[null,{"$f":"IF(A417=\"\",\"\",VLOOKUP(A417,Data!$B$2:$D$4020,3,FALSE))","v":""},{"$f":"IF(A417=\"\",\"\",VLOOKUP(A417,Data!$B$2:$F$4020,5,FALSE))","v":""},null,{"$f":"CONCATENATE(A417,D417)","v":""},{"$f":"IF(ISNA(VLOOKUP(E417,Data!$A$2:$I$4020,7,FALSE)),\"\",VLOOKUP(E417,Data!$A$2:$I$4020,7,FALSE))","v":""},{"$f":"IF(ISNA(VLOOKUP(E417,Data!$A$2:$I$4020,9,FALSE)),\"\",VLOOKUP(E417,Data!$A$2:$I$4020,9,FALSE))","v":""},{"$f":"IF(ISNA(VLOOKUP(E417,Data!$A$2:$J$4020,10,FALSE)),\"\",VLOOKUP(E417,Data!$A$2:$J$4020,10,FALSE))","v":""},{"$nulls":13},{"$f":"SUM(S417:U417)","v":0}]
[null,{"$f":"IF(A418=\"\",\"\",VLOOKUP(A418,Data!$B$2:$D$4020,3,FALSE))","v":""},{"$f":"IF(A418=\"\",\"\",VLOOKUP(A418,Data!$B$2:$F$4020,5,FALSE))","v":""},null,{"$f":"CONCATENATE(A418,D418)","v":""},{"$f":"IF(ISNA(VLOOKUP(E418,Data!$A$2:$I$4020,7,FALSE)),\"\",VLOOKUP(E418,Data!$A$2:$I$4020,7,FALSE))","v":""},{"$f":"IF(ISNA(VLOOKUP(E418,Data!$A$2:$I$4020,9,FALSE)),\"\",VLOOKUP(E418,Data!$A$2:$I$4020,9,FALSE))","v":""},{"$f":"IF(ISNA(VLOOKUP(E418,Data!$A$2:$J$4020,10,FALSE)),\"\",VLOOKUP(E418,Data!$A$2:$J$4020,10,FALSE))","v":""},{"$nulls":13},{"$f":"SUM(S418:U418)","v":0}]
[null,{"$f":"IF(A419=\"\",\"\",VLOOKUP(A419,Data!$B$2:$D$4020,3,FALSE))","v":""},{"$f":"IF(A419=\"\",\"\",VLOOKUP(A419,Data!$B$2:$F$4020,5,FALSE))","v":""},null,{"$f":"CONCATENATE(A419,D419)","v":""},{"$f":"IF(ISNA(VLOOKUP(E419,Data!$A$2:$I$4020,7,FALSE)),\"\",VLOOKUP(E419,Data!$A$2:$I$4020,7,FALSE))","v":""},{"$f":"IF(ISNA(VLOOKUP(E419,Data!$A$2:$I$4020,9,FALSE)),\"\",VLOOKUP(E419,Data!$A$2:$I$4020,9,FALSE))","v":""},{"$f":"IF(ISNA(VLOOKUP(E419,Data!$A$2:$J$4020,10,FALSE)),\"\",VLOOKUP(E419,Data!$A$2:$J$4020,10,FALSE))","v":""},{"$nulls":13},{"$f":"SUM(S419:U419)","v":0}]
[null,{"$f":"IF(A420=\"\",\"\",VLOOKUP(A420,Data!$B$2:$D$4020,3,FALSE))","v":""},{"$f":"IF(A420=\"\",\"\",VLOOKUP(A420,Data!$B$2:$F$4020,5,FALSE))","v":""},null,{"$f":"CONCATENATE(A420,D420)","v":""},{"$f":"IF(ISNA(VLOOKUP(E420,Data!$A$2:$I$4020,7,FALSE)),\"\",VLOOKUP(E420,Data!$A$2:$I$4020,7,FALSE))","v":""},{"$f":"IF(ISNA(VLOOKUP(E420,Data!$A$2:$I$4020,9,FALSE)),\"\",VLOOKUP(E420,Data!$A$2:$I$4020,9,FALSE))","v":""},{"$f":"IF(ISNA(VLOOKUP(E420,Data!$A$2:$J$4020,10,FALSE)),\"\",VLOOKUP(E420,Data!$A$2:$J$4020,10,FALSE))","v":""},{"$nulls":13},{"$f":"SUM(S420:U420)","v":0}]
[null,{"$f":"IF(A421=\"\",\"\",VLOOKUP(A421,Data!$B$2:$D$4020,3,FALSE))","v":""},{"$f":"IF(A421=\"\",\"\",VLOOKUP(A421,Data!$B$2:$F$4020,5,FALSE))","v":""},null,{"$f":"CONCATENATE(A421,D421)","v":""},{"$f":"IF(ISNA(VLOOKUP(E421,Data!$A$2:$I$4020,7,FALSE)),\"\",VLOOKUP(E421,Data!$A$2:$I$4020,7,FALSE))","v":""},{"$f":"IF(ISNA(VLOOKUP(E421,Data!$A$2:$I$4020,9,FALSE)),\"\",VLOOKUP(E421,Data!$A$2:$I$4020,9,FALSE))","v":""},{"$f":"IF(ISNA(VLOOKUP(E421,Data!$A$2:$J$4020,10,FALSE)),\"\",VLOOKUP(E421,Data!$A$2:$J$4020,10,FALSE))","v":""},{"$nulls":13},{"$f":"SUM(S421:U421)","v":0}]
[null,{"$f":"IF(A422=\"\",\"\",VLOOKUP(A422,Data!$B$2:$D$4020,3,FALSE))","v":""},{"$f":"IF(A422=\"\",\"\",VLOOKUP(A422,Data!$B$2:$F$4020,5,FALSE))","v":""},null,{"$f":"CONCATENATE(A422,D422)","v":""},{"$f":"IF(ISNA(VLOOKUP(E422,Data!$A$2:$I$4020,7,FALSE)),\"\",VLOOKUP(E422,Data!$A$2:$I$4020,7,FALSE))","v":""},{"$f":"IF(ISNA(VLOOKUP(E422,Data!$A$2:$I$4020,9,FALSE)),\"\",VLOOKUP(E422,Data!$A$2:$I$4020,9,FALSE))","v":""},{"$f":"IF(ISNA(VLOOKUP(E422,Data!$A$2:$J$4020,10,FALSE)),\"\",VLOOKUP(E422,Data!$A$2:$J$4020,10,FALSE))","v":""},{"$nulls":13},{"$f":"SUM(S422:U422)","v":0}]
[null,{"$f":"IF(A423=\"\",\"\",VLOOKUP(A423,Data!$B$2:$D$4020,3,FALSE))","v":""},{"$f":"IF(A423=\"\",\"\",VLOOKUP(A423,Data!$B$2:$F$4020,5,FALSE))","v":""},null,{"$f":"CONCATENATE(A423,D423)","v":""},{"$f":"IF(ISNA(VLOOKUP(E423,Data!$A$2:$I$4020,7,FALSE)),\"\",VLOOKUP(E423,Data!$A$2:$I$4020,7,FALSE))","v":""},{"$f":"IF(ISNA(VLOOKUP(E423,Data!$A$2:$I$4020,9,FALSE)),\"\",VLOOKUP(E423,Data!$A$2:$I$4020,9,FALSE))","v":""},{"$f":"IF(ISNA(VLOOKUP(E423,Data!$A$2:$J$4020,10,FALSE)),\"\",VLOOKUP(E423,Data!$A$2:$J$4020,10,FALSE))","v":""},{"$nulls":13},{"$f":"SUM(S423:U423)","v":0}]
[null,{"$f":"IF(A424=\"\",\"\",VLOOKUP(A424,Data!$B$2:$D$4020,3,FALSE))","v":""},{"$f":"IF(A424=\"\",\"\",VLOOKUP(A424,Data!$B$2:$F$4020,5,FALSE))","v":""},null,{"$f":"CONCATENATE(A424,D424)","v":""},{"$f":"IF(ISNA(VLOOKUP(E424,Data!$A$2:$I$4020,7,FALSE)),\"\",VLOOKUP(E424,Data!$A$2:$I$4020,7,FALSE))","v":""},{"$f":"IF(ISNA(VLOOKUP(E424,Data!$A$2:$I$4020,9,FALSE)),\"\",VLOOKUP(E424,Data!$A$2:$I$4020,9,FALSE))","v":""},{"$f":"IF(ISNA(VLOOKUP(E424,Data!$A$2:$J$4020,10,FALSE)),\"\",VLOOKUP(E424,Data!$A$2:$J$4020,10,FALSE))","v":""},{"$nulls":13},{"$f":"SUM(S424:U424)","v":0}]
[null,{"$f":"IF(A425=\"\",\"\",VLOOKUP(A425,Data!$B$2:$D$4020,3,FALSE))","v":""},{"$f":"IF(A425=\"\",\"\",VLOOKUP(A425,Data!$B$2:$F$4020,5,FALSE))","v":""},null,{"$f":"CONCATENATE(A425,D425)","v":""},{"$f":"IF(ISNA(VLOOKUP(E425,Data!$A$2:$I$4020,7,FALSE)),\"\",VLOOKUP(E425,Data!$A$2:$I$4020,7,FALSE))","v":""},{"$f":"IF(ISNA(VLOOKUP(E425,Data!$A$2:$I$4020,9,FALSE)),\"\",VLOOKUP(E425,Data!$A$2:$I$4020,9,FALSE))","v":""},{"$f":"IF(ISNA(VLOOKUP(E425,Data!$A$2:$J$4020,10,FALSE)),\"\",VLOOKUP(E425,Data!$A$2:$J$4020,10,FALSE))","v":""},{"$nulls":13},{"$f":"SUM(S425:U425)","v":0}]
[null,{"$f":"IF(A426=\"\",\"\",VLOOKUP(A426,Data!$B$2:$D$4020,3,FALSE))","v":""},{"$f":"IF(A426=\"\",\"\",VLOOKUP(A426,Data!$B$2:$F$4020,5,FALSE))","v":""},null,{"$f":"CONCATENATE(A426,D426)","v":""},{"$f":"IF(ISNA(VLOOKUP(E426,Data!$A$2:$I$4020,7,FALSE)),\"\",VLOOKUP(E426,Data!$A$2:$I$4020,7,FALSE))","v":""},{"$f":"IF(ISNA(VLOOKUP(E426,Data!$A$2:$I$4020,9,FALSE)),\"\",VLOOKUP(E426,Data!$A$2:$I$4020,9,FALSE))","v":""},{"$f":"IF(ISNA(VLOOKUP(E426,Data!$A$2:$J$4020,10,FALSE)),\"\",VLOOKUP(E426,Data!$A$2:$J$4020,10,FALSE))","v":""},{"$nulls":13},{"$f":"SUM(S426:U426)","v":0}]
[null,{"$f":"IF(A427=\"\",\"\",VLOOKUP(A427,Data!$B$2:$D$4020,3,FALSE))","v":""},{"$f":"IF(A427=\"\",\"\",VLOOKUP(A427,Data!$B$2:$F$4020,5,FALSE))","v":""},null,{"$f":"CONCATENATE(A427,D427)","v":""},{"$f":"IF(ISNA(VLOOKUP(E427,Data!$A$2:$I$4020,7,FALSE)),\"\",VLOOKUP(E427,Data!$A$2:$I$4020,7,FALSE))","v":""},{"$f":"IF(ISNA(VLOOKUP(E427,Data!$A$2:$I$4020,9,FALSE)),\"\",VLOOKUP(E427,Data!$A$2:$I$4020,9,FALSE))","v":""},{"$f":"IF(ISNA(VLOOKUP(E427,Data!$A$2:$J$4020,10,FALSE)),\"\",VLOOKUP(E427,Data!$A$2:$J$4020,10,FALSE))","v":""},{"$nulls":13},{"$f":"SUM(S427:U427)","v":0}]
[null,{"$f":"IF(A428=\"\",\"\",VLOOKUP(A428,Data!$B$2:$D$4020,3,FALSE))","v":""},{"$f":"IF(A428=\"\",\"\",VLOOKUP(A428,Data!$B$2:$F$4020,5,FALSE))","v":""},null,{"$f":"CONCATENATE(A428,D428)","v":""},{"$f":"IF(ISNA(VLOOKUP(E428,Data!$A$2:$I$4020,7,FALSE)),\"\",VLOOKUP(E428,Data!$A$2:$I$4020,7,FALSE))","v":""},{"$f":"IF(ISNA(VLOOKUP(E428,Data!$A$2:$I$4020,9,FALSE)),\"\",VLOOKUP(E428,Data!$A$2:$I$4020,9,FALSE))","v":""},{"$f":"IF(ISNA(VLOOKUP(E428,Data!$A$2:$J$4020,10,FALSE)),\"\",VLOOKUP(E428,Data!$A$2:$J$4020,10,FALSE))","v":""},{"$nulls":13},{"$f":"SUM(S428:U428)","v":0}]
[null,{"$f":"IF(A429=\"\",\"\",VLOOKUP(A429,Data!$B$2:$D$4020,3,FALSE))","v":""},{"$f":"IF(A429=\"\",\"\",VLOOKUP(A429,Data!$B$2:$F$4020,5,FALSE))","v":""},null,{"$f":"CONCATENATE(A429,D429)","v":""},{"$f":"IF(ISNA(VLOOKUP(E429,Data!$A$2:$I$4020,7,FALSE)),\"\",VLOOKUP(E429,Data!$A$2:$I$4020,7,FALSE))","v":""},{"$f":"IF(ISNA(VLOOKUP(E429,Data!$A$2:$I$4020,9,FALSE)),\"\",VLOOKUP(E429,Data!$A$2:$I$4020,9,FALSE))","v":""},{"$f":"IF(ISNA(VLOOKUP(E429,Data!$A$2:$J$4020,10,FALSE)),\"\",VLOOKUP(E429,Data!$A$2:$J$4020,10,FALSE))","v":""},{"$nulls":13},{"$f":"SUM(S429:U429)","v":0}]
[null,{"$f":"IF(A430=\"\",\"\",VLOOKUP(A430,Data!$B$2:$D$4020,3,FALSE))","v":""},{"$f":"IF(A430=\"\",\"\",VLOOKUP(A430,Data!$B$2:$F$4020,5,FALSE))","v":""},null,{"$f":"CONCATENATE(A430,D430)","v":""},{"$f":"IF(ISNA(VLOOKUP(E430,Data!$A$2:$I$4020,7,FALSE)),\"\",VLOOKUP(E430,Data!$A$2:$I$4020,7,FALSE))","v":""},{"$f":"IF(ISNA(VLOOKUP(E430,Data!$A$2:$I$4020,9,FALSE)),\"\",VLOOKUP(E430,Data!$A$2:$I$4020,9,FALSE))","v":""},{"$f":"IF(ISNA(VLOOKUP(E430,Data!$A$2:$J$4020,10,FALSE)),\"\",VLOOKUP(E430,Data!$A$2:$J$4020,10,FALSE))","v":""},{"$nulls":13},{"$f":"SUM(S430:U430)","v":0}]
[null,{"$f":"IF(A431=\"\",\"\",VLOOKUP(A431,Data!$B$2:$D$4020,3,FALSE))","v":""},{"$f":"IF(A431=\"\",\"\",VLOOKUP(A431,Data!$B$2:$F$4020,5,FALSE))","v":""},null,{"$f":"CONCATENATE(A431,D431)","v":""},{"$f":"IF(ISNA(VLOOKUP(E431,Data!$A$2:$I$4020,7,FALSE)),\"\",VLOOKUP(E431,Data!$A$2:$I$4020,7,FALSE))","v":""},{"$f":"IF(ISNA(VLOOKUP(E431,Data!$A$2:$I$4020,9,FALSE)),\"\",VLOOKUP(E431,Data!$A$2:$I$4020,9,FALSE))","v":""},{"$f":"IF(ISNA(VLOOKUP(E431,Data!$A$2:$J$4020,10,FALSE)),\"\",VLOOKUP(E431,Data!$A$2:$J$4020,10,FALSE))","v":""},{"$nulls":13},{"$f":"SUM(S431:U431)","v":0}]
[null,{"$f":"IF(A432=\"\",\"\",VLOOKUP(A432,Data!$B$2:$D$4020,3,FALSE))","v":""},{"$f":"IF(A432=\"\",\"\",VLOOKUP(A432,Data!$B$2:$F$4020,5,FALSE))","v":""},null,{"$f":"CONCATENATE(A432,D432)","v":""},{"$f":"IF(ISNA(VLOOKUP(E432,Data!$A$2:$I$4020,7,FALSE)),\"\",VLOOKUP(E432,Data!$A$2:$I$4020,7,FALSE))","v":""},{"$f":"IF(ISNA(VLOOKUP(E432,Data!$A$2:$I$4020,9,FALSE)),\"\",VLOOKUP(E432,Data!$A$2:$I$4020,9,FALSE))","v":""},{"$f":"IF(ISNA(VLOOKUP(E432,Data!$A$2:$J$4020,10,FALSE)),\"\",VLOOKUP(E432,Data!$A$2:$J$4020,10,FALSE))","v":""},{"$nulls":13},{"$f":"SUM(S432:U432)","v":0}]
[null,{"$f":"IF(A433=\"\",\"\",VLOOKUP(A433,Data!$B$2:$D$4020,3,FALSE))","v":""},{"$f":"IF(A433=\"\",\"\",VLOOKUP(A433,Data!$B$2:$F$4020,5,FALSE))","v":""},null,{"$f":"CONCATENATE(A433,D433)","v":""},{"$f":"IF(ISNA(VLOOKUP(E433,Data!$A$2:$I$4020,7,FALSE)),\"\",VLOOKUP(E433,Data!$A$2:$I$4020,7,FALSE))","v":""},{"$f":"IF(ISNA(VLOOKUP(E433,Data!$A$2:$I$4020,9,FALSE)),\"\",VLOOKUP(E433,Data!$A$2:$I$4020,9,FALSE))","v":""},{"$f":"IF(ISNA(VLOOKUP(E433,Data!$A$2:$J$4020,10,FALSE)),\"\",VLOOKUP(E433,Data!$A$2:$J$4020,10,FALSE))","v":""},{"$nulls":13},{"$f":"SUM(S433:U433)","v":0}]
[null,{"$f":"IF(A434=\"\",\"\",VLOOKUP(A434,Data!$B$2:$D$4020,3,FALSE))","v":""},{"$f":"IF(A434=\"\",\"\",VLOOKUP(A434,Data!$B$2:$F$4020,5,FALSE))","v":""},null,{"$f":"CONCATENATE(A434,D434)","v":""},{"$f":"IF(ISNA(VLOOKUP(E434,Data!$A$2:$I$4020,7,FALSE)),\"\",VLOOKUP(E434,Data!$A$2:$I$4020,7,FALSE))","v":""},{"$f":"IF(ISNA(VLOOKUP(E434,Data!$A$2:$I$4020,9,FALSE)),\"\",VLOOKUP(E434,Data!$A$2:$I$4020,9,FALSE))","v":""},{"$f":"IF(ISNA(VLOOKUP(E434,Data!$A$2:$J$4020,10,FALSE)),\"\",VLOOKUP(E434,Data!$A$2:$J$4020,10,FALSE))","v":""},{"$nulls":13},{"$f":"SUM(S434:U434)","v":0}]
[null,{"$f":"IF(A435=\"\",\"\",VLOOKUP(A435,Data!$B$2:$D$4020,3,FALSE))","v":""},{"$f":"IF(A435=\"\",\"\",VLOOKUP(A435,Data!$B$2:$F$4020,5,FALSE))","v":""},null,{"$f":"CONCATENATE(A435,D435)","v":""},{"$f":"IF(ISNA(VLOOKUP(E435,Data!$A$2:$I$4020,7,FALSE)),\"\",VLOOKUP(E435,Data!$A$2:$I$4020,7,FALSE))","v":""},{"$f":"IF(ISNA(VLOOKUP(E435,Data!$A$2:$I$4020,9,FALSE)),\"\",VLOOKUP(E435,Data!$A$2:$I$4020,9,FALSE))","v":""},{"$f":"IF(ISNA(VLOOKUP(E435,Data!$A$2:$J$4020,10,FALSE)),\"\",VLOOKUP(E435,Data!$A$2:$J$4020,10,FALSE))","v":""},{"$nulls":13},{"$f":"SUM(S435:U435)","v":0}]
[null,{"$f":"IF(A436=\"\",\"\",VLOOKUP(A436,Data!$B$2:$D$4020,3,FALSE))","v":""},{"$f":"IF(A436=\"\",\"\",VLOOKUP(A436,Data!$B$2:$F$4020,5,FALSE))","v":""},null,{"$f":"CONCATENATE(A436,D436)","v":""},{"$f":"IF(ISNA(VLOOKUP(E436,Data!$A$2:$I$4020,7,FALSE)),\"\",VLOOKUP(E436,Data!$A$2:$I$4020,7,FALSE))","v":""},{"$f":"IF(ISNA(VLOOKUP(E436,Data!$A$2:$I$4020,9,FALSE)),\"\",VLOOKUP(E436,Data!$A$2:$I$4020,9,FALSE))","v":""},{"$f":"IF(ISNA(VLOOKUP(E436,Data!$A$2:$J$4020,10,FALSE)),\"\",VLOOKUP(E436,Data!$A$2:$J$4020,10,FALSE))","v":""},{"$nulls":13},{"$f":"SUM(S436:U436)","v":0}]
[null,{"$f":"IF(A437=\"\",\"\",VLOOKUP(A437,Data!$B$2:$D$4020,3,FALSE))","v":""},{"$f":"IF(A437=\"\",\"\",VLOOKUP(A437,Data!$B$2:$F$4020,5,FALSE))","v":""},null,{"$f":"CONCATENATE(A437,D437)","v":""},{"$f":"IF(ISNA(VLOOKUP(E437,Data!$A$2:$I$4020,7,FALSE)),\"\",VLOOKUP(E437,Data!$A$2:$I$4020,7,FALSE))","v":""},{"$f":"IF(ISNA(VLOOKUP(E437,Data!$A$2:$I$4020,9,FALSE)),\"\",VLOOKUP(E437,Data!$A$2:$I$4020,9,FALSE))","v":""},{"$f":"IF(ISNA(VLOOKUP(E437,Data!$A$2:$J$4020,10,FALSE)),\"\",VLOOKUP(E437,Data!$A$2:$J$4020,10,FALSE))","v":""},{"$nulls":13},{"$f":"SUM(S437:U437)","v":0}]
[null,{"$f":"IF(A438=\"\",\"\",VLOOKUP(A438,Data!$B$2:$D$4020,3,FALSE))","v":""},{"$f":"IF(A438=\"\",\"\",VLOOKUP(A438,Data!$B$2:$F$4020,5,FALSE))","v":""},null,{"$f":"CONCATENATE(A438,D438)","v":""},{"$f":"IF(ISNA(VLOOKUP(E438,Data!$A$2:$I$4020,7,FALSE)),\"\",VLOOKUP(E438,Data!$A$2:$I$4020,7,FALSE))","v":""},{"$f":"IF(ISNA(VLOOKUP(E438,Data!$A$2:$I$4020,9,FALSE)),\"\",VLOOKUP(E438,Data!$A$2:$I$4020,9,FALSE))","v":""},{"$f":"IF(ISNA(VLOOKUP(E438,Data!$A$2:$J$4020,10,FALSE)),\"\",VLOOKUP(E438,Data!$A$2:$J$4020,10,FALSE))","v":""},{"$nulls":13},{"$f":"SUM(S438:U438)","v":0}]
[null,{"$f":"IF(A439=\"\",\"\",VLOOKUP(A439,Data!$B$2:$D$4020,3,FALSE))","v":""},{"$f":"IF(A439=\"\",\"\",VLOOKUP(A439,Data!$B$2:$F$4020,5,FALSE))","v":""},null,{"$f":"CONCATENATE(A439,D439)","v":""},{"$f":"IF(ISNA(VLOOKUP(E439,Data!$A$2:$I$4020,7,FALSE)),\"\",VLOOKUP(E439,Data!$A$2:$I$4020,7,FALSE))","v":""},{"$f":"IF(ISNA(VLOOKUP(E439,Data!$A$2:$I$4020,9,FALSE)),\"\",VLOOKUP(E439,Data!$A$2:$I$4020,9,FALSE))","v":""},{"$f":"IF(ISNA(VLOOKUP(E439,Data!$A$2:$J$4020,10,FALSE)),\"\",VLOOKUP(E439,Data!$A$2:$J$4020,10,FALSE))","v":""},{"$nulls":13},{"$f":"SUM(S439:U439)","v":0}]
[null,{"$f":"IF(A440=\"\",\"\",VLOOKUP(A440,Data!$B$2:$D$4020,3,FALSE))","v":""},{"$f":"IF(A440=\"\",\"\",VLOOKUP(A440,Data!$B$2:$F$4020,5,FALSE))","v":""},null,{"$f":"CONCATENATE(A440,D440)","v":""},{"$f":"IF(ISNA(VLOOKUP(E440,Data!$A$2:$I$4020,7,FALSE)),\"\",VLOOKUP(E440,Data!$A$2:$I$4020,7,FALSE))","v":""},{"$f":"IF(ISNA(VLOOKUP(E440,Data!$A$2:$I$4020,9,FALSE)),\"\",VLOOKUP(E440,Data!$A$2:$I$4020,9,FALSE))","v":""},{"$f":"IF(ISNA(VLOOKUP(E440,Data!$A$2:$J$4020,10,FALSE)),\"\",VLOOKUP(E440,Data!$A$2:$J$4020,10,FALSE))","v":""},{"$nulls":13},{"$f":"SUM(S440:U440)","v":0}]
[null,{"$f":"IF(A441=\"\",\"\",VLOOKUP(A441,Data!$B$2:$D$4020,3,FALSE))","v":""},{"$f":"IF(A441=\"\",\"\",VLOOKUP(A441,Data!$B$2:$F$4020,5,FALSE))","v":""},null,{"$f":"CONCATENATE(A441,D441)","v":""},{"$f":"IF(ISNA(VLOOKUP(E441,Data!$A$2:$I$4020,7,FALSE)),\"\",VLOOKUP(E441,Data!$A$2:$I$4020,7,FALSE))","v":""},{"$f":"IF(ISNA(VLOOKUP(E441,Data!$A$2:$I$4020,9,FALSE)),\"\",VLOOKUP(E441,Data!$A$2:$I$4020,9,FALSE))","v":""},{"$f":"IF(ISNA(VLOOKUP(E441,Data!$A$2:$J$4020,10,FALSE)),\"\",VLOOKUP(E441,Data!$A$2:$J$4020,10,FALSE))","v":""},{"$nulls":13},{"$f":"SUM(S441:U441)","v":0}]
[null,{"$f":"IF(A442=\"\",\"\",VLOOKUP(A442,Data!$B$2:$D$4020,3,FALSE))","v":""},{"$f":"IF(A442=\"\",\"\",VLOOKUP(A442,Data!$B$2:$F$4020,5,FALSE))","v":""},null,{"$f":"CONCATENATE(A442,D442)","v":""},{"$f":"IF(ISNA(VLOOKUP(E442,Data!$A$2:$I$4020,7,FALSE)),\"\",VLOOKUP(E442,Data!$A$2:$I$4020,7,FALSE))","v":""},{"$f":"IF(ISNA(VLOOKUP(E442,Data!$A$2:$I$4020,9,FALSE)),\"\",VLOOKUP(E442,Data!$A$2:$I$4020,9,FALSE))","v":""},{"$f":"IF(ISNA(VLOOKUP(E442,Data!$A$2:$J$4020,10,FALSE)),\"\",VLOOKUP(E442,Data!$A$2:$J$4020,10,FALSE))","v":""},{"$nulls":13},{"$f":"SUM(S442:U442)","v":0}]
[null,{"$f":"IF(A443=\"\",\"\",VLOOKUP(A443,Data!$B$2:$D$4020,3,FALSE))","v":""},{"$f":"IF(A443=\"\",\"\",VLOOKUP(A443,Data!$B$2:$F$4020,5,FALSE))","v":""},null,{"$f":"CONCATENATE(A443,D443)","v":""},{"$f":"IF(ISNA(VLOOKUP(E443,Data!$A$2:$I$4020,7,FALSE)),\"\",VLOOKUP(E443,Data!$A$2:$I$4020,7,FALSE))","v":""},{"$f":"IF(ISNA(VLOOKUP(E443,Data!$A$2:$I$4020,9,FALSE)),\"\",VLOOKUP(E443,Data!$A$2:$I$4020,9,FALSE))","v":""},{"$f":"IF(ISNA(VLOOKUP(E443,Data!$A$2:$J$4020,10,FALSE)),\"\",VLOOKUP(E443,Data!$A$2:$J$4020,10,FALSE))","v":""},{"$nulls":13},{"$f":"SUM(S443:U443)","v":0}]
[null,{"$f":"IF(A444=\"\",\"\",VLOOKUP(A444,Data!$B$2:$D$4020,3,FALSE))","v":""},{"$f":"IF(A444=\"\",\"\",VLOOKUP(A444,Data!$B$2:$F$4020,5,FALSE))","v":""},null,{"$f":"CONCATENATE(A444,D444)","v":""},{"$f":"IF(ISNA(VLOOKUP(E444,Data!$A$2:$I$4020,7,FALSE)),\"\",VLOOKUP(E444,Data!$A$2:$I$4020,7,FALSE))","v":""},{"$f":"IF(ISNA(VLOOKUP(E444,Data!$A$2:$I$4020,9,FALSE)),\"\",VLOOKUP(E444,Data!$A$2:$I$4020,9,FALSE))","v":""},{"$f":"IF(ISNA(VLOOKUP(E444,Data!$A$2:$J$4020,10,FALSE)),\"\",VLOOKUP(E444,Data!$A$2:$J$4020,10,FALSE))","v":""},{"$nulls":13},{"$f":"SUM(S444:U444)","v":0}]
[null,{"$f":"IF(A445=\"\",\"\",VLOOKUP(A445,Data!$B$2:$D$4020,3,FALSE))","v":""},{"$f":"IF(A445=\"\",\"\",VLOOKUP(A445,Data!$B$2:$F$4020,5,FALSE))","v":""},null,{"$f":"CONCATENATE(A445,D445)","v":""},{"$f":"IF(ISNA(VLOOKUP(E445,Data!$A$2:$I$4020,7,FALSE)),\"\",VLOOKUP(E445,Data!$A$2:$I$4020,7,FALSE))","v":""},{"$f":"IF(ISNA(VLOOKUP(E445,Data!$A$2:$I$4020,9,FALSE)),\"\",VLOOKUP(E445,Data!$A$2:$I$4020,9,FALSE))","v":""},{"$f":"IF(ISNA(VLOOKUP(E445,Data!$A$2:$J$4020,10,FALSE)),\"\",VLOOKUP(E445,Data!$A$2:$J$4020,10,FALSE))","v":""},{"$nulls":13},{"$f":"SUM(S445:U445)","v":0}]
[null,{"$f":"IF(A446=\"\",\"\",VLOOKUP(A446,Data!$B$2:$D$4020,3,FALSE))","v":""},{"$f":"IF(A446=\"\",\"\",VLOOKUP(A446,Data!$B$2:$F$4020,5,FALSE))","v":""},null,{"$f":"CONCATENATE(A446,D446)","v":""},{"$f":"IF(ISNA(VLOOKUP(E446,Data!$A$2:$I$4020,7,FALSE)),\"\",VLOOKUP(E446,Data!$A$2:$I$4020,7,FALSE))","v":""},{"$f":"IF(ISNA(VLOOKUP(E446,Data!$A$2:$I$4020,9,FALSE)),\"\",VLOOKUP(E446,Data!$A$2:$I$4020,9,FALSE))","v":""},{"$f":"IF(ISNA(VLOOKUP(E446,Data!$A$2:$J$4020,10,FALSE)),\"\",VLOOKUP(E446,Data!$A$2:$J$4020,10,FALSE))","v":""},{"$nulls":13},{"$f":"SUM(S446:U446)","v":0}]
[null,{"$f":"IF(A447=\"\",\"\",VLOOKUP(A447,Data!$B$2:$D$4020,3,FALSE))","v":""},{"$f":"IF(A447=\"\",\"\",VLOOKUP(A447,Data!$B$2:$F$4020,5,FALSE))","v":""},null,{"$f":"CONCATENATE(A447,D447)","v":""},{"$f":"IF(ISNA(VLOOKUP(E447,Data!$A$2:$I$4020,7,FALSE)),\"\",VLOOKUP(E447,Data!$A$2:$I$4020,7,FALSE))","v":""},{"$f":"IF(ISNA(VLOOKUP(E447,Data!$A$2:$I$4020,9,FALSE)),\"\",VLOOKUP(E447,Data!$A$2:$I$4020,9,FALSE))","v":""},{"$f":"IF(ISNA(VLOOKUP(E447,Data!$A$2:$J$4020,10,FALSE)),\"\",VLOOKUP(E447,Data!$A$2:$J$4020,10,FALSE))","v":""},{"$nulls":13},{"$f":"SUM(S447:U447)","v":0}]
[null,{"$f":"IF(A448=\"\",\"\",VLOOKUP(A448,Data!$B$2:$D$4020,3,FALSE))","v":""},{"$f":"IF(A448=\"\",\"\",VLOOKUP(A448,Data!$B$2:$F$4020,5,FALSE))","v":""},null,{"$f":"CONCATENATE(A448,D448)","v":""},{"$f":"IF(ISNA(VLOOKUP(E448,Data!$A$2:$I$4020,7,FALSE)),\"\",VLOOKUP(E448,Data!$A$2:$I$4020,7,FALSE))","v":""},{"$f":"IF(ISNA(VLOOKUP(E448,Data!$A$2:$I$4020,9,FALSE)),\"\",VLOOKUP(E448,Data!$A$2:$I$4020,9,FALSE))","v":""},{"$f":"IF(ISNA(VLOOKUP(E448,Data!$A$2:$J$4020,10,FALSE)),\"\",VLOOKUP(E448,Data!$A$2:$J$4020,10,FALSE))","v":""},{"$nulls":13},{"$f":"SUM(S448:U448)","v":0}]
[null,{"$f":"IF(A449=\"\",\"\",VLOOKUP(A449,Data!$B$2:$D$4020,3,FALSE))","v":""},{"$f":"IF(A449=\"\",\"\",VLOOKUP(A449,Data!$B$2:$F$4020,5,FALSE))","v":""},null,{"$f":"CONCATENATE(A449,D449)","v":""},{"$f":"IF(ISNA(VLOOKUP(E449,Data!$A$2:$I$4020,7,FALSE)),\"\",VLOOKUP(E449,Data!$A$2:$I$4020,7,FALSE))","v":""},{"$f":"IF(ISNA(VLOOKUP(E449,Data!$A$2:$I$4020,9,FALSE)),\"\",VLOOKUP(E449,Data!$A$2:$I$4020,9,FALSE))","v":""},{"$f":"IF(ISNA(VLOOKUP(E449,Data!$A$2:$J$4020,10,FALSE)),\"\",VLOOKUP(E449,Data!$A$2:$J$4020,10,FALSE))","v":""},{"$nulls":13},{"$f":"SUM(S449:U449)","v":0}]
[null,{"$f":"IF(A450=\"\",\"\",VLOOKUP(A450,Data!$B$2:$D$4020,3,FALSE))","v":""},{"$f":"IF(A450=\"\",\"\",VLOOKUP(A450,Data!$B$2:$F$4020,5,FALSE))","v":""},null,{"$f":"CONCATENATE(A450,D450)","v":""},{"$f":"IF(ISNA(VLOOKUP(E450,Data!$A$2:$I$4020,7,FALSE)),\"\",VLOOKUP(E450,Data!$A$2:$I$4020,7,FALSE))","v":""},{"$f":"IF(ISNA(VLOOKUP(E450,Data!$A$2:$I$4020,9,FALSE)),\"\",VLOOKUP(E450,Data!$A$2:$I$4020,9,FALSE))","v":""},{"$f":"IF(ISNA(VLOOKUP(E450,Data!$A$2:$J$4020,10,FALSE)),\"\",VLOOKUP(E450,Data!$A$2:$J$4020,10,FALSE))","v":""},{"$nulls":13},{"$f":"SUM(S450:U450)","v":0}]
[null,{"$f":"IF(A451=\"\",\"\",VLOOKUP(A451,Data!$B$2:$D$4020,3,FALSE))","v":""},{"$f":"IF(A451=\"\",\"\",VLOOKUP(A451,Data!$B$2:$F$4020,5,FALSE))","v":""},null,{"$f":"CONCATENATE(A451,D451)","v":""},{"$f":"IF(ISNA(VLOOKUP(E451,Data!$A$2:$I$4020,7,FALSE)),\"\",VLOOKUP(E451,Data!$A$2:$I$4020,7,FALSE))","v":""},{"$f":"IF(ISNA(VLOOKUP(E451,Data!$A$2:$I$4020,9,FALSE)),\"\",VLOOKUP(E451,Data!$A$2:$I$4020,9,FALSE))","v":""},{"$f":"IF(ISNA(VLOOKUP(E451,Data!$A$2:$J$4020,10,FALSE)),\"\",VLOOKUP(E451,Data!$A$2:$J$4020,10,FALSE))","v":""},{"$nulls":13},{"$f":"SUM(S451:U451)","v":0}]
[null,{"$f":"IF(A452=\"\",\"\",VLOOKUP(A452,Data!$B$2:$D$4020,3,FALSE))","v":""},{"$f":"IF(A452=\"\",\"\",VLOOKUP(A452,Data!$B$2:$F$4020,5,FALSE))","v":""},null,{"$f":"CONCATENATE(A452,D452)","v":""},{"$f":"IF(ISNA(VLOOKUP(E452,Data!$A$2:$I$4020,7,FALSE)),\"\",VLOOKUP(E452,Data!$A$2:$I$4020,7,FALSE))","v":""},{"$f":"IF(ISNA(VLOOKUP(E452,Data!$A$2:$I$4020,9,FALSE)),\"\",VLOOKUP(E452,Data!$A$2:$I$4020,9,FALSE))","v":""},{"$f":"IF(ISNA(VLOOKUP(E452,Data!$A$2:$J$4020,10,FALSE)),\"\",VLOOKUP(E452,Data!$A$2:$J$4020,10,FALSE))","v":""},{"$nulls":13},{"$f":"SUM(S452:U452)","v":0}]
[null,{"$f":"IF(A453=\"\",\"\",VLOOKUP(A453,Data!$B$2:$D$4020,3,FALSE))","v":""},{"$f":"IF(A453=\"\",\"\",VLOOKUP(A453,Data!$B$2:$F$4020,5,FALSE))","v":""},null,{"$f":"CONCATENATE(A453,D453)","v":""},{"$f":"IF(ISNA(VLOOKUP(E453,Data!$A$2:$I$4020,7,FALSE)),\"\",VLOOKUP(E453,Data!$A$2:$I$4020,7,FALSE))","v":""},{"$f":"IF(ISNA(VLOOKUP(E453,Data!$A$2:$I$4020,9,FALSE)),\"\",VLOOKUP(E453,Data!$A$2:$I$4020,9,FALSE))","v":""},{"$f":"IF(ISNA(VLOOKUP(E453,Data!$A$2:$J$4020,10,FALSE)),\"\",VLOOKUP(E453,Data!$A$2:$J$4020,10,FALSE))","v":""},{"$nulls":13},{"$f":"SUM(S453:U453)","v":0}]
[null,{"$f":"IF(A454=\"\",\"\",VLOOKUP(A454,Data!$B$2:$D$4020,3,FALSE))","v":""},{"$f":"IF(A454=\"\",\"\",VLOOKUP(A454,Data!$B$2:$F$4020,5,FALSE))","v":""},null,{"$f":"CONCATENATE(A454,D454)","v":""},{"$f":"IF(ISNA(VLOOKUP(E454,Data!$A$2:$I$4020,7,FALSE)),\"\",VLOOKUP(E454,Data!$A$2:$I$4020,7,FALSE))","v":""},{"$f":"IF(ISNA(VLOOKUP(E454,Data!$A$2:$I$4020,9,FALSE)),\"\",VLOOKUP(E454,Data!$A$2:$I$4020,9,FALSE))","v":""},{"$f":"IF(ISNA(VLOOKUP(E454,Data!$A$2:$J$4020,10,FALSE)),\"\",VLOOKUP(E454,Data!$A$2:$J$4020,10,FALSE))","v":""},{"$nulls":13},{"$f":"SUM(S454:U454)","v":0}]
[null,{"$f":"IF(A455=\"\",\"\",VLOOKUP(A455,Data!$B$2:$D$4020,3,FALSE))","v":""},{"$f":"IF(A455=\"\",\"\",VLOOKUP(A455,Data!$B$2:$F$4020,5,FALSE))","v":""},null,{"$f":"CONCATENATE(A455,D455)","v":""},{"$f":"IF(ISNA(VLOOKUP(E455,Data!$A$2:$I$4020,7,FALSE)),\"\",VLOOKUP(E455,Data!$A$2:$I$4020,7,FALSE))","v":""},{"$f":"IF(ISNA(VLOOKUP(E455,Data!$A$2:$I$4020,9,FALSE)),\"\",VLOOKUP(E455,Data!$A$2:$I$4020,9,FALSE))","v":""},{"$f":"IF(ISNA(VLOOKUP(E455,Data!$A$2:$J$4020,10,FALSE)),\"\",VLOOKUP(E455,Data!$A$2:$J$4020,10,FALSE))","v":""},{"$nulls":13},{"$f":"SUM(S455:U455)","v":0}]
[null,{"$f":"IF(A456=\"\",\"\",VLOOKUP(A456,Data!$B$2:$D$4020,3,FALSE))","v":""},{"$f":"IF(A456=\"\",\"\",VLOOKUP(A456,Data!$B$2:$F$4020,5,FALSE))","v":""},null,{"$f":"CONCATENATE(A456,D456)","v":""},{"$f":"IF(ISNA(VLOOKUP(E456,Data!$A$2:$I$4020,7,FALSE)),\"\",VLOOKUP(E456,Data!$A$2:$I$4020,7,FALSE))","v":""},{"$f":"IF(ISNA(VLOOKUP(E456,Data!$A$2:$I$4020,9,FALSE)),\"\",VLOOKUP(E456,Data!$A$2:$I$4020,9,FALSE))","v":""},{"$f":"IF(ISNA(VLOOKUP(E456,Data!$A$2:$J$4020,10,FALSE)),\"\",VLOOKUP(E456,Data!$A$2:$J$4020,10,FALSE))","v":""},{"$nulls":13},{"$f":"SUM(S456:U456)","v":0}]
[null,{"$f":"IF(A457=\"\",\"\",VLOOKUP(A457,Data!$B$2:$D$4020,3,FALSE))","v":""},{"$f":"IF(A457=\"\",\"\",VLOOKUP(A457,Data!$B$2:$F$4020,5,FALSE))","v":""},null,{"$f":"CONCATENATE(A457,D457)","v":""},{"$f":"IF(ISNA(VLOOKUP(E457,Data!$A$2:$I$4020,7,FALSE)),\"\",VLOOKUP(E457,Data!$A$2:$I$4020,7,FALSE))","v":""},{"$f":"IF(ISNA(VLOOKUP(E457,Data!$A$2:$I$4020,9,FALSE)),\"\",VLOOKUP(E457,Data!$A$2:$I$4020,9,FALSE))","v":""},{"$f":"IF(ISNA(VLOOKUP(E457,Data!$A$2:$J$4020,10,FALSE)),\"\",VLOOKUP(E457,Data!$A$2:$J$4020,10,FALSE))","v":""},{"$nulls":13},{"$f":"SUM(S457:U457)","v":0}]
[null,{"$f":"IF(A458=\"\",\"\",VLOOKUP(A458,Data!$B$2:$D$4020,3,FALSE))","v":""},{"$f":"IF(A458=\"\",\"\",VLOOKUP(A458,Data!$B$2:$F$4020,5,FALSE))","v":""},null,{"$f":"CONCATENATE(A458,D458)","v":""},{"$f":"IF(ISNA(VLOOKUP(E458,Data!$A$2:$I$4020,7,FALSE)),\"\",VLOOKUP(E458,Data!$A$2:$I$4020,7,FALSE))","v":""},{"$f":"IF(ISNA(VLOOKUP(E458,Data!$A$2:$I$4020,9,FALSE)),\"\",VLOOKUP(E458,Data!$A$2:$I$4020,9,FALSE))","v":""},{"$f":"IF(ISNA(VLOOKUP(E458,Data!$A$2:$J$4020,10,FALSE)),\"\",VLOOKUP(E458,Data!$A$2:$J$4020,10,FALSE))","v":""},{"$nulls":13},{"$f":"SUM(S458:U458)","v":0}]
[null,{"$f":"IF(A459=\"\",\"\",VLOOKUP(A459,Data!$B$2:$D$4020,3,FALSE))","v":""},{"$f":"IF(A459=\"\",\"\",VLOOKUP(A459,Data!$B$2:$F$4020,5,FALSE))","v":""},null,{"$f":"CONCATENATE(A459,D459)","v":""},{"$f":"IF(ISNA(VLOOKUP(E459,Data!$A$2:$I$4020,7,FALSE)),\"\",VLOOKUP(E459,Data!$A$2:$I$4020,7,FALSE))","v":""},{"$f":"IF(ISNA(VLOOKUP(E459,Data!$A$2:$I$4020,9,FALSE)),\"\",VLOOKUP(E459,Data!$A$2:$I$4020,9,FALSE))","v":""},{"$f":"IF(ISNA(VLOOKUP(E459,Data!$A$2:$J$4020,10,FALSE)),\"\",VLOOKUP(E459,Data!$A$2:$J$4020,10,FALSE))","v":""},{"$nulls":13},{"$f":"SUM(S459:U459)","v":0}]
[null,{"$f":"IF(A460=\"\",\"\",VLOOKUP(A460,Data!$B$2:$D$4020,3,FALSE))","v":""},{"$f":"IF(A460=\"\",\"\",VLOOKUP(A460,Data!$B$2:$F$4020,5,FALSE))","v":""},null,{"$f":"CONCATENATE(A460,D460)","v":""},{"$f":"IF(ISNA(VLOOKUP(E460,Data!$A$2:$I$4020,7,FALSE)),\"\",VLOOKUP(E460,Data!$A$2:$I$4020,7,FALSE))","v":""},{"$f":"IF(ISNA(VLOOKUP(E460,Data!$A$2:$I$4020,9,FALSE)),\"\",VLOOKUP(E460,Data!$A$2:$I$4020,9,FALSE))","v":""},{"$f":"IF(ISNA(VLOOKUP(E460,Data!$A$2:$J$4020,10,FALSE)),\"\",VLOOKUP(E460,Data!$A$2:$J$4020,10,FALSE))","v":""},{"$nulls":13},{"$f":"SUM(S460:U460)","v":0}]
[null,{"$f":"IF(A461=\"\",\"\",VLOOKUP(A461,Data!$B$2:$D$4020,3,FALSE))","v":""},{"$f":"IF(A461=\"\",\"\",VLOOKUP(A461,Data!$B$2:$F$4020,5,FALSE))","v":""},null,{"$f":"CONCATENATE(A461,D461)","v":""},{"$f":"IF(ISNA(VLOOKUP(E461,Data!$A$2:$I$4020,7,FALSE)),\"\",VLOOKUP(E461,Data!$A$2:$I$4020,7,FALSE))","v":""},{"$f":"IF(ISNA(VLOOKUP(E461,Data!$A$2:$I$4020,9,FALSE)),\"\",VLOOKUP(E461,Data!$A$2:$I$4020,9,FALSE))","v":""},{"$f":"IF(ISNA(VLOOKUP(E461,Data!$A$2:$J$4020,10,FALSE)),\"\",VLOOKUP(E461,Data!$A$2:$J$4020,10,FALSE))","v":""},{"$nulls":13},{"$f":"SUM(S461:U461)","v":0}]
[null,{"$f":"IF(A462=\"\",\"\",VLOOKUP(A462,Data!$B$2:$D$4020,3,FALSE))","v":""},{"$f":"IF(A462=\"\",\"\",VLOOKUP(A462,Data!$B$2:$F$4020,5,FALSE))","v":""},null,{"$f":"CONCATENATE(A462,D462)","v":""},{"$f":"IF(ISNA(VLOOKUP(E462,Data!$A$2:$I$4020,7,FALSE)),\"\",VLOOKUP(E462,Data!$A$2:$I$4020,7,FALSE))","v":""},{"$f":"IF(ISNA(VLOOKUP(E462,Data!$A$2:$I$4020,9,FALSE)),\"\",VLOOKUP(E462,Data!$A$2:$I$4020,9,FALSE))","v":""},{"$f":"IF(ISNA(VLOOKUP(E462,Data!$A$2:$J$4020,10,FALSE)),\"\",VLOOKUP(E462,Data!$A$2:$J$4020,10,FALSE))","v":""},{"$nulls":13},{"$f":"SUM(S462:U462)","v":0}]
[null,{"$f":"IF(A463=\"\",\"\",VLOOKUP(A463,Data!$B$2:$D$4020,3,FALSE))","v":""},{"$f":"IF(A463=\"\",\"\",VLOOKUP(A463,Data!$B$2:$F$4020,5,FALSE))","v":""},null,{"$f":"CONCATENATE(A463,D463)","v":""},{"$f":"IF(ISNA(VLOOKUP(E463,Data!$A$2:$I$4020,7,FALSE)),\"\",VLOOKUP(E463,Data!$A$2:$I$4020,7,FALSE))","v":""},{"$f":"IF(ISNA(VLOOKUP(E463,Data!$A$2:$I$4020,9,FALSE)),\"\",VLOOKUP(E463,Data!$A$2:$I$4020,9,FALSE))","v":""},{"$f":"IF(ISNA(VLOOKUP(E463,Data!$A$2:$J$4020,10,FALSE)),\"\",VLOOKUP(E463,Data!$A$2:$J$4020,10,FALSE))","v":""},{"$nulls":13},{"$f":"SUM(S463:U463)","v":0}]
[null,{"$f":"IF(A464=\"\",\"\",VLOOKUP(A464,Data!$B$2:$D$4020,3,FALSE))","v":""},{"$f":"IF(A464=\"\",\"\",VLOOKUP(A464,Data!$B$2:$F$4020,5,FALSE))","v":""},null,{"$f":"CONCATENATE(A464,D464)","v":""},{"$f":"IF(ISNA(VLOOKUP(E464,Data!$A$2:$I$4020,7,FALSE)),\"\",VLOOKUP(E464,Data!$A$2:$I$4020,7,FALSE))","v":""},{"$f":"IF(ISNA(VLOOKUP(E464,Data!$A$2:$I$4020,9,FALSE)),\"\",VLOOKUP(E464,Data!$A$2:$I$4020,9,FALSE))","v":""},{"$f":"IF(ISNA(VLOOKUP(E464,Data!$A$2:$J$4020,10,FALSE)),\"\",VLOOKUP(E464,Data!$A$2:$J$4020,10,FALSE))","v":""},{"$nulls":13},{"$f":"SUM(S464:U464)","v":0}]
[null,{"$f":"IF(A465=\"\",\"\",VLOOKUP(A465,Data!$B$2:$D$4020,3,FALSE))","v":""},{"$f":"IF(A465=\"\",\"\",VLOOKUP(A465,Data!$B$2:$F$4020,5,FALSE))","v":""},null,{"$f":"CONCATENATE(A465,D465)","v":""},{"$f":"IF(ISNA(VLOOKUP(E465,Data!$A$2:$I$4020,7,FALSE)),\"\",VLOOKUP(E465,Data!$A$2:$I$4020,7,FALSE))","v":""},{"$f":"IF(ISNA(VLOOKUP(E465,Data!$A$2:$I$4020,9,FALSE)),\"\",VLOOKUP(E465,Data!$A$2:$I$4020,9,FALSE))","v":""},{"$f":"IF(ISNA(VLOOKUP(E465,Data!$A$2:$J$4020,10,FALSE)),\"\",VLOOKUP(E465,Data!$A$2:$J$4020,10,FALSE))","v":""},{"$nulls":13},{"$f":"SUM(S465:U465)","v":0}]
[null,{"$f":"IF(A466=\"\",\"\",VLOOKUP(A466,Data!$B$2:$D$4020,3,FALSE))","v":""},{"$f":"IF(A466=\"\",\"\",VLOOKUP(A466,Data!$B$2:$F$4020,5,FALSE))","v":""},null,{"$f":"CONCATENATE(A466,D466)","v":""},{"$f":"IF(ISNA(VLOOKUP(E466,Data!$A$2:$I$4020,7,FALSE)),\"\",VLOOKUP(E466,Data!$A$2:$I$4020,7,FALSE))","v":""},{"$f":"IF(ISNA(VLOOKUP(E466,Data!$A$2:$I$4020,9,FALSE)),\"\",VLOOKUP(E466,Data!$A$2:$I$4020,9,FALSE))","v":""},{"$f":"IF(ISNA(VLOOKUP(E466,Data!$A$2:$J$4020,10,FALSE)),\"\",VLOOKUP(E466,Data!$A$2:$J$4020,10,FALSE))","v":""},{"$nulls":13},{"$f":"SUM(S466:U466)","v":0}]
[null,{"$f":"IF(A467=\"\",\"\",VLOOKUP(A467,Data!$B$2:$D$4020,3,FALSE))","v":""},{"$f":"IF(A467=\"\",\"\",VLOOKUP(A467,Data!$B$2:$F$4020,5,FALSE))","v":""},null,{"$f":"CONCATENATE(A467,D467)","v":""},{"$f":"IF(ISNA(VLOOKUP(E467,Data!$A$2:$I$4020,7,FALSE)),\"\",VLOOKUP(E467,Data!$A$2:$I$4020,7,FALSE))","v":""},{"$f":"IF(ISNA(VLOOKUP(E467,Data!$A$2:$I$4020,9,FALSE)),\"\",VLOOKUP(E467,Data!$A$2:$I$4020,9,FALSE))","v":""},{"$f":"IF(ISNA(VLOOKUP(E467,Data!$A$2:$J$4020,10,FALSE)),\"\",VLOOKUP(E467,Data!$A$2:$J$4020,10,FALSE))","v":""},{"$nulls":13},{"$f":"SUM(S467:U467)","v":0}]
[null,{"$f":"IF(A468=\"\",\"\",VLOOKUP(A468,Data!$B$2:$D$4020,3,FALSE))","v":""},{"$f":"IF(A468=\"\",\"\",VLOOKUP(A468,Data!$B$2:$F$4020,5,FALSE))","v":""},null,{"$f":"CONCATENATE(A468,D468)","v":""},{"$f":"IF(ISNA(VLOOKUP(E468,Data!$A$2:$I$4020,7,FALSE)),\"\",VLOOKUP(E468,Data!$A$2:$I$4020,7,FALSE))","v":""},{"$f":"IF(ISNA(VLOOKUP(E468,Data!$A$2:$I$4020,9,FALSE)),\"\",VLOOKUP(E468,Data!$A$2:$I$4020,9,FALSE))","v":""},{"$f":"IF(ISNA(VLOOKUP(E468,Data!$A$2:$J$4020,10,FALSE)),\"\",VLOOKUP(E468,Data!$A$2:$J$4020,10,FALSE))","v":""},{"$nulls":13},{"$f":"SUM(S468:U468)","v":0}]
[null,{"$f":"IF(A469=\"\",\"\",VLOOKUP(A469,Data!$B$2:$D$4020,3,FALSE))","v":""},{"$f":"IF(A469=\"\",\"\",VLOOKUP(A469,Data!$B$2:$F$4020,5,FALSE))","v":""},null,{"$f":"CONCATENATE(A469,D469)","v":""},{"$f":"IF(ISNA(VLOOKUP(E469,Data!$A$2:$I$4020,7,FALSE)),\"\",VLOOKUP(E469,Data!$A$2:$I$4020,7,FALSE))","v":""},{"$f":"IF(ISNA(VLOOKUP(E469,Data!$A$2:$I$4020,9,FALSE)),\"\",VLOOKUP(E469,Data!$A$2:$I$4020,9,FALSE))","v":""},{"$f":"IF(ISNA(VLOOKUP(E469,Data!$A$2:$J$4020,10,FALSE)),\"\",VLOOKUP(E469,Data!$A$2:$J$4020,10,FALSE))","v":""},{"$nulls":13},{"$f":"SUM(S469:U469)","v":0}]
[null,{"$f":"IF(A470=\"\",\"\",VLOOKUP(A470,Data!$B$2:$D$4020,3,FALSE))","v":""},{"$f":"IF(A470=\"\",\"\",VLOOKUP(A470,Data!$B$2:$F$4020,5,FALSE))","v":""},null,{"$f":"CONCATENATE(A470,D470)","v":""},{"$f":"IF(ISNA(VLOOKUP(E470,Data!$A$2:$I$4020,7,FALSE)),\"\",VLOOKUP(E470,Data!$A$2:$I$4020,7,FALSE))","v":""},{"$f":"IF(ISNA(VLOOKUP(E470,Data!$A$2:$I$4020,9,FALSE)),\"\",VLOOKUP(E470,Data!$A$2:$I$4020,9,FALSE))","v":""},{"$f":"IF(ISNA(VLOOKUP(E470,Data!$A$2:$J$4020,10,FALSE)),\"\",VLOOKUP(E470,Data!$A$2:$J$4020,10,FALSE))","v":""},{"$nulls":13},{"$f":"SUM(S470:U470)","v":0}]
[null,{"$f":"IF(A471=\"\",\"\",VLOOKUP(A471,Data!$B$2:$D$4020,3,FALSE))","v":""},{"$f":"IF(A471=\"\",\"\",VLOOKUP(A471,Data!$B$2:$F$4020,5,FALSE))","v":""},null,{"$f":"CONCATENATE(A471,D471)","v":""},{"$f":"IF(ISNA(VLOOKUP(E471,Data!$A$2:$I$4020,7,FALSE)),\"\",VLOOKUP(E471,Data!$A$2:$I$4020,7,FALSE))","v":""},{"$f":"IF(ISNA(VLOOKUP(E471,Data!$A$2:$I$4020,9,FALSE)),\"\",VLOOKUP(E471,Data!$A$2:$I$4020,9,FALSE))","v":""},{"$f":"IF(ISNA(VLOOKUP(E471,Data!$A$2:$J$4020,10,FALSE)),\"\",VLOOKUP(E471,Data!$A$2:$J$4020,10,FALSE))","v":""},{"$nulls":13},{"$f":"SUM(S471:U471)","v":0}]
[null,{"$f":"IF(A472=\"\",\"\",VLOOKUP(A472,Data!$B$2:$D$4020,3,FALSE))","v":""},{"$f":"IF(A472=\"\",\"\",VLOOKUP(A472,Data!$B$2:$F$4020,5,FALSE))","v":""},null,{"$f":"CONCATENATE(A472,D472)","v":""},{"$f":"IF(ISNA(VLOOKUP(E472,Data!$A$2:$I$4020,7,FALSE)),\"\",VLOOKUP(E472,Data!$A$2:$I$4020,7,FALSE))","v":""},{"$f":"IF(ISNA(VLOOKUP(E472,Data!$A$2:$I$4020,9,FALSE)),\"\",VLOOKUP(E472,Data!$A$2:$I$4020,9,FALSE))","v":""},{"$f":"IF(ISNA(VLOOKUP(E472,Data!$A$2:$J$4020,10,FALSE)),\"\",VLOOKUP(E472,Data!$A$2:$J$4020,10,FALSE))","v":""},{"$nulls":13},{"$f":"SUM(S472:U472)","v":0}]
[null,{"$f":"IF(A473=\"\",\"\",VLOOKUP(A473,Data!$B$2:$D$4020,3,FALSE))","v":""},{"$f":"IF(A473=\"\",\"\",VLOOKUP(A473,Data!$B$2:$F$4020,5,FALSE))","v":""},null,{"$f":"CONCATENATE(A473,D473)","v":""},{"$f":"IF(ISNA(VLOOKUP(E473,Data!$A$2:$I$4020,7,FALSE)),\"\",VLOOKUP(E473,Data!$A$2:$I$4020,7,FALSE))","v":""},{"$f":"IF(ISNA(VLOOKUP(E473,Data!$A$2:$I$4020,9,FALSE)),\"\",VLOOKUP(E473,Data!$A$2:$I$4020,9,FALSE))","v":""},{"$f":"IF(ISNA(VLOOKUP(E473,Data!$A$2:$J$4020,10,FALSE)),\"\",VLOOKUP(E473,Data!$A$2:$J$4020,10,FALSE))","v":""},{"$nulls":13},{"$f":"SUM(S473:U473)","v":0}]
[null,{"$f":"IF(A474=\"\",\"\",VLOOKUP(A474,Data!$B$2:$D$4020,3,FALSE))","v":""},{"$f":"IF(A474=\"\",\"\",VLOOKUP(A474,Data!$B$2:$F$4020,5,FALSE))","v":""},null,{"$f":"CONCATENATE(A474,D474)","v":""},{"$f":"IF(ISNA(VLOOKUP(E474,Data!$A$2:$I$4020,7,FALSE)),\"\",VLOOKUP(E474,Data!$A$2:$I$4020,7,FALSE))","v":""},{"$f":"IF(ISNA(VLOOKUP(E474,Data!$A$2:$I$4020,9,FALSE)),\"\",VLOOKUP(E474,Data!$A$2:$I$4020,9,FALSE))","v":""},{"$f":"IF(ISNA(VLOOKUP(E474,Data!$A$2:$J$4020,10,FALSE)),\"\",VLOOKUP(E474,Data!$A$2:$J$4020,10,FALSE))","v":""},{"$nulls":13},{"$f":"SUM(S474:U474)","v":0}]
[null,{"$f":"IF(A475=\"\",\"\",VLOOKUP(A475,Data!$B$2:$D$4020,3,FALSE))","v":""},{"$f":"IF(A475=\"\",\"\",VLOOKUP(A475,Data!$B$2:$F$4020,5,FALSE))","v":""},null,{"$f":"CONCATENATE(A475,D475)","v":""},{"$f":"IF(ISNA(VLOOKUP(E475,Data!$A$2:$I$4020,7,FALSE)),\"\",VLOOKUP(E475,Data!$A$2:$I$4020,7,FALSE))","v":""},{"$f":"IF(ISNA(VLOOKUP(E475,Data!$A$2:$I$4020,9,FALSE)),\"\",VLOOKUP(E475,Data!$A$2:$I$4020,9,FALSE))","v":""},{"$f":"IF(ISNA(VLOOKUP(E475,Data!$A$2:$J$4020,10,FALSE)),\"\",VLOOKUP(E475,Data!$A$2:$J$4020,10,FALSE))","v":""},{"$nulls":13},{"$f":"SUM(S475:U475)","v":0}]
[null,{"$f":"IF(A476=\"\",\"\",VLOOKUP(A476,Data!$B$2:$D$4020,3,FALSE))","v":""},{"$f":"IF(A476=\"\",\"\",VLOOKUP(A476,Data!$B$2:$F$4020,5,FALSE))","v":""},null,{"$f":"CONCATENATE(A476,D476)","v":""},{"$f":"IF(ISNA(VLOOKUP(E476,Data!$A$2:$I$4020,7,FALSE)),\"\",VLOOKUP(E476,Data!$A$2:$I$4020,7,FALSE))","v":""},{"$f":"IF(ISNA(VLOOKUP(E476,Data!$A$2:$I$4020,9,FALSE)),\"\",VLOOKUP(E476,Data!$A$2:$I$4020,9,FALSE))","v":""},{"$f":"IF(ISNA(VLOOKUP(E476,Data!$A$2:$J$4020,10,FALSE)),\"\",VLOOKUP(E476,Data!$A$2:$J$4020,10,FALSE))","v":""},{"$nulls":13},{"$f":"SUM(S476:U476)","v":0}]
[null,{"$f":"IF(A477=\"\",\"\",VLOOKUP(A477,Data!$B$2:$D$4020,3,FALSE))","v":""},{"$f":"IF(A477=\"\",\"\",VLOOKUP(A477,Data!$B$2:$F$4020,5,FALSE))","v":""},null,{"$f":"CONCATENATE(A477,D477)","v":""},{"$f":"IF(ISNA(VLOOKUP(E477,Data!$A$2:$I$4020,7,FALSE)),\"\",VLOOKUP(E477,Data!$A$2:$I$4020,7,FALSE))","v":""},{"$f":"IF(ISNA(VLOOKUP(E477,Data!$A$2:$I$4020,9,FALSE)),\"\",VLOOKUP(E477,Data!$A$2:$I$4020,9,FALSE))","v":""},{"$f":"IF(ISNA(VLOOKUP(E477,Data!$A$2:$J$4020,10,FALSE)),\"\",VLOOKUP(E477,Data!$A$2:$J$4020,10,FALSE))","v":""},{"$nulls":13},{"$f":"SUM(S477:U477)","v":0}]
[null,{"$f":"IF(A478=\"\",\"\",VLOOKUP(A478,Data!$B$2:$D$4020,3,FALSE))","v":""},{"$f":"IF(A478=\"\",\"\",VLOOKUP(A478,Data!$B$2:$F$4020,5,FALSE))","v":""},null,{"$f":"CONCATENATE(A478,D478)","v":""},{"$f":"IF(ISNA(VLOOKUP(E478,Data!$A$2:$I$4020,7,FALSE)),\"\",VLOOKUP(E478,Data!$A$2:$I$4020,7,FALSE))","v":""},{"$f":"IF(ISNA(VLOOKUP(E478,Data!$A$2:$I$4020,9,FALSE)),\"\",VLOOKUP(E478,Data!$A$2:$I$4020,9,FALSE))","v":""},{"$f":"IF(ISNA(VLOOKUP(E478,Data!$A$2:$J$4020,10,FALSE)),\"\",VLOOKUP(E478,Data!$A$2:$J$4020,10,FALSE))","v":""},{"$nulls":13},{"$f":"SUM(S478:U478)","v":0}]
[null,{"$f":"IF(A479=\"\",\"\",VLOOKUP(A479,Data!$B$2:$D$4020,3,FALSE))","v":""},{"$f":"IF(A479=\"\",\"\",VLOOKUP(A479,Data!$B$2:$F$4020,5,FALSE))","v":""},null,{"$f":"CONCATENATE(A479,D479)","v":""},{"$f":"IF(ISNA(VLOOKUP(E479,Data!$A$2:$I$4020,7,FALSE)),\"\",VLOOKUP(E479,Data!$A$2:$I$4020,7,FALSE))","v":""},{"$f":"IF(ISNA(VLOOKUP(E479,Data!$A$2:$I$4020,9,FALSE)),\"\",VLOOKUP(E479,Data!$A$2:$I$4020,9,FALSE))","v":""},{"$f":"IF(ISNA(VLOOKUP(E479,Data!$A$2:$J$4020,10,FALSE)),\"\",VLOOKUP(E479,Data!$A$2:$J$4020,10,FALSE))","v":""},{"$nulls":13},{"$f":"SUM(S479:U479)","v":0}]
[null,{"$f":"IF(A480=\"\",\"\",VLOOKUP(A480,Data!$B$2:$D$4020,3,FALSE))","v":""},{"$f":"IF(A480=\"\",\"\",VLOOKUP(A480,Data!$B$2:$F$4020,5,FALSE))","v":""},null,{"$f":"CONCATENATE(A480,D480)","v":""},{"$f":"IF(ISNA(VLOOKUP(E480,Data!$A$2:$I$4020,7,FALSE)),\"\",VLOOKUP(E480,Data!$A$2:$I$4020,7,FALSE))","v":""},{"$f":"IF(ISNA(VLOOKUP(E480,Data!$A$2:$I$4020,9,FALSE)),\"\",VLOOKUP(E480,Data!$A$2:$I$4020,9,FALSE))","v":""},{"$f":"IF(ISNA(VLOOKUP(E480,Data!$A$2:$J$4020,10,FALSE)),\"\",VLOOKUP(E480,Data!$A$2:$J$4020,10,FALSE))","v":""},{"$nulls":13},{"$f":"SUM(S480:U480)","v":0}]
[null,{"$f":"IF(A481=\"\",\"\",VLOOKUP(A481,Data!$B$2:$D$4020,3,FALSE))","v":""},{"$f":"IF(A481=\"\",\"\",VLOOKUP(A481,Data!$B$2:$F$4020,5,FALSE))","v":""},null,{"$f":"CONCATENATE(A481,D481)","v":""},{"$f":"IF(ISNA(VLOOKUP(E481,Data!$A$2:$I$4020,7,FALSE)),\"\",VLOOKUP(E481,Data!$A$2:$I$4020,7,FALSE))","v":""},{"$f":"IF(ISNA(VLOOKUP(E481,Data!$A$2:$I$4020,9,FALSE)),\"\",VLOOKUP(E481,Data!$A$2:$I$4020,9,FALSE))","v":""},{"$f":"IF(ISNA(VLOOKUP(E481,Data!$A$2:$J$4020,10,FALSE)),\"\",VLOOKUP(E481,Data!$A$2:$J$4020,10,FALSE))","v":""},{"$nulls":13},{"$f":"SUM(S481:U481)","v":0}]
[null,{"$f":"IF(A482=\"\",\"\",VLOOKUP(A482,Data!$B$2:$D$4020,3,FALSE))","v":""},{"$f":"IF(A482=\"\",\"\",VLOOKUP(A482,Data!$B$2:$F$4020,5,FALSE))","v":""},null,{"$f":"CONCATENATE(A482,D482)","v":""},{"$f":"IF(ISNA(VLOOKUP(E482,Data!$A$2:$I$4020,7,FALSE)),\"\",VLOOKUP(E482,Data!$A$2:$I$4020,7,FALSE))","v":""},{"$f":"IF(ISNA(VLOOKUP(E482,Data!$A$2:$I$4020,9,FALSE)),\"\",VLOOKUP(E482,Data!$A$2:$I$4020,9,FALSE))","v":""},{"$f":"IF(ISNA(VLOOKUP(E482,Data!$A$2:$J$4020,10,FALSE)),\"\",VLOOKUP(E482,Data!$A$2:$J$4020,10,FALSE))","v":""},{"$nulls":13},{"$f":"SUM(S482:U482)","v":0}]
[null,{"$f":"IF(A483=\"\",\"\",VLOOKUP(A483,Data!$B$2:$D$4020,3,FALSE))","v":""},{"$f":"IF(A483=\"\",\"\",VLOOKUP(A483,Data!$B$2:$F$4020,5,FALSE))","v":""},null,{"$f":"CONCATENATE(A483,D483)","v":""},{"$f":"IF(ISNA(VLOOKUP(E483,Data!$A$2:$I$4020,7,FALSE)),\"\",VLOOKUP(E483,Data!$A$2:$I$4020,7,FALSE))","v":""},{"$f":"IF(ISNA(VLOOKUP(E483,Data!$A$2:$I$4020,9,FALSE)),\"\",VLOOKUP(E483,Data!$A$2:$I$4020,9,FALSE))","v":""},{"$f":"IF(ISNA(VLOOKUP(E483,Data!$A$2:$J$4020,10,FALSE)),\"\",VLOOKUP(E483,Data!$A$2:$J$4020,10,FALSE))","v":""},{"$nulls":13},{"$f":"SUM(S483:U483)","v":0}]
[null,{"$f":"IF(A484=\"\",\"\",VLOOKUP(A484,Data!$B$2:$D$4020,3,FALSE))","v":""},{"$f":"IF(A484=\"\",\"\",VLOOKUP(A484,Data!$B$2:$F$4020,5,FALSE))","v":""},null,{"$f":"CONCATENATE(A484,D484)","v":""},{"$f":"IF(ISNA(VLOOKUP(E484,Data!$A$2:$I$4020,7,FALSE)),\"\",VLOOKUP(E484,Data!$A$2:$I$4020,7,FALSE))","v":""},{"$f":"IF(ISNA(VLOOKUP(E484,Data!$A$2:$I$4020,9,FALSE)),\"\",VLOOKUP(E484,Data!$A$2:$I$4020,9,FALSE))","v":""},{"$f":"IF(ISNA(VLOOKUP(E484,Data!$A$2:$J$4020,10,FALSE)),\"\",VLOOKUP(E484,Data!$A$2:$J$4020,10,FALSE))","v":""},{"$nulls":13},{"$f":"SUM(S484:U484)","v":0}]
[null,{"$f":"IF(A485=\"\",\"\",VLOOKUP(A485,Data!$B$2:$D$4020,3,FALSE))","v":""},{"$f":"IF(A485=\"\",\"\",VLOOKUP(A485,Data!$B$2:$F$4020,5,FALSE))","v":""},null,{"$f":"CONCATENATE(A485,D485)","v":""},{"$f":"IF(ISNA(VLOOKUP(E485,Data!$A$2:$I$4020,7,FALSE)),\"\",VLOOKUP(E485,Data!$A$2:$I$4020,7,FALSE))","v":""},{"$f":"IF(ISNA(VLOOKUP(E485,Data!$A$2:$I$4020,9,FALSE)),\"\",VLOOKUP(E485,Data!$A$2:$I$4020,9,FALSE))","v":""},{"$f":"IF(ISNA(VLOOKUP(E485,Data!$A$2:$J$4020,10,FALSE)),\"\",VLOOKUP(E485,Data!$A$2:$J$4020,10,FALSE))","v":""},{"$nulls":13},{"$f":"SUM(S485:U485)","v":0}]
[null,{"$f":"IF(A486=\"\",\"\",VLOOKUP(A486,Data!$B$2:$D$4020,3,FALSE))","v":""},{"$f":"IF(A486=\"\",\"\",VLOOKUP(A486,Data!$B$2:$F$4020,5,FALSE))","v":""},null,{"$f":"CONCATENATE(A486,D486)","v":""},{"$f":"IF(ISNA(VLOOKUP(E486,Data!$A$2:$I$4020,7,FALSE)),\"\",VLOOKUP(E486,Data!$A$2:$I$4020,7,FALSE))","v":""},{"$f":"IF(ISNA(VLOOKUP(E486,Data!$A$2:$I$4020,9,FALSE)),\"\",VLOOKUP(E486,Data!$A$2:$I$4020,9,FALSE))","v":""},{"$f":"IF(ISNA(VLOOKUP(E486,Data!$A$2:$J$4020,10,FALSE)),\"\",VLOOKUP(E486,Data!$A$2:$J$4020,10,FALSE))","v":""},{"$nulls":13},{"$f":"SUM(S486:U486)","v":0}]
[null,{"$f":"IF(A487=\"\",\"\",VLOOKUP(A487,Data!$B$2:$D$4020,3,FALSE))","v":""},{"$f":"IF(A487=\"\",\"\",VLOOKUP(A487,Data!$B$2:$F$4020,5,FALSE))","v":""},null,{"$f":"CONCATENATE(A487,D487)","v":""},{"$f":"IF(ISNA(VLOOKUP(E487,Data!$A$2:$I$4020,7,FALSE)),\"\",VLOOKUP(E487,Data!$A$2:$I$4020,7,FALSE))","v":""},{"$f":"IF(ISNA(VLOOKUP(E487,Data!$A$2:$I$4020,9,FALSE)),\"\",VLOOKUP(E487,Data!$A$2:$I$4020,9,FALSE))","v":""},{"$f":"IF(ISNA(VLOOKUP(E487,Data!$A$2:$J$4020,10,FALSE)),\"\",VLOOKUP(E487,Data!$A$2:$J$4020,10,FALSE))","v":""},{"$nulls":13},{"$f":"SUM(S487:U487)","v":0}]
[null,{"$f":"IF(A488=\"\",\"\",VLOOKUP(A488,Data!$B$2:$D$4020,3,FALSE))","v":""},{"$f":"IF(A488=\"\",\"\",VLOOKUP(A488,Data!$B$2:$F$4020,5,FALSE))","v":""},null,{"$f":"CONCATENATE(A488,D488)","v":""},{"$f":"IF(ISNA(VLOOKUP(E488,Data!$A$2:$I$4020,7,FALSE)),\"\",VLOOKUP(E488,Data!$A$2:$I$4020,7,FALSE))","v":""},{"$f":"IF(ISNA(VLOOKUP(E488,Data!$A$2:$I$4020,9,FALSE)),\"\",VLOOKUP(E488,Data!$A$2:$I$4020,9,FALSE))","v":""},{"$f":"IF(ISNA(VLOOKUP(E488,Data!$A$2:$J$4020,10,FALSE)),\"\",VLOOKUP(E488,Data!$A$2:$J$4020,10,FALSE))","v":""},{"$nulls":13},{"$f":"SUM(S488:U488)","v":0}]
[null,{"$f":"IF(A489=\"\",\"\",VLOOKUP(A489,Data!$B$2:$D$4020,3,FALSE))","v":""},{"$f":"IF(A489=\"\",\"\",VLOOKUP(A489,Data!$B$2:$F$4020,5,FALSE))","v":""},null,{"$f":"CONCATENATE(A489,D489)","v":""},{"$f":"IF(ISNA(VLOOKUP(E489,Data!$A$2:$I$4020,7,FALSE)),\"\",VLOOKUP(E489,Data!$A$2:$I$4020,7,FALSE))","v":""},{"$f":"IF(ISNA(VLOOKUP(E489,Data!$A$2:$I$4020,9,FALSE)),\"\",VLOOKUP(E489,Data!$A$2:$I$4020,9,FALSE))","v":""},{"$f":"IF(ISNA(VLOOKUP(E489,Data!$A$2:$J$4020,10,FALSE)),\"\",VLOOKUP(E489,Data!$A$2:$J$4020,10,FALSE))","v":""},{"$nulls":13},{"$f":"SUM(S489:U489)","v":0}]
[null,{"$f":"IF(A490=\"\",\"\",VLOOKUP(A490,Data!$B$2:$D$4020,3,FALSE))","v":""},{"$f":"IF(A490=\"\",\"\",VLOOKUP(A490,Data!$B$2:$F$4020,5,FALSE))","v":""},null,{"$f":"CONCATENATE(A490,D490)","v":""},{"$f":"IF(ISNA(VLOOKUP(E490,Data!$A$2:$I$4020,7,FALSE)),\"\",VLOOKUP(E490,Data!$A$2:$I$4020,7,FALSE))","v":""},{"$f":"IF(ISNA(VLOOKUP(E490,Data!$A$2:$I$4020,9,FALSE)),\"\",VLOOKUP(E490,Data!$A$2:$I$4020,9,FALSE))","v":""},{"$f":"IF(ISNA(VLOOKUP(E490,Data!$A$2:$J$4020,10,FALSE)),\"\",VLOOKUP(E490,Data!$A$2:$J$4020,10,FALSE))","v":""},{"$nulls":13},{"$f":"SUM(S490:U490)","v":0}]
[null,{"$f":"IF(A491=\"\",\"\",VLOOKUP(A491,Data!$B$2:$D$4020,3,FALSE))","v":""},{"$f":"IF(A491=\"\",\"\",VLOOKUP(A491,Data!$B$2:$F$4020,5,FALSE))","v":""},null,{"$f":"CONCATENATE(A491,D491)","v":""},{"$f":"IF(ISNA(VLOOKUP(E491,Data!$A$2:$I$4020,7,FALSE)),\"\",VLOOKUP(E491,Data!$A$2:$I$4020,7,FALSE))","v":""},{"$f":"IF(ISNA(VLOOKUP(E491,Data!$A$2:$I$4020,9,FALSE)),\"\",VLOOKUP(E491,Data!$A$2:$I$4020,9,FALSE))","v":""},{"$f":"IF(ISNA(VLOOKUP(E491,Data!$A$2:$J$4020,10,FALSE)),\"\",VLOOKUP(E491,Data!$A$2:$J$4020,10,FALSE))","v":""},{"$nulls":13},{"$f":"SUM(S491:U491)","v":0}]
[null,{"$f":"IF(A492=\"\",\"\",VLOOKUP(A492,Data!$B$2:$D$4020,3,FALSE))","v":""},{"$f":"IF(A492=\"\",\"\",VLOOKUP(A492,Data!$B$2:$F$4020,5,FALSE))","v":""},null,{"$f":"CONCATENATE(A492,D492)","v":""},{"$f":"IF(ISNA(VLOOKUP(E492,Data!$A$2:$I$4020,7,FALSE)),\"\",VLOOKUP(E492,Data!$A$2:$I$4020,7,FALSE))","v":""},{"$f":"IF(ISNA(VLOOKUP(E492,Data!$A$2:$I$4020,9,FALSE)),\"\",VLOOKUP(E492,Data!$A$2:$I$4020,9,FALSE))","v":""},{"$f":"IF(ISNA(VLOOKUP(E492,Data!$A$2:$J$4020,10,FALSE)),\"\",VLOOKUP(E492,Data!$A$2:$J$4020,10,FALSE))","v":""},{"$nulls":13},{"$f":"SUM(S492:U492)","v":0}]
[null,{"$f":"IF(A493=\"\",\"\",VLOOKUP(A493,Data!$B$2:$D$4020,3,FALSE))","v":""},{"$f":"IF(A493=\"\",\"\",VLOOKUP(A493,Data!$B$2:$F$4020,5,FALSE))","v":""},null,{"$f":"CONCATENATE(A493,D493)","v":""},{"$f":"IF(ISNA(VLOOKUP(E493,Data!$A$2:$I$4020,7,FALSE)),\"\",VLOOKUP(E493,Data!$A$2:$I$4020,7,FALSE))","v":""},{"$f":"IF(ISNA(VLOOKUP(E493,Data!$A$2:$I$4020,9,FALSE)),\"\",VLOOKUP(E493,Data!$A$2:$I$4020,9,FALSE))","v":""},{"$f":"IF(ISNA(VLOOKUP(E493,Data!$A$2:$J$4020,10,FALSE)),\"\",VLOOKUP(E493,Data!$A$2:$J$4020,10,FALSE))","v":""},{"$nulls":13},{"$f":"SUM(S493:U493)","v":0}]
[null,{"$f":"IF(A494=\"\",\"\",VLOOKUP(A494,Data!$B$2:$D$4020,3,FALSE))","v":""},{"$f":"IF(A494=\"\",\"\",VLOOKUP(A494,Data!$B$2:$F$4020,5,FALSE))","v":""},null,{"$f":"CONCATENATE(A494,D494)","v":""},{"$f":"IF(ISNA(VLOOKUP(E494,Data!$A$2:$I$4020,7,FALSE)),\"\",VLOOKUP(E494,Data!$A$2:$I$4020,7,FALSE))","v":""},{"$f":"IF(ISNA(VLOOKUP(E494,Data!$A$2:$I$4020,9,FALSE)),\"\",VLOOKUP(E494,Data!$A$2:$I$4020,9,FALSE))","v":""},{"$f":"IF(ISNA(VLOOKUP(E494,Data!$A$2:$J$4020,10,FALSE)),\"\",VLOOKUP(E494,Data!$A$2:$J$4020,10,FALSE))","v":""},{"$nulls":13},{"$f":"SUM(S494:U494)","v":0}]
[null,{"$f":"IF(A495=\"\",\"\",VLOOKUP(A495,Data!$B$2:$D$4020,3,FALSE))","v":""},{"$f":"IF(A495=\"\",\"\",VLOOKUP(A495,Data!$B$2:$F$4020,5,FALSE))","v":""},null,{"$f":"CONCATENATE(A495,D495)","v":""},{"$f":"IF(ISNA(VLOOKUP(E495,Data!$A$2:$I$4020,7,FALSE)),\"\",VLOOKUP(E495,Data!$A$2:$I$4020,7,FALSE))","v":""},{"$f":"IF(ISNA(VLOOKUP(E495,Data!$A$2:$I$4020,9,FALSE)),\"\",VLOOKUP(E495,Data!$A$2:$I$4020,9,FALSE))","v":""},{"$f":"IF(ISNA(VLOOKUP(E495,Data!$A$2:$J$4020,10,FALSE)),\"\",VLOOKUP(E495,Data!$A$2:$J$4020,10,FALSE))","v":""},{"$nulls":13},{"$f":"SUM(S495:U495)","v":0}]
[null,{"$f":"IF(A496=\"\",\"\",VLOOKUP(A496,Data!$B$2:$D$4020,3,FALSE))","v":""},{"$f":"IF(A496=\"\",\"\",VLOOKUP(A496,Data!$B$2:$F$4020,5,FALSE))","v":""},null,{"$f":"CONCATENATE(A496,D496)","v":""},{"$f":"IF(ISNA(VLOOKUP(E496,Data!$A$2:$I$4020,7,FALSE)),\"\",VLOOKUP(E496,Data!$A$2:$I$4020,7,FALSE))","v":""},{"$f":"IF(ISNA(VLOOKUP(E496,Data!$A$2:$I$4020,9,FALSE)),\"\",VLOOKUP(E496,Data!$A$2:$I$4020,9,FALSE))","v":""},{"$f":"IF(ISNA(VLOOKUP(E496,Data!$A$2:$J$4020,10,FALSE)),\"\",VLOOKUP(E496,Data!$A$2:$J$4020,10,FALSE))","v":""},{"$nulls":13},{"$f":"SUM(S496:U496)","v":0}]
[null,{"$f":"IF(A497=\"\",\"\",VLOOKUP(A497,Data!$B$2:$D$4020,3,FALSE))","v":""},{"$f":"IF(A497=\"\",\"\",VLOOKUP(A497,Data!$B$2:$F$4020,5,FALSE))","v":""},null,{"$f":"CONCATENATE(A497,D497)","v":""},{"$f":"IF(ISNA(VLOOKUP(E497,Data!$A$2:$I$4020,7,FALSE)),\"\",VLOOKUP(E497,Data!$A$2:$I$4020,7,FALSE))","v":""},{"$f":"IF(ISNA(VLOOKUP(E497,Data!$A$2:$I$4020,9,FALSE)),\"\",VLOOKUP(E497,Data!$A$2:$I$4020,9,FALSE))","v":""},{"$f":"IF(ISNA(VLOOKUP(E497,Data!$A$2:$J$4020,10,FALSE)),\"\",VLOOKUP(E497,Data!$A$2:$J$4020,10,FALSE))","v":""},{"$nulls":13},{"$f":"SUM(S497:U497)","v":0}]
[null,{"$f":"IF(A498=\"\",\"\",VLOOKUP(A498,Data!$B$2:$D$4020,3,FALSE))","v":""},{"$f":"IF(A498=\"\",\"\",VLOOKUP(A498,Data!$B$2:$F$4020,5,FALSE))","v":""},null,{"$f":"CONCATENATE(A498,D498)","v":""},{"$f":"IF(ISNA(VLOOKUP(E498,Data!$A$2:$I$4020,7,FALSE)),\"\",VLOOKUP(E498,Data!$A$2:$I$4020,7,FALSE))","v":""},{"$f":"IF(ISNA(VLOOKUP(E498,Data!$A$2:$I$4020,9,FALSE)),\"\",VLOOKUP(E498,Data!$A$2:$I$4020,9,FALSE))","v":""},{"$f":"IF(ISNA(VLOOKUP(E498,Data!$A$2:$J$4020,10,FALSE)),\"\",VLOOKUP(E498,Data!$A$2:$J$4020,10,FALSE))","v":""},{"$nulls":13},{"$f":"SUM(S498:U498)","v":0}]
[null,{"$f":"IF(A499=\"\",\"\",VLOOKUP(A499,Data!$B$2:$D$4020,3,FALSE))","v":""},{"$f":"IF(A499=\"\",\"\",VLOOKUP(A499,Data!$B$2:$F$4020,5,FALSE))","v":""},null,{"$f":"CONCATENATE(A499,D499)","v":""},{"$f":"IF(ISNA(VLOOKUP(E499,Data!$A$2:$I$4020,7,FALSE)),\"\",VLOOKUP(E499,Data!$A$2:$I$4020,7,FALSE))","v":""},{"$f":"IF(ISNA(VLOOKUP(E499,Data!$A$2:$I$4020,9,FALSE)),\"\",VLOOKUP(E499,Data!$A$2:$I$4020,9,FALSE))","v":""},{"$f":"IF(ISNA(VLOOKUP(E499,Data!$A$2:$J$4020,10,FALSE)),\"\",VLOOKUP(E499,Data!$A$2:$J$4020,10,FALSE))","v":""},{"$nulls":13},{"$f":"SUM(S499:U499)","v":0}]
[null,{"$f":"IF(A500=\"\",\"\",VLOOKUP(A500,Data!$B$2:$D$4020,3,FALSE))","v":""},{"$f":"IF(A500=\"\",\"\",VLOOKUP(A500,Data!$B$2:$F$4020,5,FALSE))","v":""},null,{"$f":"CONCATENATE(A500,D500)","v":""},{"$f":"IF(ISNA(VLOOKUP(E500,Data!$A$2:$I$4020,7,FALSE)),\"\",VLOOKUP(E500,Data!$A$2:$I$4020,7,FALSE))","v":""},{"$f":"IF(ISNA(VLOOKUP(E500,Data!$A$2:$I$4020,9,FALSE)),\"\",VLOOKUP(E500,Data!$A$2:$I$4020,9,FALSE))","v":""},{"$f":"IF(ISNA(VLOOKUP(E500,Data!$A$2:$J$4020,10,FALSE)),\"\",VLOOKUP(E500,Data!$A$2:$J$4020,10,FALSE))","v":""},{"$nulls":13},{"$f":"SUM(S500:U500)","v":0}]
[null,{"$f":"IF(A501=\"\",\"\",VLOOKUP(A501,Data!$B$2:$D$4020,3,FALSE))","v":""},{"$f":"IF(A501=\"\",\"\",VLOOKUP(A501,Data!$B$2:$F$4020,5,FALSE))","v":""},null,{"$f":"CONCATENATE(A501,D501)","v":""},{"$f":"IF(ISNA(VLOOKUP(E501,Data!$A$2:$I$4020,7,FALSE)),\"\",VLOOKUP(E501,Data!$A$2:$I$4020,7,FALSE))","v":""},{"$f":"IF(ISNA(VLOOKUP(E501,Data!$A$2:$I$4020,9,FALSE)),\"\",VLOOKUP(E501,Data!$A$2:$I$4020,9,FALSE))","v":""},{"$f":"IF(ISNA(VLOOKUP(E501,Data!$A$2:$J$4020,10,FALSE)),\"\",VLOOKUP(E501,Data!$A$2:$J$4020,10,FALSE))","v":""},{"$nulls":13},{"$f":"SUM(S501:U501)","v":0}]
[null,{"$f":"IF(A502=\"\",\"\",VLOOKUP(A502,Data!$B$2:$D$4020,3,FALSE))","v":""},{"$f":"IF(A502=\"\",\"\",VLOOKUP(A502,Data!$B$2:$F$4020,5,FALSE))","v":""},null,{"$f":"CONCATENATE(A502,D502)","v":""},{"$f":"IF(ISNA(VLOOKUP(E502,Data!$A$2:$I$4020,7,FALSE)),\"\",VLOOKUP(E502,Data!$A$2:$I$4020,7,FALSE))","v":""},{"$f":"IF(ISNA(VLOOKUP(E502,Data!$A$2:$I$4020,9,FALSE)),\"\",VLOOKUP(E502,Data!$A$2:$I$4020,9,FALSE))","v":""},{"$f":"IF(ISNA(VLOOKUP(E502,Data!$A$2:$J$4020,10,FALSE)),\"\",VLOOKUP(E502,Data!$A$2:$J$4020,10,FALSE))","v":""},{"$nulls":13},{"$f":"SUM(S502:U502)","v":0}]
[null,{"$f":"IF(A503=\"\",\"\",VLOOKUP(A503,Data!$B$2:$D$4020,3,FALSE))","v":""},{"$f":"IF(A503=\"\",\"\",VLOOKUP(A503,Data!$B$2:$F$4020,5,FALSE))","v":""},null,{"$f":"CONCATENATE(A503,D503)","v":""},{"$f":"IF(ISNA(VLOOKUP(E503,Data!$A$2:$I$4020,7,FALSE)),\"\",VLOOKUP(E503,Data!$A$2:$I$4020,7,FALSE))","v":""},{"$f":"IF(ISNA(VLOOKUP(E503,Data!$A$2:$I$4020,9,FALSE)),\"\",VLOOKUP(E503,Data!$A$2:$I$4020,9,FALSE))","v":""},{"$f":"IF(ISNA(VLOOKUP(E503,Data!$A$2:$J$4020,10,FALSE)),\"\",VLOOKUP(E503,Data!$A$2:$J$4020,10,FALSE))","v":""},{"$nulls":13},{"$f":"SUM(S503:U503)","v":0}]
[null,{"$f":"IF(A504=\"\",\"\",VLOOKUP(A504,Data!$B$2:$D$4020,3,FALSE))","v":""},{"$f":"IF(A504=\"\",\"\",VLOOKUP(A504,Data!$B$2:$F$4020,5,FALSE))","v":""},null,{"$f":"CONCATENATE(A504,D504)","v":""},{"$f":"IF(ISNA(VLOOKUP(E504,Data!$A$2:$I$4020,7,FALSE)),\"\",VLOOKUP(E504,Data!$A$2:$I$4020,7,FALSE))","v":""},{"$f":"IF(ISNA(VLOOKUP(E504,Data!$A$2:$I$4020,9,FALSE)),\"\",VLOOKUP(E504,Data!$A$2:$I$4020,9,FALSE))","v":""},{"$f":"IF(ISNA(VLOOKUP(E504,Data!$A$2:$J$4020,10,FALSE)),\"\",VLOOKUP(E504,Data!$A$2:$J$4020,10,FALSE))","v":""},{"$nulls":13},{"$f":"SUM(S504:U504)","v":0}]
[null,{"$f":"IF(A505=\"\",\"\",VLOOKUP(A505,Data!$B$2:$D$4020,3,FALSE))","v":""},{"$f":"IF(A505=\"\",\"\",VLOOKUP(A505,Data!$B$2:$F$4020,5,FALSE))","v":""},null,{"$f":"CONCATENATE(A505,D505)","v":""},{"$f":"IF(ISNA(VLOOKUP(E505,Data!$A$2:$I$4020,7,FALSE)),\"\",VLOOKUP(E505,Data!$A$2:$I$4020,7,FALSE))","v":""},{"$f":"IF(ISNA(VLOOKUP(E505,Data!$A$2:$I$4020,9,FALSE)),\"\",VLOOKUP(E505,Data!$A$2:$I$4020,9,FALSE))","v":""},{"$f":"IF(ISNA(VLOOKUP(E505,Data!$A$2:$J$4020,10,FALSE)),\"\",VLOOKUP(E505,Data!$A$2:$J$4020,10,FALSE))","v":""},{"$nulls":13},{"$f":"SUM(S505:U505)","v":0}]
[null,{"$f":"IF(A506=\"\",\"\",VLOOKUP(A506,Data!$B$2:$D$4020,3,FALSE))","v":""},{"$f":"IF(A506=\"\",\"\",VLOOKUP(A506,Data!$B$2:$F$4020,5,FALSE))","v":""},null,{"$f":"CONCATENATE(A506,D506)","v":""},{"$f":"IF(ISNA(VLOOKUP(E506,Data!$A$2:$I$4020,7,FALSE)),\"\",VLOOKUP(E506,Data!$A$2:$I$4020,7,FALSE))","v":""},{"$f":"IF(ISNA(VLOOKUP(E506,Data!$A$2:$I$4020,9,FALSE)),\"\",VLOOKUP(E506,Data!$A$2:$I$4020,9,FALSE))","v":""},{"$f":"IF(ISNA(VLOOKUP(E506,Data!$A$2:$J$4020,10,FALSE)),\"\",VLOOKUP(E506,Data!$A$2:$J$4020,10,FALSE))","v":""},{"$nulls":13},{"$f":"SUM(S506:U506)","v":0}]
[null,{"$f":"IF(A507=\"\",\"\",VLOOKUP(A507,Data!$B$2:$D$4020,3,FALSE))","v":""},{"$f":"IF(A507=\"\",\"\",VLOOKUP(A507,Data!$B$2:$F$4020,5,FALSE))","v":""},null,{"$f":"CONCATENATE(A507,D507)","v":""},{"$f":"IF(ISNA(VLOOKUP(E507,Data!$A$2:$I$4020,7,FALSE)),\"\",VLOOKUP(E507,Data!$A$2:$I$4020,7,FALSE))","v":""},{"$f":"IF(ISNA(VLOOKUP(E507,Data!$A$2:$I$4020,9,FALSE)),\"\",VLOOKUP(E507,Data!$A$2:$I$4020,9,FALSE))","v":""},{"$f":"IF(ISNA(VLOOKUP(E507,Data!$A$2:$J$4020,10,FALSE)),\"\",VLOOKUP(E507,Data!$A$2:$J$4020,10,FALSE))","v":""},{"$nulls":13},{"$f":"SUM(S507:U507)","v":0}]
[null,{"$f":"IF(A508=\"\",\"\",VLOOKUP(A508,Data!$B$2:$D$4020,3,FALSE))","v":""},{"$f":"IF(A508=\"\",\"\",VLOOKUP(A508,Data!$B$2:$F$4020,5,FALSE))","v":""},null,{"$f":"CONCATENATE(A508,D508)","v":""},{"$f":"IF(ISNA(VLOOKUP(E508,Data!$A$2:$I$4020,7,FALSE)),\"\",VLOOKUP(E508,Data!$A$2:$I$4020,7,FALSE))","v":""},{"$f":"IF(ISNA(VLOOKUP(E508,Data!$A$2:$I$4020,9,FALSE)),\"\",VLOOKUP(E508,Data!$A$2:$I$4020,9,FALSE))","v":""},{"$f":"IF(ISNA(VLOOKUP(E508,Data!$A$2:$J$4020,10,FALSE)),\"\",VLOOKUP(E508,Data!$A$2:$J$4020,10,FALSE))","v":""},{"$nulls":13},{"$f":"SUM(S508:U508)","v":0}]
[null,{"$f":"IF(A509=\"\",\"\",VLOOKUP(A509,Data!$B$2:$D$4020,3,FALSE))","v":""},{"$f":"IF(A509=\"\",\"\",VLOOKUP(A509,Data!$B$2:$F$4020,5,FALSE))","v":""},null,{"$f":"CONCATENATE(A509,D509)","v":""},{"$f":"IF(ISNA(VLOOKUP(E509,Data!$A$2:$I$4020,7,FALSE)),\"\",VLOOKUP(E509,Data!$A$2:$I$4020,7,FALSE))","v":""},{"$f":"IF(ISNA(VLOOKUP(E509,Data!$A$2:$I$4020,9,FALSE)),\"\",VLOOKUP(E509,Data!$A$2:$I$4020,9,FALSE))","v":""},{"$f":"IF(ISNA(VLOOKUP(E509,Data!$A$2:$J$4020,10,FALSE)),\"\",VLOOKUP(E509,Data!$A$2:$J$4020,10,FALSE))","v":""},{"$nulls":13},{"$f":"SUM(S509:U509)","v":0}]
[null,{"$f":"IF(A510=\"\",\"\",VLOOKUP(A510,Data!$B$2:$D$4020,3,FALSE))","v":""},{"$f":"IF(A510=\"\",\"\",VLOOKUP(A510,Data!$B$2:$F$4020,5,FALSE))","v":""},null,{"$f":"CONCATENATE(A510,D510)","v":""},{"$f":"IF(ISNA(VLOOKUP(E510,Data!$A$2:$I$4020,7,FALSE)),\"\",VLOOKUP(E510,Data!$A$2:$I$4020,7,FALSE))","v":""},{"$f":"IF(ISNA(VLOOKUP(E510,Data!$A$2:$I$4020,9,FALSE)),\"\",VLOOKUP(E510,Data!$A$2:$I$4020,9,FALSE))","v":""},{"$f":"IF(ISNA(VLOOKUP(E510,Data!$A$2:$J$4020,10,FALSE)),\"\",VLOOKUP(E510,Data!$A$2:$J$4020,10,FALSE))","v":""},{"$nulls":13},{"$f":"SUM(S510:U510)","v":0}]
[null,{"$f":"IF(A511=\"\",\"\",VLOOKUP(A511,Data!$B$2:$D$4020,3,FALSE))","v":""},{"$f":"IF(A511=\"\",\"\",VLOOKUP(A511,Data!$B$2:$F$4020,5,FALSE))","v":""},null,{"$f":"CONCATENATE(A511,D511)","v":""},{"$f":"IF(ISNA(VLOOKUP(E511,Data!$A$2:$I$4020,7,FALSE)),\"\",VLOOKUP(E511,Data!$A$2:$I$4020,7,FALSE))","v":""},{"$f":"IF(ISNA(VLOOKUP(E511,Data!$A$2:$I$4020,9,FALSE)),\"\",VLOOKUP(E511,Data!$A$2:$I$4020,9,FALSE))","v":""},{"$f":"IF(ISNA(VLOOKUP(E511,Data!$A$2:$J$4020,10,FALSE)),\"\",VLOOKUP(E511,Data!$A$2:$J$4020,10,FALSE))","v":""},{"$nulls":13},{"$f":"SUM(S511:U511)","v":0}]
[null,{"$f":"IF(A512=\"\",\"\",VLOOKUP(A512,Data!$B$2:$D$4020,3,FALSE))","v":""},{"$f":"IF(A512=\"\",\"\",VLOOKUP(A512,Data!$B$2:$F$4020,5,FALSE))","v":""},null,{"$f":"CONCATENATE(A512,D512)","v":""},{"$f":"IF(ISNA(VLOOKUP(E512,Data!$A$2:$I$4020,7,FALSE)),\"\",VLOOKUP(E512,Data!$A$2:$I$4020,7,FALSE))","v":""},{"$f":"IF(ISNA(VLOOKUP(E512,Data!$A$2:$I$4020,9,FALSE)),\"\",VLOOKUP(E512,Data!$A$2:$I$4020,9,FALSE))","v":""},{"$f":"IF(ISNA(VLOOKUP(E512,Data!$A$2:$J$4020,10,FALSE)),\"\",VLOOKUP(E512,Data!$A$2:$J$4020,10,FALSE))","v":""},{"$nulls":13},{"$f":"SUM(S512:U512)","v":0}]
[null,{"$f":"IF(A513=\"\",\"\",VLOOKUP(A513,Data!$B$2:$D$4020,3,FALSE))","v":""},{"$f":"IF(A513=\"\",\"\",VLOOKUP(A513,Data!$B$2:$F$4020,5,FALSE))","v":""},null,{"$f":"CONCATENATE(A513,D513)","v":""},{"$f":"IF(ISNA(VLOOKUP(E513,Data!$A$2:$I$4020,7,FALSE)),\"\",VLOOKUP(E513,Data!$A$2:$I$4020,7,FALSE))","v":""},{"$f":"IF(ISNA(VLOOKUP(E513,Data!$A$2:$I$4020,9,FALSE)),\"\",VLOOKUP(E513,Data!$A$2:$I$4020,9,FALSE))","v":""},{"$f":"IF(ISNA(VLOOKUP(E513,Data!$A$2:$J$4020,10,FALSE)),\"\",VLOOKUP(E513,Data!$A$2:$J$4020,10,FALSE))","v":""},{"$nulls":13},{"$f":"SUM(S513:U513)","v":0}]
[null,{"$f":"IF(A514=\"\",\"\",VLOOKUP(A514,Data!$B$2:$D$4020,3,FALSE))","v":""},{"$f":"IF(A514=\"\",\"\",VLOOKUP(A514,Data!$B$2:$F$4020,5,FALSE))","v":""},null,{"$f":"CONCATENATE(A514,D514)","v":""},{"$f":"IF(ISNA(VLOOKUP(E514,Data!$A$2:$I$4020,7,FALSE)),\"\",VLOOKUP(E514,Data!$A$2:$I$4020,7,FALSE))","v":""},{"$f":"IF(ISNA(VLOOKUP(E514,Data!$A$2:$I$4020,9,FALSE)),\"\",VLOOKUP(E514,Data!$A$2:$I$4020,9,FALSE))","v":""},{"$f":"IF(ISNA(VLOOKUP(E514,Data!$A$2:$J$4020,10,FALSE)),\"\",VLOOKUP(E514,Data!$A$2:$J$4020,10,FALSE))","v":""},{"$nulls":13},{"$f":"SUM(S514:U514)","v":0}]
[null,{"$f":"IF(A515=\"\",\"\",VLOOKUP(A515,Data!$B$2:$D$4020,3,FALSE))","v":""},{"$f":"IF(A515=\"\",\"\",VLOOKUP(A515,Data!$B$2:$F$4020,5,FALSE))","v":""},null,{"$f":"CONCATENATE(A515,D515)","v":""},{"$f":"IF(ISNA(VLOOKUP(E515,Data!$A$2:$I$4020,7,FALSE)),\"\",VLOOKUP(E515,Data!$A$2:$I$4020,7,FALSE))","v":""},{"$f":"IF(ISNA(VLOOKUP(E515,Data!$A$2:$I$4020,9,FALSE)),\"\",VLOOKUP(E515,Data!$A$2:$I$4020,9,FALSE))","v":""},{"$f":"IF(ISNA(VLOOKUP(E515,Data!$A$2:$J$4020,10,FALSE)),\"\",VLOOKUP(E515,Data!$A$2:$J$4020,10,FALSE))","v":""},{"$nulls":13},{"$f":"SUM(S515:U515)","v":0}]
[null,{"$f":"IF(A516=\"\",\"\",VLOOKUP(A516,Data!$B$2:$D$4020,3,FALSE))","v":""},{"$f":"IF(A516=\"\",\"\",VLOOKUP(A516,Data!$B$2:$F$4020,5,FALSE))","v":""},null,{"$f":"CONCATENATE(A516,D516)","v":""},{"$f":"IF(ISNA(VLOOKUP(E516,Data!$A$2:$I$4020,7,FALSE)),\"\",VLOOKUP(E516,Data!$A$2:$I$4020,7,FALSE))","v":""},{"$f":"IF(ISNA(VLOOKUP(E516,Data!$A$2:$I$4020,9,FALSE)),\"\",VLOOKUP(E516,Data!$A$2:$I$4020,9,FALSE))","v":""},{"$f":"IF(ISNA(VLOOKUP(E516,Data!$A$2:$J$4020,10,FALSE)),\"\",VLOOKUP(E516,Data!$A$2:$J$4020,10,FALSE))","v":""},{"$nulls":13},{"$f":"SUM(S516:U516)","v":0}]
[null,{"$f":"IF(A517=\"\",\"\",VLOOKUP(A517,Data!$B$2:$D$4020,3,FALSE))","v":""},{"$f":"IF(A517=\"\",\"\",VLOOKUP(A517,Data!$B$2:$F$4020,5,FALSE))","v":""},null,{"$f":"CONCATENATE(A517,D517)","v":""},{"$f":"IF(ISNA(VLOOKUP(E517,Data!$A$2:$I$4020,7,FALSE)),\"\",VLOOKUP(E517,Data!$A$2:$I$4020,7,FALSE))","v":""},{"$f":"IF(ISNA(VLOOKUP(E517,Data!$A$2:$I$4020,9,FALSE)),\"\",VLOOKUP(E517,Data!$A$2:$I$4020,9,FALSE))","v":""},{"$f":"IF(ISNA(VLOOKUP(E517,Data!$A$2:$J$4020,10,FALSE)),\"\",VLOOKUP(E517,Data!$A$2:$J$4020,10,FALSE))","v":""},{"$nulls":13},{"$f":"SUM(S517:U517)","v":0}]
[null,{"$f":"IF(A518=\"\",\"\",VLOOKUP(A518,Data!$B$2:$D$4020,3,FALSE))","v":""},{"$f":"IF(A518=\"\",\"\",VLOOKUP(A518,Data!$B$2:$F$4020,5,FALSE))","v":""},null,{"$f":"CONCATENATE(A518,D518)","v":""},{"$f":"IF(ISNA(VLOOKUP(E518,Data!$A$2:$I$4020,7,FALSE)),\"\",VLOOKUP(E518,Data!$A$2:$I$4020,7,FALSE))","v":""},{"$f":"IF(ISNA(VLOOKUP(E518,Data!$A$2:$I$4020,9,FALSE)),\"\",VLOOKUP(E518,Data!$A$2:$I$4020,9,FALSE))","v":""},{"$f":"IF(ISNA(VLOOKUP(E518,Data!$A$2:$J$4020,10,FALSE)),\"\",VLOOKUP(E518,Data!$A$2:$J$4020,10,FALSE))","v":""},{"$nulls":13},{"$f":"SUM(S518:U518)","v":0}]
[null,{"$f":"IF(A519=\"\",\"\",VLOOKUP(A519,Data!$B$2:$D$4020,3,FALSE))","v":""},{"$f":"IF(A519=\"\",\"\",VLOOKUP(A519,Data!$B$2:$F$4020,5,FALSE))","v":""},null,{"$f":"CONCATENATE(A519,D519)","v":""},{"$f":"IF(ISNA(VLOOKUP(E519,Data!$A$2:$I$4020,7,FALSE)),\"\",VLOOKUP(E519,Data!$A$2:$I$4020,7,FALSE))","v":""},{"$f":"IF(ISNA(VLOOKUP(E519,Data!$A$2:$I$4020,9,FALSE)),\"\",VLOOKUP(E519,Data!$A$2:$I$4020,9,FALSE))","v":""},{"$f":"IF(ISNA(VLOOKUP(E519,Data!$A$2:$J$4020,10,FALSE)),\"\",VLOOKUP(E519,Data!$A$2:$J$4020,10,FALSE))","v":""},{"$nulls":13},{"$f":"SUM(S519:U519)","v":0}]
[null,{"$f":"IF(A520=\"\",\"\",VLOOKUP(A520,Data!$B$2:$D$4020,3,FALSE))","v":""},{"$f":"IF(A520=\"\",\"\",VLOOKUP(A520,Data!$B$2:$F$4020,5,FALSE))","v":""},null,{"$f":"CONCATENATE(A520,D520)","v":""},{"$f":"IF(ISNA(VLOOKUP(E520,Data!$A$2:$I$4020,7,FALSE)),\"\",VLOOKUP(E520,Data!$A$2:$I$4020,7,FALSE))","v":""},{"$f":"IF(ISNA(VLOOKUP(E520,Data!$A$2:$I$4020,9,FALSE)),\"\",VLOOKUP(E520,Data!$A$2:$I$4020,9,FALSE))","v":""},{"$f":"IF(ISNA(VLOOKUP(E520,Data!$A$2:$J$4020,10,FALSE)),\"\",VLOOKUP(E520,Data!$A$2:$J$4020,10,FALSE))","v":""},{"$nulls":13},{"$f":"SUM(S520:U520)","v":0}]
[null,{"$f":"IF(A521=\"\",\"\",VLOOKUP(A521,Data!$B$2:$D$4020,3,FALSE))","v":""},{"$f":"IF(A521=\"\",\"\",VLOOKUP(A521,Data!$B$2:$F$4020,5,FALSE))","v":""},null,{"$f":"CONCATENATE(A521,D521)","v":""},{"$f":"IF(ISNA(VLOOKUP(E521,Data!$A$2:$I$4020,7,FALSE)),\"\",VLOOKUP(E521,Data!$A$2:$I$4020,7,FALSE))","v":""},{"$f":"IF(ISNA(VLOOKUP(E521,Data!$A$2:$I$4020,9,FALSE)),\"\",VLOOKUP(E521,Data!$A$2:$I$4020,9,FALSE))","v":""},{"$f":"IF(ISNA(VLOOKUP(E521,Data!$A$2:$J$4020,10,FALSE)),\"\",VLOOKUP(E521,Data!$A$2:$J$4020,10,FALSE))","v":""},{"$nulls":13},{"$f":"SUM(S521:U521)","v":0}]
[null,{"$f":"IF(A522=\"\",\"\",VLOOKUP(A522,Data!$B$2:$D$4020,3,FALSE))","v":""},{"$f":"IF(A522=\"\",\"\",VLOOKUP(A522,Data!$B$2:$F$4020,5,FALSE))","v":""},null,{"$f":"CONCATENATE(A522,D522)","v":""},{"$f":"IF(ISNA(VLOOKUP(E522,Data!$A$2:$I$4020,7,FALSE)),\"\",VLOOKUP(E522,Data!$A$2:$I$4020,7,FALSE))","v":""},{"$f":"IF(ISNA(VLOOKUP(E522,Data!$A$2:$I$4020,9,FALSE)),\"\",VLOOKUP(E522,Data!$A$2:$I$4020,9,FALSE))","v":""},{"$f":"IF(ISNA(VLOOKUP(E522,Data!$A$2:$J$4020,10,FALSE)),\"\",VLOOKUP(E522,Data!$A$2:$J$4020,10,FALSE))","v":""},{"$nulls":13},{"$f":"SUM(S522:U522)","v":0}]
[null,{"$f":"IF(A523=\"\",\"\",VLOOKUP(A523,Data!$B$2:$D$4020,3,FALSE))","v":""},{"$f":"IF(A523=\"\",\"\",VLOOKUP(A523,Data!$B$2:$F$4020,5,FALSE))","v":""},null,{"$f":"CONCATENATE(A523,D523)","v":""},{"$f":"IF(ISNA(VLOOKUP(E523,Data!$A$2:$I$4020,7,FALSE)),\"\",VLOOKUP(E523,Data!$A$2:$I$4020,7,FALSE))","v":""},{"$f":"IF(ISNA(VLOOKUP(E523,Data!$A$2:$I$4020,9,FALSE)),\"\",VLOOKUP(E523,Data!$A$2:$I$4020,9,FALSE))","v":""},{"$f":"IF(ISNA(VLOOKUP(E523,Data!$A$2:$J$4020,10,FALSE)),\"\",VLOOKUP(E523,Data!$A$2:$J$4020,10,FALSE))","v":""},{"$nulls":13},{"$f":"SUM(S523:U523)","v":0}]
[null,{"$f":"IF(A524=\"\",\"\",VLOOKUP(A524,Data!$B$2:$D$4020,3,FALSE))","v":""},{"$f":"IF(A524=\"\",\"\",VLOOKUP(A524,Data!$B$2:$F$4020,5,FALSE))","v":""},null,{"$f":"CONCATENATE(A524,D524)","v":""},{"$f":"IF(ISNA(VLOOKUP(E524,Data!$A$2:$I$4020,7,FALSE)),\"\",VLOOKUP(E524,Data!$A$2:$I$4020,7,FALSE))","v":""},{"$f":"IF(ISNA(VLOOKUP(E524,Data!$A$2:$I$4020,9,FALSE)),\"\",VLOOKUP(E524,Data!$A$2:$I$4020,9,FALSE))","v":""},{"$f":"IF(ISNA(VLOOKUP(E524,Data!$A$2:$J$4020,10,FALSE)),\"\",VLOOKUP(E524,Data!$A$2:$J$4020,10,FALSE))","v":""},{"$nulls":13},{"$f":"SUM(S524:U524)","v":0}]
[null,{"$f":"IF(A525=\"\",\"\",VLOOKUP(A525,Data!$B$2:$D$4020,3,FALSE))","v":""},{"$f":"IF(A525=\"\",\"\",VLOOKUP(A525,Data!$B$2:$F$4020,5,FALSE))","v":""},null,{"$f":"CONCATENATE(A525,D525)","v":""},{"$f":"IF(ISNA(VLOOKUP(E525,Data!$A$2:$I$4020,7,FALSE)),\"\",VLOOKUP(E525,Data!$A$2:$I$4020,7,FALSE))","v":""},{"$f":"IF(ISNA(VLOOKUP(E525,Data!$A$2:$I$4020,9,FALSE)),\"\",VLOOKUP(E525,Data!$A$2:$I$4020,9,FALSE))","v":""},{"$f":"IF(ISNA(VLOOKUP(E525,Data!$A$2:$J$4020,10,FALSE)),\"\",VLOOKUP(E525,Data!$A$2:$J$4020,10,FALSE))","v":""},{"$nulls":13},{"$f":"SUM(S525:U525)","v":0}]
[null,{"$f":"IF(A526=\"\",\"\",VLOOKUP(A526,Data!$B$2:$D$4020,3,FALSE))","v":""},{"$f":"IF(A526=\"\",\"\",VLOOKUP(A526,Data!$B$2:$F$4020,5,FALSE))","v":""},null,{"$f":"CONCATENATE(A526,D526)","v":""},{"$f":"IF(ISNA(VLOOKUP(E526,Data!$A$2:$I$4020,7,FALSE)),\"\",VLOOKUP(E526,Data!$A$2:$I$4020,7,FALSE))","v":""},{"$f":"IF(ISNA(VLOOKUP(E526,Data!$A$2:$I$4020,9,FALSE)),\"\",VLOOKUP(E526,Data!$A$2:$I$4020,9,FALSE))","v":""},{"$f":"IF(ISNA(VLOOKUP(E526,Data!$A$2:$J$4020,10,FALSE)),\"\",VLOOKUP(E526,Data!$A$2:$J$4020,10,FALSE))","v":""},{"$nulls":13},{"$f":"SUM(S526:U526)","v":0}]
[null,{"$f":"IF(A527=\"\",\"\",VLOOKUP(A527,Data!$B$2:$D$4020,3,FALSE))","v":""},{"$f":"IF(A527=\"\",\"\",VLOOKUP(A527,Data!$B$2:$F$4020,5,FALSE))","v":""},null,{"$f":"CONCATENATE(A527,D527)","v":""},{"$f":"IF(ISNA(VLOOKUP(E527,Data!$A$2:$I$4020,7,FALSE)),\"\",VLOOKUP(E527,Data!$A$2:$I$4020,7,FALSE))","v":""},{"$f":"IF(ISNA(VLOOKUP(E527,Data!$A$2:$I$4020,9,FALSE)),\"\",VLOOKUP(E527,Data!$A$2:$I$4020,9,FALSE))","v":""},{"$f":"IF(ISNA(VLOOKUP(E527,Data!$A$2:$J$4020,10,FALSE)),\"\",VLOOKUP(E527,Data!$A$2:$J$4020,10,FALSE))","v":""},{"$nulls":13},{"$f":"SUM(S527:U527)","v":0}]
[null,{"$f":"IF(A528=\"\",\"\",VLOOKUP(A528,Data!$B$2:$D$4020,3,FALSE))","v":""},{"$f":"IF(A528=\"\",\"\",VLOOKUP(A528,Data!$B$2:$F$4020,5,FALSE))","v":""},null,{"$f":"CONCATENATE(A528,D528)","v":""},{"$f":"IF(ISNA(VLOOKUP(E528,Data!$A$2:$I$4020,7,FALSE)),\"\",VLOOKUP(E528,Data!$A$2:$I$4020,7,FALSE))","v":""},{"$f":"IF(ISNA(VLOOKUP(E528,Data!$A$2:$I$4020,9,FALSE)),\"\",VLOOKUP(E528,Data!$A$2:$I$4020,9,FALSE))","v":""},{"$f":"IF(ISNA(VLOOKUP(E528,Data!$A$2:$J$4020,10,FALSE)),\"\",VLOOKUP(E528,Data!$A$2:$J$4020,10,FALSE))","v":""},{"$nulls":13},{"$f":"SUM(S528:U528)","v":0}]
[null,{"$f":"IF(A529=\"\",\"\",VLOOKUP(A529,Data!$B$2:$D$4020,3,FALSE))","v":""},{"$f":"IF(A529=\"\",\"\",VLOOKUP(A529,Data!$B$2:$F$4020,5,FALSE))","v":""},null,{"$f":"CONCATENATE(A529,D529)","v":""},{"$f":"IF(ISNA(VLOOKUP(E529,Data!$A$2:$I$4020,7,FALSE)),\"\",VLOOKUP(E529,Data!$A$2:$I$4020,7,FALSE))","v":""},{"$f":"IF(ISNA(VLOOKUP(E529,Data!$A$2:$I$4020,9,FALSE)),\"\",VLOOKUP(E529,Data!$A$2:$I$4020,9,FALSE))","v":""},{"$f":"IF(ISNA(VLOOKUP(E529,Data!$A$2:$J$4020,10,FALSE)),\"\",VLOOKUP(E529,Data!$A$2:$J$4020,10,FALSE))","v":""},{"$nulls":13},{"$f":"SUM(S529:U529)","v":0}]
[null,{"$f":"IF(A530=\"\",\"\",VLOOKUP(A530,Data!$B$2:$D$4020,3,FALSE))","v":""},{"$f":"IF(A530=\"\",\"\",VLOOKUP(A530,Data!$B$2:$F$4020,5,FALSE))","v":""},null,{"$f":"CONCATENATE(A530,D530)","v":""},{"$f":"IF(ISNA(VLOOKUP(E530,Data!$A$2:$I$4020,7,FALSE)),\"\",VLOOKUP(E530,Data!$A$2:$I$4020,7,FALSE))","v":""},{"$f":"IF(ISNA(VLOOKUP(E530,Data!$A$2:$I$4020,9,FALSE)),\"\",VLOOKUP(E530,Data!$A$2:$I$4020,9,FALSE))","v":""},{"$f":"IF(ISNA(VLOOKUP(E530,Data!$A$2:$J$4020,10,FALSE)),\"\",VLOOKUP(E530,Data!$A$2:$J$4020,10,FALSE))","v":""},{"$nulls":13},{"$f":"SUM(S530:U530)","v":0}]
[null,{"$f":"IF(A531=\"\",\"\",VLOOKUP(A531,Data!$B$2:$D$4020,3,FALSE))","v":""},{"$f":"IF(A531=\"\",\"\",VLOOKUP(A531,Data!$B$2:$F$4020,5,FALSE))","v":""},null,{"$f":"CONCATENATE(A531,D531)","v":""},{"$f":"IF(ISNA(VLOOKUP(E531,Data!$A$2:$I$4020,7,FALSE)),\"\",VLOOKUP(E531,Data!$A$2:$I$4020,7,FALSE))","v":""},{"$f":"IF(ISNA(VLOOKUP(E531,Data!$A$2:$I$4020,9,FALSE)),\"\",VLOOKUP(E531,Data!$A$2:$I$4020,9,FALSE))","v":""},{"$f":"IF(ISNA(VLOOKUP(E531,Data!$A$2:$J$4020,10,FALSE)),\"\",VLOOKUP(E531,Data!$A$2:$J$4020,10,FALSE))","v":""},{"$nulls":13},{"$f":"SUM(S531:U531)","v":0}]
[null,{"$f":"IF(A532=\"\",\"\",VLOOKUP(A532,Data!$B$2:$D$4020,3,FALSE))","v":""},{"$f":"IF(A532=\"\",\"\",VLOOKUP(A532,Data!$B$2:$F$4020,5,FALSE))","v":""},null,{"$f":"CONCATENATE(A532,D532)","v":""},{"$f":"IF(ISNA(VLOOKUP(E532,Data!$A$2:$I$4020,7,FALSE)),\"\",VLOOKUP(E532,Data!$A$2:$I$4020,7,FALSE))","v":""},{"$f":"IF(ISNA(VLOOKUP(E532,Data!$A$2:$I$4020,9,FALSE)),\"\",VLOOKUP(E532,Data!$A$2:$I$4020,9,FALSE))","v":""},{"$f":"IF(ISNA(VLOOKUP(E532,Data!$A$2:$J$4020,10,FALSE)),\"\",VLOOKUP(E532,Data!$A$2:$J$4020,10,FALSE))","v":""},{"$nulls":13},{"$f":"SUM(S532:U532)","v":0}]
[null,{"$f":"IF(A533=\"\",\"\",VLOOKUP(A533,Data!$B$2:$D$4020,3,FALSE))","v":""},{"$f":"IF(A533=\"\",\"\",VLOOKUP(A533,Data!$B$2:$F$4020,5,FALSE))","v":""},null,{"$f":"CONCATENATE(A533,D533)","v":""},{"$f":"IF(ISNA(VLOOKUP(E533,Data!$A$2:$I$4020,7,FALSE)),\"\",VLOOKUP(E533,Data!$A$2:$I$4020,7,FALSE))","v":""},{"$f":"IF(ISNA(VLOOKUP(E533,Data!$A$2:$I$4020,9,FALSE)),\"\",VLOOKUP(E533,Data!$A$2:$I$4020,9,FALSE))","v":""},{"$f":"IF(ISNA(VLOOKUP(E533,Data!$A$2:$J$4020,10,FALSE)),\"\",VLOOKUP(E533,Data!$A$2:$J$4020,10,FALSE))","v":""},{"$nulls":13},{"$f":"SUM(S533:U533)","v":0}]
[null,{"$f":"IF(A534=\"\",\"\",VLOOKUP(A534,Data!$B$2:$D$4020,3,FALSE))","v":""},{"$f":"IF(A534=\"\",\"\",VLOOKUP(A534,Data!$B$2:$F$4020,5,FALSE))","v":""},null,{"$f":"CONCATENATE(A534,D534)","v":""},{"$f":"IF(ISNA(VLOOKUP(E534,Data!$A$2:$I$4020,7,FALSE)),\"\",VLOOKUP(E534,Data!$A$2:$I$4020,7,FALSE))","v":""},{"$f":"IF(ISNA(VLOOKUP(E534,Data!$A$2:$I$4020,9,FALSE)),\"\",VLOOKUP(E534,Data!$A$2:$I$4020,9,FALSE))","v":""},{"$f":"IF(ISNA(VLOOKUP(E534,Data!$A$2:$J$4020,10,FALSE)),\"\",VLOOKUP(E534,Data!$A$2:$J$4020,10,FALSE))","v":""},{"$nulls":13},{"$f":"SUM(S534:U534)","v":0}]
[null,{"$f":"IF(A535=\"\",\"\",VLOOKUP(A535,Data!$B$2:$D$4020,3,FALSE))","v":""},{"$f":"IF(A535=\"\",\"\",VLOOKUP(A535,Data!$B$2:$F$4020,5,FALSE))","v":""},null,{"$f":"CONCATENATE(A535,D535)","v":""},{"$f":"IF(ISNA(VLOOKUP(E535,Data!$A$2:$I$4020,7,FALSE)),\"\",VLOOKUP(E535,Data!$A$2:$I$4020,7,FALSE))","v":""},{"$f":"IF(ISNA(VLOOKUP(E535,Data!$A$2:$I$4020,9,FALSE)),\"\",VLOOKUP(E535,Data!$A$2:$I$4020,9,FALSE))","v":""},{"$f":"IF(ISNA(VLOOKUP(E535,Data!$A$2:$J$4020,10,FALSE)),\"\",VLOOKUP(E535,Data!$A$2:$J$4020,10,FALSE))","v":""},{"$nulls":13},{"$f":"SUM(S535:U535)","v":0}]
[null,{"$f":"IF(A536=\"\",\"\",VLOOKUP(A536,Data!$B$2:$D$4020,3,FALSE))","v":""},{"$f":"IF(A536=\"\",\"\",VLOOKUP(A536,Data!$B$2:$F$4020,5,FALSE))","v":""},null,{"$f":"CONCATENATE(A536,D536)","v":""},{"$f":"IF(ISNA(VLOOKUP(E536,Data!$A$2:$I$4020,7,FALSE)),\"\",VLOOKUP(E536,Data!$A$2:$I$4020,7,FALSE))","v":""},{"$f":"IF(ISNA(VLOOKUP(E536,Data!$A$2:$I$4020,9,FALSE)),\"\",VLOOKUP(E536,Data!$A$2:$I$4020,9,FALSE))","v":""},{"$f":"IF(ISNA(VLOOKUP(E536,Data!$A$2:$J$4020,10,FALSE)),\"\",VLOOKUP(E536,Data!$A$2:$J$4020,10,FALSE))","v":""},{"$nulls":13},{"$f":"SUM(S536:U536)","v":0}]
[null,{"$f":"IF(A537=\"\",\"\",VLOOKUP(A537,Data!$B$2:$D$4020,3,FALSE))","v":""},{"$f":"IF(A537=\"\",\"\",VLOOKUP(A537,Data!$B$2:$F$4020,5,FALSE))","v":""},null,{"$f":"CONCATENATE(A537,D537)","v":""},{"$f":"IF(ISNA(VLOOKUP(E537,Data!$A$2:$I$4020,7,FALSE)),\"\",VLOOKUP(E537,Data!$A$2:$I$4020,7,FALSE))","v":""},{"$f":"IF(ISNA(VLOOKUP(E537,Data!$A$2:$I$4020,9,FALSE)),\"\",VLOOKUP(E537,Data!$A$2:$I$4020,9,FALSE))","v":""},{"$f":"IF(ISNA(VLOOKUP(E537,Data!$A$2:$J$4020,10,FALSE)),\"\",VLOOKUP(E537,Data!$A$2:$J$4020,10,FALSE))","v":""},{"$nulls":13},{"$f":"SUM(S537:U537)","v":0}]
[null,{"$f":"IF(A538=\"\",\"\",VLOOKUP(A538,Data!$B$2:$D$4020,3,FALSE))","v":""},{"$f":"IF(A538=\"\",\"\",VLOOKUP(A538,Data!$B$2:$F$4020,5,FALSE))","v":""},null,{"$f":"CONCATENATE(A538,D538)","v":""},{"$f":"IF(ISNA(VLOOKUP(E538,Data!$A$2:$I$4020,7,FALSE)),\"\",VLOOKUP(E538,Data!$A$2:$I$4020,7,FALSE))","v":""},{"$f":"IF(ISNA(VLOOKUP(E538,Data!$A$2:$I$4020,9,FALSE)),\"\",VLOOKUP(E538,Data!$A$2:$I$4020,9,FALSE))","v":""},{"$f":"IF(ISNA(VLOOKUP(E538,Data!$A$2:$J$4020,10,FALSE)),\"\",VLOOKUP(E538,Data!$A$2:$J$4020,10,FALSE))","v":""},{"$nulls":13},{"$f":"SUM(S538:U538)","v":0}]
[null,{"$f":"IF(A539=\"\",\"\",VLOOKUP(A539,Data!$B$2:$D$4020,3,FALSE))","v":""},{"$f":"IF(A539=\"\",\"\",VLOOKUP(A539,Data!$B$2:$F$4020,5,FALSE))","v":""},null,{"$f":"CONCATENATE(A539,D539)","v":""},{"$f":"IF(ISNA(VLOOKUP(E539,Data!$A$2:$I$4020,7,FALSE)),\"\",VLOOKUP(E539,Data!$A$2:$I$4020,7,FALSE))","v":""},{"$f":"IF(ISNA(VLOOKUP(E539,Data!$A$2:$I$4020,9,FALSE)),\"\",VLOOKUP(E539,Data!$A$2:$I$4020,9,FALSE))","v":""},{"$f":"IF(ISNA(VLOOKUP(E539,Data!$A$2:$J$4020,10,FALSE)),\"\",VLOOKUP(E539,Data!$A$2:$J$4020,10,FALSE))","v":""},{"$nulls":13},{"$f":"SUM(S539:U539)","v":0}]
[null,{"$f":"IF(A540=\"\",\"\",VLOOKUP(A540,Data!$B$2:$D$4020,3,FALSE))","v":""},{"$f":"IF(A540=\"\",\"\",VLOOKUP(A540,Data!$B$2:$F$4020,5,FALSE))","v":""},null,{"$f":"CONCATENATE(A540,D540)","v":""},{"$f":"IF(ISNA(VLOOKUP(E540,Data!$A$2:$I$4020,7,FALSE)),\"\",VLOOKUP(E540,Data!$A$2:$I$4020,7,FALSE))","v":""},{"$f":"IF(ISNA(VLOOKUP(E540,Data!$A$2:$I$4020,9,FALSE)),\"\",VLOOKUP(E540,Data!$A$2:$I$4020,9,FALSE))","v":""},{"$f":"IF(ISNA(VLOOKUP(E540,Data!$A$2:$J$4020,10,FALSE)),\"\",VLOOKUP(E540,Data!$A$2:$J$4020,10,FALSE))","v":""},{"$nulls":13},{"$f":"SUM(S540:U540)","v":0}]
[null,{"$f":"IF(A541=\"\",\"\",VLOOKUP(A541,Data!$B$2:$D$4020,3,FALSE))","v":""},{"$f":"IF(A541=\"\",\"\",VLOOKUP(A541,Data!$B$2:$F$4020,5,FALSE))","v":""},null,{"$f":"CONCATENATE(A541,D541)","v":""},{"$f":"IF(ISNA(VLOOKUP(E541,Data!$A$2:$I$4020,7,FALSE)),\"\",VLOOKUP(E541,Data!$A$2:$I$4020,7,FALSE))","v":""},{"$f":"IF(ISNA(VLOOKUP(E541,Data!$A$2:$I$4020,9,FALSE)),\"\",VLOOKUP(E541,Data!$A$2:$I$4020,9,FALSE))","v":""},{"$f":"IF(ISNA(VLOOKUP(E541,Data!$A$2:$J$4020,10,FALSE)),\"\",VLOOKUP(E541,Data!$A$2:$J$4020,10,FALSE))","v":""},{"$nulls":13},{"$f":"SUM(S541:U541)","v":0}]
[null,{"$f":"IF(A542=\"\",\"\",VLOOKUP(A542,Data!$B$2:$D$4020,3,FALSE))","v":""},{"$f":"IF(A542=\"\",\"\",VLOOKUP(A542,Data!$B$2:$F$4020,5,FALSE))","v":""},null,{"$f":"CONCATENATE(A542,D542)","v":""},{"$f":"IF(ISNA(VLOOKUP(E542,Data!$A$2:$I$4020,7,FALSE)),\"\",VLOOKUP(E542,Data!$A$2:$I$4020,7,FALSE))","v":""},{"$f":"IF(ISNA(VLOOKUP(E542,Data!$A$2:$I$4020,9,FALSE)),\"\",VLOOKUP(E542,Data!$A$2:$I$4020,9,FALSE))","v":""},{"$f":"IF(ISNA(VLOOKUP(E542,Data!$A$2:$J$4020,10,FALSE)),\"\",VLOOKUP(E542,Data!$A$2:$J$4020,10,FALSE))","v":""},{"$nulls":13},{"$f":"SUM(S542:U542)","v":0}]
[null,{"$f":"IF(A543=\"\",\"\",VLOOKUP(A543,Data!$B$2:$D$4020,3,FALSE))","v":""},{"$f":"IF(A543=\"\",\"\",VLOOKUP(A543,Data!$B$2:$F$4020,5,FALSE))","v":""},null,{"$f":"CONCATENATE(A543,D543)","v":""},{"$f":"IF(ISNA(VLOOKUP(E543,Data!$A$2:$I$4020,7,FALSE)),\"\",VLOOKUP(E543,Data!$A$2:$I$4020,7,FALSE))","v":""},{"$f":"IF(ISNA(VLOOKUP(E543,Data!$A$2:$I$4020,9,FALSE)),\"\",VLOOKUP(E543,Data!$A$2:$I$4020,9,FALSE))","v":""},{"$f":"IF(ISNA(VLOOKUP(E543,Data!$A$2:$J$4020,10,FALSE)),\"\",VLOOKUP(E543,Data!$A$2:$J$4020,10,FALSE))","v":""},{"$nulls":13},{"$f":"SUM(S543:U543)","v":0}]
[null,{"$f":"IF(A544=\"\",\"\",VLOOKUP(A544,Data!$B$2:$D$4020,3,FALSE))","v":""},{"$f":"IF(A544=\"\",\"\",VLOOKUP(A544,Data!$B$2:$F$4020,5,FALSE))","v":""},null,{"$f":"CONCATENATE(A544,D544)","v":""},{"$f":"IF(ISNA(VLOOKUP(E544,Data!$A$2:$I$4020,7,FALSE)),\"\",VLOOKUP(E544,Data!$A$2:$I$4020,7,FALSE))","v":""},{"$f":"IF(ISNA(VLOOKUP(E544,Data!$A$2:$I$4020,9,FALSE)),\"\",VLOOKUP(E544,Data!$A$2:$I$4020,9,FALSE))","v":""},{"$f":"IF(ISNA(VLOOKUP(E544,Data!$A$2:$J$4020,10,FALSE)),\"\",VLOOKUP(E544,Data!$A$2:$J$4020,10,FALSE))","v":""},{"$nulls":13},{"$f":"SUM(S544:U544)","v":0}]
[null,{"$f":"IF(A545=\"\",\"\",VLOOKUP(A545,Data!$B$2:$D$4020,3,FALSE))","v":""},{"$f":"IF(A545=\"\",\"\",VLOOKUP(A545,Data!$B$2:$F$4020,5,FALSE))","v":""},null,{"$f":"CONCATENATE(A545,D545)","v":""},{"$f":"IF(ISNA(VLOOKUP(E545,Data!$A$2:$I$4020,7,FALSE)),\"\",VLOOKUP(E545,Data!$A$2:$I$4020,7,FALSE))","v":""},{"$f":"IF(ISNA(VLOOKUP(E545,Data!$A$2:$I$4020,9,FALSE)),\"\",VLOOKUP(E545,Data!$A$2:$I$4020,9,FALSE))","v":""},{"$f":"IF(ISNA(VLOOKUP(E545,Data!$A$2:$J$4020,10,FALSE)),\"\",VLOOKUP(E545,Data!$A$2:$J$4020,10,FALSE))","v":""},{"$nulls":13},{"$f":"SUM(S545:U545)","v":0}]
[null,{"$f":"IF(A546=\"\",\"\",VLOOKUP(A546,Data!$B$2:$D$4020,3,FALSE))","v":""},{"$f":"IF(A546=\"\",\"\",VLOOKUP(A546,Data!$B$2:$F$4020,5,FALSE))","v":""},null,{"$f":"CONCATENATE(A546,D546)","v":""},{"$f":"IF(ISNA(VLOOKUP(E546,Data!$A$2:$I$4020,7,FALSE)),\"\",VLOOKUP(E546,Data!$A$2:$I$4020,7,FALSE))","v":""},{"$f":"IF(ISNA(VLOOKUP(E546,Data!$A$2:$I$4020,9,FALSE)),\"\",VLOOKUP(E546,Data!$A$2:$I$4020,9,FALSE))","v":""},{"$f":"IF(ISNA(VLOOKUP(E546,Data!$A$2:$J$4020,10,FALSE)),\"\",VLOOKUP(E546,Data!$A$2:$J$4020,10,FALSE))","v":""},{"$nulls":13},{"$f":"SUM(S546:U546)","v":0}]
[null,{"$f":"IF(A547=\"\",\"\",VLOOKUP(A547,Data!$B$2:$D$4020,3,FALSE))","v":""},{"$f":"IF(A547=\"\",\"\",VLOOKUP(A547,Data!$B$2:$F$4020,5,FALSE))","v":""},null,{"$f":"CONCATENATE(A547,D547)","v":""},{"$f":"IF(ISNA(VLOOKUP(E547,Data!$A$2:$I$4020,7,FALSE)),\"\",VLOOKUP(E547,Data!$A$2:$I$4020,7,FALSE))","v":""},{"$f":"IF(ISNA(VLOOKUP(E547,Data!$A$2:$I$4020,9,FALSE)),\"\",VLOOKUP(E547,Data!$A$2:$I$4020,9,FALSE))","v":""},{"$f":"IF(ISNA(VLOOKUP(E547,Data!$A$2:$J$4020,10,FALSE)),\"\",VLOOKUP(E547,Data!$A$2:$J$4020,10,FALSE))","v":""},{"$nulls":13},{"$f":"SUM(S547:U547)","v":0}]
[null,{"$f":"IF(A548=\"\",\"\",VLOOKUP(A548,Data!$B$2:$D$4020,3,FALSE))","v":""},{"$f":"IF(A548=\"\",\"\",VLOOKUP(A548,Data!$B$2:$F$4020,5,FALSE))","v":""},null,{"$f":"CONCATENATE(A548,D548)","v":""},{"$f":"IF(ISNA(VLOOKUP(E548,Data!$A$2:$I$4020,7,FALSE)),\"\",VLOOKUP(E548,Data!$A$2:$I$4020,7,FALSE))","v":""},{"$f":"IF(ISNA(VLOOKUP(E548,Data!$A$2:$I$4020,9,FALSE)),\"\",VLOOKUP(E548,Data!$A$2:$I$4020,9,FALSE))","v":""},{"$f":"IF(ISNA(VLOOKUP(E548,Data!$A$2:$J$4020,10,FALSE)),\"\",VLOOKUP(E548,Data!$A$2:$J$4020,10,FALSE))","v":""},{"$nulls":13},{"$f":"SUM(S548:U548)","v":0}]
[null,{"$f":"IF(A549=\"\",\"\",VLOOKUP(A549,Data!$B$2:$D$4020,3,FALSE))","v":""},{"$f":"IF(A549=\"\",\"\",VLOOKUP(A549,Data!$B$2:$F$4020,5,FALSE))","v":""},null,{"$f":"CONCATENATE(A549,D549)","v":""},{"$f":"IF(ISNA(VLOOKUP(E549,Data!$A$2:$I$4020,7,FALSE)),\"\",VLOOKUP(E549,Data!$A$2:$I$4020,7,FALSE))","v":""},{"$f":"IF(ISNA(VLOOKUP(E549,Data!$A$2:$I$4020,9,FALSE)),\"\",VLOOKUP(E549,Data!$A$2:$I$4020,9,FALSE))","v":""},{"$f":"IF(ISNA(VLOOKUP(E549,Data!$A$2:$J$4020,10,FALSE)),\"\",VLOOKUP(E549,Data!$A$2:$J$4020,10,FALSE))","v":""},{"$nulls":13},{"$f":"SUM(S549:U549)","v":0}]
[null,{"$f":"IF(A550=\"\",\"\",VLOOKUP(A550,Data!$B$2:$D$4020,3,FALSE))","v":""},{"$f":"IF(A550=\"\",\"\",VLOOKUP(A550,Data!$B$2:$F$4020,5,FALSE))","v":""},null,{"$f":"CONCATENATE(A550,D550)","v":""},{"$f":"IF(ISNA(VLOOKUP(E550,Data!$A$2:$I$4020,7,FALSE)),\"\",VLOOKUP(E550,Data!$A$2:$I$4020,7,FALSE))","v":""},{"$f":"IF(ISNA(VLOOKUP(E550,Data!$A$2:$I$4020,9,FALSE)),\"\",VLOOKUP(E550,Data!$A$2:$I$4020,9,FALSE))","v":""},{"$f":"IF(ISNA(VLOOKUP(E550,Data!$A$2:$J$4020,10,FALSE)),\"\",VLOOKUP(E550,Data!$A$2:$J$4020,10,FALSE))","v":""},{"$nulls":13},{"$f":"SUM(S550:U550)","v":0}]
[null,{"$f":"IF(A551=\"\",\"\",VLOOKUP(A551,Data!$B$2:$D$4020,3,FALSE))","v":""},{"$f":"IF(A551=\"\",\"\",VLOOKUP(A551,Data!$B$2:$F$4020,5,FALSE))","v":""},null,{"$f":"CONCATENATE(A551,D551)","v":""},{"$f":"IF(ISNA(VLOOKUP(E551,Data!$A$2:$I$4020,7,FALSE)),\"\",VLOOKUP(E551,Data!$A$2:$I$4020,7,FALSE))","v":""},{"$f":"IF(ISNA(VLOOKUP(E551,Data!$A$2:$I$4020,9,FALSE)),\"\",VLOOKUP(E551,Data!$A$2:$I$4020,9,FALSE))","v":""},{"$f":"IF(ISNA(VLOOKUP(E551,Data!$A$2:$J$4020,10,FALSE)),\"\",VLOOKUP(E551,Data!$A$2:$J$4020,10,FALSE))","v":""},{"$nulls":13},{"$f":"SUM(S551:U551)","v":0}]
[null,{"$f":"IF(A552=\"\",\"\",VLOOKUP(A552,Data!$B$2:$D$4020,3,FALSE))","v":""},{"$f":"IF(A552=\"\",\"\",VLOOKUP(A552,Data!$B$2:$F$4020,5,FALSE))","v":""},null,{"$f":"CONCATENATE(A552,D552)","v":""},{"$f":"IF(ISNA(VLOOKUP(E552,Data!$A$2:$I$4020,7,FALSE)),\"\",VLOOKUP(E552,Data!$A$2:$I$4020,7,FALSE))","v":""},{"$f":"IF(ISNA(VLOOKUP(E552,Data!$A$2:$I$4020,9,FALSE)),\"\",VLOOKUP(E552,Data!$A$2:$I$4020,9,FALSE))","v":""},{"$f":"IF(ISNA(VLOOKUP(E552,Data!$A$2:$J$4020,10,FALSE)),\"\",VLOOKUP(E552,Data!$A$2:$J$4020,10,FALSE))","v":""},{"$nulls":13},{"$f":"SUM(S552:U552)","v":0}]
[null,{"$f":"IF(A553=\"\",\"\",VLOOKUP(A553,Data!$B$2:$D$4020,3,FALSE))","v":""},{"$f":"IF(A553=\"\",\"\",VLOOKUP(A553,Data!$B$2:$F$4020,5,FALSE))","v":""},null,{"$f":"CONCATENATE(A553,D553)","v":""},{"$f":"IF(ISNA(VLOOKUP(E553,Data!$A$2:$I$4020,7,FALSE)),\"\",VLOOKUP(E553,Data!$A$2:$I$4020,7,FALSE))","v":""},{"$f":"IF(ISNA(VLOOKUP(E553,Data!$A$2:$I$4020,9,FALSE)),\"\",VLOOKUP(E553,Data!$A$2:$I$4020,9,FALSE))","v":""},{"$f":"IF(ISNA(VLOOKUP(E553,Data!$A$2:$J$4020,10,FALSE)),\"\",VLOOKUP(E553,Data!$A$2:$J$4020,10,FALSE))","v":""},{"$nulls":13},{"$f":"SUM(S553:U553)","v":0}]
[null,{"$f":"IF(A554=\"\",\"\",VLOOKUP(A554,Data!$B$2:$D$4020,3,FALSE))","v":""},{"$f":"IF(A554=\"\",\"\",VLOOKUP(A554,Data!$B$2:$F$4020,5,FALSE))","v":""},null,{"$f":"CONCATENATE(A554,D554)","v":""},{"$f":"IF(ISNA(VLOOKUP(E554,Data!$A$2:$I$4020,7,FALSE)),\"\",VLOOKUP(E554,Data!$A$2:$I$4020,7,FALSE))","v":""},{"$f":"IF(ISNA(VLOOKUP(E554,Data!$A$2:$I$4020,9,FALSE)),\"\",VLOOKUP(E554,Data!$A$2:$I$4020,9,FALSE))","v":""},{"$f":"IF(ISNA(VLOOKUP(E554,Data!$A$2:$J$4020,10,FALSE)),\"\",VLOOKUP(E554,Data!$A$2:$J$4020,10,FALSE))","v":""},{"$nulls":13},{"$f":"SUM(S554:U554)","v":0}]
[null,{"$f":"IF(A555=\"\",\"\",VLOOKUP(A555,Data!$B$2:$D$4020,3,FALSE))","v":""},{"$f":"IF(A555=\"\",\"\",VLOOKUP(A555,Data!$B$2:$F$4020,5,FALSE))","v":""},null,{"$f":"CONCATENATE(A555,D555)","v":""},{"$f":"IF(ISNA(VLOOKUP(E555,Data!$A$2:$I$4020,7,FALSE)),\"\",VLOOKUP(E555,Data!$A$2:$I$4020,7,FALSE))","v":""},{"$f":"IF(ISNA(VLOOKUP(E555,Data!$A$2:$I$4020,9,FALSE)),\"\",VLOOKUP(E555,Data!$A$2:$I$4020,9,FALSE))","v":""},{"$f":"IF(ISNA(VLOOKUP(E555,Data!$A$2:$J$4020,10,FALSE)),\"\",VLOOKUP(E555,Data!$A$2:$J$4020,10,FALSE))","v":""},{"$nulls":13},{"$f":"SUM(S555:U555)","v":0}]
[null,{"$f":"IF(A556=\"\",\"\",VLOOKUP(A556,Data!$B$2:$D$4020,3,FALSE))","v":""},{"$f":"IF(A556=\"\",\"\",VLOOKUP(A556,Data!$B$2:$F$4020,5,FALSE))","v":""},null,{"$f":"CONCATENATE(A556,D556)","v":""},{"$f":"IF(ISNA(VLOOKUP(E556,Data!$A$2:$I$4020,7,FALSE)),\"\",VLOOKUP(E556,Data!$A$2:$I$4020,7,FALSE))","v":""},{"$f":"IF(ISNA(VLOOKUP(E556,Data!$A$2:$I$4020,9,FALSE)),\"\",VLOOKUP(E556,Data!$A$2:$I$4020,9,FALSE))","v":""},{"$f":"IF(ISNA(VLOOKUP(E556,Data!$A$2:$J$4020,10,FALSE)),\"\",VLOOKUP(E556,Data!$A$2:$J$4020,10,FALSE))","v":""},{"$nulls":13},{"$f":"SUM(S556:U556)","v":0}]
[null,{"$f":"IF(A557=\"\",\"\",VLOOKUP(A557,Data!$B$2:$D$4020,3,FALSE))","v":""},{"$f":"IF(A557=\"\",\"\",VLOOKUP(A557,Data!$B$2:$F$4020,5,FALSE))","v":""},null,{"$f":"CONCATENATE(A557,D557)","v":""},{"$f":"IF(ISNA(VLOOKUP(E557,Data!$A$2:$I$4020,7,FALSE)),\"\",VLOOKUP(E557,Data!$A$2:$I$4020,7,FALSE))","v":""},{"$f":"IF(ISNA(VLOOKUP(E557,Data!$A$2:$I$4020,9,FALSE)),\"\",VLOOKUP(E557,Data!$A$2:$I$4020,9,FALSE))","v":""},{"$f":"IF(ISNA(VLOOKUP(E557,Data!$A$2:$J$4020,10,FALSE)),\"\",VLOOKUP(E557,Data!$A$2:$J$4020,10,FALSE))","v":""},{"$nulls":13},{"$f":"SUM(S557:U557)","v":0}]
[null,{"$f":"IF(A558=\"\",\"\",VLOOKUP(A558,Data!$B$2:$D$4020,3,FALSE))","v":""},{"$f":"IF(A558=\"\",\"\",VLOOKUP(A558,Data!$B$2:$F$4020,5,FALSE))","v":""},null,{"$f":"CONCATENATE(A558,D558)","v":""},{"$f":"IF(ISNA(VLOOKUP(E558,Data!$A$2:$I$4020,7,FALSE)),\"\",VLOOKUP(E558,Data!$A$2:$I$4020,7,FALSE))","v":""},{"$f":"IF(ISNA(VLOOKUP(E558,Data!$A$2:$I$4020,9,FALSE)),\"\",VLOOKUP(E558,Data!$A$2:$I$4020,9,FALSE))","v":""},{"$f":"IF(ISNA(VLOOKUP(E558,Data!$A$2:$J$4020,10,FALSE)),\"\",VLOOKUP(E558,Data!$A$2:$J$4020,10,FALSE))","v":""},{"$nulls":13},{"$f":"SUM(S558:U558)","v":0}]
[null,{"$f":"IF(A559=\"\",\"\",VLOOKUP(A559,Data!$B$2:$D$4020,3,FALSE))","v":""},{"$f":"IF(A559=\"\",\"\",VLOOKUP(A559,Data!$B$2:$F$4020,5,FALSE))","v":""},null,{"$f":"CONCATENATE(A559,D559)","v":""},{"$f":"IF(ISNA(VLOOKUP(E559,Data!$A$2:$I$4020,7,FALSE)),\"\",VLOOKUP(E559,Data!$A$2:$I$4020,7,FALSE))","v":""},{"$f":"IF(ISNA(VLOOKUP(E559,Data!$A$2:$I$4020,9,FALSE)),\"\",VLOOKUP(E559,Data!$A$2:$I$4020,9,FALSE))","v":""},{"$f":"IF(ISNA(VLOOKUP(E559,Data!$A$2:$J$4020,10,FALSE)),\"\",VLOOKUP(E559,Data!$A$2:$J$4020,10,FALSE))","v":""},{"$nulls":13},{"$f":"SUM(S559:U559)","v":0}]
[null,{"$f":"IF(A560=\"\",\"\",VLOOKUP(A560,Data!$B$2:$D$4020,3,FALSE))","v":""},{"$f":"IF(A560=\"\",\"\",VLOOKUP(A560,Data!$B$2:$F$4020,5,FALSE))","v":""},null,{"$f":"CONCATENATE(A560,D560)","v":""},{"$f":"IF(ISNA(VLOOKUP(E560,Data!$A$2:$I$4020,7,FALSE)),\"\",VLOOKUP(E560,Data!$A$2:$I$4020,7,FALSE))","v":""},{"$f":"IF(ISNA(VLOOKUP(E560,Data!$A$2:$I$4020,9,FALSE)),\"\",VLOOKUP(E560,Data!$A$2:$I$4020,9,FALSE))","v":""},{"$f":"IF(ISNA(VLOOKUP(E560,Data!$A$2:$J$4020,10,FALSE)),\"\",VLOOKUP(E560,Data!$A$2:$J$4020,10,FALSE))","v":""},{"$nulls":13},{"$f":"SUM(S560:U560)","v":0}]
[null,{"$f":"IF(A561=\"\",\"\",VLOOKUP(A561,Data!$B$2:$D$4020,3,FALSE))","v":""},{"$f":"IF(A561=\"\",\"\",VLOOKUP(A561,Data!$B$2:$F$4020,5,FALSE))","v":""},null,{"$f":"CONCATENATE(A561,D561)","v":""},{"$f":"IF(ISNA(VLOOKUP(E561,Data!$A$2:$I$4020,7,FALSE)),\"\",VLOOKUP(E561,Data!$A$2:$I$4020,7,FALSE))","v":""},{"$f":"IF(ISNA(VLOOKUP(E561,Data!$A$2:$I$4020,9,FALSE)),\"\",VLOOKUP(E561,Data!$A$2:$I$4020,9,FALSE))","v":""},{"$f":"IF(ISNA(VLOOKUP(E561,Data!$A$2:$J$4020,10,FALSE)),\"\",VLOOKUP(E561,Data!$A$2:$J$4020,10,FALSE))","v":""},{"$nulls":13},{"$f":"SUM(S561:U561)","v":0}]
[null,{"$f":"IF(A562=\"\",\"\",VLOOKUP(A562,Data!$B$2:$D$4020,3,FALSE))","v":""},{"$f":"IF(A562=\"\",\"\",VLOOKUP(A562,Data!$B$2:$F$4020,5,FALSE))","v":""},null,{"$f":"CONCATENATE(A562,D562)","v":""},{"$f":"IF(ISNA(VLOOKUP(E562,Data!$A$2:$I$4020,7,FALSE)),\"\",VLOOKUP(E562,Data!$A$2:$I$4020,7,FALSE))","v":""},{"$f":"IF(ISNA(VLOOKUP(E562,Data!$A$2:$I$4020,9,FALSE)),\"\",VLOOKUP(E562,Data!$A$2:$I$4020,9,FALSE))","v":""},{"$f":"IF(ISNA(VLOOKUP(E562,Data!$A$2:$J$4020,10,FALSE)),\"\",VLOOKUP(E562,Data!$A$2:$J$4020,10,FALSE))","v":""},{"$nulls":13},{"$f":"SUM(S562:U562)","v":0}]
[null,{"$f":"IF(A563=\"\",\"\",VLOOKUP(A563,Data!$B$2:$D$4020,3,FALSE))","v":""},{"$f":"IF(A563=\"\",\"\",VLOOKUP(A563,Data!$B$2:$F$4020,5,FALSE))","v":""},null,{"$f":"CONCATENATE(A563,D563)","v":""},{"$f":"IF(ISNA(VLOOKUP(E563,Data!$A$2:$I$4020,7,FALSE)),\"\",VLOOKUP(E563,Data!$A$2:$I$4020,7,FALSE))","v":""},{"$f":"IF(ISNA(VLOOKUP(E563,Data!$A$2:$I$4020,9,FALSE)),\"\",VLOOKUP(E563,Data!$A$2:$I$4020,9,FALSE))","v":""},{"$f":"IF(ISNA(VLOOKUP(E563,Data!$A$2:$J$4020,10,FALSE)),\"\",VLOOKUP(E563,Data!$A$2:$J$4020,10,FALSE))","v":""},{"$nulls":13},{"$f":"SUM(S563:U563)","v":0}]
[null,{"$f":"IF(A564=\"\",\"\",VLOOKUP(A564,Data!$B$2:$D$4020,3,FALSE))","v":""},{"$f":"IF(A564=\"\",\"\",VLOOKUP(A564,Data!$B$2:$F$4020,5,FALSE))","v":""},null,{"$f":"CONCATENATE(A564,D564)","v":""},{"$f":"IF(ISNA(VLOOKUP(E564,Data!$A$2:$I$4020,7,FALSE)),\"\",VLOOKUP(E564,Data!$A$2:$I$4020,7,FALSE))","v":""},{"$f":"IF(ISNA(VLOOKUP(E564,Data!$A$2:$I$4020,9,FALSE)),\"\",VLOOKUP(E564,Data!$A$2:$I$4020,9,FALSE))","v":""},{"$f":"IF(ISNA(VLOOKUP(E564,Data!$A$2:$J$4020,10,FALSE)),\"\",VLOOKUP(E564,Data!$A$2:$J$4020,10,FALSE))","v":""},{"$nulls":13},{"$f":"SUM(S564:U564)","v":0}]
[null,{"$f":"IF(A565=\"\",\"\",VLOOKUP(A565,Data!$B$2:$D$4020,3,FALSE))","v":""},{"$f":"IF(A565=\"\",\"\",VLOOKUP(A565,Data!$B$2:$F$4020,5,FALSE))","v":""},null,{"$f":"CONCATENATE(A565,D565)","v":""},{"$f":"IF(ISNA(VLOOKUP(E565,Data!$A$2:$I$4020,7,FALSE)),\"\",VLOOKUP(E565,Data!$A$2:$I$4020,7,FALSE))","v":""},{"$f":"IF(ISNA(VLOOKUP(E565,Data!$A$2:$I$4020,9,FALSE)),\"\",VLOOKUP(E565,Data!$A$2:$I$4020,9,FALSE))","v":""},{"$f":"IF(ISNA(VLOOKUP(E565,Data!$A$2:$J$4020,10,FALSE)),\"\",VLOOKUP(E565,Data!$A$2:$J$4020,10,FALSE))","v":""},{"$nulls":13},{"$f":"SUM(S565:U565)","v":0}]
[null,{"$f":"IF(A566=\"\",\"\",VLOOKUP(A566,Data!$B$2:$D$4020,3,FALSE))","v":""},{"$f":"IF(A566=\"\",\"\",VLOOKUP(A566,Data!$B$2:$F$4020,5,FALSE))","v":""},null,{"$f":"CONCATENATE(A566,D566)","v":""},{"$f":"IF(ISNA(VLOOKUP(E566,Data!$A$2:$I$4020,7,FALSE)),\"\",VLOOKUP(E566,Data!$A$2:$I$4020,7,FALSE))","v":""},{"$f":"IF(ISNA(VLOOKUP(E566,Data!$A$2:$I$4020,9,FALSE)),\"\",VLOOKUP(E566,Data!$A$2:$I$4020,9,FALSE))","v":""},{"$f":"IF(ISNA(VLOOKUP(E566,Data!$A$2:$J$4020,10,FALSE)),\"\",VLOOKUP(E566,Data!$A$2:$J$4020,10,FALSE))","v":""},{"$nulls":13},{"$f":"SUM(S566:U566)","v":0}]
[null,{"$f":"IF(A567=\"\",\"\",VLOOKUP(A567,Data!$B$2:$D$4020,3,FALSE))","v":""},{"$f":"IF(A567=\"\",\"\",VLOOKUP(A567,Data!$B$2:$F$4020,5,FALSE))","v":""},null,{"$f":"CONCATENATE(A567,D567)","v":""},{"$f":"IF(ISNA(VLOOKUP(E567,Data!$A$2:$I$4020,7,FALSE)),\"\",VLOOKUP(E567,Data!$A$2:$I$4020,7,FALSE))","v":""},{"$f":"IF(ISNA(VLOOKUP(E567,Data!$A$2:$I$4020,9,FALSE)),\"\",VLOOKUP(E567,Data!$A$2:$I$4020,9,FALSE))","v":""},{"$f":"IF(ISNA(VLOOKUP(E567,Data!$A$2:$J$4020,10,FALSE)),\"\",VLOOKUP(E567,Data!$A$2:$J$4020,10,FALSE))","v":""},{"$nulls":13},{"$f":"SUM(S567:U567)","v":0}]
[null,{"$f":"IF(A568=\"\",\"\",VLOOKUP(A568,Data!$B$2:$D$4020,3,FALSE))","v":""},{"$f":"IF(A568=\"\",\"\",VLOOKUP(A568,Data!$B$2:$F$4020,5,FALSE))","v":""},null,{"$f":"CONCATENATE(A568,D568)","v":""},{"$f":"IF(ISNA(VLOOKUP(E568,Data!$A$2:$I$4020,7,FALSE)),\"\",VLOOKUP(E568,Data!$A$2:$I$4020,7,FALSE))","v":""},{"$f":"IF(ISNA(VLOOKUP(E568,Data!$A$2:$I$4020,9,FALSE)),\"\",VLOOKUP(E568,Data!$A$2:$I$4020,9,FALSE))","v":""},{"$f":"IF(ISNA(VLOOKUP(E568,Data!$A$2:$J$4020,10,FALSE)),\"\",VLOOKUP(E568,Data!$A$2:$J$4020,10,FALSE))","v":""},{"$nulls":13},{"$f":"SUM(S568:U568)","v":0}]
[null,{"$f":"IF(A569=\"\",\"\",VLOOKUP(A569,Data!$B$2:$D$4020,3,FALSE))","v":""},{"$f":"IF(A569=\"\",\"\",VLOOKUP(A569,Data!$B$2:$F$4020,5,FALSE))","v":""},null,{"$f":"CONCATENATE(A569,D569)","v":""},{"$f":"IF(ISNA(VLOOKUP(E569,Data!$A$2:$I$4020,7,FALSE)),\"\",VLOOKUP(E569,Data!$A$2:$I$4020,7,FALSE))","v":""},{"$f":"IF(ISNA(VLOOKUP(E569,Data!$A$2:$I$4020,9,FALSE)),\"\",VLOOKUP(E569,Data!$A$2:$I$4020,9,FALSE))","v":""},{"$f":"IF(ISNA(VLOOKUP(E569,Data!$A$2:$J$4020,10,FALSE)),\"\",VLOOKUP(E569,Data!$A$2:$J$4020,10,FALSE))","v":""},{"$nulls":13},{"$f":"SUM(S569:U569)","v":0}]
[null,{"$f":"IF(A570=\"\",\"\",VLOOKUP(A570,Data!$B$2:$D$4020,3,FALSE))","v":""},{"$f":"IF(A570=\"\",\"\",VLOOKUP(A570,Data!$B$2:$F$4020,5,FALSE))","v":""},null,{"$f":"CONCATENATE(A570,D570)","v":""},{"$f":"IF(ISNA(VLOOKUP(E570,Data!$A$2:$I$4020,7,FALSE)),\"\",VLOOKUP(E570,Data!$A$2:$I$4020,7,FALSE))","v":""},{"$f":"IF(ISNA(VLOOKUP(E570,Data!$A$2:$I$4020,9,FALSE)),\"\",VLOOKUP(E570,Data!$A$2:$I$4020,9,FALSE))","v":""},{"$f":"IF(ISNA(VLOOKUP(E570,Data!$A$2:$J$4020,10,FALSE)),\"\",VLOOKUP(E570,Data!$A$2:$J$4020,10,FALSE))","v":""},{"$nulls":13},{"$f":"SUM(S570:U570)","v":0}]
[null,{"$f":"IF(A571=\"\",\"\",VLOOKUP(A571,Data!$B$2:$D$4020,3,FALSE))","v":""},{"$f":"IF(A571=\"\",\"\",VLOOKUP(A571,Data!$B$2:$F$4020,5,FALSE))","v":""},null,{"$f":"CONCATENATE(A571,D571)","v":""},{"$f":"IF(ISNA(VLOOKUP(E571,Data!$A$2:$I$4020,7,FALSE)),\"\",VLOOKUP(E571,Data!$A$2:$I$4020,7,FALSE))","v":""},{"$f":"IF(ISNA(VLOOKUP(E571,Data!$A$2:$I$4020,9,FALSE)),\"\",VLOOKUP(E571,Data!$A$2:$I$4020,9,FALSE))","v":""},{"$f":"IF(ISNA(VLOOKUP(E571,Data!$A$2:$J$4020,10,FALSE)),\"\",VLOOKUP(E571,Data!$A$2:$J$4020,10,FALSE))","v":""},{"$nulls":13},{"$f":"SUM(S571:U571)","v":0}]
[null,{"$f":"IF(A572=\"\",\"\",VLOOKUP(A572,Data!$B$2:$D$4020,3,FALSE))","v":""},{"$f":"IF(A572=\"\",\"\",VLOOKUP(A572,Data!$B$2:$F$4020,5,FALSE))","v":""},null,{"$f":"CONCATENATE(A572,D572)","v":""},{"$f":"IF(ISNA(VLOOKUP(E572,Data!$A$2:$I$4020,7,FALSE)),\"\",VLOOKUP(E572,Data!$A$2:$I$4020,7,FALSE))","v":""},{"$f":"IF(ISNA(VLOOKUP(E572,Data!$A$2:$I$4020,9,FALSE)),\"\",VLOOKUP(E572,Data!$A$2:$I$4020,9,FALSE))","v":""},{"$f":"IF(ISNA(VLOOKUP(E572,Data!$A$2:$J$4020,10,FALSE)),\"\",VLOOKUP(E572,Data!$A$2:$J$4020,10,FALSE))","v":""},{"$nulls":13},{"$f":"SUM(S572:U572)","v":0}]
[null,{"$f":"IF(A573=\"\",\"\",VLOOKUP(A573,Data!$B$2:$D$4020,3,FALSE))","v":""},{"$f":"IF(A573=\"\",\"\",VLOOKUP(A573,Data!$B$2:$F$4020,5,FALSE))","v":""},null,{"$f":"CONCATENATE(A573,D573)","v":""},{"$f":"IF(ISNA(VLOOKUP(E573,Data!$A$2:$I$4020,7,FALSE)),\"\",VLOOKUP(E573,Data!$A$2:$I$4020,7,FALSE))","v":""},{"$f":"IF(ISNA(VLOOKUP(E573,Data!$A$2:$I$4020,9,FALSE)),\"\",VLOOKUP(E573,Data!$A$2:$I$4020,9,FALSE))","v":""},{"$f":"IF(ISNA(VLOOKUP(E573,Data!$A$2:$J$4020,10,FALSE)),\"\",VLOOKUP(E573,Data!$A$2:$J$4020,10,FALSE))","v":""},{"$nulls":13},{"$f":"SUM(S573:U573)","v":0}]
[null,{"$f":"IF(A574=\"\",\"\",VLOOKUP(A574,Data!$B$2:$D$4020,3,FALSE))","v":""},{"$f":"IF(A574=\"\",\"\",VLOOKUP(A574,Data!$B$2:$F$4020,5,FALSE))","v":""},null,{"$f":"CONCATENATE(A574,D574)","v":""},{"$f":"IF(ISNA(VLOOKUP(E574,Data!$A$2:$I$4020,7,FALSE)),\"\",VLOOKUP(E574,Data!$A$2:$I$4020,7,FALSE))","v":""},{"$f":"IF(ISNA(VLOOKUP(E574,Data!$A$2:$I$4020,9,FALSE)),\"\",VLOOKUP(E574,Data!$A$2:$I$4020,9,FALSE))","v":""},{"$f":"IF(ISNA(VLOOKUP(E574,Data!$A$2:$J$4020,10,FALSE)),\"\",VLOOKUP(E574,Data!$A$2:$J$4020,10,FALSE))","v":""},{"$nulls":13},{"$f":"SUM(S574:U574)","v":0}]
[null,{"$f":"IF(A575=\"\",\"\",VLOOKUP(A575,Data!$B$2:$D$4020,3,FALSE))","v":""},{"$f":"IF(A575=\"\",\"\",VLOOKUP(A575,Data!$B$2:$F$4020,5,FALSE))","v":""},null,{"$f":"CONCATENATE(A575,D575)","v":""},{"$f":"IF(ISNA(VLOOKUP(E575,Data!$A$2:$I$4020,7,FALSE)),\"\",VLOOKUP(E575,Data!$A$2:$I$4020,7,FALSE))","v":""},{"$f":"IF(ISNA(VLOOKUP(E575,Data!$A$2:$I$4020,9,FALSE)),\"\",VLOOKUP(E575,Data!$A$2:$I$4020,9,FALSE))","v":""},{"$f":"IF(ISNA(VLOOKUP(E575,Data!$A$2:$J$4020,10,FALSE)),\"\",VLOOKUP(E575,Data!$A$2:$J$4020,10,FALSE))","v":""},{"$nulls":13},{"$f":"SUM(S575:U575)","v":0}]
[null,{"$f":"IF(A576=\"\",\"\",VLOOKUP(A576,Data!$B$2:$D$4020,3,FALSE))","v":""},{"$f":"IF(A576=\"\",\"\",VLOOKUP(A576,Data!$B$2:$F$4020,5,FALSE))","v":""},null,{"$f":"CONCATENATE(A576,D576)","v":""},{"$f":"IF(ISNA(VLOOKUP(E576,Data!$A$2:$I$4020,7,FALSE)),\"\",VLOOKUP(E576,Data!$A$2:$I$4020,7,FALSE))","v":""},{"$f":"IF(ISNA(VLOOKUP(E576,Data!$A$2:$I$4020,9,FALSE)),\"\",VLOOKUP(E576,Data!$A$2:$I$4020,9,FALSE))","v":""},{"$f":"IF(ISNA(VLOOKUP(E576,Data!$A$2:$J$4020,10,FALSE)),\"\",VLOOKUP(E576,Data!$A$2:$J$4020,10,FALSE))","v":""},{"$nulls":13},{"$f":"SUM(S576:U576)","v":0}]
[null,{"$f":"IF(A577=\"\",\"\",VLOOKUP(A577,Data!$B$2:$D$4020,3,FALSE))","v":""},{"$f":"IF(A577=\"\",\"\",VLOOKUP(A577,Data!$B$2:$F$4020,5,FALSE))","v":""},null,{"$f":"CONCATENATE(A577,D577)","v":""},{"$f":"IF(ISNA(VLOOKUP(E577,Data!$A$2:$I$4020,7,FALSE)),\"\",VLOOKUP(E577,Data!$A$2:$I$4020,7,FALSE))","v":""},{"$f":"IF(ISNA(VLOOKUP(E577,Data!$A$2:$I$4020,9,FALSE)),\"\",VLOOKUP(E577,Data!$A$2:$I$4020,9,FALSE))","v":""},{"$f":"IF(ISNA(VLOOKUP(E577,Data!$A$2:$J$4020,10,FALSE)),\"\",VLOOKUP(E577,Data!$A$2:$J$4020,10,FALSE))","v":""},{"$nulls":13},{"$f":"SUM(S577:U577)","v":0}]
[null,{"$f":"IF(A578=\"\",\"\",VLOOKUP(A578,Data!$B$2:$D$4020,3,FALSE))","v":""},{"$f":"IF(A578=\"\",\"\",VLOOKUP(A578,Data!$B$2:$F$4020,5,FALSE))","v":""},null,{"$f":"CONCATENATE(A578,D578)","v":""},{"$f":"IF(ISNA(VLOOKUP(E578,Data!$A$2:$I$4020,7,FALSE)),\"\",VLOOKUP(E578,Data!$A$2:$I$4020,7,FALSE))","v":""},{"$f":"IF(ISNA(VLOOKUP(E578,Data!$A$2:$I$4020,9,FALSE)),\"\",VLOOKUP(E578,Data!$A$2:$I$4020,9,FALSE))","v":""},{"$f":"IF(ISNA(VLOOKUP(E578,Data!$A$2:$J$4020,10,FALSE)),\"\",VLOOKUP(E578,Data!$A$2:$J$4020,10,FALSE))","v":""},{"$nulls":13},{"$f":"SUM(S578:U578)","v":0}]
[null,{"$f":"IF(A579=\"\",\"\",VLOOKUP(A579,Data!$B$2:$D$4020,3,FALSE))","v":""},{"$f":"IF(A579=\"\",\"\",VLOOKUP(A579,Data!$B$2:$F$4020,5,FALSE))","v":""},null,{"$f":"CONCATENATE(A579,D579)","v":""},{"$f":"IF(ISNA(VLOOKUP(E579,Data!$A$2:$I$4020,7,FALSE)),\"\",VLOOKUP(E579,Data!$A$2:$I$4020,7,FALSE))","v":""},{"$f":"IF(ISNA(VLOOKUP(E579,Data!$A$2:$I$4020,9,FALSE)),\"\",VLOOKUP(E579,Data!$A$2:$I$4020,9,FALSE))","v":""},{"$f":"IF(ISNA(VLOOKUP(E579,Data!$A$2:$J$4020,10,FALSE)),\"\",VLOOKUP(E579,Data!$A$2:$J$4020,10,FALSE))","v":""},{"$nulls":13},{"$f":"SUM(S579:U579)","v":0}]
[null,{"$f":"IF(A580=\"\",\"\",VLOOKUP(A580,Data!$B$2:$D$4020,3,FALSE))","v":""},{"$f":"IF(A580=\"\",\"\",VLOOKUP(A580,Data!$B$2:$F$4020,5,FALSE))","v":""},null,{"$f":"CONCATENATE(A580,D580)","v":""},{"$f":"IF(ISNA(VLOOKUP(E580,Data!$A$2:$I$4020,7,FALSE)),\"\",VLOOKUP(E580,Data!$A$2:$I$4020,7,FALSE))","v":""},{"$f":"IF(ISNA(VLOOKUP(E580,Data!$A$2:$I$4020,9,FALSE)),\"\",VLOOKUP(E580,Data!$A$2:$I$4020,9,FALSE))","v":""},{"$f":"IF(ISNA(VLOOKUP(E580,Data!$A$2:$J$4020,10,FALSE)),\"\",VLOOKUP(E580,Data!$A$2:$J$4020,10,FALSE))","v":""},{"$nulls":13},{"$f":"SUM(S580:U580)","v":0}]
[null,{"$f":"IF(A581=\"\",\"\",VLOOKUP(A581,Data!$B$2:$D$4020,3,FALSE))","v":""},{"$f":"IF(A581=\"\",\"\",VLOOKUP(A581,Data!$B$2:$F$4020,5,FALSE))","v":""},null,{"$f":"CONCATENATE(A581,D581)","v":""},{"$f":"IF(ISNA(VLOOKUP(E581,Data!$A$2:$I$4020,7,FALSE)),\"\",VLOOKUP(E581,Data!$A$2:$I$4020,7,FALSE))","v":""},{"$f":"IF(ISNA(VLOOKUP(E581,Data!$A$2:$I$4020,9,FALSE)),\"\",VLOOKUP(E581,Data!$A$2:$I$4020,9,FALSE))","v":""},{"$f":"IF(ISNA(VLOOKUP(E581,Data!$A$2:$J$4020,10,FALSE)),\"\",VLOOKUP(E581,Data!$A$2:$J$4020,10,FALSE))","v":""},{"$nulls":13},{"$f":"SUM(S581:U581)","v":0}]
[null,{"$f":"IF(A582=\"\",\"\",VLOOKUP(A582,Data!$B$2:$D$4020,3,FALSE))","v":""},{"$f":"IF(A582=\"\",\"\",VLOOKUP(A582,Data!$B$2:$F$4020,5,FALSE))","v":""},null,{"$f":"CONCATENATE(A582,D582)","v":""},{"$f":"IF(ISNA(VLOOKUP(E582,Data!$A$2:$I$4020,7,FALSE)),\"\",VLOOKUP(E582,Data!$A$2:$I$4020,7,FALSE))","v":""},{"$f":"IF(ISNA(VLOOKUP(E582,Data!$A$2:$I$4020,9,FALSE)),\"\",VLOOKUP(E582,Data!$A$2:$I$4020,9,FALSE))","v":""},{"$f":"IF(ISNA(VLOOKUP(E582,Data!$A$2:$J$4020,10,FALSE)),\"\",VLOOKUP(E582,Data!$A$2:$J$4020,10,FALSE))","v":""},{"$nulls":13},{"$f":"SUM(S582:U582)","v":0}]
[null,{"$f":"IF(A583=\"\",\"\",VLOOKUP(A583,Data!$B$2:$D$4020,3,FALSE))","v":""},{"$f":"IF(A583=\"\",\"\",VLOOKUP(A583,Data!$B$2:$F$4020,5,FALSE))","v":""},null,{"$f":"CONCATENATE(A583,D583)","v":""},{"$f":"IF(ISNA(VLOOKUP(E583,Data!$A$2:$I$4020,7,FALSE)),\"\",VLOOKUP(E583,Data!$A$2:$I$4020,7,FALSE))","v":""},{"$f":"IF(ISNA(VLOOKUP(E583,Data!$A$2:$I$4020,9,FALSE)),\"\",VLOOKUP(E583,Data!$A$2:$I$4020,9,FALSE))","v":""},{"$f":"IF(ISNA(VLOOKUP(E583,Data!$A$2:$J$4020,10,FALSE)),\"\",VLOOKUP(E583,Data!$A$2:$J$4020,10,FALSE))","v":""},{"$nulls":13},{"$f":"SUM(S583:U583)","v":0}]
[null,{"$f":"IF(A584=\"\",\"\",VLOOKUP(A584,Data!$B$2:$D$4020,3,FALSE))","v":""},{"$f":"IF(A584=\"\",\"\",VLOOKUP(A584,Data!$B$2:$F$4020,5,FALSE))","v":""},null,{"$f":"CONCATENATE(A584,D584)","v":""},{"$f":"IF(ISNA(VLOOKUP(E584,Data!$A$2:$I$4020,7,FALSE)),\"\",VLOOKUP(E584,Data!$A$2:$I$4020,7,FALSE))","v":""},{"$f":"IF(ISNA(VLOOKUP(E584,Data!$A$2:$I$4020,9,FALSE)),\"\",VLOOKUP(E584,Data!$A$2:$I$4020,9,FALSE))","v":""},{"$f":"IF(ISNA(VLOOKUP(E584,Data!$A$2:$J$4020,10,FALSE)),\"\",VLOOKUP(E584,Data!$A$2:$J$4020,10,FALSE))","v":""},{"$nulls":13},{"$f":"SUM(S584:U584)","v":0}]
[null,{"$f":"IF(A585=\"\",\"\",VLOOKUP(A585,Data!$B$2:$D$4020,3,FALSE))","v":""},{"$f":"IF(A585=\"\",\"\",VLOOKUP(A585,Data!$B$2:$F$4020,5,FALSE))","v":""},null,{"$f":"CONCATENATE(A585,D585)","v":""},{"$f":"IF(ISNA(VLOOKUP(E585,Data!$A$2:$I$4020,7,FALSE)),\"\",VLOOKUP(E585,Data!$A$2:$I$4020,7,FALSE))","v":""},{"$f":"IF(ISNA(VLOOKUP(E585,Data!$A$2:$I$4020,9,FALSE)),\"\",VLOOKUP(E585,Data!$A$2:$I$4020,9,FALSE))","v":""},{"$f":"IF(ISNA(VLOOKUP(E585,Data!$A$2:$J$4020,10,FALSE)),\"\",VLOOKUP(E585,Data!$A$2:$J$4020,10,FALSE))","v":""},{"$nulls":13},{"$f":"SUM(S585:U585)","v":0}]
[null,{"$f":"IF(A586=\"\",\"\",VLOOKUP(A586,Data!$B$2:$D$4020,3,FALSE))","v":""},{"$f":"IF(A586=\"\",\"\",VLOOKUP(A586,Data!$B$2:$F$4020,5,FALSE))","v":""},null,{"$f":"CONCATENATE(A586,D586)","v":""},{"$f":"IF(ISNA(VLOOKUP(E586,Data!$A$2:$I$4020,7,FALSE)),\"\",VLOOKUP(E586,Data!$A$2:$I$4020,7,FALSE))","v":""},{"$f":"IF(ISNA(VLOOKUP(E586,Data!$A$2:$I$4020,9,FALSE)),\"\",VLOOKUP(E586,Data!$A$2:$I$4020,9,FALSE))","v":""},{"$f":"IF(ISNA(VLOOKUP(E586,Data!$A$2:$J$4020,10,FALSE)),\"\",VLOOKUP(E586,Data!$A$2:$J$4020,10,FALSE))","v":""},{"$nulls":13},{"$f":"SUM(S586:U586)","v":0}]
[null,{"$f":"IF(A587=\"\",\"\",VLOOKUP(A587,Data!$B$2:$D$4020,3,FALSE))","v":""},{"$f":"IF(A587=\"\",\"\",VLOOKUP(A587,Data!$B$2:$F$4020,5,FALSE))","v":""},null,{"$f":"CONCATENATE(A587,D587)","v":""},{"$f":"IF(ISNA(VLOOKUP(E587,Data!$A$2:$I$4020,7,FALSE)),\"\",VLOOKUP(E587,Data!$A$2:$I$4020,7,FALSE))","v":""},{"$f":"IF(ISNA(VLOOKUP(E587,Data!$A$2:$I$4020,9,FALSE)),\"\",VLOOKUP(E587,Data!$A$2:$I$4020,9,FALSE))","v":""},{"$f":"IF(ISNA(VLOOKUP(E587,Data!$A$2:$J$4020,10,FALSE)),\"\",VLOOKUP(E587,Data!$A$2:$J$4020,10,FALSE))","v":""},{"$nulls":13},{"$f":"SUM(S587:U587)","v":0}]
[null,{"$f":"IF(A588=\"\",\"\",VLOOKUP(A588,Data!$B$2:$D$4020,3,FALSE))","v":""},{"$f":"IF(A588=\"\",\"\",VLOOKUP(A588,Data!$B$2:$F$4020,5,FALSE))","v":""},null,{"$f":"CONCATENATE(A588,D588)","v":""},{"$f":"IF(ISNA(VLOOKUP(E588,Data!$A$2:$I$4020,7,FALSE)),\"\",VLOOKUP(E588,Data!$A$2:$I$4020,7,FALSE))","v":""},{"$f":"IF(ISNA(VLOOKUP(E588,Data!$A$2:$I$4020,9,FALSE)),\"\",VLOOKUP(E588,Data!$A$2:$I$4020,9,FALSE))","v":""},{"$f":"IF(ISNA(VLOOKUP(E588,Data!$A$2:$J$4020,10,FALSE)),\"\",VLOOKUP(E588,Data!$A$2:$J$4020,10,FALSE))","v":""},{"$nulls":13},{"$f":"SUM(S588:U588)","v":0}]
[null,{"$f":"IF(A589=\"\",\"\",VLOOKUP(A589,Data!$B$2:$D$4020,3,FALSE))","v":""},{"$f":"IF(A589=\"\",\"\",VLOOKUP(A589,Data!$B$2:$F$4020,5,FALSE))","v":""},null,{"$f":"CONCATENATE(A589,D589)","v":""},{"$f":"IF(ISNA(VLOOKUP(E589,Data!$A$2:$I$4020,7,FALSE)),\"\",VLOOKUP(E589,Data!$A$2:$I$4020,7,FALSE))","v":""},{"$f":"IF(ISNA(VLOOKUP(E589,Data!$A$2:$I$4020,9,FALSE)),\"\",VLOOKUP(E589,Data!$A$2:$I$4020,9,FALSE))","v":""},{"$f":"IF(ISNA(VLOOKUP(E589,Data!$A$2:$J$4020,10,FALSE)),\"\",VLOOKUP(E589,Data!$A$2:$J$4020,10,FALSE))","v":""},{"$nulls":13},{"$f":"SUM(S589:U589)","v":0}]
[null,{"$f":"IF(A590=\"\",\"\",VLOOKUP(A590,Data!$B$2:$D$4020,3,FALSE))","v":""},{"$f":"IF(A590=\"\",\"\",VLOOKUP(A590,Data!$B$2:$F$4020,5,FALSE))","v":""},null,{"$f":"CONCATENATE(A590,D590)","v":""},{"$f":"IF(ISNA(VLOOKUP(E590,Data!$A$2:$I$4020,7,FALSE)),\"\",VLOOKUP(E590,Data!$A$2:$I$4020,7,FALSE))","v":""},{"$f":"IF(ISNA(VLOOKUP(E590,Data!$A$2:$I$4020,9,FALSE)),\"\",VLOOKUP(E590,Data!$A$2:$I$4020,9,FALSE))","v":""},{"$f":"IF(ISNA(VLOOKUP(E590,Data!$A$2:$J$4020,10,FALSE)),\"\",VLOOKUP(E590,Data!$A$2:$J$4020,10,FALSE))","v":""},{"$nulls":13},{"$f":"SUM(S590:U590)","v":0}]
[null,{"$f":"IF(A591=\"\",\"\",VLOOKUP(A591,Data!$B$2:$D$4020,3,FALSE))","v":""},{"$f":"IF(A591=\"\",\"\",VLOOKUP(A591,Data!$B$2:$F$4020,5,FALSE))","v":""},null,{"$f":"CONCATENATE(A591,D591)","v":""},{"$f":"IF(ISNA(VLOOKUP(E591,Data!$A$2:$I$4020,7,FALSE)),\"\",VLOOKUP(E591,Data!$A$2:$I$4020,7,FALSE))","v":""},{"$f":"IF(ISNA(VLOOKUP(E591,Data!$A$2:$I$4020,9,FALSE)),\"\",VLOOKUP(E591,Data!$A$2:$I$4020,9,FALSE))","v":""},{"$f":"IF(ISNA(VLOOKUP(E591,Data!$A$2:$J$4020,10,FALSE)),\"\",VLOOKUP(E591,Data!$A$2:$J$4020,10,FALSE))","v":""},{"$nulls":13},{"$f":"SUM(S591:U591)","v":0}]
[null,{"$f":"IF(A592=\"\",\"\",VLOOKUP(A592,Data!$B$2:$D$4020,3,FALSE))","v":""},{"$f":"IF(A592=\"\",\"\",VLOOKUP(A592,Data!$B$2:$F$4020,5,FALSE))","v":""},null,{"$f":"CONCATENATE(A592,D592)","v":""},{"$f":"IF(ISNA(VLOOKUP(E592,Data!$A$2:$I$4020,7,FALSE)),\"\",VLOOKUP(E592,Data!$A$2:$I$4020,7,FALSE))","v":""},{"$f":"IF(ISNA(VLOOKUP(E592,Data!$A$2:$I$4020,9,FALSE)),\"\",VLOOKUP(E592,Data!$A$2:$I$4020,9,FALSE))","v":""},{"$f":"IF(ISNA(VLOOKUP(E592,Data!$A$2:$J$4020,10,FALSE)),\"\",VLOOKUP(E592,Data!$A$2:$J$4020,10,FALSE))","v":""},{"$nulls":13},{"$f":"SUM(S592:U592)","v":0}]
[null,{"$f":"IF(A593=\"\",\"\",VLOOKUP(A593,Data!$B$2:$D$4020,3,FALSE))","v":""},{"$f":"IF(A593=\"\",\"\",VLOOKUP(A593,Data!$B$2:$F$4020,5,FALSE))","v":""},null,{"$f":"CONCATENATE(A593,D593)","v":""},{"$f":"IF(ISNA(VLOOKUP(E593,Data!$A$2:$I$4020,7,FALSE)),\"\",VLOOKUP(E593,Data!$A$2:$I$4020,7,FALSE))","v":""},{"$f":"IF(ISNA(VLOOKUP(E593,Data!$A$2:$I$4020,9,FALSE)),\"\",VLOOKUP(E593,Data!$A$2:$I$4020,9,FALSE))","v":""},{"$f":"IF(ISNA(VLOOKUP(E593,Data!$A$2:$J$4020,10,FALSE)),\"\",VLOOKUP(E593,Data!$A$2:$J$4020,10,FALSE))","v":""},{"$nulls":13},{"$f":"SUM(S593:U593)","v":0}]
[null,{"$f":"IF(A594=\"\",\"\",VLOOKUP(A594,Data!$B$2:$D$4020,3,FALSE))","v":""},{"$f":"IF(A594=\"\",\"\",VLOOKUP(A594,Data!$B$2:$F$4020,5,FALSE))","v":""},null,{"$f":"CONCATENATE(A594,D594)","v":""},{"$f":"IF(ISNA(VLOOKUP(E594,Data!$A$2:$I$4020,7,FALSE)),\"\",VLOOKUP(E594,Data!$A$2:$I$4020,7,FALSE))","v":""},{"$f":"IF(ISNA(VLOOKUP(E594,Data!$A$2:$I$4020,9,FALSE)),\"\",VLOOKUP(E594,Data!$A$2:$I$4020,9,FALSE))","v":""},{"$f":"IF(ISNA(VLOOKUP(E594,Data!$A$2:$J$4020,10,FALSE)),\"\",VLOOKUP(E594,Data!$A$2:$J$4020,10,FALSE))","v":""},{"$nulls":13},{"$f":"SUM(S594:U594)","v":0}]
[null,{"$f":"IF(A595=\"\",\"\",VLOOKUP(A595,Data!$B$2:$D$4020,3,FALSE))","v":""},{"$f":"IF(A595=\"\",\"\",VLOOKUP(A595,Data!$B$2:$F$4020,5,FALSE))","v":""},null,{"$f":"CONCATENATE(A595,D595)","v":""},{"$f":"IF(ISNA(VLOOKUP(E595,Data!$A$2:$I$4020,7,FALSE)),\"\",VLOOKUP(E595,Data!$A$2:$I$4020,7,FALSE))","v":""},{"$f":"IF(ISNA(VLOOKUP(E595,Data!$A$2:$I$4020,9,FALSE)),\"\",VLOOKUP(E595,Data!$A$2:$I$4020,9,FALSE))","v":""},{"$f":"IF(ISNA(VLOOKUP(E595,Data!$A$2:$J$4020,10,FALSE)),\"\",VLOOKUP(E595,Data!$A$2:$J$4020,10,FALSE))","v":""},{"$nulls":13},{"$f":"SUM(S595:U595)","v":0}]
[null,{"$f":"IF(A596=\"\",\"\",VLOOKUP(A596,Data!$B$2:$D$4020,3,FALSE))","v":""},{"$f":"IF(A596=\"\",\"\",VLOOKUP(A596,Data!$B$2:$F$4020,5,FALSE))","v":""},null,{"$f":"CONCATENATE(A596,D596)","v":""},{"$f":"IF(ISNA(VLOOKUP(E596,Data!$A$2:$I$4020,7,FALSE)),\"\",VLOOKUP(E596,Data!$A$2:$I$4020,7,FALSE))","v":""},{"$f":"IF(ISNA(VLOOKUP(E596,Data!$A$2:$I$4020,9,FALSE)),\"\",VLOOKUP(E596,Data!$A$2:$I$4020,9,FALSE))","v":""},{"$f":"IF(ISNA(VLOOKUP(E596,Data!$A$2:$J$4020,10,FALSE)),\"\",VLOOKUP(E596,Data!$A$2:$J$4020,10,FALSE))","v":""},{"$nulls":13},{"$f":"SUM(S596:U596)","v":0}]
[null,{"$f":"IF(A597=\"\",\"\",VLOOKUP(A597,Data!$B$2:$D$4020,3,FALSE))","v":""},{"$f":"IF(A597=\"\",\"\",VLOOKUP(A597,Data!$B$2:$F$4020,5,FALSE))","v":""},null,{"$f":"CONCATENATE(A597,D597)","v":""},{"$f":"IF(ISNA(VLOOKUP(E597,Data!$A$2:$I$4020,7,FALSE)),\"\",VLOOKUP(E597,Data!$A$2:$I$4020,7,FALSE))","v":""},{"$f":"IF(ISNA(VLOOKUP(E597,Data!$A$2:$I$4020,9,FALSE)),\"\",VLOOKUP(E597,Data!$A$2:$I$4020,9,FALSE))","v":""},{"$f":"IF(ISNA(VLOOKUP(E597,Data!$A$2:$J$4020,10,FALSE)),\"\",VLOOKUP(E597,Data!$A$2:$J$4020,10,FALSE))","v":""},{"$nulls":13},{"$f":"SUM(S597:U597)","v":0}]
[null,{"$f":"IF(A598=\"\",\"\",VLOOKUP(A598,Data!$B$2:$D$4020,3,FALSE))","v":""},{"$f":"IF(A598=\"\",\"\",VLOOKUP(A598,Data!$B$2:$F$4020,5,FALSE))","v":""},null,{"$f":"CONCATENATE(A598,D598)","v":""},{"$f":"IF(ISNA(VLOOKUP(E598,Data!$A$2:$I$4020,7,FALSE)),\"\",VLOOKUP(E598,Data!$A$2:$I$4020,7,FALSE))","v":""},{"$f":"IF(ISNA(VLOOKUP(E598,Data!$A$2:$I$4020,9,FALSE)),\"\",VLOOKUP(E598,Data!$A$2:$I$4020,9,FALSE))","v":""},{"$f":"IF(ISNA(VLOOKUP(E598,Data!$A$2:$J$4020,10,FALSE)),\"\",VLOOKUP(E598,Data!$A$2:$J$4020,10,FALSE))","v":""},{"$nulls":13},{"$f":"SUM(S598:U598)","v":0}]
[null,{"$f":"IF(A599=\"\",\"\",VLOOKUP(A599,Data!$B$2:$D$4020,3,FALSE))","v":""},{"$f":"IF(A599=\"\",\"\",VLOOKUP(A599,Data!$B$2:$F$4020,5,FALSE))","v":""},null,{"$f":"CONCATENATE(A599,D599)","v":""},{"$f":"IF(ISNA(VLOOKUP(E599,Data!$A$2:$I$4020,7,FALSE)),\"\",VLOOKUP(E599,Data!$A$2:$I$4020,7,FALSE))","v":""},{"$f":"IF(ISNA(VLOOKUP(E599,Data!$A$2:$I$4020,9,FALSE)),\"\",VLOOKUP(E599,Data!$A$2:$I$4020,9,FALSE))","v":""},{"$f":"IF(ISNA(VLOOKUP(E599,Data!$A$2:$J$4020,10,FALSE)),\"\",VLOOKUP(E599,Data!$A$2:$J$4020,10,FALSE))","v":""},{"$nulls":13},{"$f":"SUM(S599:U599)","v":0}]
[null,{"$f":"IF(A600=\"\",\"\",VLOOKUP(A600,Data!$B$2:$D$4020,3,FALSE))","v":""},{"$f":"IF(A600=\"\",\"\",VLOOKUP(A600,Data!$B$2:$F$4020,5,FALSE))","v":""},null,{"$f":"CONCATENATE(A600,D600)","v":""},{"$f":"IF(ISNA(VLOOKUP(E600,Data!$A$2:$I$4020,7,FALSE)),\"\",VLOOKUP(E600,Data!$A$2:$I$4020,7,FALSE))","v":""},{"$f":"IF(ISNA(VLOOKUP(E600,Data!$A$2:$I$4020,9,FALSE)),\"\",VLOOKUP(E600,Data!$A$2:$I$4020,9,FALSE))","v":""},{"$f":"IF(ISNA(VLOOKUP(E600,Data!$A$2:$J$4020,10,FALSE)),\"\",VLOOKUP(E600,Data!$A$2:$J$4020,10,FALSE))","v":""},{"$nulls":13},{"$f":"SUM(S600:U600)","v":0}]
[null,{"$f":"IF(A601=\"\",\"\",VLOOKUP(A601,Data!$B$2:$D$4020,3,FALSE))","v":""},{"$f":"IF(A601=\"\",\"\",VLOOKUP(A601,Data!$B$2:$F$4020,5,FALSE))","v":""},null,{"$f":"CONCATENATE(A601,D601)","v":""},{"$f":"IF(ISNA(VLOOKUP(E601,Data!$A$2:$I$4020,7,FALSE)),\"\",VLOOKUP(E601,Data!$A$2:$I$4020,7,FALSE))","v":""},{"$f":"IF(ISNA(VLOOKUP(E601,Data!$A$2:$I$4020,9,FALSE)),\"\",VLOOKUP(E601,Data!$A$2:$I$4020,9,FALSE))","v":""},{"$f":"IF(ISNA(VLOOKUP(E601,Data!$A$2:$J$4020,10,FALSE)),\"\",VLOOKUP(E601,Data!$A$2:$J$4020,10,FALSE))","v":""},{"$nulls":13},{"$f":"SUM(S601:U601)","v":0}]
[null,{"$f":"IF(A602=\"\",\"\",VLOOKUP(A602,Data!$B$2:$D$4020,3,FALSE))","v":""},{"$f":"IF(A602=\"\",\"\",VLOOKUP(A602,Data!$B$2:$F$4020,5,FALSE))","v":""},null,{"$f":"CONCATENATE(A602,D602)","v":""},{"$f":"IF(ISNA(VLOOKUP(E602,Data!$A$2:$I$4020,7,FALSE)),\"\",VLOOKUP(E602,Data!$A$2:$I$4020,7,FALSE))","v":""},{"$f":"IF(ISNA(VLOOKUP(E602,Data!$A$2:$I$4020,9,FALSE)),\"\",VLOOKUP(E602,Data!$A$2:$I$4020,9,FALSE))","v":""},{"$f":"IF(ISNA(VLOOKUP(E602,Data!$A$2:$J$4020,10,FALSE)),\"\",VLOOKUP(E602,Data!$A$2:$J$4020,10,FALSE))","v":""},{"$nulls":13},{"$f":"SUM(S602:U602)","v":0}]
[null,{"$f":"IF(A603=\"\",\"\",VLOOKUP(A603,Data!$B$2:$D$4020,3,FALSE))","v":""},{"$f":"IF(A603=\"\",\"\",VLOOKUP(A603,Data!$B$2:$F$4020,5,FALSE))","v":""},null,{"$f":"CONCATENATE(A603,D603)","v":""},{"$f":"IF(ISNA(VLOOKUP(E603,Data!$A$2:$I$4020,7,FALSE)),\"\",VLOOKUP(E603,Data!$A$2:$I$4020,7,FALSE))","v":""},{"$f":"IF(ISNA(VLOOKUP(E603,Data!$A$2:$I$4020,9,FALSE)),\"\",VLOOKUP(E603,Data!$A$2:$I$4020,9,FALSE))","v":""},{"$f":"IF(ISNA(VLOOKUP(E603,Data!$A$2:$J$4020,10,FALSE)),\"\",VLOOKUP(E603,Data!$A$2:$J$4020,10,FALSE))","v":""},{"$nulls":13},{"$f":"SUM(S603:U603)","v":0}]
[null,{"$f":"IF(A604=\"\",\"\",VLOOKUP(A604,Data!$B$2:$D$4020,3,FALSE))","v":""},{"$f":"IF(A604=\"\",\"\",VLOOKUP(A604,Data!$B$2:$F$4020,5,FALSE))","v":""},null,{"$f":"CONCATENATE(A604,D604)","v":""},{"$f":"IF(ISNA(VLOOKUP(E604,Data!$A$2:$I$4020,7,FALSE)),\"\",VLOOKUP(E604,Data!$A$2:$I$4020,7,FALSE))","v":""},{"$f":"IF(ISNA(VLOOKUP(E604,Data!$A$2:$I$4020,9,FALSE)),\"\",VLOOKUP(E604,Data!$A$2:$I$4020,9,FALSE))","v":""},{"$f":"IF(ISNA(VLOOKUP(E604,Data!$A$2:$J$4020,10,FALSE)),\"\",VLOOKUP(E604,Data!$A$2:$J$4020,10,FALSE))","v":""},{"$nulls":13},{"$f":"SUM(S604:U604)","v":0}]
[null,{"$f":"IF(A605=\"\",\"\",VLOOKUP(A605,Data!$B$2:$D$4020,3,FALSE))","v":""},{"$f":"IF(A605=\"\",\"\",VLOOKUP(A605,Data!$B$2:$F$4020,5,FALSE))","v":""},null,{"$f":"CONCATENATE(A605,D605)","v":""},{"$f":"IF(ISNA(VLOOKUP(E605,Data!$A$2:$I$4020,7,FALSE)),\"\",VLOOKUP(E605,Data!$A$2:$I$4020,7,FALSE))","v":""},{"$f":"IF(ISNA(VLOOKUP(E605,Data!$A$2:$I$4020,9,FALSE)),\"\",VLOOKUP(E605,Data!$A$2:$I$4020,9,FALSE))","v":""},{"$f":"IF(ISNA(VLOOKUP(E605,Data!$A$2:$J$4020,10,FALSE)),\"\",VLOOKUP(E605,Data!$A$2:$J$4020,10,FALSE))","v":""},{"$nulls":13},{"$f":"SUM(S605:U605)","v":0}]
[null,{"$f":"IF(A606=\"\",\"\",VLOOKUP(A606,Data!$B$2:$D$4020,3,FALSE))","v":""},{"$f":"IF(A606=\"\",\"\",VLOOKUP(A606,Data!$B$2:$F$4020,5,FALSE))","v":""},null,{"$f":"CONCATENATE(A606,D606)","v":""},{"$f":"IF(ISNA(VLOOKUP(E606,Data!$A$2:$I$4020,7,FALSE)),\"\",VLOOKUP(E606,Data!$A$2:$I$4020,7,FALSE))","v":""},{"$f":"IF(ISNA(VLOOKUP(E606,Data!$A$2:$I$4020,9,FALSE)),\"\",VLOOKUP(E606,Data!$A$2:$I$4020,9,FALSE))","v":""},{"$f":"IF(ISNA(VLOOKUP(E606,Data!$A$2:$J$4020,10,FALSE)),\"\",VLOOKUP(E606,Data!$A$2:$J$4020,10,FALSE))","v":""},{"$nulls":13},{"$f":"SUM(S606:U606)","v":0}]
[null,{"$f":"IF(A607=\"\",\"\",VLOOKUP(A607,Data!$B$2:$D$4020,3,FALSE))","v":""},{"$f":"IF(A607=\"\",\"\",VLOOKUP(A607,Data!$B$2:$F$4020,5,FALSE))","v":""},null,{"$f":"CONCATENATE(A607,D607)","v":""},{"$f":"IF(ISNA(VLOOKUP(E607,Data!$A$2:$I$4020,7,FALSE)),\"\",VLOOKUP(E607,Data!$A$2:$I$4020,7,FALSE))","v":""},{"$f":"IF(ISNA(VLOOKUP(E607,Data!$A$2:$I$4020,9,FALSE)),\"\",VLOOKUP(E607,Data!$A$2:$I$4020,9,FALSE))","v":""},{"$f":"IF(ISNA(VLOOKUP(E607,Data!$A$2:$J$4020,10,FALSE)),\"\",VLOOKUP(E607,Data!$A$2:$J$4020,10,FALSE))","v":""},{"$nulls":13},{"$f":"SUM(S607:U607)","v":0}]
[null,{"$f":"IF(A608=\"\",\"\",VLOOKUP(A608,Data!$B$2:$D$4020,3,FALSE))","v":""},{"$f":"IF(A608=\"\",\"\",VLOOKUP(A608,Data!$B$2:$F$4020,5,FALSE))","v":""},null,{"$f":"CONCATENATE(A608,D608)","v":""},{"$f":"IF(ISNA(VLOOKUP(E608,Data!$A$2:$I$4020,7,FALSE)),\"\",VLOOKUP(E608,Data!$A$2:$I$4020,7,FALSE))","v":""},{"$f":"IF(ISNA(VLOOKUP(E608,Data!$A$2:$I$4020,9,FALSE)),\"\",VLOOKUP(E608,Data!$A$2:$I$4020,9,FALSE))","v":""},{"$f":"IF(ISNA(VLOOKUP(E608,Data!$A$2:$J$4020,10,FALSE)),\"\",VLOOKUP(E608,Data!$A$2:$J$4020,10,FALSE))","v":""},{"$nulls":13},{"$f":"SUM(S608:U608)","v":0}]
[null,{"$f":"IF(A609=\"\",\"\",VLOOKUP(A609,Data!$B$2:$D$4020,3,FALSE))","v":""},{"$f":"IF(A609=\"\",\"\",VLOOKUP(A609,Data!$B$2:$F$4020,5,FALSE))","v":""},null,{"$f":"CONCATENATE(A609,D609)","v":""},{"$f":"IF(ISNA(VLOOKUP(E609,Data!$A$2:$I$4020,7,FALSE)),\"\",VLOOKUP(E609,Data!$A$2:$I$4020,7,FALSE))","v":""},{"$f":"IF(ISNA(VLOOKUP(E609,Data!$A$2:$I$4020,9,FALSE)),\"\",VLOOKUP(E609,Data!$A$2:$I$4020,9,FALSE))","v":""},{"$f":"IF(ISNA(VLOOKUP(E609,Data!$A$2:$J$4020,10,FALSE)),\"\",VLOOKUP(E609,Data!$A$2:$J$4020,10,FALSE))","v":""},{"$nulls":13},{"$f":"SUM(S609:U609)","v":0}]
[null,{"$f":"IF(A610=\"\",\"\",VLOOKUP(A610,Data!$B$2:$D$4020,3,FALSE))","v":""},{"$f":"IF(A610=\"\",\"\",VLOOKUP(A610,Data!$B$2:$F$4020,5,FALSE))","v":""},null,{"$f":"CONCATENATE(A610,D610)","v":""},{"$f":"IF(ISNA(VLOOKUP(E610,Data!$A$2:$I$4020,7,FALSE)),\"\",VLOOKUP(E610,Data!$A$2:$I$4020,7,FALSE))","v":""},{"$f":"IF(ISNA(VLOOKUP(E610,Data!$A$2:$I$4020,9,FALSE)),\"\",VLOOKUP(E610,Data!$A$2:$I$4020,9,FALSE))","v":""},{"$f":"IF(ISNA(VLOOKUP(E610,Data!$A$2:$J$4020,10,FALSE)),\"\",VLOOKUP(E610,Data!$A$2:$J$4020,10,FALSE))","v":""},{"$nulls":13},{"$f":"SUM(S610:U610)","v":0}]
[null,{"$f":"IF(A611=\"\",\"\",VLOOKUP(A611,Data!$B$2:$D$4020,3,FALSE))","v":""},{"$f":"IF(A611=\"\",\"\",VLOOKUP(A611,Data!$B$2:$F$4020,5,FALSE))","v":""},null,{"$f":"CONCATENATE(A611,D611)","v":""},{"$f":"IF(ISNA(VLOOKUP(E611,Data!$A$2:$I$4020,7,FALSE)),\"\",VLOOKUP(E611,Data!$A$2:$I$4020,7,FALSE))","v":""},{"$f":"IF(ISNA(VLOOKUP(E611,Data!$A$2:$I$4020,9,FALSE)),\"\",VLOOKUP(E611,Data!$A$2:$I$4020,9,FALSE))","v":""},{"$f":"IF(ISNA(VLOOKUP(E611,Data!$A$2:$J$4020,10,FALSE)),\"\",VLOOKUP(E611,Data!$A$2:$J$4020,10,FALSE))","v":""},{"$nulls":13},{"$f":"SUM(S611:U611)","v":0}]
[null,{"$f":"IF(A612=\"\",\"\",VLOOKUP(A612,Data!$B$2:$D$4020,3,FALSE))","v":""},{"$f":"IF(A612=\"\",\"\",VLOOKUP(A612,Data!$B$2:$F$4020,5,FALSE))","v":""},null,{"$f":"CONCATENATE(A612,D612)","v":""},{"$f":"IF(ISNA(VLOOKUP(E612,Data!$A$2:$I$4020,7,FALSE)),\"\",VLOOKUP(E612,Data!$A$2:$I$4020,7,FALSE))","v":""},{"$f":"IF(ISNA(VLOOKUP(E612,Data!$A$2:$I$4020,9,FALSE)),\"\",VLOOKUP(E612,Data!$A$2:$I$4020,9,FALSE))","v":""},{"$f":"IF(ISNA(VLOOKUP(E612,Data!$A$2:$J$4020,10,FALSE)),\"\",VLOOKUP(E612,Data!$A$2:$J$4020,10,FALSE))","v":""},{"$nulls":13},{"$f":"SUM(S612:U612)","v":0}]
[null,{"$f":"IF(A613=\"\",\"\",VLOOKUP(A613,Data!$B$2:$D$4020,3,FALSE))","v":""},{"$f":"IF(A613=\"\",\"\",VLOOKUP(A613,Data!$B$2:$F$4020,5,FALSE))","v":""},null,{"$f":"CONCATENATE(A613,D613)","v":""},{"$f":"IF(ISNA(VLOOKUP(E613,Data!$A$2:$I$4020,7,FALSE)),\"\",VLOOKUP(E613,Data!$A$2:$I$4020,7,FALSE))","v":""},{"$f":"IF(ISNA(VLOOKUP(E613,Data!$A$2:$I$4020,9,FALSE)),\"\",VLOOKUP(E613,Data!$A$2:$I$4020,9,FALSE))","v":""},{"$f":"IF(ISNA(VLOOKUP(E613,Data!$A$2:$J$4020,10,FALSE)),\"\",VLOOKUP(E613,Data!$A$2:$J$4020,10,FALSE))","v":""},{"$nulls":13},{"$f":"SUM(S613:U613)","v":0}]
[null,{"$f":"IF(A614=\"\",\"\",VLOOKUP(A614,Data!$B$2:$D$4020,3,FALSE))","v":""},{"$f":"IF(A614=\"\",\"\",VLOOKUP(A614,Data!$B$2:$F$4020,5,FALSE))","v":""},null,{"$f":"CONCATENATE(A614,D614)","v":""},{"$f":"IF(ISNA(VLOOKUP(E614,Data!$A$2:$I$4020,7,FALSE)),\"\",VLOOKUP(E614,Data!$A$2:$I$4020,7,FALSE))","v":""},{"$f":"IF(ISNA(VLOOKUP(E614,Data!$A$2:$I$4020,9,FALSE)),\"\",VLOOKUP(E614,Data!$A$2:$I$4020,9,FALSE))","v":""},{"$f":"IF(ISNA(VLOOKUP(E614,Data!$A$2:$J$4020,10,FALSE)),\"\",VLOOKUP(E614,Data!$A$2:$J$4020,10,FALSE))","v":""},{"$nulls":13},{"$f":"SUM(S614:U614)","v":0}]
[null,{"$f":"IF(A615=\"\",\"\",VLOOKUP(A615,Data!$B$2:$D$4020,3,FALSE))","v":""},{"$f":"IF(A615=\"\",\"\",VLOOKUP(A615,Data!$B$2:$F$4020,5,FALSE))","v":""},null,{"$f":"CONCATENATE(A615,D615)","v":""},{"$f":"IF(ISNA(VLOOKUP(E615,Data!$A$2:$I$4020,7,FALSE)),\"\",VLOOKUP(E615,Data!$A$2:$I$4020,7,FALSE))","v":""},{"$f":"IF(ISNA(VLOOKUP(E615,Data!$A$2:$I$4020,9,FALSE)),\"\",VLOOKUP(E615,Data!$A$2:$I$4020,9,FALSE))","v":""},{"$f":"IF(ISNA(VLOOKUP(E615,Data!$A$2:$J$4020,10,FALSE)),\"\",VLOOKUP(E615,Data!$A$2:$J$4020,10,FALSE))","v":""},{"$nulls":13},{"$f":"SUM(S615:U615)","v":0}]
[null,{"$f":"IF(A616=\"\",\"\",VLOOKUP(A616,Data!$B$2:$D$4020,3,FALSE))","v":""},{"$f":"IF(A616=\"\",\"\",VLOOKUP(A616,Data!$B$2:$F$4020,5,FALSE))","v":""},null,{"$f":"CONCATENATE(A616,D616)","v":""},{"$f":"IF(ISNA(VLOOKUP(E616,Data!$A$2:$I$4020,7,FALSE)),\"\",VLOOKUP(E616,Data!$A$2:$I$4020,7,FALSE))","v":""},{"$f":"IF(ISNA(VLOOKUP(E616,Data!$A$2:$I$4020,9,FALSE)),\"\",VLOOKUP(E616,Data!$A$2:$I$4020,9,FALSE))","v":""},{"$f":"IF(ISNA(VLOOKUP(E616,Data!$A$2:$J$4020,10,FALSE)),\"\",VLOOKUP(E616,Data!$A$2:$J$4020,10,FALSE))","v":""},{"$nulls":13},{"$f":"SUM(S616:U616)","v":0}]
[null,{"$f":"IF(A617=\"\",\"\",VLOOKUP(A617,Data!$B$2:$D$4020,3,FALSE))","v":""},{"$f":"IF(A617=\"\",\"\",VLOOKUP(A617,Data!$B$2:$F$4020,5,FALSE))","v":""},null,{"$f":"CONCATENATE(A617,D617)","v":""},{"$f":"IF(ISNA(VLOOKUP(E617,Data!$A$2:$I$4020,7,FALSE)),\"\",VLOOKUP(E617,Data!$A$2:$I$4020,7,FALSE))","v":""},{"$f":"IF(ISNA(VLOOKUP(E617,Data!$A$2:$I$4020,9,FALSE)),\"\",VLOOKUP(E617,Data!$A$2:$I$4020,9,FALSE))","v":""},{"$f":"IF(ISNA(VLOOKUP(E617,Data!$A$2:$J$4020,10,FALSE)),\"\",VLOOKUP(E617,Data!$A$2:$J$4020,10,FALSE))","v":""},{"$nulls":13},{"$f":"SUM(S617:U617)","v":0}]
[null,{"$f":"IF(A618=\"\",\"\",VLOOKUP(A618,Data!$B$2:$D$4020,3,FALSE))","v":""},{"$f":"IF(A618=\"\",\"\",VLOOKUP(A618,Data!$B$2:$F$4020,5,FALSE))","v":""},null,{"$f":"CONCATENATE(A618,D618)","v":""},{"$f":"IF(ISNA(VLOOKUP(E618,Data!$A$2:$I$4020,7,FALSE)),\"\",VLOOKUP(E618,Data!$A$2:$I$4020,7,FALSE))","v":""},{"$f":"IF(ISNA(VLOOKUP(E618,Data!$A$2:$I$4020,9,FALSE)),\"\",VLOOKUP(E618,Data!$A$2:$I$4020,9,FALSE))","v":""},{"$f":"IF(ISNA(VLOOKUP(E618,Data!$A$2:$J$4020,10,FALSE)),\"\",VLOOKUP(E618,Data!$A$2:$J$4020,10,FALSE))","v":""},{"$nulls":13},{"$f":"SUM(S618:U618)","v":0}]
[null,{"$f":"IF(A619=\"\",\"\",VLOOKUP(A619,Data!$B$2:$D$4020,3,FALSE))","v":""},{"$f":"IF(A619=\"\",\"\",VLOOKUP(A619,Data!$B$2:$F$4020,5,FALSE))","v":""},null,{"$f":"CONCATENATE(A619,D619)","v":""},{"$f":"IF(ISNA(VLOOKUP(E619,Data!$A$2:$I$4020,7,FALSE)),\"\",VLOOKUP(E619,Data!$A$2:$I$4020,7,FALSE))","v":""},{"$f":"IF(ISNA(VLOOKUP(E619,Data!$A$2:$I$4020,9,FALSE)),\"\",VLOOKUP(E619,Data!$A$2:$I$4020,9,FALSE))","v":""},{"$f":"IF(ISNA(VLOOKUP(E619,Data!$A$2:$J$4020,10,FALSE)),\"\",VLOOKUP(E619,Data!$A$2:$J$4020,10,FALSE))","v":""},{"$nulls":13},{"$f":"SUM(S619:U619)","v":0}]
[null,{"$f":"IF(A620=\"\",\"\",VLOOKUP(A620,Data!$B$2:$D$4020,3,FALSE))","v":""},{"$f":"IF(A620=\"\",\"\",VLOOKUP(A620,Data!$B$2:$F$4020,5,FALSE))","v":""},null,{"$f":"CONCATENATE(A620,D620)","v":""},{"$f":"IF(ISNA(VLOOKUP(E620,Data!$A$2:$I$4020,7,FALSE)),\"\",VLOOKUP(E620,Data!$A$2:$I$4020,7,FALSE))","v":""},{"$f":"IF(ISNA(VLOOKUP(E620,Data!$A$2:$I$4020,9,FALSE)),\"\",VLOOKUP(E620,Data!$A$2:$I$4020,9,FALSE))","v":""},{"$f":"IF(ISNA(VLOOKUP(E620,Data!$A$2:$J$4020,10,FALSE)),\"\",VLOOKUP(E620,Data!$A$2:$J$4020,10,FALSE))","v":""},{"$nulls":13},{"$f":"SUM(S620:U620)","v":0}]
[null,{"$f":"IF(A621=\"\",\"\",VLOOKUP(A621,Data!$B$2:$D$4020,3,FALSE))","v":""},{"$f":"IF(A621=\"\",\"\",VLOOKUP(A621,Data!$B$2:$F$4020,5,FALSE))","v":""},null,{"$f":"CONCATENATE(A621,D621)","v":""},{"$f":"IF(ISNA(VLOOKUP(E621,Data!$A$2:$I$4020,7,FALSE)),\"\",VLOOKUP(E621,Data!$A$2:$I$4020,7,FALSE))","v":""},{"$f":"IF(ISNA(VLOOKUP(E621,Data!$A$2:$I$4020,9,FALSE)),\"\",VLOOKUP(E621,Data!$A$2:$I$4020,9,FALSE))","v":""},{"$f":"IF(ISNA(VLOOKUP(E621,Data!$A$2:$J$4020,10,FALSE)),\"\",VLOOKUP(E621,Data!$A$2:$J$4020,10,FALSE))","v":""},{"$nulls":13},{"$f":"SUM(S621:U621)","v":0}]
[null,{"$f":"IF(A622=\"\",\"\",VLOOKUP(A622,Data!$B$2:$D$4020,3,FALSE))","v":""},{"$f":"IF(A622=\"\",\"\",VLOOKUP(A622,Data!$B$2:$F$4020,5,FALSE))","v":""},null,{"$f":"CONCATENATE(A622,D622)","v":""},{"$f":"IF(ISNA(VLOOKUP(E622,Data!$A$2:$I$4020,7,FALSE)),\"\",VLOOKUP(E622,Data!$A$2:$I$4020,7,FALSE))","v":""},{"$f":"IF(ISNA(VLOOKUP(E622,Data!$A$2:$I$4020,9,FALSE)),\"\",VLOOKUP(E622,Data!$A$2:$I$4020,9,FALSE))","v":""},{"$f":"IF(ISNA(VLOOKUP(E622,Data!$A$2:$J$4020,10,FALSE)),\"\",VLOOKUP(E622,Data!$A$2:$J$4020,10,FALSE))","v":""},{"$nulls":13},{"$f":"SUM(S622:U622)","v":0}]
[null,{"$f":"IF(A623=\"\",\"\",VLOOKUP(A623,Data!$B$2:$D$4020,3,FALSE))","v":""},{"$f":"IF(A623=\"\",\"\",VLOOKUP(A623,Data!$B$2:$F$4020,5,FALSE))","v":""},null,{"$f":"CONCATENATE(A623,D623)","v":""},{"$f":"IF(ISNA(VLOOKUP(E623,Data!$A$2:$I$4020,7,FALSE)),\"\",VLOOKUP(E623,Data!$A$2:$I$4020,7,FALSE))","v":""},{"$f":"IF(ISNA(VLOOKUP(E623,Data!$A$2:$I$4020,9,FALSE)),\"\",VLOOKUP(E623,Data!$A$2:$I$4020,9,FALSE))","v":""},{"$f":"IF(ISNA(VLOOKUP(E623,Data!$A$2:$J$4020,10,FALSE)),\"\",VLOOKUP(E623,Data!$A$2:$J$4020,10,FALSE))","v":""},{"$nulls":13},{"$f":"SUM(S623:U623)","v":0}]
[null,{"$f":"IF(A624=\"\",\"\",VLOOKUP(A624,Data!$B$2:$D$4020,3,FALSE))","v":""},{"$f":"IF(A624=\"\",\"\",VLOOKUP(A624,Data!$B$2:$F$4020,5,FALSE))","v":""},null,{"$f":"CONCATENATE(A624,D624)","v":""},{"$f":"IF(ISNA(VLOOKUP(E624,Data!$A$2:$I$4020,7,FALSE)),\"\",VLOOKUP(E624,Data!$A$2:$I$4020,7,FALSE))","v":""},{"$f":"IF(ISNA(VLOOKUP(E624,Data!$A$2:$I$4020,9,FALSE)),\"\",VLOOKUP(E624,Data!$A$2:$I$4020,9,FALSE))","v":""},{"$f":"IF(ISNA(VLOOKUP(E624,Data!$A$2:$J$4020,10,FALSE)),\"\",VLOOKUP(E624,Data!$A$2:$J$4020,10,FALSE))","v":""},{"$nulls":13},{"$f":"SUM(S624:U624)","v":0}]
[null,{"$f":"IF(A625=\"\",\"\",VLOOKUP(A625,Data!$B$2:$D$4020,3,FALSE))","v":""},{"$f":"IF(A625=\"\",\"\",VLOOKUP(A625,Data!$B$2:$F$4020,5,FALSE))","v":""},null,{"$f":"CONCATENATE(A625,D625)","v":""},{"$f":"IF(ISNA(VLOOKUP(E625,Data!$A$2:$I$4020,7,FALSE)),\"\",VLOOKUP(E625,Data!$A$2:$I$4020,7,FALSE))","v":""},{"$f":"IF(ISNA(VLOOKUP(E625,Data!$A$2:$I$4020,9,FALSE)),\"\",VLOOKUP(E625,Data!$A$2:$I$4020,9,FALSE))","v":""},{"$f":"IF(ISNA(VLOOKUP(E625,Data!$A$2:$J$4020,10,FALSE)),\"\",VLOOKUP(E625,Data!$A$2:$J$4020,10,FALSE))","v":""},{"$nulls":13},{"$f":"SUM(S625:U625)","v":0}]
[null,{"$f":"IF(A626=\"\",\"\",VLOOKUP(A626,Data!$B$2:$D$4020,3,FALSE))","v":""},{"$f":"IF(A626=\"\",\"\",VLOOKUP(A626,Data!$B$2:$F$4020,5,FALSE))","v":""},null,{"$f":"CONCATENATE(A626,D626)","v":""},{"$f":"IF(ISNA(VLOOKUP(E626,Data!$A$2:$I$4020,7,FALSE)),\"\",VLOOKUP(E626,Data!$A$2:$I$4020,7,FALSE))","v":""},{"$f":"IF(ISNA(VLOOKUP(E626,Data!$A$2:$I$4020,9,FALSE)),\"\",VLOOKUP(E626,Data!$A$2:$I$4020,9,FALSE))","v":""},{"$f":"IF(ISNA(VLOOKUP(E626,Data!$A$2:$J$4020,10,FALSE)),\"\",VLOOKUP(E626,Data!$A$2:$J$4020,10,FALSE))","v":""},{"$nulls":13},{"$f":"SUM(S626:U626)","v":0}]
[null,{"$f":"IF(A627=\"\",\"\",VLOOKUP(A627,Data!$B$2:$D$4020,3,FALSE))","v":""},{"$f":"IF(A627=\"\",\"\",VLOOKUP(A627,Data!$B$2:$F$4020,5,FALSE))","v":""},null,{"$f":"CONCATENATE(A627,D627)","v":""},{"$f":"IF(ISNA(VLOOKUP(E627,Data!$A$2:$I$4020,7,FALSE)),\"\",VLOOKUP(E627,Data!$A$2:$I$4020,7,FALSE))","v":""},{"$f":"IF(ISNA(VLOOKUP(E627,Data!$A$2:$I$4020,9,FALSE)),\"\",VLOOKUP(E627,Data!$A$2:$I$4020,9,FALSE))","v":""},{"$f":"IF(ISNA(VLOOKUP(E627,Data!$A$2:$J$4020,10,FALSE)),\"\",VLOOKUP(E627,Data!$A$2:$J$4020,10,FALSE))","v":""},{"$nulls":13},{"$f":"SUM(S627:U627)","v":0}]
[null,{"$f":"IF(A628=\"\",\"\",VLOOKUP(A628,Data!$B$2:$D$4020,3,FALSE))","v":""},{"$f":"IF(A628=\"\",\"\",VLOOKUP(A628,Data!$B$2:$F$4020,5,FALSE))","v":""},null,{"$f":"CONCATENATE(A628,D628)","v":""},{"$f":"IF(ISNA(VLOOKUP(E628,Data!$A$2:$I$4020,7,FALSE)),\"\",VLOOKUP(E628,Data!$A$2:$I$4020,7,FALSE))","v":""},{"$f":"IF(ISNA(VLOOKUP(E628,Data!$A$2:$I$4020,9,FALSE)),\"\",VLOOKUP(E628,Data!$A$2:$I$4020,9,FALSE))","v":""},{"$f":"IF(ISNA(VLOOKUP(E628,Data!$A$2:$J$4020,10,FALSE)),\"\",VLOOKUP(E628,Data!$A$2:$J$4020,10,FALSE))","v":""},{"$nulls":13},{"$f":"SUM(S628:U628)","v":0}]
[null,{"$f":"IF(A629=\"\",\"\",VLOOKUP(A629,Data!$B$2:$D$4020,3,FALSE))","v":""},{"$f":"IF(A629=\"\",\"\",VLOOKUP(A629,Data!$B$2:$F$4020,5,FALSE))","v":""},null,{"$f":"CONCATENATE(A629,D629)","v":""},{"$f":"IF(ISNA(VLOOKUP(E629,Data!$A$2:$I$4020,7,FALSE)),\"\",VLOOKUP(E629,Data!$A$2:$I$4020,7,FALSE))","v":""},{"$f":"IF(ISNA(VLOOKUP(E629,Data!$A$2:$I$4020,9,FALSE)),\"\",VLOOKUP(E629,Data!$A$2:$I$4020,9,FALSE))","v":""},{"$f":"IF(ISNA(VLOOKUP(E629,Data!$A$2:$J$4020,10,FALSE)),\"\",VLOOKUP(E629,Data!$A$2:$J$4020,10,FALSE))","v":""},{"$nulls":13},{"$f":"SUM(S629:U629)","v":0}]
[null,{"$f":"IF(A630=\"\",\"\",VLOOKUP(A630,Data!$B$2:$D$4020,3,FALSE))","v":""},{"$f":"IF(A630=\"\",\"\",VLOOKUP(A630,Data!$B$2:$F$4020,5,FALSE))","v":""},null,{"$f":"CONCATENATE(A630,D630)","v":""},{"$f":"IF(ISNA(VLOOKUP(E630,Data!$A$2:$I$4020,7,FALSE)),\"\",VLOOKUP(E630,Data!$A$2:$I$4020,7,FALSE))","v":""},{"$f":"IF(ISNA(VLOOKUP(E630,Data!$A$2:$I$4020,9,FALSE)),\"\",VLOOKUP(E630,Data!$A$2:$I$4020,9,FALSE))","v":""},{"$f":"IF(ISNA(VLOOKUP(E630,Data!$A$2:$J$4020,10,FALSE)),\"\",VLOOKUP(E630,Data!$A$2:$J$4020,10,FALSE))","v":""},{"$nulls":13},{"$f":"SUM(S630:U630)","v":0}]
[null,{"$f":"IF(A631=\"\",\"\",VLOOKUP(A631,Data!$B$2:$D$4020,3,FALSE))","v":""},{"$f":"IF(A631=\"\",\"\",VLOOKUP(A631,Data!$B$2:$F$4020,5,FALSE))","v":""},null,{"$f":"CONCATENATE(A631,D631)","v":""},{"$f":"IF(ISNA(VLOOKUP(E631,Data!$A$2:$I$4020,7,FALSE)),\"\",VLOOKUP(E631,Data!$A$2:$I$4020,7,FALSE))","v":""},{"$f":"IF(ISNA(VLOOKUP(E631,Data!$A$2:$I$4020,9,FALSE)),\"\",VLOOKUP(E631,Data!$A$2:$I$4020,9,FALSE))","v":""},{"$f":"IF(ISNA(VLOOKUP(E631,Data!$A$2:$J$4020,10,FALSE)),\"\",VLOOKUP(E631,Data!$A$2:$J$4020,10,FALSE))","v":""},{"$nulls":13},{"$f":"SUM(S631:U631)","v":0}]
[null,{"$f":"IF(A632=\"\",\"\",VLOOKUP(A632,Data!$B$2:$D$4020,3,FALSE))","v":""},{"$f":"IF(A632=\"\",\"\",VLOOKUP(A632,Data!$B$2:$F$4020,5,FALSE))","v":""},null,{"$f":"CONCATENATE(A632,D632)","v":""},{"$f":"IF(ISNA(VLOOKUP(E632,Data!$A$2:$I$4020,7,FALSE)),\"\",VLOOKUP(E632,Data!$A$2:$I$4020,7,FALSE))","v":""},{"$f":"IF(ISNA(VLOOKUP(E632,Data!$A$2:$I$4020,9,FALSE)),\"\",VLOOKUP(E632,Data!$A$2:$I$4020,9,FALSE))","v":""},{"$f":"IF(ISNA(VLOOKUP(E632,Data!$A$2:$J$4020,10,FALSE)),\"\",VLOOKUP(E632,Data!$A$2:$J$4020,10,FALSE))","v":""},{"$nulls":13},{"$f":"SUM(S632:U632)","v":0}]
[null,{"$f":"IF(A633=\"\",\"\",VLOOKUP(A633,Data!$B$2:$D$4020,3,FALSE))","v":""},{"$f":"IF(A633=\"\",\"\",VLOOKUP(A633,Data!$B$2:$F$4020,5,FALSE))","v":""},null,{"$f":"CONCATENATE(A633,D633)","v":""},{"$f":"IF(ISNA(VLOOKUP(E633,Data!$A$2:$I$4020,7,FALSE)),\"\",VLOOKUP(E633,Data!$A$2:$I$4020,7,FALSE))","v":""},{"$f":"IF(ISNA(VLOOKUP(E633,Data!$A$2:$I$4020,9,FALSE)),\"\",VLOOKUP(E633,Data!$A$2:$I$4020,9,FALSE))","v":""},{"$f":"IF(ISNA(VLOOKUP(E633,Data!$A$2:$J$4020,10,FALSE)),\"\",VLOOKUP(E633,Data!$A$2:$J$4020,10,FALSE))","v":""},{"$nulls":13},{"$f":"SUM(S633:U633)","v":0}]
[null,{"$f":"IF(A634=\"\",\"\",VLOOKUP(A634,Data!$B$2:$D$4020,3,FALSE))","v":""},{"$f":"IF(A634=\"\",\"\",VLOOKUP(A634,Data!$B$2:$F$4020,5,FALSE))","v":""},null,{"$f":"CONCATENATE(A634,D634)","v":""},{"$f":"IF(ISNA(VLOOKUP(E634,Data!$A$2:$I$4020,7,FALSE)),\"\",VLOOKUP(E634,Data!$A$2:$I$4020,7,FALSE))","v":""},{"$f":"IF(ISNA(VLOOKUP(E634,Data!$A$2:$I$4020,9,FALSE)),\"\",VLOOKUP(E634,Data!$A$2:$I$4020,9,FALSE))","v":""},{"$f":"IF(ISNA(VLOOKUP(E634,Data!$A$2:$J$4020,10,FALSE)),\"\",VLOOKUP(E634,Data!$A$2:$J$4020,10,FALSE))","v":""},{"$nulls":13},{"$f":"SUM(S634:U634)","v":0}]
[null,{"$f":"IF(A635=\"\",\"\",VLOOKUP(A635,Data!$B$2:$D$4020,3,FALSE))","v":""},{"$f":"IF(A635=\"\",\"\",VLOOKUP(A635,Data!$B$2:$F$4020,5,FALSE))","v":""},null,{"$f":"CONCATENATE(A635,D635)","v":""},{"$f":"IF(ISNA(VLOOKUP(E635,Data!$A$2:$I$4020,7,FALSE)),\"\",VLOOKUP(E635,Data!$A$2:$I$4020,7,FALSE))","v":""},{"$f":"IF(ISNA(VLOOKUP(E635,Data!$A$2:$I$4020,9,FALSE)),\"\",VLOOKUP(E635,Data!$A$2:$I$4020,9,FALSE))","v":""},{"$f":"IF(ISNA(VLOOKUP(E635,Data!$A$2:$J$4020,10,FALSE)),\"\",VLOOKUP(E635,Data!$A$2:$J$4020,10,FALSE))","v":""},{"$nulls":13},{"$f":"SUM(S635:U635)","v":0}]
[null,{"$f":"IF(A636=\"\",\"\",VLOOKUP(A636,Data!$B$2:$D$4020,3,FALSE))","v":""},{"$f":"IF(A636=\"\",\"\",VLOOKUP(A636,Data!$B$2:$F$4020,5,FALSE))","v":""},null,{"$f":"CONCATENATE(A636,D636)","v":""},{"$f":"IF(ISNA(VLOOKUP(E636,Data!$A$2:$I$4020,7,FALSE)),\"\",VLOOKUP(E636,Data!$A$2:$I$4020,7,FALSE))","v":""},{"$f":"IF(ISNA(VLOOKUP(E636,Data!$A$2:$I$4020,9,FALSE)),\"\",VLOOKUP(E636,Data!$A$2:$I$4020,9,FALSE))","v":""},{"$f":"IF(ISNA(VLOOKUP(E636,Data!$A$2:$J$4020,10,FALSE)),\"\",VLOOKUP(E636,Data!$A$2:$J$4020,10,FALSE))","v":""},{"$nulls":13},{"$f":"SUM(S636:U636)","v":0}]
[null,{"$f":"IF(A637=\"\",\"\",VLOOKUP(A637,Data!$B$2:$D$4020,3,FALSE))","v":""},{"$f":"IF(A637=\"\",\"\",VLOOKUP(A637,Data!$B$2:$F$4020,5,FALSE))","v":""},null,{"$f":"CONCATENATE(A637,D637)","v":""},{"$f":"IF(ISNA(VLOOKUP(E637,Data!$A$2:$I$4020,7,FALSE)),\"\",VLOOKUP(E637,Data!$A$2:$I$4020,7,FALSE))","v":""},{"$f":"IF(ISNA(VLOOKUP(E637,Data!$A$2:$I$4020,9,FALSE)),\"\",VLOOKUP(E637,Data!$A$2:$I$4020,9,FALSE))","v":""},{"$f":"IF(ISNA(VLOOKUP(E637,Data!$A$2:$J$4020,10,FALSE)),\"\",VLOOKUP(E637,Data!$A$2:$J$4020,10,FALSE))","v":""},{"$nulls":13},{"$f":"SUM(S637:U637)","v":0}]
[null,{"$f":"IF(A638=\"\",\"\",VLOOKUP(A638,Data!$B$2:$D$4020,3,FALSE))","v":""},{"$f":"IF(A638=\"\",\"\",VLOOKUP(A638,Data!$B$2:$F$4020,5,FALSE))","v":""},null,{"$f":"CONCATENATE(A638,D638)","v":""},{"$f":"IF(ISNA(VLOOKUP(E638,Data!$A$2:$I$4020,7,FALSE)),\"\",VLOOKUP(E638,Data!$A$2:$I$4020,7,FALSE))","v":""},{"$f":"IF(ISNA(VLOOKUP(E638,Data!$A$2:$I$4020,9,FALSE)),\"\",VLOOKUP(E638,Data!$A$2:$I$4020,9,FALSE))","v":""},{"$f":"IF(ISNA(VLOOKUP(E638,Data!$A$2:$J$4020,10,FALSE)),\"\",VLOOKUP(E638,Data!$A$2:$J$4020,10,FALSE))","v":""},{"$nulls":13},{"$f":"SUM(S638:U638)","v":0}]
[null,{"$f":"IF(A639=\"\",\"\",VLOOKUP(A639,Data!$B$2:$D$4020,3,FALSE))","v":""},{"$f":"IF(A639=\"\",\"\",VLOOKUP(A639,Data!$B$2:$F$4020,5,FALSE))","v":""},null,{"$f":"CONCATENATE(A639,D639)","v":""},{"$f":"IF(ISNA(VLOOKUP(E639,Data!$A$2:$I$4020,7,FALSE)),\"\",VLOOKUP(E639,Data!$A$2:$I$4020,7,FALSE))","v":""},{"$f":"IF(ISNA(VLOOKUP(E639,Data!$A$2:$I$4020,9,FALSE)),\"\",VLOOKUP(E639,Data!$A$2:$I$4020,9,FALSE))","v":""},{"$f":"IF(ISNA(VLOOKUP(E639,Data!$A$2:$J$4020,10,FALSE)),\"\",VLOOKUP(E639,Data!$A$2:$J$4020,10,FALSE))","v":""},{"$nulls":13},{"$f":"SUM(S639:U639)","v":0}]
[null,{"$f":"IF(A640=\"\",\"\",VLOOKUP(A640,Data!$B$2:$D$4020,3,FALSE))","v":""},{"$f":"IF(A640=\"\",\"\",VLOOKUP(A640,Data!$B$2:$F$4020,5,FALSE))","v":""},null,{"$f":"CONCATENATE(A640,D640)","v":""},{"$f":"IF(ISNA(VLOOKUP(E640,Data!$A$2:$I$4020,7,FALSE)),\"\",VLOOKUP(E640,Data!$A$2:$I$4020,7,FALSE))","v":""},{"$f":"IF(ISNA(VLOOKUP(E640,Data!$A$2:$I$4020,9,FALSE)),\"\",VLOOKUP(E640,Data!$A$2:$I$4020,9,FALSE))","v":""},{"$f":"IF(ISNA(VLOOKUP(E640,Data!$A$2:$J$4020,10,FALSE)),\"\",VLOOKUP(E640,Data!$A$2:$J$4020,10,FALSE))","v":""},{"$nulls":13},{"$f":"SUM(S640:U640)","v":0}]
[null,{"$f":"IF(A641=\"\",\"\",VLOOKUP(A641,Data!$B$2:$D$4020,3,FALSE))","v":""},{"$f":"IF(A641=\"\",\"\",VLOOKUP(A641,Data!$B$2:$F$4020,5,FALSE))","v":""},null,{"$f":"CONCATENATE(A641,D641)","v":""},{"$f":"IF(ISNA(VLOOKUP(E641,Data!$A$2:$I$4020,7,FALSE)),\"\",VLOOKUP(E641,Data!$A$2:$I$4020,7,FALSE))","v":""},{"$f":"IF(ISNA(VLOOKUP(E641,Data!$A$2:$I$4020,9,FALSE)),\"\",VLOOKUP(E641,Data!$A$2:$I$4020,9,FALSE))","v":""},{"$f":"IF(ISNA(VLOOKUP(E641,Data!$A$2:$J$4020,10,FALSE)),\"\",VLOOKUP(E641,Data!$A$2:$J$4020,10,FALSE))","v":""},{"$nulls":13},{"$f":"SUM(S641:U641)","v":0}]
[null,{"$f":"IF(A642=\"\",\"\",VLOOKUP(A642,Data!$B$2:$D$4020,3,FALSE))","v":""},{"$f":"IF(A642=\"\",\"\",VLOOKUP(A642,Data!$B$2:$F$4020,5,FALSE))","v":""},null,{"$f":"CONCATENATE(A642,D642)","v":""},{"$f":"IF(ISNA(VLOOKUP(E642,Data!$A$2:$I$4020,7,FALSE)),\"\",VLOOKUP(E642,Data!$A$2:$I$4020,7,FALSE))","v":""},{"$f":"IF(ISNA(VLOOKUP(E642,Data!$A$2:$I$4020,9,FALSE)),\"\",VLOOKUP(E642,Data!$A$2:$I$4020,9,FALSE))","v":""},{"$f":"IF(ISNA(VLOOKUP(E642,Data!$A$2:$J$4020,10,FALSE)),\"\",VLOOKUP(E642,Data!$A$2:$J$4020,10,FALSE))","v":""},{"$nulls":13},{"$f":"SUM(S642:U642)","v":0}]
[null,{"$f":"IF(A643=\"\",\"\",VLOOKUP(A643,Data!$B$2:$D$4020,3,FALSE))","v":""},{"$f":"IF(A643=\"\",\"\",VLOOKUP(A643,Data!$B$2:$F$4020,5,FALSE))","v":""},null,{"$f":"CONCATENATE(A643,D643)","v":""},{"$f":"IF(ISNA(VLOOKUP(E643,Data!$A$2:$I$4020,7,FALSE)),\"\",VLOOKUP(E643,Data!$A$2:$I$4020,7,FALSE))","v":""},{"$f":"IF(ISNA(VLOOKUP(E643,Data!$A$2:$I$4020,9,FALSE)),\"\",VLOOKUP(E643,Data!$A$2:$I$4020,9,FALSE))","v":""},{"$f":"IF(ISNA(VLOOKUP(E643,Data!$A$2:$J$4020,10,FALSE)),\"\",VLOOKUP(E643,Data!$A$2:$J$4020,10,FALSE))","v":""},{"$nulls":13},{"$f":"SUM(S643:U643)","v":0}]
[null,{"$f":"IF(A644=\"\",\"\",VLOOKUP(A644,Data!$B$2:$D$4020,3,FALSE))","v":""},{"$f":"IF(A644=\"\",\"\",VLOOKUP(A644,Data!$B$2:$F$4020,5,FALSE))","v":""},null,{"$f":"CONCATENATE(A644,D644)","v":""},{"$f":"IF(ISNA(VLOOKUP(E644,Data!$A$2:$I$4020,7,FALSE)),\"\",VLOOKUP(E644,Data!$A$2:$I$4020,7,FALSE))","v":""},{"$f":"IF(ISNA(VLOOKUP(E644,Data!$A$2:$I$4020,9,FALSE)),\"\",VLOOKUP(E644,Data!$A$2:$I$4020,9,FALSE))","v":""},{"$f":"IF(ISNA(VLOOKUP(E644,Data!$A$2:$J$4020,10,FALSE)),\"\",VLOOKUP(E644,Data!$A$2:$J$4020,10,FALSE))","v":""},{"$nulls":13},{"$f":"SUM(S644:U644)","v":0}]
[null,{"$f":"IF(A645=\"\",\"\",VLOOKUP(A645,Data!$B$2:$D$4020,3,FALSE))","v":""},{"$f":"IF(A645=\"\",\"\",VLOOKUP(A645,Data!$B$2:$F$4020,5,FALSE))","v":""},null,{"$f":"CONCATENATE(A645,D645)","v":""},{"$f":"IF(ISNA(VLOOKUP(E645,Data!$A$2:$I$4020,7,FALSE)),\"\",VLOOKUP(E645,Data!$A$2:$I$4020,7,FALSE))","v":""},{"$f":"IF(ISNA(VLOOKUP(E645,Data!$A$2:$I$4020,9,FALSE)),\"\",VLOOKUP(E645,Data!$A$2:$I$4020,9,FALSE))","v":""},{"$f":"IF(ISNA(VLOOKUP(E645,Data!$A$2:$J$4020,10,FALSE)),\"\",VLOOKUP(E645,Data!$A$2:$J$4020,10,FALSE))","v":""},{"$nulls":13},{"$f":"SUM(S645:U645)","v":0}]
[null,{"$f":"IF(A646=\"\",\"\",VLOOKUP(A646,Data!$B$2:$D$4020,3,FALSE))","v":""},{"$f":"IF(A646=\"\",\"\",VLOOKUP(A646,Data!$B$2:$F$4020,5,FALSE))","v":""},null,{"$f":"CONCATENATE(A646,D646)","v":""},{"$f":"IF(ISNA(VLOOKUP(E646,Data!$A$2:$I$4020,7,FALSE)),\"\",VLOOKUP(E646,Data!$A$2:$I$4020,7,FALSE))","v":""},{"$f":"IF(ISNA(VLOOKUP(E646,Data!$A$2:$I$4020,9,FALSE)),\"\",VLOOKUP(E646,Data!$A$2:$I$4020,9,FALSE))","v":""},{"$f":"IF(ISNA(VLOOKUP(E646,Data!$A$2:$J$4020,10,FALSE)),\"\",VLOOKUP(E646,Data!$A$2:$J$4020,10,FALSE))","v":""},{"$nulls":13},{"$f":"SUM(S646:U646)","v":0}]
[null,{"$f":"IF(A647=\"\",\"\",VLOOKUP(A647,Data!$B$2:$D$4020,3,FALSE))","v":""},{"$f":"IF(A647=\"\",\"\",VLOOKUP(A647,Data!$B$2:$F$4020,5,FALSE))","v":""},null,{"$f":"CONCATENATE(A647,D647)","v":""},{"$f":"IF(ISNA(VLOOKUP(E647,Data!$A$2:$I$4020,7,FALSE)),\"\",VLOOKUP(E647,Data!$A$2:$I$4020,7,FALSE))","v":""},{"$f":"IF(ISNA(VLOOKUP(E647,Data!$A$2:$I$4020,9,FALSE)),\"\",VLOOKUP(E647,Data!$A$2:$I$4020,9,FALSE))","v":""},{"$f":"IF(ISNA(VLOOKUP(E647,Data!$A$2:$J$4020,10,FALSE)),\"\",VLOOKUP(E647,Data!$A$2:$J$4020,10,FALSE))","v":""},{"$nulls":13},{"$f":"SUM(S647:U647)","v":0}]
[null,{"$f":"IF(A648=\"\",\"\",VLOOKUP(A648,Data!$B$2:$D$4020,3,FALSE))","v":""},{"$f":"IF(A648=\"\",\"\",VLOOKUP(A648,Data!$B$2:$F$4020,5,FALSE))","v":""},null,{"$f":"CONCATENATE(A648,D648)","v":""},{"$f":"IF(ISNA(VLOOKUP(E648,Data!$A$2:$I$4020,7,FALSE)),\"\",VLOOKUP(E648,Data!$A$2:$I$4020,7,FALSE))","v":""},{"$f":"IF(ISNA(VLOOKUP(E648,Data!$A$2:$I$4020,9,FALSE)),\"\",VLOOKUP(E648,Data!$A$2:$I$4020,9,FALSE))","v":""},{"$f":"IF(ISNA(VLOOKUP(E648,Data!$A$2:$J$4020,10,FALSE)),\"\",VLOOKUP(E648,Data!$A$2:$J$4020,10,FALSE))","v":""},{"$nulls":13},{"$f":"SUM(S648:U648)","v":0}]
[null,{"$f":"IF(A649=\"\",\"\",VLOOKUP(A649,Data!$B$2:$D$4020,3,FALSE))","v":""},{"$f":"IF(A649=\"\",\"\",VLOOKUP(A649,Data!$B$2:$F$4020,5,FALSE))","v":""},null,{"$f":"CONCATENATE(A649,D649)","v":""},{"$f":"IF(ISNA(VLOOKUP(E649,Data!$A$2:$I$4020,7,FALSE)),\"\",VLOOKUP(E649,Data!$A$2:$I$4020,7,FALSE))","v":""},{"$f":"IF(ISNA(VLOOKUP(E649,Data!$A$2:$I$4020,9,FALSE)),\"\",VLOOKUP(E649,Data!$A$2:$I$4020,9,FALSE))","v":""},{"$f":"IF(ISNA(VLOOKUP(E649,Data!$A$2:$J$4020,10,FALSE)),\"\",VLOOKUP(E649,Data!$A$2:$J$4020,10,FALSE))","v":""},{"$nulls":13},{"$f":"SUM(S649:U649)","v":0}]
[null,{"$f":"IF(A650=\"\",\"\",VLOOKUP(A650,Data!$B$2:$D$4020,3,FALSE))","v":""},{"$f":"IF(A650=\"\",\"\",VLOOKUP(A650,Data!$B$2:$F$4020,5,FALSE))","v":""},null,{"$f":"CONCATENATE(A650,D650)","v":""},{"$f":"IF(ISNA(VLOOKUP(E650,Data!$A$2:$I$4020,7,FALSE)),\"\",VLOOKUP(E650,Data!$A$2:$I$4020,7,FALSE))","v":""},{"$f":"IF(ISNA(VLOOKUP(E650,Data!$A$2:$I$4020,9,FALSE)),\"\",VLOOKUP(E650,Data!$A$2:$I$4020,9,FALSE))","v":""},{"$f":"IF(ISNA(VLOOKUP(E650,Data!$A$2:$J$4020,10,FALSE)),\"\",VLOOKUP(E650,Data!$A$2:$J$4020,10,FALSE))","v":""},{"$nulls":13},{"$f":"SUM(S650:U650)","v":0}]
[null,{"$f":"IF(A651=\"\",\"\",VLOOKUP(A651,Data!$B$2:$D$4020,3,FALSE))","v":""},{"$f":"IF(A651=\"\",\"\",VLOOKUP(A651,Data!$B$2:$F$4020,5,FALSE))","v":""},null,{"$f":"CONCATENATE(A651,D651)","v":""},{"$f":"IF(ISNA(VLOOKUP(E651,Data!$A$2:$I$4020,7,FALSE)),\"\",VLOOKUP(E651,Data!$A$2:$I$4020,7,FALSE))","v":""},{"$f":"IF(ISNA(VLOOKUP(E651,Data!$A$2:$I$4020,9,FALSE)),\"\",VLOOKUP(E651,Data!$A$2:$I$4020,9,FALSE))","v":""},{"$f":"IF(ISNA(VLOOKUP(E651,Data!$A$2:$J$4020,10,FALSE)),\"\",VLOOKUP(E651,Data!$A$2:$J$4020,10,FALSE))","v":""},{"$nulls":13},{"$f":"SUM(S651:U651)","v":0}]
[null,{"$f":"IF(A652=\"\",\"\",VLOOKUP(A652,Data!$B$2:$D$4020,3,FALSE))","v":""},{"$f":"IF(A652=\"\",\"\",VLOOKUP(A652,Data!$B$2:$F$4020,5,FALSE))","v":""},null,{"$f":"CONCATENATE(A652,D652)","v":""},{"$f":"IF(ISNA(VLOOKUP(E652,Data!$A$2:$I$4020,7,FALSE)),\"\",VLOOKUP(E652,Data!$A$2:$I$4020,7,FALSE))","v":""},{"$f":"IF(ISNA(VLOOKUP(E652,Data!$A$2:$I$4020,9,FALSE)),\"\",VLOOKUP(E652,Data!$A$2:$I$4020,9,FALSE))","v":""},{"$f":"IF(ISNA(VLOOKUP(E652,Data!$A$2:$J$4020,10,FALSE)),\"\",VLOOKUP(E652,Data!$A$2:$J$4020,10,FALSE))","v":""},{"$nulls":13},{"$f":"SUM(S652:U652)","v":0}]
[null,{"$f":"IF(A653=\"\",\"\",VLOOKUP(A653,Data!$B$2:$D$4020,3,FALSE))","v":""},{"$f":"IF(A653=\"\",\"\",VLOOKUP(A653,Data!$B$2:$F$4020,5,FALSE))","v":""},null,{"$f":"CONCATENATE(A653,D653)","v":""},{"$f":"IF(ISNA(VLOOKUP(E653,Data!$A$2:$I$4020,7,FALSE)),\"\",VLOOKUP(E653,Data!$A$2:$I$4020,7,FALSE))","v":""},{"$f":"IF(ISNA(VLOOKUP(E653,Data!$A$2:$I$4020,9,FALSE)),\"\",VLOOKUP(E653,Data!$A$2:$I$4020,9,FALSE))","v":""},{"$f":"IF(ISNA(VLOOKUP(E653,Data!$A$2:$J$4020,10,FALSE)),\"\",VLOOKUP(E653,Data!$A$2:$J$4020,10,FALSE))","v":""},{"$nulls":13},{"$f":"SUM(S653:U653)","v":0}]
[null,{"$f":"IF(A654=\"\",\"\",VLOOKUP(A654,Data!$B$2:$D$4020,3,FALSE))","v":""},{"$f":"IF(A654=\"\",\"\",VLOOKUP(A654,Data!$B$2:$F$4020,5,FALSE))","v":""},null,{"$f":"CONCATENATE(A654,D654)","v":""},{"$f":"IF(ISNA(VLOOKUP(E654,Data!$A$2:$I$4020,7,FALSE)),\"\",VLOOKUP(E654,Data!$A$2:$I$4020,7,FALSE))","v":""},{"$f":"IF(ISNA(VLOOKUP(E654,Data!$A$2:$I$4020,9,FALSE)),\"\",VLOOKUP(E654,Data!$A$2:$I$4020,9,FALSE))","v":""},{"$f":"IF(ISNA(VLOOKUP(E654,Data!$A$2:$J$4020,10,FALSE)),\"\",VLOOKUP(E654,Data!$A$2:$J$4020,10,FALSE))","v":""},{"$nulls":13},{"$f":"SUM(S654:U654)","v":0}]
[null,{"$f":"IF(A655=\"\",\"\",VLOOKUP(A655,Data!$B$2:$D$4020,3,FALSE))","v":""},{"$f":"IF(A655=\"\",\"\",VLOOKUP(A655,Data!$B$2:$F$4020,5,FALSE))","v":""},null,{"$f":"CONCATENATE(A655,D655)","v":""},{"$f":"IF(ISNA(VLOOKUP(E655,Data!$A$2:$I$4020,7,FALSE)),\"\",VLOOKUP(E655,Data!$A$2:$I$4020,7,FALSE))","v":""},{"$f":"IF(ISNA(VLOOKUP(E655,Data!$A$2:$I$4020,9,FALSE)),\"\",VLOOKUP(E655,Data!$A$2:$I$4020,9,FALSE))","v":""},{"$f":"IF(ISNA(VLOOKUP(E655,Data!$A$2:$J$4020,10,FALSE)),\"\",VLOOKUP(E655,Data!$A$2:$J$4020,10,FALSE))","v":""},{"$nulls":13},{"$f":"SUM(S655:U655)","v":0}]
[null,{"$f":"IF(A656=\"\",\"\",VLOOKUP(A656,Data!$B$2:$D$4020,3,FALSE))","v":""},{"$f":"IF(A656=\"\",\"\",VLOOKUP(A656,Data!$B$2:$F$4020,5,FALSE))","v":""},null,{"$f":"CONCATENATE(A656,D656)","v":""},{"$f":"IF(ISNA(VLOOKUP(E656,Data!$A$2:$I$4020,7,FALSE)),\"\",VLOOKUP(E656,Data!$A$2:$I$4020,7,FALSE))","v":""},{"$f":"IF(ISNA(VLOOKUP(E656,Data!$A$2:$I$4020,9,FALSE)),\"\",VLOOKUP(E656,Data!$A$2:$I$4020,9,FALSE))","v":""},{"$f":"IF(ISNA(VLOOKUP(E656,Data!$A$2:$J$4020,10,FALSE)),\"\",VLOOKUP(E656,Data!$A$2:$J$4020,10,FALSE))","v":""},{"$nulls":13},{"$f":"SUM(S656:U656)","v":0}]
[null,{"$f":"IF(A657=\"\",\"\",VLOOKUP(A657,Data!$B$2:$D$4020,3,FALSE))","v":""},{"$f":"IF(A657=\"\",\"\",VLOOKUP(A657,Data!$B$2:$F$4020,5,FALSE))","v":""},null,{"$f":"CONCATENATE(A657,D657)","v":""},{"$f":"IF(ISNA(VLOOKUP(E657,Data!$A$2:$I$4020,7,FALSE)),\"\",VLOOKUP(E657,Data!$A$2:$I$4020,7,FALSE))","v":""},{"$f":"IF(ISNA(VLOOKUP(E657,Data!$A$2:$I$4020,9,FALSE)),\"\",VLOOKUP(E657,Data!$A$2:$I$4020,9,FALSE))","v":""},{"$f":"IF(ISNA(VLOOKUP(E657,Data!$A$2:$J$4020,10,FALSE)),\"\",VLOOKUP(E657,Data!$A$2:$J$4020,10,FALSE))","v":""},{"$nulls":13},{"$f":"SUM(S657:U657)","v":0}]
[null,{"$f":"IF(A658=\"\",\"\",VLOOKUP(A658,Data!$B$2:$D$4020,3,FALSE))","v":""},{"$f":"IF(A658=\"\",\"\",VLOOKUP(A658,Data!$B$2:$F$4020,5,FALSE))","v":""},null,{"$f":"CONCATENATE(A658,D658)","v":""},{"$f":"IF(ISNA(VLOOKUP(E658,Data!$A$2:$I$4020,7,FALSE)),\"\",VLOOKUP(E658,Data!$A$2:$I$4020,7,FALSE))","v":""},{"$f":"IF(ISNA(VLOOKUP(E658,Data!$A$2:$I$4020,9,FALSE)),\"\",VLOOKUP(E658,Data!$A$2:$I$4020,9,FALSE))","v":""},{"$f":"IF(ISNA(VLOOKUP(E658,Data!$A$2:$J$4020,10,FALSE)),\"\",VLOOKUP(E658,Data!$A$2:$J$4020,10,FALSE))","v":""},{"$nulls":13},{"$f":"SUM(S658:U658)","v":0}]
[null,{"$f":"IF(A659=\"\",\"\",VLOOKUP(A659,Data!$B$2:$D$4020,3,FALSE))","v":""},{"$f":"IF(A659=\"\",\"\",VLOOKUP(A659,Data!$B$2:$F$4020,5,FALSE))","v":""},null,{"$f":"CONCATENATE(A659,D659)","v":""},{"$f":"IF(ISNA(VLOOKUP(E659,Data!$A$2:$I$4020,7,FALSE)),\"\",VLOOKUP(E659,Data!$A$2:$I$4020,7,FALSE))","v":""},{"$f":"IF(ISNA(VLOOKUP(E659,Data!$A$2:$I$4020,9,FALSE)),\"\",VLOOKUP(E659,Data!$A$2:$I$4020,9,FALSE))","v":""},{"$f":"IF(ISNA(VLOOKUP(E659,Data!$A$2:$J$4020,10,FALSE)),\"\",VLOOKUP(E659,Data!$A$2:$J$4020,10,FALSE))","v":""},{"$nulls":13},{"$f":"SUM(S659:U659)","v":0}]
[null,{"$f":"IF(A660=\"\",\"\",VLOOKUP(A660,Data!$B$2:$D$4020,3,FALSE))","v":""},{"$f":"IF(A660=\"\",\"\",VLOOKUP(A660,Data!$B$2:$F$4020,5,FALSE))","v":""},null,{"$f":"CONCATENATE(A660,D660)","v":""},{"$f":"IF(ISNA(VLOOKUP(E660,Data!$A$2:$I$4020,7,FALSE)),\"\",VLOOKUP(E660,Data!$A$2:$I$4020,7,FALSE))","v":""},{"$f":"IF(ISNA(VLOOKUP(E660,Data!$A$2:$I$4020,9,FALSE)),\"\",VLOOKUP(E660,Data!$A$2:$I$4020,9,FALSE))","v":""},{"$f":"IF(ISNA(VLOOKUP(E660,Data!$A$2:$J$4020,10,FALSE)),\"\",VLOOKUP(E660,Data!$A$2:$J$4020,10,FALSE))","v":""},{"$nulls":13},{"$f":"SUM(S660:U660)","v":0}]
[null,{"$f":"IF(A661=\"\",\"\",VLOOKUP(A661,Data!$B$2:$D$4020,3,FALSE))","v":""},{"$f":"IF(A661=\"\",\"\",VLOOKUP(A661,Data!$B$2:$F$4020,5,FALSE))","v":""},null,{"$f":"CONCATENATE(A661,D661)","v":""},{"$f":"IF(ISNA(VLOOKUP(E661,Data!$A$2:$I$4020,7,FALSE)),\"\",VLOOKUP(E661,Data!$A$2:$I$4020,7,FALSE))","v":""},{"$f":"IF(ISNA(VLOOKUP(E661,Data!$A$2:$I$4020,9,FALSE)),\"\",VLOOKUP(E661,Data!$A$2:$I$4020,9,FALSE))","v":""},{"$f":"IF(ISNA(VLOOKUP(E661,Data!$A$2:$J$4020,10,FALSE)),\"\",VLOOKUP(E661,Data!$A$2:$J$4020,10,FALSE))","v":""},{"$nulls":13},{"$f":"SUM(S661:U661)","v":0}]
[null,{"$f":"IF(A662=\"\",\"\",VLOOKUP(A662,Data!$B$2:$D$4020,3,FALSE))","v":""},{"$f":"IF(A662=\"\",\"\",VLOOKUP(A662,Data!$B$2:$F$4020,5,FALSE))","v":""},null,{"$f":"CONCATENATE(A662,D662)","v":""},{"$f":"IF(ISNA(VLOOKUP(E662,Data!$A$2:$I$4020,7,FALSE)),\"\",VLOOKUP(E662,Data!$A$2:$I$4020,7,FALSE))","v":""},{"$f":"IF(ISNA(VLOOKUP(E662,Data!$A$2:$I$4020,9,FALSE)),\"\",VLOOKUP(E662,Data!$A$2:$I$4020,9,FALSE))","v":""},{"$f":"IF(ISNA(VLOOKUP(E662,Data!$A$2:$J$4020,10,FALSE)),\"\",VLOOKUP(E662,Data!$A$2:$J$4020,10,FALSE))","v":""},{"$nulls":13},{"$f":"SUM(S662:U662)","v":0}]
[null,{"$f":"IF(A663=\"\",\"\",VLOOKUP(A663,Data!$B$2:$D$4020,3,FALSE))","v":""},{"$f":"IF(A663=\"\",\"\",VLOOKUP(A663,Data!$B$2:$F$4020,5,FALSE))","v":""},null,{"$f":"CONCATENATE(A663,D663)","v":""},{"$f":"IF(ISNA(VLOOKUP(E663,Data!$A$2:$I$4020,7,FALSE)),\"\",VLOOKUP(E663,Data!$A$2:$I$4020,7,FALSE))","v":""},{"$f":"IF(ISNA(VLOOKUP(E663,Data!$A$2:$I$4020,9,FALSE)),\"\",VLOOKUP(E663,Data!$A$2:$I$4020,9,FALSE))","v":""},{"$f":"IF(ISNA(VLOOKUP(E663,Data!$A$2:$J$4020,10,FALSE)),\"\",VLOOKUP(E663,Data!$A$2:$J$4020,10,FALSE))","v":""},{"$nulls":13},{"$f":"SUM(S663:U663)","v":0}]
[null,{"$f":"IF(A664=\"\",\"\",VLOOKUP(A664,Data!$B$2:$D$4020,3,FALSE))","v":""},{"$f":"IF(A664=\"\",\"\",VLOOKUP(A664,Data!$B$2:$F$4020,5,FALSE))","v":""},null,{"$f":"CONCATENATE(A664,D664)","v":""},{"$f":"IF(ISNA(VLOOKUP(E664,Data!$A$2:$I$4020,7,FALSE)),\"\",VLOOKUP(E664,Data!$A$2:$I$4020,7,FALSE))","v":""},{"$f":"IF(ISNA(VLOOKUP(E664,Data!$A$2:$I$4020,9,FALSE)),\"\",VLOOKUP(E664,Data!$A$2:$I$4020,9,FALSE))","v":""},{"$f":"IF(ISNA(VLOOKUP(E664,Data!$A$2:$J$4020,10,FALSE)),\"\",VLOOKUP(E664,Data!$A$2:$J$4020,10,FALSE))","v":""},{"$nulls":13},{"$f":"SUM(S664:U664)","v":0}]
[null,{"$f":"IF(A665=\"\",\"\",VLOOKUP(A665,Data!$B$2:$D$4020,3,FALSE))","v":""},{"$f":"IF(A665=\"\",\"\",VLOOKUP(A665,Data!$B$2:$F$4020,5,FALSE))","v":""},null,{"$f":"CONCATENATE(A665,D665)","v":""},{"$f":"IF(ISNA(VLOOKUP(E665,Data!$A$2:$I$4020,7,FALSE)),\"\",VLOOKUP(E665,Data!$A$2:$I$4020,7,FALSE))","v":""},{"$f":"IF(ISNA(VLOOKUP(E665,Data!$A$2:$I$4020,9,FALSE)),\"\",VLOOKUP(E665,Data!$A$2:$I$4020,9,FALSE))","v":""},{"$f":"IF(ISNA(VLOOKUP(E665,Data!$A$2:$J$4020,10,FALSE)),\"\",VLOOKUP(E665,Data!$A$2:$J$4020,10,FALSE))","v":""},{"$nulls":13},{"$f":"SUM(S665:U665)","v":0}]
[null,{"$f":"IF(A666=\"\",\"\",VLOOKUP(A666,Data!$B$2:$D$4020,3,FALSE))","v":""},{"$f":"IF(A666=\"\",\"\",VLOOKUP(A666,Data!$B$2:$F$4020,5,FALSE))","v":""},null,{"$f":"CONCATENATE(A666,D666)","v":""},{"$f":"IF(ISNA(VLOOKUP(E666,Data!$A$2:$I$4020,7,FALSE)),\"\",VLOOKUP(E666,Data!$A$2:$I$4020,7,FALSE))","v":""},{"$f":"IF(ISNA(VLOOKUP(E666,Data!$A$2:$I$4020,9,FALSE)),\"\",VLOOKUP(E666,Data!$A$2:$I$4020,9,FALSE))","v":""},{"$f":"IF(ISNA(VLOOKUP(E666,Data!$A$2:$J$4020,10,FALSE)),\"\",VLOOKUP(E666,Data!$A$2:$J$4020,10,FALSE))","v":""},{"$nulls":13},{"$f":"SUM(S666:U666)","v":0}]
[null,{"$f":"IF(A667=\"\",\"\",VLOOKUP(A667,Data!$B$2:$D$4020,3,FALSE))","v":""},{"$f":"IF(A667=\"\",\"\",VLOOKUP(A667,Data!$B$2:$F$4020,5,FALSE))","v":""},null,{"$f":"CONCATENATE(A667,D667)","v":""},{"$f":"IF(ISNA(VLOOKUP(E667,Data!$A$2:$I$4020,7,FALSE)),\"\",VLOOKUP(E667,Data!$A$2:$I$4020,7,FALSE))","v":""},{"$f":"IF(ISNA(VLOOKUP(E667,Data!$A$2:$I$4020,9,FALSE)),\"\",VLOOKUP(E667,Data!$A$2:$I$4020,9,FALSE))","v":""},{"$f":"IF(ISNA(VLOOKUP(E667,Data!$A$2:$J$4020,10,FALSE)),\"\",VLOOKUP(E667,Data!$A$2:$J$4020,10,FALSE))","v":""},{"$nulls":13},{"$f":"SUM(S667:U667)","v":0}]
[null,{"$f":"IF(A668=\"\",\"\",VLOOKUP(A668,Data!$B$2:$D$4020,3,FALSE))","v":""},{"$f":"IF(A668=\"\",\"\",VLOOKUP(A668,Data!$B$2:$F$4020,5,FALSE))","v":""},null,{"$f":"CONCATENATE(A668,D668)","v":""},{"$f":"IF(ISNA(VLOOKUP(E668,Data!$A$2:$I$4020,7,FALSE)),\"\",VLOOKUP(E668,Data!$A$2:$I$4020,7,FALSE))","v":""},{"$f":"IF(ISNA(VLOOKUP(E668,Data!$A$2:$I$4020,9,FALSE)),\"\",VLOOKUP(E668,Data!$A$2:$I$4020,9,FALSE))","v":""},{"$f":"IF(ISNA(VLOOKUP(E668,Data!$A$2:$J$4020,10,FALSE)),\"\",VLOOKUP(E668,Data!$A$2:$J$4020,10,FALSE))","v":""},{"$nulls":13},{"$f":"SUM(S668:U668)","v":0}]
[null,{"$f":"IF(A669=\"\",\"\",VLOOKUP(A669,Data!$B$2:$D$4020,3,FALSE))","v":""},{"$f":"IF(A669=\"\",\"\",VLOOKUP(A669,Data!$B$2:$F$4020,5,FALSE))","v":""},null,{"$f":"CONCATENATE(A669,D669)","v":""},{"$f":"IF(ISNA(VLOOKUP(E669,Data!$A$2:$I$4020,7,FALSE)),\"\",VLOOKUP(E669,Data!$A$2:$I$4020,7,FALSE))","v":""},{"$f":"IF(ISNA(VLOOKUP(E669,Data!$A$2:$I$4020,9,FALSE)),\"\",VLOOKUP(E669,Data!$A$2:$I$4020,9,FALSE))","v":""},{"$f":"IF(ISNA(VLOOKUP(E669,Data!$A$2:$J$4020,10,FALSE)),\"\",VLOOKUP(E669,Data!$A$2:$J$4020,10,FALSE))","v":""},{"$nulls":13},{"$f":"SUM(S669:U669)","v":0}]
[null,{"$f":"IF(A670=\"\",\"\",VLOOKUP(A670,Data!$B$2:$D$4020,3,FALSE))","v":""},{"$f":"IF(A670=\"\",\"\",VLOOKUP(A670,Data!$B$2:$F$4020,5,FALSE))","v":""},null,{"$f":"CONCATENATE(A670,D670)","v":""},{"$f":"IF(ISNA(VLOOKUP(E670,Data!$A$2:$I$4020,7,FALSE)),\"\",VLOOKUP(E670,Data!$A$2:$I$4020,7,FALSE))","v":""},{"$f":"IF(ISNA(VLOOKUP(E670,Data!$A$2:$I$4020,9,FALSE)),\"\",VLOOKUP(E670,Data!$A$2:$I$4020,9,FALSE))","v":""},{"$f":"IF(ISNA(VLOOKUP(E670,Data!$A$2:$J$4020,10,FALSE)),\"\",VLOOKUP(E670,Data!$A$2:$J$4020,10,FALSE))","v":""},{"$nulls":13},{"$f":"SUM(S670:U670)","v":0}]
[null,{"$f":"IF(A671=\"\",\"\",VLOOKUP(A671,Data!$B$2:$D$4020,3,FALSE))","v":""},{"$f":"IF(A671=\"\",\"\",VLOOKUP(A671,Data!$B$2:$F$4020,5,FALSE))","v":""},null,{"$f":"CONCATENATE(A671,D671)","v":""},{"$f":"IF(ISNA(VLOOKUP(E671,Data!$A$2:$I$4020,7,FALSE)),\"\",VLOOKUP(E671,Data!$A$2:$I$4020,7,FALSE))","v":""},{"$f":"IF(ISNA(VLOOKUP(E671,Data!$A$2:$I$4020,9,FALSE)),\"\",VLOOKUP(E671,Data!$A$2:$I$4020,9,FALSE))","v":""},{"$f":"IF(ISNA(VLOOKUP(E671,Data!$A$2:$J$4020,10,FALSE)),\"\",VLOOKUP(E671,Data!$A$2:$J$4020,10,FALSE))","v":""},{"$nulls":13},{"$f":"SUM(S671:U671)","v":0}]
[null,{"$f":"IF(A672=\"\",\"\",VLOOKUP(A672,Data!$B$2:$D$4020,3,FALSE))","v":""},{"$f":"IF(A672=\"\",\"\",VLOOKUP(A672,Data!$B$2:$F$4020,5,FALSE))","v":""},null,{"$f":"CONCATENATE(A672,D672)","v":""},{"$f":"IF(ISNA(VLOOKUP(E672,Data!$A$2:$I$4020,7,FALSE)),\"\",VLOOKUP(E672,Data!$A$2:$I$4020,7,FALSE))","v":""},{"$f":"IF(ISNA(VLOOKUP(E672,Data!$A$2:$I$4020,9,FALSE)),\"\",VLOOKUP(E672,Data!$A$2:$I$4020,9,FALSE))","v":""},{"$f":"IF(ISNA(VLOOKUP(E672,Data!$A$2:$J$4020,10,FALSE)),\"\",VLOOKUP(E672,Data!$A$2:$J$4020,10,FALSE))","v":""},{"$nulls":13},{"$f":"SUM(S672:U672)","v":0}]
[null,{"$f":"IF(A673=\"\",\"\",VLOOKUP(A673,Data!$B$2:$D$4020,3,FALSE))","v":""},{"$f":"IF(A673=\"\",\"\",VLOOKUP(A673,Data!$B$2:$F$4020,5,FALSE))","v":""},null,{"$f":"CONCATENATE(A673,D673)","v":""},{"$f":"IF(ISNA(VLOOKUP(E673,Data!$A$2:$I$4020,7,FALSE)),\"\",VLOOKUP(E673,Data!$A$2:$I$4020,7,FALSE))","v":""},{"$f":"IF(ISNA(VLOOKUP(E673,Data!$A$2:$I$4020,9,FALSE)),\"\",VLOOKUP(E673,Data!$A$2:$I$4020,9,FALSE))","v":""},{"$f":"IF(ISNA(VLOOKUP(E673,Data!$A$2:$J$4020,10,FALSE)),\"\",VLOOKUP(E673,Data!$A$2:$J$4020,10,FALSE))","v":""},{"$nulls":13},{"$f":"SUM(S673:U673)","v":0}]
[null,{"$f":"IF(A674=\"\",\"\",VLOOKUP(A674,Data!$B$2:$D$4020,3,FALSE))","v":""},{"$f":"IF(A674=\"\",\"\",VLOOKUP(A674,Data!$B$2:$F$4020,5,FALSE))","v":""},null,{"$f":"CONCATENATE(A674,D674)","v":""},{"$f":"IF(ISNA(VLOOKUP(E674,Data!$A$2:$I$4020,7,FALSE)),\"\",VLOOKUP(E674,Data!$A$2:$I$4020,7,FALSE))","v":""},{"$f":"IF(ISNA(VLOOKUP(E674,Data!$A$2:$I$4020,9,FALSE)),\"\",VLOOKUP(E674,Data!$A$2:$I$4020,9,FALSE))","v":""},{"$f":"IF(ISNA(VLOOKUP(E674,Data!$A$2:$J$4020,10,FALSE)),\"\",VLOOKUP(E674,Data!$A$2:$J$4020,10,FALSE))","v":""},{"$nulls":13},{"$f":"SUM(S674:U674)","v":0}]
[null,{"$f":"IF(A675=\"\",\"\",VLOOKUP(A675,Data!$B$2:$D$4020,3,FALSE))","v":""},{"$f":"IF(A675=\"\",\"\",VLOOKUP(A675,Data!$B$2:$F$4020,5,FALSE))","v":""},null,{"$f":"CONCATENATE(A675,D675)","v":""},{"$f":"IF(ISNA(VLOOKUP(E675,Data!$A$2:$I$4020,7,FALSE)),\"\",VLOOKUP(E675,Data!$A$2:$I$4020,7,FALSE))","v":""},{"$f":"IF(ISNA(VLOOKUP(E675,Data!$A$2:$I$4020,9,FALSE)),\"\",VLOOKUP(E675,Data!$A$2:$I$4020,9,FALSE))","v":""},{"$f":"IF(ISNA(VLOOKUP(E675,Data!$A$2:$J$4020,10,FALSE)),\"\",VLOOKUP(E675,Data!$A$2:$J$4020,10,FALSE))","v":""},{"$nulls":13},{"$f":"SUM(S675:U675)","v":0}]
[null,{"$f":"IF(A676=\"\",\"\",VLOOKUP(A676,Data!$B$2:$D$4020,3,FALSE))","v":""},{"$f":"IF(A676=\"\",\"\",VLOOKUP(A676,Data!$B$2:$F$4020,5,FALSE))","v":""},null,{"$f":"CONCATENATE(A676,D676)","v":""},{"$f":"IF(ISNA(VLOOKUP(E676,Data!$A$2:$I$4020,7,FALSE)),\"\",VLOOKUP(E676,Data!$A$2:$I$4020,7,FALSE))","v":""},{"$f":"IF(ISNA(VLOOKUP(E676,Data!$A$2:$I$4020,9,FALSE)),\"\",VLOOKUP(E676,Data!$A$2:$I$4020,9,FALSE))","v":""},{"$f":"IF(ISNA(VLOOKUP(E676,Data!$A$2:$J$4020,10,FALSE)),\"\",VLOOKUP(E676,Data!$A$2:$J$4020,10,FALSE))","v":""},{"$nulls":13},{"$f":"SUM(S676:U676)","v":0}]
[null,{"$f":"IF(A677=\"\",\"\",VLOOKUP(A677,Data!$B$2:$D$4020,3,FALSE))","v":""},{"$f":"IF(A677=\"\",\"\",VLOOKUP(A677,Data!$B$2:$F$4020,5,FALSE))","v":""},null,{"$f":"CONCATENATE(A677,D677)","v":""},{"$f":"IF(ISNA(VLOOKUP(E677,Data!$A$2:$I$4020,7,FALSE)),\"\",VLOOKUP(E677,Data!$A$2:$I$4020,7,FALSE))","v":""},{"$f":"IF(ISNA(VLOOKUP(E677,Data!$A$2:$I$4020,9,FALSE)),\"\",VLOOKUP(E677,Data!$A$2:$I$4020,9,FALSE))","v":""},{"$f":"IF(ISNA(VLOOKUP(E677,Data!$A$2:$J$4020,10,FALSE)),\"\",VLOOKUP(E677,Data!$A$2:$J$4020,10,FALSE))","v":""},{"$nulls":13},{"$f":"SUM(S677:U677)","v":0}]
[null,{"$f":"IF(A678=\"\",\"\",VLOOKUP(A678,Data!$B$2:$D$4020,3,FALSE))","v":""},{"$f":"IF(A678=\"\",\"\",VLOOKUP(A678,Data!$B$2:$F$4020,5,FALSE))","v":""},null,{"$f":"CONCATENATE(A678,D678)","v":""},{"$f":"IF(ISNA(VLOOKUP(E678,Data!$A$2:$I$4020,7,FALSE)),\"\",VLOOKUP(E678,Data!$A$2:$I$4020,7,FALSE))","v":""},{"$f":"IF(ISNA(VLOOKUP(E678,Data!$A$2:$I$4020,9,FALSE)),\"\",VLOOKUP(E678,Data!$A$2:$I$4020,9,FALSE))","v":""},{"$f":"IF(ISNA(VLOOKUP(E678,Data!$A$2:$J$4020,10,FALSE)),\"\",VLOOKUP(E678,Data!$A$2:$J$4020,10,FALSE))","v":""},{"$nulls":13},{"$f":"SUM(S678:U678)","v":0}]
[null,{"$f":"IF(A679=\"\",\"\",VLOOKUP(A679,Data!$B$2:$D$4020,3,FALSE))","v":""},{"$f":"IF(A679=\"\",\"\",VLOOKUP(A679,Data!$B$2:$F$4020,5,FALSE))","v":""},null,{"$f":"CONCATENATE(A679,D679)","v":""},{"$f":"IF(ISNA(VLOOKUP(E679,Data!$A$2:$I$4020,7,FALSE)),\"\",VLOOKUP(E679,Data!$A$2:$I$4020,7,FALSE))","v":""},{"$f":"IF(ISNA(VLOOKUP(E679,Data!$A$2:$I$4020,9,FALSE)),\"\",VLOOKUP(E679,Data!$A$2:$I$4020,9,FALSE))","v":""},{"$f":"IF(ISNA(VLOOKUP(E679,Data!$A$2:$J$4020,10,FALSE)),\"\",VLOOKUP(E679,Data!$A$2:$J$4020,10,FALSE))","v":""},{"$nulls":13},{"$f":"SUM(S679:U679)","v":0}]
[null,{"$f":"IF(A680=\"\",\"\",VLOOKUP(A680,Data!$B$2:$D$4020,3,FALSE))","v":""},{"$f":"IF(A680=\"\",\"\",VLOOKUP(A680,Data!$B$2:$F$4020,5,FALSE))","v":""},null,{"$f":"CONCATENATE(A680,D680)","v":""},{"$f":"IF(ISNA(VLOOKUP(E680,Data!$A$2:$I$4020,7,FALSE)),\"\",VLOOKUP(E680,Data!$A$2:$I$4020,7,FALSE))","v":""},{"$f":"IF(ISNA(VLOOKUP(E680,Data!$A$2:$I$4020,9,FALSE)),\"\",VLOOKUP(E680,Data!$A$2:$I$4020,9,FALSE))","v":""},{"$f":"IF(ISNA(VLOOKUP(E680,Data!$A$2:$J$4020,10,FALSE)),\"\",VLOOKUP(E680,Data!$A$2:$J$4020,10,FALSE))","v":""},{"$nulls":13},{"$f":"SUM(S680:U680)","v":0}]
[null,{"$f":"IF(A681=\"\",\"\",VLOOKUP(A681,Data!$B$2:$D$4020,3,FALSE))","v":""},{"$f":"IF(A681=\"\",\"\",VLOOKUP(A681,Data!$B$2:$F$4020,5,FALSE))","v":""},null,{"$f":"CONCATENATE(A681,D681)","v":""},{"$f":"IF(ISNA(VLOOKUP(E681,Data!$A$2:$I$4020,7,FALSE)),\"\",VLOOKUP(E681,Data!$A$2:$I$4020,7,FALSE))","v":""},{"$f":"IF(ISNA(VLOOKUP(E681,Data!$A$2:$I$4020,9,FALSE)),\"\",VLOOKUP(E681,Data!$A$2:$I$4020,9,FALSE))","v":""},{"$f":"IF(ISNA(VLOOKUP(E681,Data!$A$2:$J$4020,10,FALSE)),\"\",VLOOKUP(E681,Data!$A$2:$J$4020,10,FALSE))","v":""},{"$nulls":13},{"$f":"SUM(S681:U681)","v":0}]
[null,{"$f":"IF(A682=\"\",\"\",VLOOKUP(A682,Data!$B$2:$D$4020,3,FALSE))","v":""},{"$f":"IF(A682=\"\",\"\",VLOOKUP(A682,Data!$B$2:$F$4020,5,FALSE))","v":""},null,{"$f":"CONCATENATE(A682,D682)","v":""},{"$f":"IF(ISNA(VLOOKUP(E682,Data!$A$2:$I$4020,7,FALSE)),\"\",VLOOKUP(E682,Data!$A$2:$I$4020,7,FALSE))","v":""},{"$f":"IF(ISNA(VLOOKUP(E682,Data!$A$2:$I$4020,9,FALSE)),\"\",VLOOKUP(E682,Data!$A$2:$I$4020,9,FALSE))","v":""},{"$f":"IF(ISNA(VLOOKUP(E682,Data!$A$2:$J$4020,10,FALSE)),\"\",VLOOKUP(E682,Data!$A$2:$J$4020,10,FALSE))","v":""},{"$nulls":13},{"$f":"SUM(S682:U682)","v":0}]
[null,{"$f":"IF(A683=\"\",\"\",VLOOKUP(A683,Data!$B$2:$D$4020,3,FALSE))","v":""},{"$f":"IF(A683=\"\",\"\",VLOOKUP(A683,Data!$B$2:$F$4020,5,FALSE))","v":""},null,{"$f":"CONCATENATE(A683,D683)","v":""},{"$f":"IF(ISNA(VLOOKUP(E683,Data!$A$2:$I$4020,7,FALSE)),\"\",VLOOKUP(E683,Data!$A$2:$I$4020,7,FALSE))","v":""},{"$f":"IF(ISNA(VLOOKUP(E683,Data!$A$2:$I$4020,9,FALSE)),\"\",VLOOKUP(E683,Data!$A$2:$I$4020,9,FALSE))","v":""},{"$f":"IF(ISNA(VLOOKUP(E683,Data!$A$2:$J$4020,10,FALSE)),\"\",VLOOKUP(E683,Data!$A$2:$J$4020,10,FALSE))","v":""},{"$nulls":13},{"$f":"SUM(S683:U683)","v":0}]
[null,{"$f":"IF(A684=\"\",\"\",VLOOKUP(A684,Data!$B$2:$D$4020,3,FALSE))","v":""},{"$f":"IF(A684=\"\",\"\",VLOOKUP(A684,Data!$B$2:$F$4020,5,FALSE))","v":""},null,{"$f":"CONCATENATE(A684,D684)","v":""},{"$f":"IF(ISNA(VLOOKUP(E684,Data!$A$2:$I$4020,7,FALSE)),\"\",VLOOKUP(E684,Data!$A$2:$I$4020,7,FALSE))","v":""},{"$f":"IF(ISNA(VLOOKUP(E684,Data!$A$2:$I$4020,9,FALSE)),\"\",VLOOKUP(E684,Data!$A$2:$I$4020,9,FALSE))","v":""},{"$f":"IF(ISNA(VLOOKUP(E684,Data!$A$2:$J$4020,10,FALSE)),\"\",VLOOKUP(E684,Data!$A$2:$J$4020,10,FALSE))","v":""},{"$nulls":13},{"$f":"SUM(S684:U684)","v":0}]
[null,{"$f":"IF(A685=\"\",\"\",VLOOKUP(A685,Data!$B$2:$D$4020,3,FALSE))","v":""},{"$f":"IF(A685=\"\",\"\",VLOOKUP(A685,Data!$B$2:$F$4020,5,FALSE))","v":""},null,{"$f":"CONCATENATE(A685,D685)","v":""},{"$f":"IF(ISNA(VLOOKUP(E685,Data!$A$2:$I$4020,7,FALSE)),\"\",VLOOKUP(E685,Data!$A$2:$I$4020,7,FALSE))","v":""},{"$f":"IF(ISNA(VLOOKUP(E685,Data!$A$2:$I$4020,9,FALSE)),\"\",VLOOKUP(E685,Data!$A$2:$I$4020,9,FALSE))","v":""},{"$f":"IF(ISNA(VLOOKUP(E685,Data!$A$2:$J$4020,10,FALSE)),\"\",VLOOKUP(E685,Data!$A$2:$J$4020,10,FALSE))","v":""},{"$nulls":13},{"$f":"SUM(S685:U685)","v":0}]
[null,{"$f":"IF(A686=\"\",\"\",VLOOKUP(A686,Data!$B$2:$D$4020,3,FALSE))","v":""},{"$f":"IF(A686=\"\",\"\",VLOOKUP(A686,Data!$B$2:$F$4020,5,FALSE))","v":""},null,{"$f":"CONCATENATE(A686,D686)","v":""},{"$f":"IF(ISNA(VLOOKUP(E686,Data!$A$2:$I$4020,7,FALSE)),\"\",VLOOKUP(E686,Data!$A$2:$I$4020,7,FALSE))","v":""},{"$f":"IF(ISNA(VLOOKUP(E686,Data!$A$2:$I$4020,9,FALSE)),\"\",VLOOKUP(E686,Data!$A$2:$I$4020,9,FALSE))","v":""},{"$f":"IF(ISNA(VLOOKUP(E686,Data!$A$2:$J$4020,10,FALSE)),\"\",VLOOKUP(E686,Data!$A$2:$J$4020,10,FALSE))","v":""},{"$nulls":13},{"$f":"SUM(S686:U686)","v":0}]
[null,{"$f":"IF(A687=\"\",\"\",VLOOKUP(A687,Data!$B$2:$D$4020,3,FALSE))","v":""},{"$f":"IF(A687=\"\",\"\",VLOOKUP(A687,Data!$B$2:$F$4020,5,FALSE))","v":""},null,{"$f":"CONCATENATE(A687,D687)","v":""},{"$f":"IF(ISNA(VLOOKUP(E687,Data!$A$2:$I$4020,7,FALSE)),\"\",VLOOKUP(E687,Data!$A$2:$I$4020,7,FALSE))","v":""},{"$f":"IF(ISNA(VLOOKUP(E687,Data!$A$2:$I$4020,9,FALSE)),\"\",VLOOKUP(E687,Data!$A$2:$I$4020,9,FALSE))","v":""},{"$f":"IF(ISNA(VLOOKUP(E687,Data!$A$2:$J$4020,10,FALSE)),\"\",VLOOKUP(E687,Data!$A$2:$J$4020,10,FALSE))","v":""},{"$nulls":13},{"$f":"SUM(S687:U687)","v":0}]
[null,{"$f":"IF(A688=\"\",\"\",VLOOKUP(A688,Data!$B$2:$D$4020,3,FALSE))","v":""},{"$f":"IF(A688=\"\",\"\",VLOOKUP(A688,Data!$B$2:$F$4020,5,FALSE))","v":""},null,{"$f":"CONCATENATE(A688,D688)","v":""},{"$f":"IF(ISNA(VLOOKUP(E688,Data!$A$2:$I$4020,7,FALSE)),\"\",VLOOKUP(E688,Data!$A$2:$I$4020,7,FALSE))","v":""},{"$f":"IF(ISNA(VLOOKUP(E688,Data!$A$2:$I$4020,9,FALSE)),\"\",VLOOKUP(E688,Data!$A$2:$I$4020,9,FALSE))","v":""},{"$f":"IF(ISNA(VLOOKUP(E688,Data!$A$2:$J$4020,10,FALSE)),\"\",VLOOKUP(E688,Data!$A$2:$J$4020,10,FALSE))","v":""},{"$nulls":13},{"$f":"SUM(S688:U688)","v":0}]
[null,{"$f":"IF(A689=\"\",\"\",VLOOKUP(A689,Data!$B$2:$D$4020,3,FALSE))","v":""},{"$f":"IF(A689=\"\",\"\",VLOOKUP(A689,Data!$B$2:$F$4020,5,FALSE))","v":""},null,{"$f":"CONCATENATE(A689,D689)","v":""},{"$f":"IF(ISNA(VLOOKUP(E689,Data!$A$2:$I$4020,7,FALSE)),\"\",VLOOKUP(E689,Data!$A$2:$I$4020,7,FALSE))","v":""},{"$f":"IF(ISNA(VLOOKUP(E689,Data!$A$2:$I$4020,9,FALSE)),\"\",VLOOKUP(E689,Data!$A$2:$I$4020,9,FALSE))","v":""},{"$f":"IF(ISNA(VLOOKUP(E689,Data!$A$2:$J$4020,10,FALSE)),\"\",VLOOKUP(E689,Data!$A$2:$J$4020,10,FALSE))","v":""},{"$nulls":13},{"$f":"SUM(S689:U689)","v":0}]
[null,{"$f":"IF(A690=\"\",\"\",VLOOKUP(A690,Data!$B$2:$D$4020,3,FALSE))","v":""},{"$f":"IF(A690=\"\",\"\",VLOOKUP(A690,Data!$B$2:$F$4020,5,FALSE))","v":""},null,{"$f":"CONCATENATE(A690,D690)","v":""},{"$f":"IF(ISNA(VLOOKUP(E690,Data!$A$2:$I$4020,7,FALSE)),\"\",VLOOKUP(E690,Data!$A$2:$I$4020,7,FALSE))","v":""},{"$f":"IF(ISNA(VLOOKUP(E690,Data!$A$2:$I$4020,9,FALSE)),\"\",VLOOKUP(E690,Data!$A$2:$I$4020,9,FALSE))","v":""},{"$f":"IF(ISNA(VLOOKUP(E690,Data!$A$2:$J$4020,10,FALSE)),\"\",VLOOKUP(E690,Data!$A$2:$J$4020,10,FALSE))","v":""},{"$nulls":13},{"$f":"SUM(S690:U690)","v":0}]
[null,{"$f":"IF(A691=\"\",\"\",VLOOKUP(A691,Data!$B$2:$D$4020,3,FALSE))","v":""},{"$f":"IF(A691=\"\",\"\",VLOOKUP(A691,Data!$B$2:$F$4020,5,FALSE))","v":""},null,{"$f":"CONCATENATE(A691,D691)","v":""},{"$f":"IF(ISNA(VLOOKUP(E691,Data!$A$2:$I$4020,7,FALSE)),\"\",VLOOKUP(E691,Data!$A$2:$I$4020,7,FALSE))","v":""},{"$f":"IF(ISNA(VLOOKUP(E691,Data!$A$2:$I$4020,9,FALSE)),\"\",VLOOKUP(E691,Data!$A$2:$I$4020,9,FALSE))","v":""},{"$f":"IF(ISNA(VLOOKUP(E691,Data!$A$2:$J$4020,10,FALSE)),\"\",VLOOKUP(E691,Data!$A$2:$J$4020,10,FALSE))","v":""},{"$nulls":13},{"$f":"SUM(S691:U691)","v":0}]
[null,{"$f":"IF(A692=\"\",\"\",VLOOKUP(A692,Data!$B$2:$D$4020,3,FALSE))","v":""},{"$f":"IF(A692=\"\",\"\",VLOOKUP(A692,Data!$B$2:$F$4020,5,FALSE))","v":""},null,{"$f":"CONCATENATE(A692,D692)","v":""},{"$f":"IF(ISNA(VLOOKUP(E692,Data!$A$2:$I$4020,7,FALSE)),\"\",VLOOKUP(E692,Data!$A$2:$I$4020,7,FALSE))","v":""},{"$f":"IF(ISNA(VLOOKUP(E692,Data!$A$2:$I$4020,9,FALSE)),\"\",VLOOKUP(E692,Data!$A$2:$I$4020,9,FALSE))","v":""},{"$f":"IF(ISNA(VLOOKUP(E692,Data!$A$2:$J$4020,10,FALSE)),\"\",VLOOKUP(E692,Data!$A$2:$J$4020,10,FALSE))","v":""},{"$nulls":13},{"$f":"SUM(S692:U692)","v":0}]
[null,{"$f":"IF(A693=\"\",\"\",VLOOKUP(A693,Data!$B$2:$D$4020,3,FALSE))","v":""},{"$f":"IF(A693=\"\",\"\",VLOOKUP(A693,Data!$B$2:$F$4020,5,FALSE))","v":""},null,{"$f":"CONCATENATE(A693,D693)","v":""},{"$f":"IF(ISNA(VLOOKUP(E693,Data!$A$2:$I$4020,7,FALSE)),\"\",VLOOKUP(E693,Data!$A$2:$I$4020,7,FALSE))","v":""},{"$f":"IF(ISNA(VLOOKUP(E693,Data!$A$2:$I$4020,9,FALSE)),\"\",VLOOKUP(E693,Data!$A$2:$I$4020,9,FALSE))","v":""},{"$f":"IF(ISNA(VLOOKUP(E693,Data!$A$2:$J$4020,10,FALSE)),\"\",VLOOKUP(E693,Data!$A$2:$J$4020,10,FALSE))","v":""},{"$nulls":13},{"$f":"SUM(S693:U693)","v":0}]
[null,{"$f":"IF(A694=\"\",\"\",VLOOKUP(A694,Data!$B$2:$D$4020,3,FALSE))","v":""},{"$f":"IF(A694=\"\",\"\",VLOOKUP(A694,Data!$B$2:$F$4020,5,FALSE))","v":""},null,{"$f":"CONCATENATE(A694,D694)","v":""},{"$f":"IF(ISNA(VLOOKUP(E694,Data!$A$2:$I$4020,7,FALSE)),\"\",VLOOKUP(E694,Data!$A$2:$I$4020,7,FALSE))","v":""},{"$f":"IF(ISNA(VLOOKUP(E694,Data!$A$2:$I$4020,9,FALSE)),\"\",VLOOKUP(E694,Data!$A$2:$I$4020,9,FALSE))","v":""},{"$f":"IF(ISNA(VLOOKUP(E694,Data!$A$2:$J$4020,10,FALSE)),\"\",VLOOKUP(E694,Data!$A$2:$J$4020,10,FALSE))","v":""},{"$nulls":13},{"$f":"SUM(S694:U694)","v":0}]
[null,{"$f":"IF(A695=\"\",\"\",VLOOKUP(A695,Data!$B$2:$D$4020,3,FALSE))","v":""},{"$f":"IF(A695=\"\",\"\",VLOOKUP(A695,Data!$B$2:$F$4020,5,FALSE))","v":""},null,{"$f":"CONCATENATE(A695,D695)","v":""},{"$f":"IF(ISNA(VLOOKUP(E695,Data!$A$2:$I$4020,7,FALSE)),\"\",VLOOKUP(E695,Data!$A$2:$I$4020,7,FALSE))","v":""},{"$f":"IF(ISNA(VLOOKUP(E695,Data!$A$2:$I$4020,9,FALSE)),\"\",VLOOKUP(E695,Data!$A$2:$I$4020,9,FALSE))","v":""},{"$f":"IF(ISNA(VLOOKUP(E695,Data!$A$2:$J$4020,10,FALSE)),\"\",VLOOKUP(E695,Data!$A$2:$J$4020,10,FALSE))","v":""},{"$nulls":13},{"$f":"SUM(S695:U695)","v":0}]
[null,{"$f":"IF(A696=\"\",\"\",VLOOKUP(A696,Data!$B$2:$D$4020,3,FALSE))","v":""},{"$f":"IF(A696=\"\",\"\",VLOOKUP(A696,Data!$B$2:$F$4020,5,FALSE))","v":""},null,{"$f":"CONCATENATE(A696,D696)","v":""},{"$f":"IF(ISNA(VLOOKUP(E696,Data!$A$2:$I$4020,7,FALSE)),\"\",VLOOKUP(E696,Data!$A$2:$I$4020,7,FALSE))","v":""},{"$f":"IF(ISNA(VLOOKUP(E696,Data!$A$2:$I$4020,9,FALSE)),\"\",VLOOKUP(E696,Data!$A$2:$I$4020,9,FALSE))","v":""},{"$f":"IF(ISNA(VLOOKUP(E696,Data!$A$2:$J$4020,10,FALSE)),\"\",VLOOKUP(E696,Data!$A$2:$J$4020,10,FALSE))","v":""},{"$nulls":13},{"$f":"SUM(S696:U696)","v":0}]
[null,{"$f":"IF(A697=\"\",\"\",VLOOKUP(A697,Data!$B$2:$D$4020,3,FALSE))","v":""},{"$f":"IF(A697=\"\",\"\",VLOOKUP(A697,Data!$B$2:$F$4020,5,FALSE))","v":""},null,{"$f":"CONCATENATE(A697,D697)","v":""},{"$f":"IF(ISNA(VLOOKUP(E697,Data!$A$2:$I$4020,7,FALSE)),\"\",VLOOKUP(E697,Data!$A$2:$I$4020,7,FALSE))","v":""},{"$f":"IF(ISNA(VLOOKUP(E697,Data!$A$2:$I$4020,9,FALSE)),\"\",VLOOKUP(E697,Data!$A$2:$I$4020,9,FALSE))","v":""},{"$f":"IF(ISNA(VLOOKUP(E697,Data!$A$2:$J$4020,10,FALSE)),\"\",VLOOKUP(E697,Data!$A$2:$J$4020,10,FALSE))","v":""},{"$nulls":13},{"$f":"SUM(S697:U697)","v":0}]

{"sheet":"Work Information","index":1,"n_rows":33,"n_cols":7,"rows_kept":33,"merged":[[0,0,0,6],[2,1,7,1],[9,0,9,6],[11,1,15,1],[17,0,17,6],[28,0,28,6],[30,1,33,1]]}
["Importance of System Functionality"]
["Criteria","Guiding Question","Categories","Score","Asset Functionality if System Fails","Back Up System","Examples"]
["Importance of System Functionality","What is the probable impact on the asset's functionality if the system/component that requires work fails?","5 - Significant - No Back Up",5,"Significantly reduced for entire asset","No back up system is available","Substructure is compromised"]
[null,null,"4 - Significant - Limited Back Up",4,"Significantly reduced for entire asset","Limited back up system is in place, but does not fully restore functionality or cannot be in place for an extended period of time","Power outage"]
[null,null,"3 - Moderate - Incovenient Back Up",3,"Reduced for part of asset","Back up system is available and can be in place for an extended period of time, but is inconvenient for occupants","One of two washrooms are not functional"]
[null,null,"2 - Moderate - Back Up Available",2,"Reduced for part of asset","Back up system is available and can be in place indefinitely if required, with slight inconvenience for occupants","One of many toilets or sinks are not functional"]
[null,null,"0 - None - Back Up Not Required",0,"Functionality is not reduced","No back up system is required","One of many water fountains are not functional"]
[]
[]
["Condition of System"]
["Criteria","Guiding Question","Categories","Score",null,null,"Examples"]
["Condition of System","What is the condition of the system/component requiring work?","5 - Failed/Imminent",5,null,"System/component has failed, or is expected to fail at any moment"]
[null,null,"3 - Poor",3,null,"System/component is expected to fail in the short-term"]
[null,null,"0 - Good",0,null,"System/component is not expected to fail in the short-term"]
[null,null,"0 - Excellent",0,null,"System/component is in excellent condition"]
[]
[]
["Reason for Work"]
["Criteria","Guiding Question","Categories","Score",null,"Work is required to:","Examples"]
["Reason for Work","Why is the work required?","5 - Health and Safety/Legislation",5,null,"Meet legal requirements and/or address significant health and safety concerns","Hazardous material abatement, mandatory for building code compliance"]
[null,null,"5 - Ensure Reliability",5,null,"Ensure the asset remains functional in order to minimize disruptions to the program/service","Reliability/ Suite Renewal is required to make units rentable"]
[null,null,"5 - Impacts Revenue",5,null,"Prevent the loss of income","Suite Renewals for unrentable suites"]
[null,null,"4 - Lifecycle Requirements",4,null,"Meet the prescribed maintenance of the system/component","Lifecycle"]
[null,null,"3 - Operational Efficiencies",3,null,"Achieve cost savings in operations","Energy efficiency, capacity restacks"]
[null,null,"2 - Responsible Stewardship",2,null,"Proactively maintain assets, but not critical to functionality of the asset","Hazardous material abatement (contained), or building code compliance (not immediately required)"]
[null,null,"1 - Aesthetic Preservation",1,null,"Prevent or address deterioration, or enhance appearance","paint upgrades"]
[]
[]
["Impact of Failure on Occupants"]
["Criteria","Guiding Question","Categories","Score","Safety Criticality","Program/service impact","Examples"]
["Impact of Failure on Occupants","What is the probable impact on the occupants or the program/service if the work is not completed?","5 - Critical",5,"Serious injury or death may occur","Total shut down of program/service may occur","Extensive mold is present, potential fire hazard, roof collapse"]
[null,null,"3 - Moderate",3,"Moderate","Building environment is impacted","Ventilation system fails, sidewalk is cracking, guardrail is broken"]
[null,null,"0 - No impact",0,"None","None","Peeling of paint"]

{"sheet":"Data","index":2,"n_rows":4020,"n_cols":10,"rows_kept":4020,"hidden":true}
["Concatenate","Project ID","Address","Org ID","Housing Organization","Site Name\n","Municipality","Postal","Building Ownership","Program Group"]
[{"$f":"CONCATENATE(B2,C2)","v":"22952751000841 Street"},229527510008,"41 Street","ACF","Acadia Foundation","Consort Lodge","Consort","T0C1B0","Housing Provider","Seniors Lodge Program"]
[{"$f":"CONCATENATE(B3,C3)","v":"248327510151Units 1 - 50 at Box 160"},248327510151,"Units 1 - 50 at Box 160","ACF","Acadia Foundation","Hanna Lodge","Hanna","T0J1P0","Housing Provider","Seniors Lodge Program"]
["263627516030Units 101 - 115, 201 - 214  Bag 3000",263627516030,"Units 101 - 115, 201 - 214  Bag 3000","ACF","Acadia Foundation","Oyen Lodge","Oyen","T0J2J0","Housing Provider","Seniors Lodge Program"]
["300000001086815 East Lake Boulevard",300000001086,"815 East Lake Boulevard","A103","Airdrie Housing Limited","East Lake Apartments","Airdrie","T4A 2G4","Housing Provider","None"]
["2218273860025505 - Macleod Trail S.W.",221827386002,"5505 - Macleod Trail S.W.","CNW","Awo Taan Healing Lodge Society","Women's Emergency Shelter","Calgary","T2H2Y6","Housing Provider","Specialized Housing"]
["1301273100014316 - 50A Avenue",130127310001,"4316 - 50A Avenue","BAR","Barrhead & District Social Housing Association","Barrhead 1","Barrhead","T7N1J5","Alberta Social Housing Corporation","Community Housing Program"]
["1301273100014312 - 50A Avenue",130127310001,"4312 - 50A Avenue","BAR","Barrhead & District Social Housing Association","Barrhead 1","Barrhead","T7N1J5","Alberta Social Housing Corporation","Community Housing Program"]
["1301273100014308 - 50A Avenue",130127310001,"4308 - 50A Avenue","BAR","Barrhead & District Social Housing Association","Barrhead 1","Barrhead","T7N1J5","Alberta Social Housing Corporation","Community Housing Program"]
["1301273100014304A/B - 50A Avenue",130127310001,"4304A/B - 50A Avenue","BAR","Barrhead & District Social Housing Association","Barrhead 1","Barrhead","T7N1J5","Alberta Social Housing Corporation","Community Housing Program"]
["1301273100014314 - 50A Avenue",130127310001,"4314 - 50A Avenue","BAR","Barrhead & District Social Housing Association","Barrhead 1","Barrhead","T7N1J5","Alberta Social Housing Corporation","Community Housing Program"]
["1301273100014306 - 50A Avenue",130127310001,"4306 - 50A Avenue","BAR","Barrhead & District Social Housing Association","Barrhead 1","Barrhead","T7N1J5","Alberta Social Housing Corporation","Community Housing Program"]
["1301273100014310 - 50A Avenue",130127310001,"4310 - 50A Avenue","BAR","Barrhead & District Social Housing Association","Barrhead 1","Barrhead","T7N1J5","Alberta Social Housing Corporation","Community Housing Program"]
["1301275521315125 - 45 Street",130127552131,"5125 - 45 Street","BAR","Barrhead & District Social Housing Association","Golden Crest Manor","Barrhead","T7N1M5","Alberta Social Housing Corporation","Seniors Self Contained Program"]
["1301275120994321 - 52 Avenue",130127512099,"4321 - 52 Avenue","BAR","Barrhead & District Social Housing Association","Hillcrest Lodge","Barrhead","T7N1M6","Housing Provider","Seniors Lodge Program"]
["1301275120994321 52 Avenue",130127512099,"4321 52 Avenue","BAR","Barrhead & District Social Housing Association","Hillcrest Lodge","Barrhead","T7N1M6","Alberta Social Housing Corporation","Seniors Lodge Program"]
["132927552073#10 Park Drive",132927552073,"#10 Park Drive","BAR","Barrhead & District Social Housing Association","James & Della Roach Manor","Fort Assiniboine","T0G1A0","Alberta Social Housing Corporation","Seniors Self Contained Program"]
["1301275500265120 - 43 Street",130127550026,"5120 - 43 Street","BAR","Barrhead & District Social Housing Association","Jubilee Manor","Barrhead","T7N1M7","Alberta Social Housing Corporation","Seniors Self Contained Program"]
["1301275122024310 - 51 Avenue",130127512202,"4310 - 51 Avenue","BAR","Barrhead & District Social Housing Association","Klondike Place","Barrhead","T7N1P7","Housing Provider","Seniors Lodge Program"]
["1301275522695127 - 47 Street",130127552269,"5127 - 47 Street","BAR","Barrhead & District Social Housing Association","Pembina Court","Barrhead","T7N1M3","Alberta Social Housing Corporation","Seniors Self Contained Program"]
["137327312248102A-102D Assiniboine Drive",137327312248,"102A-102D Assiniboine Drive","BAR","Barrhead & District Social Housing Association","Swan Hills I","Swan Hills","T0G2C0","Alberta Social Housing Corporation","Community Housing Program"]
["137327312248102E-102H Assiniboine Drive",137327312248,"102E-102H Assiniboine Drive","BAR","Barrhead & District Social Housing Association","Swan Hills I","Swan Hills","T0G2C0","Alberta Social Housing Corporation","Community Housing Program"]
["169127510203429 - 5 Avenue",169127510203,"429 - 5 Avenue","BRF","Battle River Foundation","Battle River Lodge","Wainwright","T9W2R1","Housing Provider","Seniors Lodge Program"]
["1689275521555803 - 52 Street",168927552155,"5803 - 52 Street","BEA","Beaver Foundation","Beaver Manor","Viking","T0B4N0","Alberta Social Housing Corporation","Seniors Self Contained Program"]
["1685275521185860 - 50 Street",168527552118,"5860 - 50 Street","BEA","Beaver Foundation","Beaverhill Heritage Apartments","Tofield","T0B4J0","Alberta Social Housing Corporation","Seniors Self Contained Program"]
["1642275120504820 - 52 Avenue",164227512050,"4820 - 52 Avenue","BEA","Beaver Foundation","Holden Lodge","Holden","T0B2C0","Alberta Social Housing Corporation","Seniors Lodge Program"]
["1665275521195019 - 53 Avenue",166527552119,"5019 - 53 Avenue","BEA","Beaver Foundation","Lions Golden Manor","Ryley","T0B4A0","Alberta Social Housing Corporation","Seniors Self Contained Program"]
["1665275523455019 - 53 Avenue",166527552345,"5019 - 53 Avenue","BEA","Beaver Foundation","Lions Golden Manor II","Ryley","T0B4A0","Alberta Social Housing Corporation","Seniors Self Contained Program"]
["1642275521055203 - 51 Avenue",164227552105,"5203 - 51 Avenue","BEA","Beaver Foundation","Northview Manor","Holden","T0B2C0","Alberta Social Housing Corporation","Seniors Self Contained Program"]
["1682275122215834 - 51 Street",168227512221,"5834 - 51 Street","BEA","Beaver Foundation","Sunshine Villa","Tofield","T0B4J0","Housing Provider","Seniors Lodge Program"]
["1685275101955824 - 50 Street",168527510195,"5824 - 50 Street","BEA","Beaver Foundation","Tofield Lodge","Tofield","T0B4J0","Alberta Social Housing Corporation","Seniors Lodge Program"]
["1689275102015128 - 57 Street",168927510201,"5128 - 57 Street","BEA","Beaver Foundation","Vialta Lodge","Viking","T0B4N0","Housing Provider","Seniors Lodge Program"]
["2218275560371603 - 90 Avenue SW",221827556037,"1603 - 90 Avenue SW","CJE","Bertha Gold Jewish Seniors Residence","Bertha Gold Jewish Seniors Residence","Calgary","T2V4V7","Alberta Social Housing Corporation","Seniors Self Contained Program"]
["221827556050240 Lincoln Way SW",221827556050,"240 Lincoln Way SW","BCS","Bethany Care Society","Bethany Village","Calgary","T3E6X7","Alberta Social Housing Corporation","Seniors Self Contained Program"]
["30000000101787 College Circle",300000001017,"87 College Circle","BCS","Bethany Care Society","Bethany CollegeSide Gardens","Red Deer","T4R0M2","Housing Provider","Seniors Lodge Program"]
["221827556033614 - 57 Avenue SW",221827556033,"614 - 57 Avenue SW","BCS","Bethany Care Society","First Assembly Manor","Calgary","T2V0H4","Alberta Social Housing Corporation","Seniors Self Contained Program"]
["2218275561933118 - 34 Avenue NW",221827556193,"3118 - 34 Avenue NW","BCS","Bethany Care Society","Foothills Manor","Calgary","T2L2A3","Alberta Social Housing Corporation","Seniors Self Contained Program"]
["2218275560621111 - 68 Avenue SW",221827556062,"1111 - 68 Avenue SW","BCS","Bethany Care Society","Glenmore Manor","Calgary","T2V4X1","Alberta Social Housing Corporation","Seniors Self Contained Program"]
["2218275561908847 Fairmount Drive SE",221827556190,"8847 Fairmount Drive SE","BCS","Bethany Care Society","Luther Place","Calgary","T2H0Z4","Alberta Social Housing Corporation","Seniors Self Contained Program"]
["2218275560612808 - 25 Street SW",221827556061,"2808 - 25 Street SW","BCS","Bethany Care Society","Menno Court","Calgary","T3E1X9","Alberta Social Housing Corporation","Seniors Self Contained Program"]
["2218275500232637 - 25 Street SW",221827550023,"2637 - 25 Street SW","BCS","Bethany Care Society","Menno Gardens","Calgary","T3E1X7","Alberta Social Housing Corporation","Seniors Self Contained Program"]
["221827466001916 - 18 A Street NW",221827466001,"916 - 18 A Street NW","BCS","Bethany Care Society","Project I","Calgary","T2M0V5","Housing Provider","Seniors Lodge Program"]
["228627466003302 Quigley Drive",228627466003,"302 Quigley Drive","BCS","Bethany Care Society","Project III","Cochrane","T4C1X9","Housing Provider","Seniors Lodge Program"]
["221827556142120 - 18 Avenue NE",221827556142,"120 - 18 Avenue NE","BCS","Bethany Care Society","Rose Manor","Calgary","T2E1M9","Alberta Social Housing Corporation","Seniors Self Contained Program"]
["221827556143255 - 17 Avenue NE",221827556143,"255 - 17 Avenue NE","BCS","Bethany Care Society","Sharon Manor","Calgary","T2E1L9","Alberta Social Housing Corporation","Seniors Self Contained Program"]
["1609275122235502 56 Avenue",160927512223,"5502 56 Avenue","TBG","Bethany Nursing Home of Camrose, Alberta","Bashaw Meadows","Bashaw","T0B0H0","Housing Provider","Seniors Lodge Program"]
["163827552121Glenview & Lindgren Units 1-4",163827552121,"Glenview & Lindgren Units 1-4","TBG","Bethany Nursing Home of Camrose, Alberta","Beaver House","Ferintosh","T0B1M0","Alberta Social Housing Corporation","Seniors Self Contained Program"]
["1639275121074401 - 47 Street",163927512107,"4401 - 47 Street","TBG","Bethany Nursing Home of Camrose, Alberta","Big Knife Lodge","Forestburg","T0B1N0","Alberta Social Housing Corporation","Seniors Lodge Program"]
["1639275522974401 - 47 Street",163927552297,"4401 - 47 Street","TBG","Bethany Nursing Home of Camrose, Alberta","Big Knife Villa","Forestburg","T0B1N0","Alberta Social Housing Corporation","Seniors Self Contained Program"]
["1649275521505326 - 51 Avenue",164927552150,"5326 - 51 Avenue","TBG","Bethany Nursing Home of Camrose, Alberta","Cameron Manor","Lacombe","T4L1J6","Alberta Social Housing Corporation","Seniors Self Contained Program"]
["16172731286492A Mt. Pleasant Drive",161727312864,"92A Mt. Pleasant Drive","TBG","Bethany Nursing Home of Camrose, Alberta","Camrose 1","Camrose","T4V2M6","Alberta Social Housing Corporation","Community Housing Program"]
["16172731286494A Mt. Pleasant Drive",161727312864,"94A Mt. Pleasant Drive","TBG","Bethany Nursing Home of Camrose, Alberta","Camrose 1","Camrose","T4V2M6","Alberta Social Housing Corporation","Community Housing Program"]
["16172731286496A Mt. Pleasant Drive",161727312864,"96A Mt. Pleasant Drive","TBG","Bethany Nursing Home of Camrose, Alberta","Camrose 1","Camrose","T4V2M6","Alberta Social Housing Corporation","Community Housing Program"]
["16172731286498A Mt. Pleasant Drive",161727312864,"98A Mt. Pleasant Drive","TBG","Bethany Nursing Home of Camrose, Alberta","Camrose 1","Camrose","T4V2M6","Alberta Social Housing Corporation","Community Housing Program"]
["161727312864107A Mt. Pleasant Drive",161727312864,"107A Mt. Pleasant Drive","TBG","Bethany Nursing Home of Camrose, Alberta","Camrose 1","Camrose","T4V2M8","Alberta Social Housing Corporation","Community Housing Program"]
["161727312864109A Mt. Pleasant Drive",161727312864,"109A Mt. Pleasant Drive","TBG","Bethany Nursing Home of Camrose, Alberta","Camrose 1","Camrose","T4V2M8","Alberta Social Housing Corporation","Community Housing Program"]
["161727312864111A Mt. Pleasant Drive",161727312864,"111A Mt. Pleasant Drive","TBG","Bethany Nursing Home of Camrose, Alberta","Camrose 1","Camrose","T4V2M8","Alberta Social Housing Corporation","Community Housing Program"]
["1617273120696705A Marler Drive",161727312069,"6705A Marler Drive","TBG","Bethany Nursing Home of Camrose, Alberta","Camrose 2","Camrose","T4V3R2","Alberta Social Housing Corporation","Community Housing Program"]
["1617273120696707A Marler Drive",161727312069,"6707A Marler Drive","TBG","Bethany Nursing Home of Camrose, Alberta","Camrose 2","Camrose","T4V3R2","Alberta Social Housing Corporation","Community Housing Program"]
["1617273120696709A Marler Drive",161727312069,"6709A Marler Drive","TBG","Bethany Nursing Home of Camrose, Alberta","Camrose 2","Camrose","T4V3R2","Alberta Social Housing Corporation","Community Housing Program"]
["1617273120696711A Marler Drive",161727312069,"6711A Marler Drive","TBG","Bethany Nursing Home of Camrose, Alberta","Camrose 2","Camrose","T4V3R2","Alberta Social Housing Corporation","Community Housing Program"]
["1617273120696713A Marler Drive",161727312069,"6713A Marler Drive","TBG","Bethany Nursing Home of Camrose, Alberta","Camrose 2","Camrose","T4V3R2","Alberta Social Housing Corporation","Community Housing Program"]
["1617273120805402A - 43 Avenue",161727312080,"5402A - 43 Avenue","TBG","Bethany Nursing Home of Camrose, Alberta","Camrose 3","Camrose","T4V4J8","Alberta Social Housing Corporation","Community Housing Program"]
["1617273120805406A - 43 Avenue",161727312080,"5406A - 43 Avenue","TBG","Bethany Nursing Home of Camrose, Alberta","Camrose 3","Camrose","T4V4J8","Alberta Social Housing Corporation","Community Housing Program"]
["1617273120805407A - 43 Avenue",161727312080,"5407A - 43 Avenue","TBG","Bethany Nursing Home of Camrose, Alberta","Camrose 3","Camrose","T4V4J9","Alberta Social Housing Corporation","Community Housing Program"]
["1617273120805410A - 43 Avenue",161727312080,"5410A - 43 Avenue","TBG","Bethany Nursing Home of Camrose, Alberta","Camrose 3","Camrose","T4V4J7","Alberta Social Housing Corporation","Community Housing Program"]
[{"$f":"CONCATENATE(B67,C67)","v":"1617273120805401A - 43 Avenue"},161727312080,"5401A - 43 Avenue","TBG","Bethany Nursing Home of Camrose, Alberta","Camrose 3","Camrose","T4V4J8","Alberta Social Housing Corporation","Community Housing Program"]
["163627552334101 Rutherford Avenue",163627552334,"101 Rutherford Avenue","TBG","Bethany Nursing Home of Camrose, Alberta","Cozy Corner","Heisler","T0B2A0","Alberta Social Housing Corporation","Seniors Self Contained Program"]
["160727552061212 Main Street",160727552061,"212 Main Street","TBG","Bethany Nursing Home of Camrose, Alberta","E.O. Lysne Manor","Alliance","T0B0A0","Alberta Social Housing Corporation","Seniors Self Contained Program"]
["1634275100135111 - 51 Avenue",163427510013,"5111 - 51 Avenue","TBG","Bethany Nursing Home of Camrose, Alberta","Eckville Manor House","Eckville","T0M0X0","Alberta Social Housing Corporation","Seniors Lodge Program"]
["1651275522774808 50 Street Units 1 - 6",165127552277,"4808 50 Street Units 1 - 6","TBG","Bethany Nursing Home of Camrose, Alberta","Frontier Manor","Lougheed","T0B2V0","Alberta Social Housing Corporation","Seniors Self Contained Program"]
["1609275502115015 - 53 Avenue",160927550211,"5015 - 53 Avenue","TBG","Bethany Nursing Home of Camrose, Alberta","Heritage House 1","Bashaw","T0B0H0","Alberta Social Housing Corporation","Seniors Self Contained Program"]
["1609275521775015 - 53 Avenue",160927552177,"5015 - 53 Avenue","TBG","Bethany Nursing Home of Camrose, Alberta","Heritage House 2","Bashaw","T0B0H0","Alberta Social Housing Corporation","Seniors Self Contained Program"]
["1617275521144912 - 56 Street",161727552114,"4912 - 56 Street","TBG","Bethany Nursing Home of Camrose, Alberta","Heritage Manor","Camrose","T4V4C7","Alberta Social Housing Corporation","Seniors Self Contained Program"]
["1154275521515215 - 51 Street",115427552151,"5215 - 51 Street","TBG","Bethany Nursing Home of Camrose, Alberta","John A. Smith Manor","Millet","T0C1Z0","Alberta Social Housing Corporation","Seniors Self Contained Program"]
["1197275521005203 - 55 Street",119727552100,"5203 - 55 Street","TBG","Bethany Nursing Home of Camrose, Alberta","Kiwanis Kourt","Wetaskiwin","T9A2J6","Alberta Social Housing Corporation","Seniors Self Contained Program"]
["1649273100295 Fairway Drive",164927310029,"5 Fairway Drive","TBG","Bethany Nursing Home of Camrose, Alberta","Lacombe 1","Lacombe","T4L1R3","Alberta Social Housing Corporation","Community Housing Program"]
["16492731002913 Eagle Road",164927310029,"13 Eagle Road","TBG","Bethany Nursing Home of Camrose, Alberta","Lacombe 1","Lacombe","T4L1S2","Alberta Social Housing Corporation","Community Housing Program"]
["16492731002917 Eagle Road",164927310029,"17 Eagle Road","TBG","Bethany Nursing Home of Camrose, Alberta","Lacombe 1","Lacombe","T4L1S2","Alberta Social Housing Corporation","Community Housing Program"]
["16492731002918 Eagle Road",164927310029,"18 Eagle Road","TBG","Bethany Nursing Home of Camrose, Alberta","Lacombe 1","Lacombe","T4L1S2","Alberta Social Housing Corporation","Community Housing Program"]
["16492731230932 Woodland Drive",164927312309,"32 Woodland Drive","TBG","Bethany Nursing Home of Camrose, Alberta","Lacombe 2 (FCLS)","Lacombe","T4L1V5","Alberta Social Housing Corporation","Community Housing Program"]
["16492731230926 Woodland Drive",164927312309,"26 Woodland Drive","TBG","Bethany Nursing Home of Camrose, Alberta","Lacombe 2 (FCLS)","Lacombe","T4L1V5","Alberta Social Housing Corporation","Community Housing Program"]
["16492731230937 Woodland Drive",164927312309,"37 Woodland Drive","TBG","Bethany Nursing Home of Camrose, Alberta","Lacombe 2 (FCLS)","Lacombe","T4L1V1","Alberta Social Housing Corporation","Community Housing Program"]
["16492731659431 Woodland Drive",164927316594,"31 Woodland Drive","TBG","Bethany Nursing Home of Camrose, Alberta","Lacombe 3 (FCLS)","Lacombe","T4L1V1","Alberta Social Housing Corporation","Community Housing Program"]
["16492731662735 Woodland Drive",164927316627,"35 Woodland Drive","TBG","Bethany Nursing Home of Camrose, Alberta","Lacombe 4 (FCLS)","Lacombe","T4L1V5","Alberta Social Housing Corporation","Community Housing Program"]
["1649275101574508 C.N.E. Trail",164927510157,"4508 C.N.E. Trail","TBG","Bethany Nursing Home of Camrose, Alberta","Lacombe Lodge","Lacombe","T4L1V9","Housing Provider","Seniors Lodge Program"]
["1609275522495320 - 49 Street",160927552249,"5320 - 49 Street","TBG","Bethany Nursing Home of Camrose, Alberta","Lakeside Home","Bashaw","T0B0H0","Alberta Social Housing Corporation","Seniors Self Contained Program"]
["1605275520094817 - 51 Street",160527552009,"4817 - 51 Street","TBG","Bethany Nursing Home of Camrose, Alberta","Lakeview Manor","Alix","T0C0B0","Alberta Social Housing Corporation","Seniors Self Contained Program"]
["1605275520094817 - 51 Street",160527552009,"4817 - 51 Street","TBG","Bethany Nursing Home of Camrose, Alberta","Lakeview Manor","Alix","T0C0B0","Alberta Social Housing Corporation","Seniors Self Contained Program"]
["165427552152Units 1 - 8 Carrol Ave",165427552152,"Units 1 - 8 Carrol Ave","TBG","Bethany Nursing Home of Camrose, Alberta","Lamerton Place","Mirror","T0B3C0","Alberta Social Housing Corporation","Seniors Self Contained Program"]
["1197275521945215 - 55 Avenue",119727552194,"5215 - 55 Avenue","TBG","Bethany Nursing Home of Camrose, Alberta","Legion Arms","Wetaskiwin","T9A3A7","Alberta Social Housing Corporation","Seniors Self Contained Program"]
["163427556188Units 1-4 - 5105 52 Ave",163427556188,"Units 1-4 - 5105 52 Ave","TBG","Bethany Nursing Home of Camrose, Alberta","Lions Golden Villa","Eckville","T0M0X0","Alberta Social Housing Corporation","Seniors Self Contained Program"]
["163427556188Units 5-8  - 5107 52 Ave",163427556188,"Units 5-8  - 5107 52 Ave","TBG","Bethany Nursing Home of Camrose, Alberta","Lions Golden Villa","Eckville",null,"Alberta Social Housing Corporation","Seniors Self Contained Program"]
["1197275521955410 - 39 Avenue",119727552195,"5410 - 39 Avenue","TBG","Bethany Nursing Home of Camrose, Alberta","Luther Manor","Wetaskiwin","T9A3A6","Alberta Social Housing Corporation","Seniors Self Contained Program"]
["1647275520014030 - 57 Street",164727552001,"4030 - 57 Street","TBG","Bethany Nursing Home of Camrose, Alberta","Manitou Manor","Killam","T0B2L0","Alberta Social Housing Corporation","Seniors Self Contained Program"]
["115427223095126 Porter  Avenue",115427223095,"126 Porter  Avenue","TBG","Bethany Nursing Home of Camrose, Alberta","Millet R&N 2","Millet","T0C1Z0","Alberta Social Housing Corporation","Community Housing Program"]
["165827552188207 Olstad Street Units 1-8",165827552188,"207 Olstad Street Units 1-8","TBG","Bethany Nursing Home of Camrose, Alberta","Nordic Villa","New Norway","T0B3L0","Alberta Social Housing Corporation","Seniors Self Contained Program"]
["16102722601552 Avenue & 47 Street",161027226015,"52 Avenue & 47 Street","TBG","Bethany Nursing Home of Camrose, Alberta","Oxford Court","Bentley","T0C0J0","Alberta Social Housing Corporation","Community Housing Program"]
["1617275522734709 - 50 Street",161727552273,"4709 - 50 Street","TBG","Bethany Nursing Home of Camrose, Alberta","Park View Place","Camrose","T4V4C9","Alberta Social Housing Corporation","Seniors Self Contained Program"]
["1641275500675004 - 50 Street",164127550067,"5004 - 50 Street","TBG","Bethany Nursing Home of Camrose, Alberta","Parkland Manor","Hardisty","T0B1V0","Alberta Social Housing Corporation","Seniors Self Contained Program"]
["1649275500054508 C.N.E. Trail",164927550005,"4508 C.N.E. Trail","TBG","Bethany Nursing Home of Camrose, Alberta","Parkview Manor","Lacombe","T4L1V9","Alberta Social Housing Corporation","Seniors Self Contained Program"]
["1197275122204501 - 60 Street",119727512220,"4501 - 60 Street","TBG","Bethany Nursing Home of Camrose, Alberta","Peace Hills Lodge (New)","Wetaskiwin","T9A1X7","Housing Provider","Seniors Lodge Program"]
["1673275523495001 51st Avenue",167327552349,"5001 51st Avenue","TBG","Bethany Nursing Home of Camrose, Alberta","Prairie Rose Place","Sedgewick","T0B 4C0","Alberta Social Housing Corporation","Seniors Self Contained Program"]
["1617275121014318 - 53 Street",161727512101,"4318 - 53 Street","TBG","Bethany Nursing Home of Camrose, Alberta","Rosealta Lodge","Camrose","T4V4G3","Alberta Social Housing Corporation","Seniors Lodge Program"]
["1611275520624651 Sanden Street",161127552062,"4651 Sanden Street","TBG","Bethany Nursing Home of Camrose, Alberta","Sanden Court 1","Bawlf","T0B0J0","Alberta Social Housing Corporation","Seniors Self Contained Program"]
["1611275521844655 Sanden Street",161127552184,"4655 Sanden Street","TBG","Bethany Nursing Home of Camrose, Alberta","Sanden Court 2","Bawlf","T0B0J0","Alberta Social Housing Corporation","Seniors Self Contained Program"]
["1649275561915002 - 51 Avenue",164927556191,"5002 - 51 Avenue","TBG","Bethany Nursing Home of Camrose, Alberta","Spruce Terrace","Lacombe","T4L1B8","Alberta Social Housing Corporation","Seniors Self Contained Program"]
["1612275561854808 Shuller Avenue",161227556185,"4808 Shuller Avenue","TBG","Bethany Nursing Home of Camrose, Alberta","Tower Manor","Blackfalds","T0M0J0","Alberta Social Housing Corporation","Seniors Self Contained Program"]
["1651275520634932 - 48 Street",165127552063,"4932 - 48 Street","TBG","Bethany Nursing Home of Camrose, Alberta","Verdant Valley Villa","Lougheed","T0B2V0","Alberta Social Housing Corporation","Seniors Self Contained Program"]
["1684275521655110 50 Street Units 1 - 4",168427552165,"5110 50 Street Units 1 - 4","TBG","Bethany Nursing Home of Camrose, Alberta","Wavy Lake Manor","Flagstaff County","T0B4H0","Alberta Social Housing Corporation","Seniors Self Contained Program"]
["1199275102085th Avenue & 4th Street",119927510208,"5th Avenue & 4th Street","TBG","Bethany Nursing Home of Camrose, Alberta","West Pine Lodge","Winfield","T0C2X0","Alberta Social Housing Corporation","Seniors Lodge Program"]
["1629275500145001/5002 55 Street",162927550014,"5001/5002 55 Street","TBG","Bethany Nursing Home of Camrose, Alberta","West Side Manor","Daysland","T0B1A0","Alberta Social Housing Corporation","Seniors Self Contained Program"]
["1629275500145003/5004 55 Street",162927550014,"5003/5004 55 Street","TBG","Bethany Nursing Home of Camrose, Alberta","West Side Manor","Daysland","T0B1A0","Alberta Social Housing Corporation","Seniors Self Contained Program"]
["1629275500145005/5006 55 Street",162927550014,"5005/5006 55 Street","TBG","Bethany Nursing Home of Camrose, Alberta","West Side Manor","Daysland","T0B1A0","Alberta Social Housing Corporation","Seniors Self Contained Program"]
["1629275500145007/5008 55 Street",162927550014,"5007/5008 55 Street","TBG","Bethany Nursing Home of Camrose, Alberta","West Side Manor","Daysland","T0B1A0","Alberta Social Housing Corporation","Seniors Self Contained Program"]
["1629275500145009/5010 55 Street",162927550014,"5009/5010 55 Street","TBG","Bethany Nursing Home of Camrose, Alberta","West Side Manor","Daysland","T0B1A0","Alberta Social Housing Corporation","Seniors Self Contained Program"]
["1629275500145011/5012 55 Street",162927550014,"5011/5012 55 Street","TBG","Bethany Nursing Home of Camrose, Alberta","West Side Manor","Daysland","T0B1A0","Alberta Social Housing Corporation","Seniors Self Contained Program"]
["1629275500145013/5014 55 Street",162927550014,"5013/5014 55 Street","TBG","Bethany Nursing Home of Camrose, Alberta","West Side Manor","Daysland","T0B1A0","Alberta Social Housing Corporation","Seniors Self Contained Program"]
["1629275500145015/5016 55 Street",162927550014,"5015/5016 55 Street","TBG","Bethany Nursing Home of Camrose, Alberta","West Side Manor","Daysland","T0B1A0","Alberta Social Housing Corporation","Seniors Self Contained Program"]
["1629275500145017/5018 55 Street",162927550014,"5017/5018 55 Street","TBG","Bethany Nursing Home of Camrose, Alberta","West Side Manor","Daysland","T0B1A0","Alberta Social Housing Corporation","Seniors Self Contained Program"]
["1629275500145019/5020 55 Street",162927550014,"5019/5020 55 Street","TBG","Bethany Nursing Home of Camrose, Alberta","West Side Manor","Daysland","T0B1A0","Alberta Social Housing Corporation","Seniors Self Contained Program"]
["145402 52 Avenue",14,"5402 52 Avenue","TBG","Bethany Nursing Home of Camrose, Alberta","Wetaskawin Meadows","Wetaskiwin","T9A 0X9","Other","None"]
["1197273100245420 - 55 Avenue",119727310024,"5420 - 55 Avenue","TBG","Bethany Nursing Home of Camrose, Alberta","Wetaskiwin 1","Wetaskiwin","T9A1A5","Alberta Social Housing Corporation","Community Housing Program"]
["1197273100245416 - 55 Avenue",119727310024,"5416 - 55 Avenue","TBG","Bethany Nursing Home of Camrose, Alberta","Wetaskiwin 1","Wetaskiwin","T9A1A5","Alberta Social Housing Corporation","Community Housing Program"]
["1197273100245412 - 55 Avenue",119727310024,"5412 - 55 Avenue","TBG","Bethany Nursing Home of Camrose, Alberta","Wetaskiwin 1","Wetaskiwin","T9A1A5","Alberta Social Housing Corporation","Community Housing Program"]
["1197273100245408 - 55 Avenue",119727310024,"5408 - 55 Avenue","TBG","Bethany Nursing Home of Camrose, Alberta","Wetaskiwin 1","Wetaskiwin","T9A1A5","Alberta Social Housing Corporation","Community Housing Program"]
["119727310024102 Lilac Crescent",119727310024,"102 Lilac Crescent","TBG","Bethany Nursing Home of Camrose, Alberta","Wetaskiwin 1","Wetaskiwin","T9A2E2","Alberta Social Housing Corporation","Community Housing Program"]
["119727310024106 Lilac Crescent",119727310024,"106 Lilac Crescent","TBG","Bethany Nursing Home of Camrose, Alberta","Wetaskiwin 1","Wetaskiwin","T9A2E2","Alberta Social Housing Corporation","Community Housing Program"]
["119727310024110 Lilac Crescent",119727310024,"110 Lilac Crescent","TBG","Bethany Nursing Home of Camrose, Alberta","Wetaskiwin 1","Wetaskiwin","T9A2E2","Alberta Social Housing Corporation","Community Housing Program"]
["119727310024118 Lilac Crescent",119727310024,"118 Lilac Crescent","TBG","Bethany Nursing Home of Camrose, Alberta","Wetaskiwin 1","Wetaskiwin","T9A2E2","Alberta Social Housing Corporation","Community Housing Program"]
[{"$f":"CONCATENATE(B131,C131)","v":"119727310024114 Lilac Crescent"},119727310024,"114 Lilac Crescent","TBG","Bethany Nursing Home of Camrose, Alberta","Wetaskiwin 1","Wetaskiwin","T9A2E2","Alberta Social Housing Corporation","Community Housing Program"]
["119727310024122 Lilac Crescent",119727310024,"122 Lilac Crescent","TBG","Bethany Nursing Home of Camrose, Alberta","Wetaskiwin 1","Wetaskiwin","T9A2E2","Alberta Social Housing Corporation","Community Housing Program"]
["1197273100525602 - 55A Street",119727310052,"5602 - 55A Street","TBG","Bethany Nursing Home of Camrose, Alberta","Wetaskiwin 2","Wetaskiwin","T9A2A9","Alberta Social Housing Corporation","Community Housing Program"]
["1197273100525606 - 55A Street",119727310052,"5606 - 55A Street","TBG","Bethany Nursing Home of Camrose, Alberta","Wetaskiwin 2","Wetaskiwin","T9A2A9","Alberta Social Housing Corporation","Community Housing Program"]
["1197273100525610 - 55A Street",119727310052,"5610 - 55A Street","TBG","Bethany Nursing Home of Camrose, Alberta","Wetaskiwin 2","Wetaskiwin","T9A2A9","Alberta Social Housing Corporation","Community Housing Program"]
["1197273100525601 - 55A Street",119727310052,"5601 - 55A Street","TBG","Bethany Nursing Home of Camrose, Alberta","Wetaskiwin 2","Wetaskiwin","T9A2A8","Alberta Social Housing Corporation","Community Housing Program"]
["1197273120765703 - 52 Street",119727312076,"5703 - 52 Street","TBG","Bethany Nursing Home of Camrose, Alberta","Wetaskiwin 3","Wetaskiwin","T9A3A1","Alberta Social Housing Corporation","Community Housing Program"]
["1197273122655634/36 - 55A Street",119727312265,"5634/36 - 55A Street","TBG","Bethany Nursing Home of Camrose, Alberta","Wetaskiwin 4 (FCLS)","Wetaskiwin","T9A2A9","Alberta Social Housing Corporation","Community Housing Program"]
["1197273125733721 - 53 Street",119727312573,"3721 - 53 Street","TBG","Bethany Nursing Home of Camrose, Alberta","Wetaskiwin 5 (FCLS)","Wetaskiwin","T9A2K6","Alberta Social Housing Corporation","Community Housing Program"]
["1197273125733740 - 54 Street",119727312573,"3740 - 54 Street","TBG","Bethany Nursing Home of Camrose, Alberta","Wetaskiwin 5 (FCLS)","Wetaskiwin","T9A2L2","Alberta Social Housing Corporation","Community Housing Program"]
["1197273125733748 - 54 Street",119727312573,"3748 - 54 Street","TBG","Bethany Nursing Home of Camrose, Alberta","Wetaskiwin 5 (FCLS)","Wetaskiwin","T9A2L2","Alberta Social Housing Corporation","Community Housing Program"]
["119727312573221 Garnet Crescent",119727312573,"221 Garnet Crescent","TBG","Bethany Nursing Home of Camrose, Alberta","Wetaskiwin 5 (FCLS)","Wetaskiwin","T9A2S3","Alberta Social Housing Corporation","Community Housing Program"]
["119727312573217 Garnet Crescent",119727312573,"217 Garnet Crescent","TBG","Bethany Nursing Home of Camrose, Alberta","Wetaskiwin 5 (FCLS)","Wetaskiwin","T9A2S3","Alberta Social Housing Corporation","Community Housing Program"]
["1197273125735614 - 55A Street",119727312573,"5614 - 55A Street","TBG","Bethany Nursing Home of Camrose, Alberta","Wetaskiwin 5 (FCLS)","Wetaskiwin","T9A2A9","Alberta Social Housing Corporation","Community Housing Program"]
["164427552183103 Lady Helen Avenue Units 1 - 4",164427552183,"103 Lady Helen Avenue Units 1 - 4","TBG","Bethany Nursing Home of Camrose, Alberta","Wheatland Manor","Flagstaff County","T0B1R0","Alberta Social Housing Corporation","Seniors Self Contained Program"]
["1617275500414912 - 53 Street",161727550041,"4912 - 53 Street","TBG","Bethany Nursing Home of Camrose, Alberta","Wild Rose Villa","Camrose","T4V1Z1","Alberta Social Housing Corporation","Seniors Self Contained Program"]
["226127550043119 - 4 Ave East Units 1-10",226127550043,"119 - 4 Ave East Units 1-10","BIG","Big Country Housing Authority","Cereal Country Cottages","Cereal","T0J0N0","Alberta Social Housing Corporation","Seniors Self Contained Program"]
["248327310011901 - 3 Street West",248327310011,"901 - 3 Street West","BIG","Big Country Housing Authority","Hanna 1","Hanna","T0J1P0","Alberta Social Housing Corporation","Community Housing Program"]
["248327310011905 - 3 Street West",248327310011,"905 - 3 Street West","BIG","Big Country Housing Authority","Hanna 1","Hanna","T0J1P0","Alberta Social Housing Corporation","Community Housing Program"]
["248327310011909 - 3 Street West",248327310011,"909 - 3 Street West","BIG","Big Country Housing Authority","Hanna 1","Hanna","T0J1P0","Alberta Social Housing Corporation","Community Housing Program"]
["248327310011913 - 3 Street West",248327310011,"913 - 3 Street West","BIG","Big Country Housing Authority","Hanna 1","Hanna","T0J1P0","Alberta Social Housing Corporation","Community Housing Program"]
["248327310011917 - 3 Street West",248327310011,"917 - 3 Street West","BIG","Big Country Housing Authority","Hanna 1","Hanna","T0J1P0","Alberta Social Housing Corporation","Community Housing Program"]
["248327310011921 - 3 Street West",248327310011,"921 - 3 Street West","BIG","Big Country Housing Authority","Hanna 1","Hanna","T0J1P0","Alberta Social Housing Corporation","Community Housing Program"]
["248327310011925 - 3 Street West",248327310011,"925 - 3 Street West","BIG","Big Country Housing Authority","Hanna 1","Hanna","T0J1P0","Alberta Social Housing Corporation","Community Housing Program"]
["248327310043321A - 4 Avenue East",248327310043,"321A - 4 Avenue East","BIG","Big Country Housing Authority","Hanna 2","Hanna","T0J1P0","Alberta Social Housing Corporation","Community Housing Program"]
["248327310043502A/B - 3 Street East",248327310043,"502A/B - 3 Street East","BIG","Big Country Housing Authority","Hanna 2","Hanna","T0J1P0","Alberta Social Housing Corporation","Community Housing Program"]
["248327310043504A/B - 3 Street East",248327310043,"504A/B - 3 Street East","BIG","Big Country Housing Authority","Hanna 2","Hanna","T0J1P0","Alberta Social Housing Corporation","Community Housing Program"]
["248327556001401 - 5 Street West",248327556001,"401 - 5 Street West","BIG","Big Country Housing Authority","Parkview Manor 1","Hanna","T0J1P0","Alberta Social Housing Corporation","Seniors Self Contained Program"]
["248327556108409 - 5 Street West",248327556108,"409 - 5 Street West","BIG","Big Country Housing Authority","Parkview Manor 2","Hanna","T0J1P0","Alberta Social Housing Corporation","Seniors Self Contained Program"]
["248327556170611 - 5 Avenue Unit 1 & 2",248327556170,"611 - 5 Avenue Unit 1 & 2","BIG","Big Country Housing Authority","Parkview Villas","Hanna","T0J1P0","Alberta Social Housing Corporation","Seniors Self Contained Program"]
["248327556170611 - 5 Avenue West Unit 3 & 4",248327556170,"611 - 5 Avenue West Unit 3 & 4","BIG","Big Country Housing Authority","Parkview Villas","Hanna","T0J1P0","Alberta Social Housing Corporation","Seniors Self Contained Program"]
["248327556170611 - 5 Avenue West Unit 5 & 6",248327556170,"611 - 5 Avenue West Unit 5 & 6","BIG","Big Country Housing Authority","Parkview Villas","Hanna","T0J1P0","Alberta Social Housing Corporation","Seniors Self Contained Program"]
["248327556170611 - 5 Avenue West Unit 7 & 8",248327556170,"611 - 5 Avenue West Unit 7 & 8","BIG","Big Country Housing Authority","Parkview Villas","Hanna","T0J1P0","Alberta Social Housing Corporation","Seniors Self Contained Program"]
["248327556170611 - 5 Avenue West Unit 9 & 10",248327556170,"611 - 5 Avenue West Unit 9 & 10","BIG","Big Country Housing Authority","Parkview Villas","Hanna","T0J1P0","Alberta Social Housing Corporation","Seniors Self Contained Program"]
["1301273720175229 - 47 Street",130127372017,"5229 - 47 Street","A197","Blue Heron Support Services Association","John & Gerald House","Barrhead","T7N1H3","Housing Provider","Specialized Housing"]
["1253275520329805 - 105 Street",125327552032,"9805 - 105 Street","BHF","Boreal Housing Foundation","Altenheim","La Crete","T0H2H0","Alberta Social Housing Corporation","Seniors Self Contained Program"]
["1253275522059802 - 104 Street",125327552205,"9802 - 104 Street","BHF","Boreal Housing Foundation","Altenheim 2","La Crete","T0H2H0","Alberta Social Housing Corporation","Seniors Self Contained Program"]
["1253275522059806 - 104 Street",125327552205,"9806 - 104 Street","BHF","Boreal Housing Foundation","Altenheim 2","La Crete","T0H2H0","Alberta Social Housing Corporation","Seniors Self Contained Program"]
["1253275522059816 - 104 Street",125327552205,"9816 - 104 Street","BHF","Boreal Housing Foundation","Altenheim 2","La Crete","T0H2H0","Alberta Social Housing Corporation","Seniors Self Contained Program"]
["1253275522059812 - 104 Street",125327552205,"9812 - 104 Street","BHF","Boreal Housing Foundation","Altenheim 2","La Crete","T0H2H0","Alberta Social Housing Corporation","Seniors Self Contained Program"]
["1253275523189805 - 105 Street",125327552318,"9805 - 105 Street","BHF","Boreal Housing Foundation","Altenheim 3","La Crete","T0H2H0","Alberta Social Housing Corporation","Seniors Self Contained Program"]
["1230275520575004 46 Ave Units 1 - 12",123027552057,"5004 46 Ave Units 1 - 12","BHF","Boreal Housing Foundation","Fort Pioneer Homes","Fort Vermilion","T0H1N0","Alberta Social Housing Corporation","Seniors Self Contained Program"]
["1230273100084402 - 52 Avenue",123027310008,"4402 - 52 Avenue","BHF","Boreal Housing Foundation","Fort Vermilion 1","Fort Vermilion","T0H1N0","Housing Provider","Community Housing Program"]
["1230273100084332 - 52 Avenue",123027310008,"4332 - 52 Avenue","BHF","Boreal Housing Foundation","Fort Vermilion 1","Fort Vermilion","T0H1N0","Housing Provider","Community Housing Program"]
["1230273100084320 - 52 Avenue",123027310008,"4320 - 52 Avenue","BHF","Boreal Housing Foundation","Fort Vermilion 1","Fort Vermilion","T0H1N0","Housing Provider","Community Housing Program"]
["1230273100084306 - 52 Avenue",123027310008,"4306 - 52 Avenue","BHF","Boreal Housing Foundation","Fort Vermilion 1","Fort Vermilion","T0H1N0","Housing Provider","Community Housing Program"]
["1230273100085112 - 43 Street",123027310008,"5112 - 43 Street","BHF","Boreal Housing Foundation","Fort Vermilion 1","Fort Vermilion","T0H1N0","Housing Provider","Community Housing Program"]
["1230273100084331 - 52 Avenue",123027310008,"4331 - 52 Avenue","BHF","Boreal Housing Foundation","Fort Vermilion 1","Fort Vermilion","T0H1N0","Housing Provider","Community Housing Program"]
["1230273100095001 - 44 Street",123027310009,"5001 - 44 Street","BHF","Boreal Housing Foundation","Fort Vermilion 2","Fort Vermilion","T0H1N0","Housing Provider","Community Housing Program"]
["1230273100094303 - 50 Avenue",123027310009,"4303 - 50 Avenue","BHF","Boreal Housing Foundation","Fort Vermilion 2","Fort Vermilion","T0H1N0","Housing Provider","Community Housing Program"]
["1230273100095001 - 43 Street",123027310009,"5001 - 43 Street","BHF","Boreal Housing Foundation","Fort Vermilion 2","Fort Vermilion","T0H1N0","Housing Provider","Community Housing Program"]
["1230273100095101 - 43 Street",123027310009,"5101 - 43 Street","BHF","Boreal Housing Foundation","Fort Vermilion 2","Fort Vermilion","T0H1N0","Housing Provider","Community Housing Program"]
["1230273100094318 - 52 Avenue",123027310009,"4318 - 52 Avenue","BHF","Boreal Housing Foundation","Fort Vermilion 2","Fort Vermilion","T0H1N0","Housing Provider","Community Housing Program"]
["1230273100095005 - 44 Street",123027310009,"5005 - 44 Street","BHF","Boreal Housing Foundation","Fort Vermilion 2","Fort Vermilion","T0H1N0","Housing Provider","Community Housing Program"]
["1230273100095002 - 43 Street",123027310009,"5002 - 43 Street","BHF","Boreal Housing Foundation","Fort Vermilion 2","Fort Vermilion","T0H1N0","Housing Provider","Community Housing Program"]
["1230273100094305 Peace Place",123027310009,"4305 Peace Place","BHF","Boreal Housing Foundation","Fort Vermilion 2","Fort Vermilion","T0H1N0","Housing Provider","Community Housing Program"]
["1230273100094307 - 51 Avenue",123027310009,"4307 - 51 Avenue","BHF","Boreal Housing Foundation","Fort Vermilion 2","Fort Vermilion","T0H1N0","Housing Provider","Community Housing Program"]
["1230273100094317 - 52 Avenue",123027310009,"4317 - 52 Avenue","BHF","Boreal Housing Foundation","Fort Vermilion 2","Fort Vermilion","T0H1N0","Housing Provider","Community Housing Program"]
["1230273127334328 - 52 Avenue",123027312733,"4328 - 52 Avenue","BHF","Boreal Housing Foundation","Fort Vermilion 3 (ATCO)","Fort Vermilion","T0H1N0","Housing Provider","Community Housing Program"]
["1230273127335006 - 44 Street",123027312733,"5006 - 44 Street","BHF","Boreal Housing Foundation","Fort Vermilion 3 (ATCO)","Fort Vermilion","T0H1N0","Housing Provider","Community Housing Program"]
["1230273127334304 Peace Place",123027312733,"4304 Peace Place","BHF","Boreal Housing Foundation","Fort Vermilion 3 (ATCO)","Fort Vermilion","T0H1N0","Housing Provider","Community Housing Program"]
["1230273127335104 - 43 Street",123027312733,"5104 - 43 Street","BHF","Boreal Housing Foundation","Fort Vermilion 3 (ATCO)","Fort Vermilion","T0H1N0","Housing Provider","Community Housing Program"]
["1230273127334405 - 52 Avenue",123027312733,"4405 - 52 Avenue","BHF","Boreal Housing Foundation","Fort Vermilion 3 (ATCO)","Fort Vermilion","T0H1N0","Housing Provider","Community Housing Program"]
["1230273127335014 - 44 Street",123027312733,"5014 - 44 Street","BHF","Boreal Housing Foundation","Fort Vermilion 3 (ATCO)","Fort Vermilion","T0H1N0","Housing Provider","Community Housing Program"]
[{"$f":"CONCATENATE(B195,C195)","v":"1230273127614501 River Road"},123027312761,"4501 River Road","BHF","Boreal Housing Foundation","Fort Vermilion 4 (Staff)","Fort Vermilion","T0H1N0","Alberta Social Housing Corporation","Community Housing Program"]
["1230273127774406 - 52 Avenue",123027312777,"4406 - 52 Avenue","BHF","Boreal Housing Foundation","Fort Vermilion 5","Fort Vermilion","T0H1N0","Housing Provider","Community Housing Program"]
["1230273127774314 - 52 Avenue",123027312777,"4314 - 52 Avenue","BHF","Boreal Housing Foundation","Fort Vermilion 5","Fort Vermilion","T0H1N0","Housing Provider","Community Housing Program"]
["1230273127775004 - 44 Street",123027312777,"5004 - 44 Street","BHF","Boreal Housing Foundation","Fort Vermilion 5","Fort Vermilion","T0H1N0","Housing Provider","Community Housing Program"]
["1230273127775114 - 43 Street",123027312777,"5114 - 43 Street","BHF","Boreal Housing Foundation","Fort Vermilion 5","Fort Vermilion","T0H1N0","Housing Provider","Community Housing Program"]
["1230273127775117 - 43 Street",123027312777,"5117 - 43 Street","BHF","Boreal Housing Foundation","Fort Vermilion 5","Fort Vermilion","T0H1N0","Housing Provider","Community Housing Program"]
["1230272221105002 - 44 Street",123027222110,"5002 - 44 Street","BHF","Boreal Housing Foundation","Fort Vermilion 1","Fort Vermilion","T0H1N0","Housing Provider","Community Housing Program"]
["1230272221105008 - 44 Street",123027222110,"5008 - 44 Street","BHF","Boreal Housing Foundation","Fort Vermilion 1","Fort Vermilion","T0H1N0","Housing Provider","Community Housing Program"]
["1245272231649906 - 106 Street",124527223164,"9906 - 106 Street","BHF","Boreal Housing Foundation","High Level 1","High Level","T0H1Z0","Alberta Social Housing Corporation","Community Housing Program"]
["1245272231649804 - 104 Street",124527223164,"9804 - 104 Street","BHF","Boreal Housing Foundation","High Level 1","High Level","T0H1Z0","Alberta Social Housing Corporation","Community Housing Program"]
["1245272231649814 - 104 Street",124527223164,"9814 - 104 Street","BHF","Boreal Housing Foundation","High Level 1","High Level","T0H1Z0","Alberta Social Housing Corporation","Community Housing Program"]
["12452731001210103 - 103 Street",124527310012,"10103 - 103 Street","BHF","Boreal Housing Foundation","High Level 1","High Level","T0H1Z0","Alberta Social Housing Corporation","Community Housing Program"]
["12452731001210107 - 103 Street",124527310012,"10107 - 103 Street","BHF","Boreal Housing Foundation","High Level 1","High Level","T0H1Z0","Alberta Social Housing Corporation","Community Housing Program"]
["12452731001210111 - 103 Street",124527310012,"10111 - 103 Street","BHF","Boreal Housing Foundation","High Level 1","High Level","T0H1Z0","Alberta Social Housing Corporation","Community Housing Program"]
["12452731001210113 - 103 Street",124527310012,"10113 - 103 Street","BHF","Boreal Housing Foundation","High Level 1","High Level","T0H1Z0","Alberta Social Housing Corporation","Community Housing Program"]
["12452731001210115 - 103 Street",124527310012,"10115 - 103 Street","BHF","Boreal Housing Foundation","High Level 1","High Level","T0H1Z0","Alberta Social Housing Corporation","Community Housing Program"]
["12452731001210313 - 102 Street",124527310012,"10313 - 102 Street","BHF","Boreal Housing Foundation","High Level 1","High Level","T0H1Z0","Alberta Social Housing Corporation","Community Housing Program"]
["12452731001210401 102 Street",124527310012,"10401 102 Street","BHF","Boreal Housing Foundation","High Level 1","High Level","T0H1Z0","Alberta Social Housing Corporation","Community Housing Program"]
["12452731001210309 - 102 Street",124527310012,"10309 - 102 Street","BHF","Boreal Housing Foundation","High Level 1","High Level","T0H1Z0","Alberta Social Housing Corporation","Community Housing Program"]
["12452731001210311 - 102 Street",124527310012,"10311 - 102 Street","BHF","Boreal Housing Foundation","High Level 1","High Level","T0H1Z0","Alberta Social Housing Corporation","Community Housing Program"]
["12452731220010304  - 106 Street",124527312200,"10304  - 106 Street","BHF","Boreal Housing Foundation","High Level 2","High Level","T0H1Z0","Alberta Social Housing Corporation","Community Housing Program"]
["12452731220010308 - 106 Street",124527312200,"10308 - 106 Street","BHF","Boreal Housing Foundation","High Level 2","High Level","T0H1Z0","Alberta Social Housing Corporation","Community Housing Program"]
["12452731220010104 - 98 Street",124527312200,"10104 - 98 Street","BHF","Boreal Housing Foundation","High Level 2","High Level","T0H1Z0","Alberta Social Housing Corporation","Community Housing Program"]
["1245273122439908 - 106A Street",124527312243,"9908 - 106A Street","BHF","Boreal Housing Foundation","High Level 3","High Level","T0H1Z0","Alberta Social Housing Corporation","Community Housing Program"]
["12452731224310602 - 100 Avenue",124527312243,"10602 - 100 Avenue","BHF","Boreal Housing Foundation","High Level 3","High Level","T0H1Z0","Alberta Social Housing Corporation","Community Housing Program"]
["12452731224310610 - 100 Avenue",124527312243,"10610 - 100 Avenue","BHF","Boreal Housing Foundation","High Level 3","High Level","T0H1Z0","Alberta Social Housing Corporation","Community Housing Program"]
["12452731265910412 - 106 Street",124527312659,"10412 - 106 Street","BHF","Boreal Housing Foundation","High Level 4 (Trans)","High Level","T0H1Z0","Alberta Social Housing Corporation","Community Housing Program"]
["12452731265910313 - 106 Street",124527312659,"10313 - 106 Street","BHF","Boreal Housing Foundation","High Level 4 (Trans)","High Level","T0H1Z0","Alberta Social Housing Corporation","Community Housing Program"]
["12452731265910413 - 106 Street",124527312659,"10413 - 106 Street","BHF","Boreal Housing Foundation","High Level 4 (Trans)","High Level","T0H1Z0","Alberta Social Housing Corporation","Community Housing Program"]
["12452731265910401 - 106 Street",124527312659,"10401 - 106 Street","BHF","Boreal Housing Foundation","High Level 4 (Trans)","High Level","T0H1Z0","Alberta Social Housing Corporation","Community Housing Program"]
["12452731265910602 - 106 Street",124527312659,"10602 - 106 Street","BHF","Boreal Housing Foundation","High Level 4 (Trans)","High Level","T0H1Z0","Alberta Social Housing Corporation","Community Housing Program"]
["12452731265910505 - 106 Street",124527312659,"10505 - 106 Street","BHF","Boreal Housing Foundation","High Level 4 (Trans)","High Level","T0H1Z0","Alberta Social Housing Corporation","Community Housing Program"]
["12452731265910612 - 106 Street",124527312659,"10612 - 106 Street","BHF","Boreal Housing Foundation","High Level 4 (Trans)","High Level","T0H1Z0","Alberta Social Housing Corporation","Community Housing Program"]
["12452731265910414 - 105 Avenue",124527312659,"10414 - 105 Avenue","BHF","Boreal Housing Foundation","High Level 4 (Trans)","High Level","T0H1Z0","Alberta Social Housing Corporation","Community Housing Program"]
["12452731265910303 - 106 Avenue",124527312659,"10303 - 106 Avenue","BHF","Boreal Housing Foundation","High Level 4 (Trans)","High Level","T0H1Z0","Alberta Social Housing Corporation","Community Housing Program"]
["12452731265910504 - 105 Street",124527312659,"10504 - 105 Street","BHF","Boreal Housing Foundation","High Level 4 (Trans)","High Level","T0H1Z0","Alberta Social Housing Corporation","Community Housing Program"]
["12452731265910408 - 106 Avenue",124527312659,"10408 - 106 Avenue","BHF","Boreal Housing Foundation","High Level 4 (Trans)","High Level","T0H1Z0","Alberta Social Housing Corporation","Community Housing Program"]
["12452731265910404 - 106 Ave",124527312659,"10404 - 106 Ave","BHF","Boreal Housing Foundation","High Level 4 (Trans)","High Level","T0H1Z0","Alberta Social Housing Corporation","Community Housing Program"]
["12452731265910411 - 105 Avenue",124527312659,"10411 - 105 Avenue","BHF","Boreal Housing Foundation","High Level 4 (Trans)","High Level","T0H1Z0","Alberta Social Housing Corporation","Community Housing Program"]
["12452731265910314 - 104 Street",124527312659,"10314 - 104 Street","BHF","Boreal Housing Foundation","High Level 4 (Trans)","High Level","T0H1Z0","Alberta Social Housing Corporation","Community Housing Program"]
["1245273126599809 - 105 Street",124527312659,"9809 - 105 Street","BHF","Boreal Housing Foundation","High Level 4 (Trans)","High Level","T0H1Z0","Alberta Social Housing Corporation","Community Housing Program"]
["12452731265910504 - 98 Avenue",124527312659,"10504 - 98 Avenue","BHF","Boreal Housing Foundation","High Level 4 (Trans)","High Level","T0H1Z0","Alberta Social Housing Corporation","Community Housing Program"]
["12452731275710407 - 106 Street",124527312757,"10407 - 106 Street","BHF","Boreal Housing Foundation","High Level 5 (Trans)","High Level","T0H1Z0","Alberta Social Housing Corporation","Community Housing Program"]
["12452731275710508 - 106 Street",124527312757,"10508 - 106 Street","BHF","Boreal Housing Foundation","High Level 5 (Trans)","High Level","T0H1Z0","Alberta Social Housing Corporation","Community Housing Program"]
["12452731275710402 - 105 Avenue",124527312757,"10402 - 105 Avenue","BHF","Boreal Housing Foundation","High Level 5 (Trans)","High Level","T0H1Z0","Alberta Social Housing Corporation","Community Housing Program"]
["12452731275710508 - 105 Street",124527312757,"10508 - 105 Street","BHF","Boreal Housing Foundation","High Level 5 (Trans)","High Level","T0H1Z0","Alberta Social Housing Corporation","Community Housing Program"]
["12452731279410406 - 105 Street",124527312794,"10406 - 105 Street","BHF","Boreal Housing Foundation","High Level 6 (Trans)","High Level","T0H1Z0","Alberta Social Housing Corporation","Community Housing Program"]
["12452731279410407 - 105 Avenue",124527312794,"10407 - 105 Avenue","BHF","Boreal Housing Foundation","High Level 6 (Trans)","High Level","T0H1Z0","Alberta Social Housing Corporation","Community Housing Program"]
["12452731279410306 - 106 Avenue",124527312794,"10306 - 106 Avenue","BHF","Boreal Housing Foundation","High Level 6 (Trans)","High Level","T0H1Z0","Alberta Social Housing Corporation","Community Housing Program"]
["12452731279410405 - 106 Avenue",124527312794,"10405 - 106 Avenue","BHF","Boreal Housing Foundation","High Level 6 (Trans)","High Level","T0H1Z0","Alberta Social Housing Corporation","Community Housing Program"]
["12452731283710410 - 105 Street",124527312837,"10410 - 105 Street","BHF","Boreal Housing Foundation","High Level 7","High Level","T0H1Z0","Alberta Social Housing Corporation","Community Housing Program"]
["12532722301710221 - 103 Avenue Unit #2",125327223017,"10221 - 103 Avenue Unit #2","BHF","Boreal Housing Foundation","La Crete 1","La Crete","T0H2H0","Alberta Social Housing Corporation","Community Housing Program"]
["12532722301710213 - 103 Avenue Unit #4",125327223017,"10213 - 103 Avenue Unit #4","BHF","Boreal Housing Foundation","La Crete 1","La Crete","T0H2H0","Alberta Social Housing Corporation","Community Housing Program"]
["12532722301710214 - 103 Avenue Unit #1",125327223017,"10214 - 103 Avenue Unit #1","BHF","Boreal Housing Foundation","La Crete 1","La Crete","T0H2H0","Alberta Social Housing Corporation","Community Housing Program"]
["12532722301710504 - 102 Avenue Unit #3",125327223017,"10504 - 102 Avenue Unit #3","BHF","Boreal Housing Foundation","La Crete 1","La Crete","T0H2H0","Alberta Social Housing Corporation","Community Housing Program"]
["12532722301710306 - 104 Avenue  Unit #5",125327223017,"10306 - 104 Avenue  Unit #5","BHF","Boreal Housing Foundation","La Crete 1","La Crete","T0H2H0","Alberta Social Housing Corporation","Community Housing Program"]
["125327223085La Crete",125327223085,"La Crete","BHF","Boreal Housing Foundation","La Crete 2","La Crete","T0H2H0","Alberta Social Housing Corporation","Community Housing Program"]
["125327223085La Crete",125327223085,"La Crete","BHF","Boreal Housing Foundation","La Crete 2","La Crete","T0H2H0","Alberta Social Housing Corporation","Community Housing Program"]
["12452755235011201 - 100 Avenue",124527552350,"11201 - 100 Avenue","BHF","Boreal Housing Foundation","Mackenzie House Self-Contained","High Level",null,"Alberta Social Housing Corporation","Seniors Self Contained Program"]
["12452751222511201 - 100 Avenue",124527512225,"11201 - 100 Avenue","BHF","Boreal Housing Foundation","Mackenzie House Seniors Lodge","High Level",null,"Alberta Social Housing Corporation","Seniors Lodge Program"]
["12452755203310105 - 99 Street Units 1 - 3",124527552033,"10105 - 99 Street Units 1 - 3","BHF","Boreal Housing Foundation","White Spruce Village 1","High Level","T0H1Z0","Alberta Social Housing Corporation","Seniors Self Contained Program"]
["12452755203310105 - 99 Street Units 4 - 6",124527552033,"10105 - 99 Street Units 4 - 6","BHF","Boreal Housing Foundation","White Spruce Village 1","High Level","T0H1Z0","Alberta Social Housing Corporation","Seniors Self Contained Program"]
["12452755203310105 - 99 Street Units 7 - 8",124527552033,"10105 - 99 Street Units 7 - 8","BHF","Boreal Housing Foundation","White Spruce Village 1","High Level","T0H1Z0","Alberta Social Housing Corporation","Seniors Self Contained Program"]
["12452755226810101 - 99 Street",124527552268,"10101 - 99 Street","BHF","Boreal Housing Foundation","White Spruce Village 2","High Level","T0H1Z0","Alberta Social Housing Corporation","Seniors Self Contained Program"]
[{"$f":"CONCATENATE(B259,C259)","v":"8888888800047915 - 43 avenue NW"},888888880004,"7915 - 43 avenue NW","BCH","Bow Centre Housing Society","Bow Centre Place","Calgary","T3B4R6","Housing Provider","Specialized Housing"]
["224227556009920 - 13 Street Bldgs A1-6",224227556009,"920 - 13 Street Bldgs A1-6","BVR","Bow Valley Regional Housing","Bow River Homes","Canmore","T1W1W1","Alberta Social Housing Corporation","Seniors Self Contained Program"]
["224227556009920 - 13 Street Bldgs B7-12",224227556009,"920 - 13 Street Bldgs B7-12","BVR","Bow Valley Regional Housing","Bow River Homes","Canmore","T1W1W1","Alberta Social Housing Corporation","Seniors Self Contained Program"]
["224227556125920 - 13 Street",224227556125,"920 - 13 Street","BVR","Bow Valley Regional Housing","Bow River Homes 2","Canmore","T1W1W1","Alberta Social Housing Corporation","Seniors Self Contained Program"]
["224227516076920 Fairholme Drive",224227516076,"920 Fairholme Drive","BVR","Bow Valley Regional Housing","Bow River Lodge (New)","Canmore","T1W 1W1","Alberta Social Housing Corporation","Seniors Lodge Program"]
["2242273160731, 1730 - 11 Avenue",224227316073,"1, 1730 - 11 Avenue","BVR","Bow Valley Regional Housing","Canmore 1","Canmore","T1W1T3","Alberta Social Housing Corporation","Community Housing Program"]
["22422731607310, 1730 - 11 Avenue",224227316073,"10, 1730 - 11 Avenue","BVR","Bow Valley Regional Housing","Canmore 1","Canmore","T1W1T3","Alberta Social Housing Corporation","Community Housing Program"]
["22422731607311, 1730 - 11 Avenue",224227316073,"11, 1730 - 11 Avenue","BVR","Bow Valley Regional Housing","Canmore 1","Canmore","T1W1T3","Alberta Social Housing Corporation","Community Housing Program"]
["22422731607314, 1730 - 11 Avenue",224227316073,"14, 1730 - 11 Avenue","BVR","Bow Valley Regional Housing","Canmore 1","Canmore","T1W1T3","Alberta Social Housing Corporation","Community Housing Program"]
["22422731607325, 1730 - 11 Avenue",224227316073,"25, 1730 - 11 Avenue","BVR","Bow Valley Regional Housing","Canmore 1","Canmore","T1W1T3","Alberta Social Housing Corporation","Community Housing Program"]
["2242273167201, 1100 Cougar Creek Drive",224227316720,"1, 1100 Cougar Creek Drive","BVR","Bow Valley Regional Housing","Canmore 2 (ATCO)","Canmore","T1W1A3","Alberta Social Housing Corporation","Community Housing Program"]
["2242273167205, 1100 Cougar Creek Drive",224227316720,"5, 1100 Cougar Creek Drive","BVR","Bow Valley Regional Housing","Canmore 2 (ATCO)","Canmore","T1W1A3","Alberta Social Housing Corporation","Community Housing Program"]
["224227316700300 Hoodoo Crescent",224227316700,"300 Hoodoo Crescent","BVR","Bow Valley Regional Housing","Canmore 3 (ATCO)","Canmore","T1W1A9","Alberta Social Housing Corporation","Community Housing Program"]
["224227316700322 Pioneer Road",224227316700,"322 Pioneer Road","BVR","Bow Valley Regional Housing","Canmore 3 (ATCO)","Canmore","T1W1E7","Alberta Social Housing Corporation","Community Housing Program"]
["224227316700206 Trapper Rise",224227316700,"206 Trapper Rise","BVR","Bow Valley Regional Housing","Canmore 3 (ATCO)","Canmore","T1W1E5","Alberta Social Housing Corporation","Community Housing Program"]
["224227316700127 Settler Way",224227316700,"127 Settler Way","BVR","Bow Valley Regional Housing","Canmore 3 (ATCO)","Canmore","T1W1E3","Alberta Social Housing Corporation","Community Housing Program"]
["2242273167001006 Cougar Creek Drive",224227316700,"1006 Cougar Creek Drive","BVR","Bow Valley Regional Housing","Canmore 3 (ATCO)","Canmore","T1W1B2","Alberta Social Housing Corporation","Community Housing Program"]
["2242273167051 Larch Close",224227316705,"1 Larch Close","BVR","Bow Valley Regional Housing","Canmore 4 (ATCO)","Canmore","T1W1S3","Alberta Social Housing Corporation","Community Housing Program"]
["2242273167053 Larch Close",224227316705,"3 Larch Close","BVR","Bow Valley Regional Housing","Canmore 4 (ATCO)","Canmore","T1W1S3","Alberta Social Housing Corporation","Community Housing Program"]
["2242273167054 Larch Close",224227316705,"4 Larch Close","BVR","Bow Valley Regional Housing","Canmore 4 (ATCO)","Canmore","T1W1S3","Alberta Social Housing Corporation","Community Housing Program"]
["2242273167059 Larch Close",224227316705,"9 Larch Close","BVR","Bow Valley Regional Housing","Canmore 4 (ATCO)","Canmore","T1W1S3","Alberta Social Housing Corporation","Community Housing Program"]
["22422731670510 Larch Close",224227316705,"10 Larch Close","BVR","Bow Valley Regional Housing","Canmore 4 (ATCO)","Canmore","T1W1S3","Alberta Social Housing Corporation","Community Housing Program"]
["2242273167052 Larch Crescent",224227316705,"2 Larch Crescent","BVR","Bow Valley Regional Housing","Canmore 4 (ATCO)","Canmore","T1W1S6","Alberta Social Housing Corporation","Community Housing Program"]
["2242273167055 Larch Crescent",224227316705,"5 Larch Crescent","BVR","Bow Valley Regional Housing","Canmore 4 (ATCO)","Canmore","T1W1S6","Alberta Social Housing Corporation","Community Housing Program"]
["2242273167056 Larch Crescent",224227316705,"6 Larch Crescent","BVR","Bow Valley Regional Housing","Canmore 4 (ATCO)","Canmore","T1W1S6","Alberta Social Housing Corporation","Community Housing Program"]
["22422731670518 Larch Crescent",224227316705,"18 Larch Crescent","BVR","Bow Valley Regional Housing","Canmore 4 (ATCO)","Canmore","T1W1S6","Alberta Social Housing Corporation","Community Housing Program"]
["22422731670516 Larch Crescent",224227316705,"16 Larch Crescent","BVR","Bow Valley Regional Housing","Canmore 4 (ATCO)","Canmore","T1W1S6","Alberta Social Housing Corporation","Community Housing Program"]
["2242273167058 Larch Crescent",224227316705,"8 Larch Crescent","BVR","Bow Valley Regional Housing","Canmore 4 (ATCO)","Canmore","T1W1S6","Alberta Social Housing Corporation","Community Housing Program"]
["2242273167059 Larch Crescent",224227316705,"9 Larch Crescent","BVR","Bow Valley Regional Housing","Canmore 4 (ATCO)","Canmore","T1W1S6","Alberta Social Housing Corporation","Community Housing Program"]
["22422731670512 Larch Crescent",224227316705,"12 Larch Crescent","BVR","Bow Valley Regional Housing","Canmore 4 (ATCO)","Canmore","T1W1S6","Alberta Social Housing Corporation","Community Housing Program"]
["22422731670514 Larch Crescent",224227316705,"14 Larch Crescent","BVR","Bow Valley Regional Housing","Canmore 4 (ATCO)","Canmore","T1W1S6","Alberta Social Housing Corporation","Community Housing Program"]
["22422731670515 Larch Crescent",224227316705,"15 Larch Crescent","BVR","Bow Valley Regional Housing","Canmore 4 (ATCO)","Canmore","T1W1S6","Alberta Social Housing Corporation","Community Housing Program"]
["204927512219227 - 229 Beaver Street",204927512219,"227 - 229 Beaver Street","BVR","Bow Valley Regional Housing","Cascade House","Banff","T1L1H1","Housing Provider","Seniors Lodge Program"]
["20492755609390 Moose Street",204927556093,"90 Moose Street","BVR","Bow Valley Regional Housing","Mount Edith House","Banff","T1L1H1","Alberta Social Housing Corporation","Seniors Self Contained Program"]
["112127223252Rocky Rapids",112127223252,"Rocky Rapids","BZF","Brazeau Foundation","Drayton Valley R&N 1","Rocky Rapids","T0E1Z0","Alberta Social Housing Corporation","Community Housing Program"]
["1121272232521 Avenue N",112127223252,"1 Avenue N","BZF","Brazeau Foundation","Drayton Valley R&N 1","Rocky Rapids","T0E1Z0","Alberta Social Housing Corporation","Community Housing Program"]
["1121275521874601 - 50 Avenue",112127552187,"4601 - 50 Avenue","BZF","Brazeau Foundation","Lezure Lea Apartments","Drayton Valley","T7A1N5","Alberta Social Housing Corporation","Seniors Self Contained Program"]
["117627223136Rocky Rapids",117627223136,"Rocky Rapids","BZF","Brazeau Foundation","Rocky Rapids R&N 1","Rocky Rapids","T0E1Z0","Alberta Social Housing Corporation","Community Housing Program"]
["117627223136Rocky Rapids",117627223136,"Rocky Rapids","BZF","Brazeau Foundation","Rocky Rapids R&N 1","Rocky Rapids","T0E1Z0","Alberta Social Housing Corporation","Community Housing Program"]
["1121275121035208 - 47 Avenue",112127512103,"5208 - 47 Avenue","BZF","Brazeau Foundation","Shangri-La Lodge (Reg)","Drayton Valley","T7A1N7","Alberta Social Housing Corporation","Seniors Lodge Program"]
["111227552139181 Willow Drive",111227552139,"181 Willow Drive","BZF","Brazeau Foundation","Spruce View Court I","Breton","T0C0P0","Alberta Social Housing Corporation","Seniors Self Contained Program"]
["111227552250181 Willow Drive",111227552250,"181 Willow Drive","BZF","Brazeau Foundation","Spruce View Court II","Breton","T0C0P0","Alberta Social Housing Corporation","Seniors Self Contained Program"]
["1121275500515102 - 46 Avenue",112127550051,"5102 - 46 Avenue","BZF","Brazeau Foundation","Wishing Well Apartments","Drayton Valley","T7A1N6","Alberta Social Housing Corporation","Seniors Self Contained Program"]
["1121275521035102 - 46 Avenue",112127552103,"5102 - 46 Avenue","BZF","Brazeau Foundation","Wishing Well Apartments II","Drayton Valley","T7A1N6","Alberta Social Housing Corporation","Seniors Self Contained Program"]
["1663275521534809 - 34 Street",166327552153,"4809 - 34 Street","PCF","Bridges Community Living","Barrett Kiwanis Place","Red Deer","T4N0P2","Alberta Social Housing Corporation","Seniors Self Contained Program"]
["1663275520594727 - 34 Street",166327552059,"4727 - 34 Street","PCF","Bridges Community Living","Canyon View Kiwanis Place","Red Deer","T4N0P2","Alberta Social Housing Corporation","Seniors Self Contained Program"]
["1663275561744702 - 33 Street",166327556174,"4702 - 33 Street","PCF","Bridges Community Living","Centennial Kiwanis Courts","Red Deer","T4N0N5","Alberta Social Housing Corporation","Seniors Self Contained Program"]
["1663275122274736 - 30 Street",166327512227,"4736 - 30 Street","PCF","Bridges Community Living","Crimson Villas","Red Deer","T4N0N5","Alberta Social Housing Corporation","Seniors Lodge Program"]
["16632755215427 Patterson Crescent",166327552154,"27 Patterson Crescent","PCF","Bridges Community Living","Fleming Kiwanis Manor","Red Deer","T4P1J4","Alberta Social Housing Corporation","Seniors Self Contained Program"]
["1663275160694277 - 46A  Avenue",166327516069,"4277 - 46A  Avenue","PCF","Bridges Community Living","Parkvale Lodge","Red Deer","T4N3M7","Alberta Social Housing Corporation","Seniors Lodge Program"]
["16632751025152 Piper Drive",166327510251,"52 Piper Drive","PCF","Bridges Community Living","Pines Lodge","Red Deer","T4P1H8","Alberta Social Housing Corporation","Seniors Lodge Program"]
["1663275521904810 - 54 Street",166327552190,"4810 - 54 Street","PCF","Bridges Community Living","Waskasoo Kiwanis Towers","Red Deer","T4N6R3","Alberta Social Housing Corporation","Seniors Self Contained Program"]
["11252735201817819 - 91 Street NW",112527352018,"17819 - 91 Street NW","MES","C.A.R.E. Housing Society","Royal Palace","Edmonton","T5Z2L2","Alberta Social Housing Corporation","Specialized Housing"]
["300000001042802 -2 ave A North",300000001042,"802 -2 ave A North","A159","Calgary Alpha House Society","Alpha House Lethbridge shelter and stabilization","Lethbridge",null,"Housing Provider","None"]
["22182738600723 McDougall Close NE",221827386007,"23 McDougall Close NE","CCI","Calgary Catholic Immigration Society","Margaret Chisholm Resettlement Ctr.","Calgary","T2E8R3","Housing Provider","Specialized Housing"]
["221827556122122 - 3 Avenue SE",221827556122,"122 - 3 Avenue SE","CCH","Calgary Chinatown Seniors Housing Society","Wah Ying Mansion","Calgary","T2G5G4","Alberta Social Housing Corporation","Seniors Self Contained Program"]
["2218275560964811 Niven Road NW",221827556096,"4811 Niven Road NW","CWS","Calgary Heritage Housing","Cambrian Manor","Calgary","T2K6B7","Alberta Social Housing Corporation","Seniors Self Contained Program"]
["22182755612611 Varsity Estates View NW",221827556126,"11 Varsity Estates View NW","CWS","Calgary Heritage Housing","Cathedral Manor Estates","Calgary","T3B5G5","Alberta Social Housing Corporation","Seniors Self Contained Program"]
["221827556036113 - 18A Street NW",221827556036,"113 - 18A Street NW","CWS","Calgary Heritage Housing","General Delalanne","Calgary","T2N2H1","Alberta Social Housing Corporation","Seniors Self Contained Program"]
["2218275561957735 Bowness Road NW",221827556195,"7735 Bowness Road NW","CWS","Calgary Heritage Housing","Heritage Terrace","Calgary","T3B0G8","Alberta Social Housing Corporation","Seniors Self Contained Program"]
["221827556097400 - 40 Avenue NW",221827556097,"400 - 40 Avenue NW","CWS","Calgary Heritage Housing","J.E. Harris House","Calgary","T2K6B6","Alberta Social Housing Corporation","Seniors Self Contained Program"]
["221827556139520 - 34 Street NW",221827556139,"520 - 34 Street NW","CWS","Calgary Heritage Housing","Kendale House","Calgary","T2N2X7","Housing Provider","Seniors Self Contained Program"]
["2218275560733250 - 28 Street SW",221827556073,"3250 - 28 Street SW","CWS","Calgary Heritage Housing","Richmond Park Manor","Calgary","T3E2J6","Alberta Social Housing Corporation","Seniors Self Contained Program"]
["2218275560283712 - 37 Street SW",221827556028,"3712 - 37 Street SW","CWS","Calgary Heritage Housing","Robertson House","Calgary","T3E3C3","Alberta Social Housing Corporation","Seniors Self Contained Program"]
[{"$f":"CONCATENATE(B323,C323)","v":"2218275560743400 Spruce Drive SW"},221827556074,"3400 Spruce Drive SW","CWS","Calgary Heritage Housing","Spruce Cliff Downs","Calgary","T3C3T1","Alberta Social Housing Corporation","Seniors Self Contained Program"]
["2218273160291&2, 48 Abergale Close NE",221827316029,"1&2, 48 Abergale Close NE","CHC","Calgary Housing Company","Abbeydale 1","Calgary","T2A6J1","Alberta Social Housing Corporation","Community Housing Program"]
["2218273160293, 4,5&6, 48 Abergale Close NE",221827316029,"3, 4,5&6, 48 Abergale Close NE","CHC","Calgary Housing Company","Abbeydale 1","Calgary","T2A6J1","Alberta Social Housing Corporation","Community Housing Program"]
["2218273160297, 8&9, 48 Abergale Close NE",221827316029,"7, 8&9, 48 Abergale Close NE","CHC","Calgary Housing Company","Abbeydale 1","Calgary","T2A6J1","Alberta Social Housing Corporation","Community Housing Program"]
["22182731602910,11,12&13, 48 Abergale Close NE",221827316029,"10,11,12&13, 48 Abergale Close NE","CHC","Calgary Housing Company","Abbeydale 1","Calgary","T2A6J1","Alberta Social Housing Corporation","Community Housing Program"]
["221827316030#1-3 72 Abergale Close NE",221827316030,"#1-3 72 Abergale Close NE","CHC","Calgary Housing Company","Abbeydale 2","Calgary","T2A6J1","Alberta Social Housing Corporation","Community Housing Program"]
["221827316030#4-6 Abergale Close NE",221827316030,"#4-6 Abergale Close NE","CHC","Calgary Housing Company","Abbeydale 2","Calgary",null,"Alberta Social Housing Corporation","Community Housing Program"]
["221827316030#7-9 Abergale Close NE",221827316030,"#7-9 Abergale Close NE","CHC","Calgary Housing Company","Abbeydale 2","Calgary",null,"Alberta Social Housing Corporation","Community Housing Program"]
["22182731605183,85,87,89,  Abalone Crescent NE",221827316051,"83,85,87,89,  Abalone Crescent NE","CHC","Calgary Housing Company","Abbeydale 3","Calgary","T2A6W5","Alberta Social Housing Corporation","Community Housing Program"]
["22182731605191,93,95,  Abalone Crescent NE",221827316051,"91,93,95,  Abalone Crescent NE","CHC","Calgary Housing Company","Abbeydale 3","Calgary","T2A6W5","Alberta Social Housing Corporation","Community Housing Program"]
["22182731605197,99,101,  Abalone Crescent NE",221827316051,"97,99,101,  Abalone Crescent NE","CHC","Calgary Housing Company","Abbeydale 3","Calgary","T2A6W5","Alberta Social Housing Corporation","Community Housing Program"]
["221827316051103,105,107,  Abalone Crescent NE",221827316051,"103,105,107,  Abalone Crescent NE","CHC","Calgary Housing Company","Abbeydale 3","Calgary","T2A6W5","Alberta Social Housing Corporation","Community Housing Program"]
["221827316051109,111,  Abalone Crescent NE",221827316051,"109,111,  Abalone Crescent NE","CHC","Calgary Housing Company","Abbeydale 3","Calgary","T2A6W5","Alberta Social Housing Corporation","Community Housing Program"]
["221827316051113,115,  Abalone Crescent NE",221827316051,"113,115,  Abalone Crescent NE","CHC","Calgary Housing Company","Abbeydale 3","Calgary","T2A6W5","Alberta Social Housing Corporation","Community Housing Program"]
["221827316063505 Abadan Place NE",221827316063,"505 Abadan Place NE","CHC","Calgary Housing Company","Abbeydale 4","Calgary","T2A6W4","Alberta Social Housing Corporation","Community Housing Program"]
["221827316063517 Abadan Place NE",221827316063,"517 Abadan Place NE","CHC","Calgary Housing Company","Abbeydale 4","Calgary","T2A6W4","Alberta Social Housing Corporation","Community Housing Program"]
["221827316063525 Abadan Place NE",221827316063,"525 Abadan Place NE","CHC","Calgary Housing Company","Abbeydale 4","Calgary","T2A6W4","Alberta Social Housing Corporation","Community Housing Program"]
["221827316063521 Abadan Place NE",221827316063,"521 Abadan Place NE","CHC","Calgary Housing Company","Abbeydale 4","Calgary","T2A6W4","Alberta Social Housing Corporation","Community Housing Program"]
["221827316063513 Abadan Place NE",221827316063,"513 Abadan Place NE","CHC","Calgary Housing Company","Abbeydale 4","Calgary","T2A6W4","Alberta Social Housing Corporation","Community Housing Program"]
["221827316063509 Abadan Place NE",221827316063,"509 Abadan Place NE","CHC","Calgary Housing Company","Abbeydale 4","Calgary","T2A6W4","Alberta Social Housing Corporation","Community Housing Program"]
["221827316063501 Abadan Place NE",221827316063,"501 Abadan Place NE","CHC","Calgary Housing Company","Abbeydale 4","Calgary","T2A6W4","Alberta Social Housing Corporation","Community Housing Program"]
["221827316508249 Abalone Place NE",221827316508,"249 Abalone Place NE","CHC","Calgary Housing Company","Abbeydale 6 (FCLS)","Calgary","T2A6S2","Alberta Social Housing Corporation","Community Housing Program"]
["22182731650877 Aberdare Road NE",221827316508,"77 Aberdare Road NE","CHC","Calgary Housing Company","Abbeydale 6 (FCLS)","Calgary","T2A6V8","Alberta Social Housing Corporation","Community Housing Program"]
["22182731650861 Aberdare Road NE",221827316508,"61 Aberdare Road NE","CHC","Calgary Housing Company","Abbeydale 6 (FCLS)","Calgary","T2A6V8","Alberta Social Housing Corporation","Community Housing Program"]
["221827316508116 Abbercove Way SE",221827316508,"116 Abbercove Way SE","CHC","Calgary Housing Company","Abbeydale 6 (FCLS)","Calgary","T2A6Z3","Alberta Social Housing Corporation","Community Housing Program"]
["22182731650812 Abbercove Drive SE",221827316508,"12 Abbercove Drive SE","CHC","Calgary Housing Company","Abbeydale 6 (FCLS)","Calgary","T2A6Y8","Alberta Social Housing Corporation","Community Housing Program"]
["221827316508519 Abalone Place NE",221827316508,"519 Abalone Place NE","CHC","Calgary Housing Company","Abbeydale 6 (FCLS)","Calgary","T2A6X9","Alberta Social Housing Corporation","Community Housing Program"]
["221827316508511 Abalone Place NE",221827316508,"511 Abalone Place NE","CHC","Calgary Housing Company","Abbeydale 6 (FCLS)","Calgary","T2A6X9","Alberta Social Housing Corporation","Community Housing Program"]
["221827316508108 Abalone Crescent NE",221827316508,"108 Abalone Crescent NE","CHC","Calgary Housing Company","Abbeydale 6 (FCLS)","Calgary","T2A6X8","Housing Provider","Community Housing Program"]
["221827316508123 Abalone Way NE",221827316508,"123 Abalone Way NE","CHC","Calgary Housing Company","Abbeydale 6 (FCLS)","Calgary","T2A6Y1","Alberta Social Housing Corporation","Community Housing Program"]
["221827316508111 Abalone Way NE",221827316508,"111 Abalone Way NE","CHC","Calgary Housing Company","Abbeydale 6 (FCLS)","Calgary","T2A6Y1","Alberta Social Housing Corporation","Community Housing Program"]
["22182731650883 Abalone Way NE",221827316508,"83 Abalone Way NE","CHC","Calgary Housing Company","Abbeydale 6 (FCLS)","Calgary","T2A6Y1","Alberta Social Housing Corporation","Community Housing Program"]
["221827316508444 Abadan Place NE",221827316508,"444 Abadan Place NE","CHC","Calgary Housing Company","Abbeydale 6 (FCLS)","Calgary","T2A6W3","Alberta Social Housing Corporation","Community Housing Program"]
["221827316508419 Abadan Place NE",221827316508,"419 Abadan Place NE","CHC","Calgary Housing Company","Abbeydale 6 (FCLS)","Calgary","T2A6W3","Alberta Social Housing Corporation","Community Housing Program"]
["22182731650848 Abingdon Crescent NE",221827316508,"48 Abingdon Crescent NE","CHC","Calgary Housing Company","Abbeydale 6 (FCLS)","Calgary","T2A6S3","Alberta Social Housing Corporation","Community Housing Program"]
["221827316508152 Abingdon Court NE",221827316508,"152 Abingdon Court NE","CHC","Calgary Housing Company","Abbeydale 6 (FCLS)","Calgary","T2A6S5","Alberta Social Housing Corporation","Community Housing Program"]
["22182731650887 Abingdon Way NE",221827316508,"87 Abingdon Way NE","CHC","Calgary Housing Company","Abbeydale 6 (FCLS)","Calgary","T2A6R7","Alberta Social Housing Corporation","Community Housing Program"]
["22182731650876 Abingdon Way NE",221827316508,"76 Abingdon Way NE","CHC","Calgary Housing Company","Abbeydale 6 (FCLS)","Calgary","T2A6R8","Alberta Social Housing Corporation","Community Housing Program"]
["22182731650828 Abingdon Court NE",221827316508,"28 Abingdon Court NE","CHC","Calgary Housing Company","Abbeydale 6 (FCLS)","Calgary","T2A6S5","Alberta Social Housing Corporation","Community Housing Program"]
["22182731650836 Abingdon Court NE",221827316508,"36 Abingdon Court NE","CHC","Calgary Housing Company","Abbeydale 6 (FCLS)","Calgary","T2A6S5","Alberta Social Housing Corporation","Community Housing Program"]
["221827316508104 Abingdon Court NE",221827316508,"104 Abingdon Court NE","CHC","Calgary Housing Company","Abbeydale 6 (FCLS)","Calgary","T2A6S5","Alberta Social Housing Corporation","Community Housing Program"]
["22182731650868 Abingdon Court NE",221827316508,"68 Abingdon Court NE","CHC","Calgary Housing Company","Abbeydale 6 (FCLS)","Calgary","T2A6S5","Alberta Social Housing Corporation","Community Housing Program"]
["221827316508251 Abalone Place NE",221827316508,"251 Abalone Place NE","CHC","Calgary Housing Company","Abbeydale 6 (FCLS)","Calgary","T2A6S2","Alberta Social Housing Corporation","Community Housing Program"]
["2218273160981,3,5,7,9,11  Applewood Lane SE",221827316098,"1,3,5,7,9,11  Applewood Lane SE","CHC","Calgary Housing Company","Applewood","Calgary","T2A7K3","Alberta Social Housing Corporation","Community Housing Program"]
["22182731609810,12,14,16  Applewood Lane SE",221827316098,"10,12,14,16  Applewood Lane SE","CHC","Calgary Housing Company","Applewood","Calgary","T2A7K3","Alberta Social Housing Corporation","Community Housing Program"]
["22182731609813,15,17,19,21,23 Applewood Lane SE",221827316098,"13,15,17,19,21,23 Applewood Lane SE","CHC","Calgary Housing Company","Applewood","Calgary","T2A7K3","Alberta Social Housing Corporation","Community Housing Program"]
["22182731609825,27,29,31 Applewood Lane SE",221827316098,"25,27,29,31 Applewood Lane SE","CHC","Calgary Housing Company","Applewood","Calgary","T2A7K3","Alberta Social Housing Corporation","Community Housing Program"]
["22182731609833,35,37,39 Applewood Lane SE",221827316098,"33,35,37,39 Applewood Lane SE","CHC","Calgary Housing Company","Applewood","Calgary","T2A7K3","Alberta Social Housing Corporation","Community Housing Program"]
["22182731609841,43,45,47,49 Applewood Lane SE",221827316098,"41,43,45,47,49 Applewood Lane SE","CHC","Calgary Housing Company","Applewood","Calgary","T2A7K3","Alberta Social Housing Corporation","Community Housing Program"]
["22182731609851,53,55,57,59,61 Applewood Lane SE",221827316098,"51,53,55,57,59,61 Applewood Lane SE","CHC","Calgary Housing Company","Applewood","Calgary","T2A7K3","Alberta Social Housing Corporation","Community Housing Program"]
["22182731609844,46,48,50,52,54 Applewood Lane SE",221827316098,"44,46,48,50,52,54 Applewood Lane SE","CHC","Calgary Housing Company","Applewood","Calgary","T2A7K3","Alberta Social Housing Corporation","Community Housing Program"]
["22182731609811,13,15,17,19,21 Applecroft Road SE",221827316098,"11,13,15,17,19,21 Applecroft Road SE","CHC","Calgary Housing Company","Applewood","Calgary","T2A7K3","Alberta Social Housing Corporation","Community Housing Program"]
["22182731609885,87,89,91,93,95 Applewood Drive SE",221827316098,"85,87,89,91,93,95 Applewood Drive SE","CHC","Calgary Housing Company","Applewood","Calgary","T2A7K3","Alberta Social Housing Corporation","Community Housing Program"]
["221827316766230 - 5 Avenue SE",221827316766,"230 - 5 Avenue SE","CHC","Calgary Housing Company","Baker House","Calgary","T2G0E4","Alberta Social Housing Corporation","Community Housing Program"]
["2218273660041451 21 Avenue S.W.",221827366004,"1451 21 Avenue S.W.","CHC","Calgary Housing Company","York Residential","Calgary","T2T5N9","Housing Provider","Specialized Housing"]
["22182731602759 Berkley Way NW",221827316027,"59 Berkley Way NW","CHC","Calgary Housing Company","Beddington Heights 1","Calgary","T3K1E9","Alberta Social Housing Corporation","Community Housing Program"]
["22182731602773 Berkley Way NW",221827316027,"73 Berkley Way NW","CHC","Calgary Housing Company","Beddington Heights 1","Calgary","T3K1E9","Alberta Social Housing Corporation","Community Housing Program"]
["22182731602785 Berkley Way NW",221827316027,"85 Berkley Way NW","CHC","Calgary Housing Company","Beddington Heights 1","Calgary","T3K1E9","Alberta Social Housing Corporation","Community Housing Program"]
["221827316027101 Berkley Way NW",221827316027,"101 Berkley Way NW","CHC","Calgary Housing Company","Beddington Heights 1","Calgary","T3K1E9","Alberta Social Housing Corporation","Community Housing Program"]
["221827316027113 Berkley Way NW",221827316027,"113 Berkley Way NW","CHC","Calgary Housing Company","Beddington Heights 1","Calgary","T3K1E9","Alberta Social Housing Corporation","Community Housing Program"]
["221827316027125 Berkley Way NW",221827316027,"125 Berkley Way NW","CHC","Calgary Housing Company","Beddington Heights 1","Calgary","T3K1E9","Alberta Social Housing Corporation","Community Housing Program"]
["22182731605911 Beacham Road NW",221827316059,"11 Beacham Road NW","CHC","Calgary Housing Company","Beddington Heights 2","Calgary","T3K2P8","Alberta Social Housing Corporation","Community Housing Program"]
["221827366004225 - 14 Avenue S.W.",221827366004,"225 - 14 Avenue S.W.","CHC","Calgary Housing Company","York Residential","Calgary","T2R0M2","Housing Provider","Specialized Housing"]
["2218273167427545 Bowness Road NW",221827316742,"7545 Bowness Road NW","CHC","Calgary Housing Company","Bowness 1 (Municipal)","Calgary","T3B0G8","Municipality","Community Housing Program"]
[{"$f":"CONCATENATE(B387,C387)","v":"2218273167427541 Bowness Road NW"},221827316742,"7541 Bowness Road NW","CHC","Calgary Housing Company","Bowness 1 (Municipal)","Calgary","T3B0G8","Municipality","Community Housing Program"]
["2218273167427537 Bowness Road NW",221827316742,"7537 Bowness Road NW","CHC","Calgary Housing Company","Bowness 1 (Municipal)","Calgary","T3B0G8","Municipality","Community Housing Program"]
["2218273167427533 Bowness Road NW",221827316742,"7533 Bowness Road NW","CHC","Calgary Housing Company","Bowness 1 (Municipal)","Calgary","T3B0G8","Municipality","Community Housing Program"]
["2218273167427529 Bowness Road NW",221827316742,"7529 Bowness Road NW","CHC","Calgary Housing Company","Bowness 1 (Municipal)","Calgary","T3B0G8","Municipality","Community Housing Program"]
["2218273167427525 Bowness Road NW",221827316742,"7525 Bowness Road NW","CHC","Calgary Housing Company","Bowness 1 (Municipal)","Calgary","T3B0G8","Municipality","Community Housing Program"]
["2218273167427521 Bowness Road NW",221827316742,"7521 Bowness Road NW","CHC","Calgary Housing Company","Bowness 1 (Municipal)","Calgary","T3B0G8","Municipality","Community Housing Program"]
["2218273167427517 Bowness Road NW",221827316742,"7517 Bowness Road NW","CHC","Calgary Housing Company","Bowness 1 (Municipal)","Calgary","T3B0G8","Municipality","Community Housing Program"]
["2218273167427513 Bowness Road NW",221827316742,"7513 Bowness Road NW","CHC","Calgary Housing Company","Bowness 1 (Municipal)","Calgary","T3B0G8","Municipality","Community Housing Program"]
["2218273167427509 Bowness Road NW",221827316742,"7509 Bowness Road NW","CHC","Calgary Housing Company","Bowness 1 (Municipal)","Calgary","T3B0G8","Municipality","Community Housing Program"]
["2218273167427505 Bowness Road NW",221827316742,"7505 Bowness Road NW","CHC","Calgary Housing Company","Bowness 1 (Municipal)","Calgary","T3B0G8","Municipality","Community Housing Program"]
["2218273167427501 Bowness Road NW",221827316742,"7501 Bowness Road NW","CHC","Calgary Housing Company","Bowness 1 (Municipal)","Calgary","T3B0G8","Municipality","Community Housing Program"]
["2218273167427701 Bowness Road NW",221827316742,"7701 Bowness Road NW","CHC","Calgary Housing Company","Bowness 1 (Municipal)","Calgary","T3B0G8","Municipality","Community Housing Program"]
["2218273167427705 Bowness Road NW",221827316742,"7705 Bowness Road NW","CHC","Calgary Housing Company","Bowness 1 (Municipal)","Calgary","T3B0G8","Municipality","Community Housing Program"]
["2218273167427709 Bowness Road NW",221827316742,"7709 Bowness Road NW","CHC","Calgary Housing Company","Bowness 1 (Municipal)","Calgary","T3B0G8","Municipality","Community Housing Program"]
["2218273167437713 Bowness Road NW",221827316743,"7713 Bowness Road NW","CHC","Calgary Housing Company","Bowness 2 (Municipal)","Calgary","T3B0G8","Municipality","Community Housing Program"]
["2218273167437717 Bowness Road NW",221827316743,"7717 Bowness Road NW","CHC","Calgary Housing Company","Bowness 2 (Municipal)","Calgary","T3B0G8","Municipality","Community Housing Program"]
["2218273167437721 Bowness Road NW",221827316743,"7721 Bowness Road NW","CHC","Calgary Housing Company","Bowness 2 (Municipal)","Calgary","T3B0G8","Municipality","Community Housing Program"]
["2218273167451, 6123 Bowness Road NW",221827316745,"1, 6123 Bowness Road NW","CHC","Calgary Housing Company","Bowness 3 (Municipal)","Calgary","T3B0C9","Municipality","Community Housing Program"]
["2218273167441, 6504 - 35 Avenue NW",221827316744,"1, 6504 - 35 Avenue NW","CHC","Calgary Housing Company","Bowness 4 (Municipal)","Calgary","T3B1S8","Municipality","Community Housing Program"]
["2218273161338517 Bowness Road NW",221827316133,"8517 Bowness Road NW","CHC","Calgary Housing Company","Bowness 6","Calgary","T3B0H8","Alberta Social Housing Corporation","Community Housing Program"]
["2218273166636236 Bowness Road NW",221827316663,"6236 Bowness Road NW","CHC","Calgary Housing Company","Bowness 7 (FCLS)","Calgary","T3B0E3","Alberta Social Housing Corporation","Community Housing Program"]
["2218273166646111 Bowness Road NW",221827316664,"6111 Bowness Road NW","CHC","Calgary Housing Company","Bowness 8 (FCLS)","Calgary","T3B0C9","Alberta Social Housing Corporation","Community Housing Program"]
["221827316746736 McDougall Court NE",221827316746,"736 McDougall Court NE","CHC","Calgary Housing Company","Bridgeland 2 (Municipal)","Calgary","T2E5A1","Municipality","Community Housing Program"]
["2218273560112431 - 39 Street SE",221827356011,"2431 - 39 Street SE","CHC","Calgary Housing Company","Calgary Accessible Housing 1","Calgary","T2B1A8","Alberta Social Housing Corporation","Community Housing Program"]
["2218273160171133 - 22 Avenue NW",221827316017,"1133 - 22 Avenue NW","CHC","Calgary Housing Company","Capital Hill 3","Calgary","T2M1P6","Alberta Social Housing Corporation","Community Housing Program"]
["2218273160171129 - 22 Avenue NW",221827316017,"1129 - 22 Avenue NW","CHC","Calgary Housing Company","Capital Hill 3","Calgary","T2M1P6","Alberta Social Housing Corporation","Community Housing Program"]
["2218273160171137 - 22 Avenue NW",221827316017,"1137 - 22 Avenue NW","CHC","Calgary Housing Company","Capital Hill 3","Calgary","T2M1P6","Alberta Social Housing Corporation","Community Housing Program"]
["2218273660041239 - 17 Avenue N.W.",221827366004,"1239 - 17 Avenue N.W.","CHC","Calgary Housing Company","York Residential","Calgary","T2M0P9","Housing Provider","Specialized Housing"]
["2218273660041215 - 17 Avenue N.W.",221827366004,"1215 - 17 Avenue N.W.","CHC","Calgary Housing Company","York Residential","Calgary","T2M0P9","Housing Provider","Specialized Housing"]
["22182731607473 Castlepark Road NE",221827316074,"73 Castlepark Road NE","CHC","Calgary Housing Company","Castleridge","Calgary","T3J1R9","Alberta Social Housing Corporation","Community Housing Program"]
["22182731607469 Castlepark Road NE",221827316074,"69 Castlepark Road NE","CHC","Calgary Housing Company","Castleridge","Calgary","T3J1R9","Alberta Social Housing Corporation","Community Housing Program"]
["22182731607465 Castlepark Road NE",221827316074,"65 Castlepark Road NE","CHC","Calgary Housing Company","Castleridge","Calgary","T3J1R9","Alberta Social Housing Corporation","Community Housing Program"]
["22182731607461 Castlepark Road NE",221827316074,"61 Castlepark Road NE","CHC","Calgary Housing Company","Castleridge","Calgary","T3J1R9","Alberta Social Housing Corporation","Community Housing Program"]
["22182731607457 Castlepark Road NE",221827316074,"57 Castlepark Road NE","CHC","Calgary Housing Company","Castleridge","Calgary","T3J1R9","Alberta Social Housing Corporation","Community Housing Program"]
["2218273160745 Castlepark Way NE",221827316074,"5 Castlepark Way NE","CHC","Calgary Housing Company","Castleridge","Calgary","T3J1R9","Alberta Social Housing Corporation","Community Housing Program"]
["22182731607418 Castleglen Road NE",221827316074,"18 Castleglen Road NE","CHC","Calgary Housing Company","Castleridge","Calgary","T3J1S6","Alberta Social Housing Corporation","Community Housing Program"]
["22182731607422 Castleglen Road NE",221827316074,"22 Castleglen Road NE","CHC","Calgary Housing Company","Castleridge","Calgary","T3J1S6","Alberta Social Housing Corporation","Community Housing Program"]
["22182731639126 Castleridge Drive NE",221827316391,"26 Castleridge Drive NE","CHC","Calgary Housing Company","Castleridge 5 (FCLS)","Calgary","T3J1P5","Alberta Social Housing Corporation","Community Housing Program"]
["22182731639151 Castleridge Drive NE",221827316391,"51 Castleridge Drive NE","CHC","Calgary Housing Company","Castleridge 5 (FCLS)","Calgary","T3J1P4","Alberta Social Housing Corporation","Community Housing Program"]
["22182731639176 Castledale Way NE",221827316391,"76 Castledale Way NE","CHC","Calgary Housing Company","Castleridge 5 (FCLS)","Calgary","T3J2A2","Alberta Social Housing Corporation","Community Housing Program"]
["221827316391100 Castledale Way NE",221827316391,"100 Castledale Way NE","CHC","Calgary Housing Company","Castleridge 5 (FCLS)","Calgary","T3J2A2","Alberta Social Housing Corporation","Community Housing Program"]
["22182731639196 Castledale Way NE",221827316391,"96 Castledale Way NE","CHC","Calgary Housing Company","Castleridge 5 (FCLS)","Calgary","T3J2A2","Alberta Social Housing Corporation","Community Housing Program"]
["22182731639178 Castledale Way NE",221827316391,"78 Castledale Way NE","CHC","Calgary Housing Company","Castleridge 5 (FCLS)","Calgary","T3J2A2","Alberta Social Housing Corporation","Community Housing Program"]
["22182731639160 Castleridge Drive NE",221827316391,"60 Castleridge Drive NE","CHC","Calgary Housing Company","Castleridge 5 (FCLS)","Calgary","T3J1Y7","Alberta Social Housing Corporation","Community Housing Program"]
["22182731639124 Castlepark Way NE",221827316391,"24 Castlepark Way NE","CHC","Calgary Housing Company","Castleridge 5 (FCLS)","Calgary","T3J1R8","Alberta Social Housing Corporation","Community Housing Program"]
["22182731639156 Castlbrook Way NE",221827316391,"56 Castlbrook Way NE","CHC","Calgary Housing Company","Castleridge 5 (FCLS)","Calgary","T3J2A1","Alberta Social Housing Corporation","Community Housing Program"]
["22182731639128 Castleridge Drive NE",221827316391,"28 Castleridge Drive NE","CHC","Calgary Housing Company","Castleridge 5 (FCLS)","Calgary","T3J1P5","Alberta Social Housing Corporation","Community Housing Program"]
["22182731639149 Castleridge Drive NE",221827316391,"49 Castleridge Drive NE","CHC","Calgary Housing Company","Castleridge 5 (FCLS)","Calgary","T3J1P4","Alberta Social Housing Corporation","Community Housing Program"]
["22182731639122 Castlepark Way NE",221827316391,"22 Castlepark Way NE","CHC","Calgary Housing Company","Castleridge 5 (FCLS)","Calgary","T3J1R8","Alberta Social Housing Corporation","Community Housing Program"]
["2218273160471, 60 Cedarwood Hill SW",221827316047,"1, 60 Cedarwood Hill SW","CHC","Calgary Housing Company","Cedarbrae 1","Calgary","T2W3H5","Alberta Social Housing Corporation","Community Housing Program"]
["2218273160472, 60 Cedarwood Hill SW",221827316047,"2, 60 Cedarwood Hill SW","CHC","Calgary Housing Company","Cedarbrae 1","Calgary","T2W3H5","Alberta Social Housing Corporation","Community Housing Program"]
["2218273160473, 60 Cedarwood Hill SW",221827316047,"3, 60 Cedarwood Hill SW","CHC","Calgary Housing Company","Cedarbrae 1","Calgary","T2W3H5","Alberta Social Housing Corporation","Community Housing Program"]
["2218273160471, 76 Cedarwood Hill SW",221827316047,"1, 76 Cedarwood Hill SW","CHC","Calgary Housing Company","Cedarbrae 1","Calgary","T2W3H5","Alberta Social Housing Corporation","Community Housing Program"]
["2218273160472, 76 Cedarwood Hill SW",221827316047,"2, 76 Cedarwood Hill SW","CHC","Calgary Housing Company","Cedarbrae 1","Calgary","T2W3H5","Alberta Social Housing Corporation","Community Housing Program"]
["2218273160473, 76 Cedarwood Hill SW",221827316047,"3, 76 Cedarwood Hill SW","CHC","Calgary Housing Company","Cedarbrae 1","Calgary","T2W3H5","Alberta Social Housing Corporation","Community Housing Program"]
["2218273160471, 48 Cedarwood Rise SW",221827316047,"1, 48 Cedarwood Rise SW","CHC","Calgary Housing Company","Cedarbrae 1","Calgary","T2W3H9","Alberta Social Housing Corporation","Community Housing Program"]
["2218273160472, 48 Cedarwood Rise SW",221827316047,"2, 48 Cedarwood Rise SW","CHC","Calgary Housing Company","Cedarbrae 1","Calgary","T2W3H9","Alberta Social Housing Corporation","Community Housing Program"]
["2218273160473, 48 Cedarwood Rise SW",221827316047,"3, 48 Cedarwood Rise SW","CHC","Calgary Housing Company","Cedarbrae 1","Calgary","T2W3H9","Alberta Social Housing Corporation","Community Housing Program"]
["22182731608010, 2611 - 106 Avenue SW",221827316080,"10, 2611 - 106 Avenue SW","CHC","Calgary Housing Company","Cedarbrae 2","Calgary","T2W4H7","Alberta Social Housing Corporation","Community Housing Program"]
["2218273162683534 Cedarille Drive SW",221827316268,"3534 Cedarille Drive SW","CHC","Calgary Housing Company","Cedarbrae 5 (FCLS)","Calgary","T2W5B1","Alberta Social Housing Corporation","Community Housing Program"]
["2218273162683542 Cedarille Drive SW",221827316268,"3542 Cedarille Drive SW","CHC","Calgary Housing Company","Cedarbrae 5 (FCLS)","Calgary","T2W5B1","Alberta Social Housing Corporation","Community Housing Program"]
["2218273162683612 Cedarille Drive SW",221827316268,"3612 Cedarille Drive SW","CHC","Calgary Housing Company","Cedarbrae 5 (FCLS)","Calgary","T2W5B2","Alberta Social Housing Corporation","Community Housing Program"]
["221827316268207 Cedardale Road SW",221827316268,"207 Cedardale Road SW","CHC","Calgary Housing Company","Cedarbrae 5 (FCLS)","Calgary","T2W5A8","Alberta Social Housing Corporation","Community Housing Program"]
["221827316268185 Cedardale Road SW",221827316268,"185 Cedardale Road SW","CHC","Calgary Housing Company","Cedarbrae 5 (FCLS)","Calgary","T2W5A8","Alberta Social Housing Corporation","Community Housing Program"]
[{"$f":"CONCATENATE(B451,C451)","v":"2218273162683546 Cedarille Drive SW"},221827316268,"3546 Cedarille Drive SW","CHC","Calgary Housing Company","Cedarbrae 5 (FCLS)","Calgary","T2W5B1","Alberta Social Housing Corporation","Community Housing Program"]
["2218273162683544 Cedarille Drive SW",221827316268,"3544 Cedarille Drive SW","CHC","Calgary Housing Company","Cedarbrae 5 (FCLS)","Calgary","T2W5B1","Alberta Social Housing Corporation","Community Housing Program"]
["221827316268183 Cedardale Road SW",221827316268,"183 Cedardale Road SW","CHC","Calgary Housing Company","Cedarbrae 5 (FCLS)","Calgary","T2W5A8","Alberta Social Housing Corporation","Community Housing Program"]
["2218273162683548 Cedarille Drive SW",221827316268,"3548 Cedarille Drive SW","CHC","Calgary Housing Company","Cedarbrae 5 (FCLS)","Calgary","T2W5B1","Alberta Social Housing Corporation","Community Housing Program"]
["2218273162683536 Cedarille Drive SW",221827316268,"3536 Cedarille Drive SW","CHC","Calgary Housing Company","Cedarbrae 5 (FCLS)","Calgary","T2W5B1","Alberta Social Housing Corporation","Community Housing Program"]
["221827316268209 Cedardale Road SW",221827316268,"209 Cedardale Road SW","CHC","Calgary Housing Company","Cedarbrae 5 (FCLS)","Calgary","T2W5A8","Alberta Social Housing Corporation","Community Housing Program"]
["2218273162683610 Cedarille Drive SW",221827316268,"3610 Cedarille Drive SW","CHC","Calgary Housing Company","Cedarbrae 5 (FCLS)","Calgary","T2W5B2","Alberta Social Housing Corporation","Community Housing Program"]
["221827316662424 - 2 Avenue NE",221827316662,"424 - 2 Avenue NE","CHC","Calgary Housing Company","Crescent Heights (Lakewood (FCLS))","Calgary","T2E0E6","Alberta Social Housing Corporation","Community Housing Program"]
["221827366001308 - 15 Avenue NE",221827366001,"308 - 15 Avenue NE","CHC","Calgary Housing Company","Crescent Heights 1","Calgary","T2E1H2","Municipality","Specialized Housing"]
["221827316004101, 4847 Dalton Drive NW",221827316004,"101, 4847 Dalton Drive NW","CHC","Calgary Housing Company","Dalhousie 1","Calgary","T3A2G7","Alberta Social Housing Corporation","Community Housing Program"]
["221827316004201, 4847 Dalton Drive NW",221827316004,"201, 4847 Dalton Drive NW","CHC","Calgary Housing Company","Dalhousie 1","Calgary","T3A2G7","Alberta Social Housing Corporation","Community Housing Program"]
["221827316004301, 4847 Dalton Drive NW",221827316004,"301, 4847 Dalton Drive NW","CHC","Calgary Housing Company","Dalhousie 1","Calgary","T3A2G7","Alberta Social Housing Corporation","Community Housing Program"]
["221827316004401, 4847 Dalton Drive NW",221827316004,"401, 4847 Dalton Drive NW","CHC","Calgary Housing Company","Dalhousie 1","Calgary","T3A2G7","Alberta Social Housing Corporation","Community Housing Program"]
["221827316004101, 4848 Dalton Drive NW",221827316004,"101, 4848 Dalton Drive NW","CHC","Calgary Housing Company","Dalhousie 1","Calgary","T3A2E8","Alberta Social Housing Corporation","Community Housing Program"]
["221827316004201, 4848 Dalton Drive NW",221827316004,"201, 4848 Dalton Drive NW","CHC","Calgary Housing Company","Dalhousie 1","Calgary","T3A2E8","Alberta Social Housing Corporation","Community Housing Program"]
["221827316004301, 4848 Dalton Drive NW",221827316004,"301, 4848 Dalton Drive NW","CHC","Calgary Housing Company","Dalhousie 1","Calgary","T3A2E8","Alberta Social Housing Corporation","Community Housing Program"]
["221827316004401, 4848 Dalton Drive NW",221827316004,"401, 4848 Dalton Drive NW","CHC","Calgary Housing Company","Dalhousie 1","Calgary","T3A2E8","Alberta Social Housing Corporation","Community Housing Program"]
["221827316127302, Deerpoint Gardens SE",221827316127,"302, Deerpoint Gardens SE","CHC","Calgary Housing Company","Deer Ridge","Calgary","T2J6V7","Alberta Social Housing Corporation","Community Housing Program"]
["22182731614010 Deerfield Villas SE",221827316140,"10 Deerfield Villas SE","CHC","Calgary Housing Company","Deer Valley","Calgary","T2J6T9","Alberta Social Housing Corporation","Community Housing Program"]
["2218273167474321 Doverwood Place SE",221827316747,"4321 Doverwood Place SE","CHC","Calgary Housing Company","Dover 1 (Municipal)","Calgary","T2B1T7","Municipality","Community Housing Program"]
["2218273167474317 Doverwood Place SE",221827316747,"4317 Doverwood Place SE","CHC","Calgary Housing Company","Dover 1 (Municipal)","Calgary","T2B1T7","Municipality","Community Housing Program"]
["2218273167474313 Doverwood Place SE",221827316747,"4313 Doverwood Place SE","CHC","Calgary Housing Company","Dover 1 (Municipal)","Calgary","T2B1T7","Municipality","Community Housing Program"]
["2218273167474309 Doverwood Place SE",221827316747,"4309 Doverwood Place SE","CHC","Calgary Housing Company","Dover 1 (Municipal)","Calgary","T2B1T7","Municipality","Community Housing Program"]
["2218273167474305 Doverwood Place SE",221827316747,"4305 Doverwood Place SE","CHC","Calgary Housing Company","Dover 1 (Municipal)","Calgary","T2B1T7","Municipality","Community Housing Program"]
["2218273167472804 - 41 Street SE",221827316747,"2804 - 41 Street SE","CHC","Calgary Housing Company","Dover 1 (Municipal)","Calgary","T2B1E3","Municipality","Community Housing Program"]
["2218273167474306 Doverwood Place SE",221827316747,"4306 Doverwood Place SE","CHC","Calgary Housing Company","Dover 1 (Municipal)","Calgary","T2B1T8","Municipality","Community Housing Program"]
["2218273167474310 Doverwood Place SE",221827316747,"4310 Doverwood Place SE","CHC","Calgary Housing Company","Dover 1 (Municipal)","Calgary","T2B1T8","Municipality","Community Housing Program"]
["2218273167474314 Doverwood Place SE",221827316747,"4314 Doverwood Place SE","CHC","Calgary Housing Company","Dover 1 (Municipal)","Calgary","T2B1T8","Municipality","Community Housing Program"]
["2218273167474318 Doverwood Place SE",221827316747,"4318 Doverwood Place SE","CHC","Calgary Housing Company","Dover 1 (Municipal)","Calgary","T2B1T8","Municipality","Community Housing Program"]
["2218273167474322 Doverwood Place SE",221827316747,"4322 Doverwood Place SE","CHC","Calgary Housing Company","Dover 1 (Municipal)","Calgary","T2B1T8","Municipality","Community Housing Program"]
["2218273167474326 Doverwood Place SE",221827316747,"4326 Doverwood Place SE","CHC","Calgary Housing Company","Dover 1 (Municipal)","Calgary","T2B1T8","Municipality","Community Housing Program"]
["2218273167474330 Doverwood Place SE",221827316747,"4330 Doverwood Place SE","CHC","Calgary Housing Company","Dover 1 (Municipal)","Calgary","T2B1T8","Municipality","Community Housing Program"]
["2218273167474334 Doverwood Place SE",221827316747,"4334 Doverwood Place SE","CHC","Calgary Housing Company","Dover 1 (Municipal)","Calgary","T2B1T8","Municipality","Community Housing Program"]
["2218273167474325 Doverwood Place SE",221827316747,"4325 Doverwood Place SE","CHC","Calgary Housing Company","Dover 1 (Municipal)","Calgary","T2B1T7","Municipality","Community Housing Program"]
["2218273167472712 - 41 Street SE",221827316747,"2712 - 41 Street SE","CHC","Calgary Housing Company","Dover 1 (Municipal)","Calgary","T2B1E2","Municipality","Community Housing Program"]
["2218273167483015 - 30A Street SE",221827316748,"3015 - 30A Street SE","CHC","Calgary Housing Company","Dover 2 (Municipal)","Calgary","T2B0S6","Municipality","Community Housing Program"]
["2218273167483019 - 30A Street SE",221827316748,"3019 - 30A Street SE","CHC","Calgary Housing Company","Dover 2 (Municipal)","Calgary","T2B0S6","Municipality","Community Housing Program"]
["2218273167483005 - 30A Street SE",221827316748,"3005 - 30A Street SE","CHC","Calgary Housing Company","Dover 2 (Municipal)","Calgary","T2B0S6","Municipality","Community Housing Program"]
["2218273167483009 - 30A Street SE",221827316748,"3009 - 30A Street SE","CHC","Calgary Housing Company","Dover 2 (Municipal)","Calgary","T2B0S6","Municipality","Community Housing Program"]
["2218273167483011 - 30A Street SE",221827316748,"3011 - 30A Street SE","CHC","Calgary Housing Company","Dover 2 (Municipal)","Calgary","T2B0S6","Municipality","Community Housing Program"]
["2218273167483477 - 33A Avenue SE",221827316748,"3477 - 33A Avenue SE","CHC","Calgary Housing Company","Dover 2 (Municipal)","Calgary","T2B0K5","Municipality","Community Housing Program"]
["2218273167483473 - 33A Avenue SE",221827316748,"3473 - 33A Avenue SE","CHC","Calgary Housing Company","Dover 2 (Municipal)","Calgary","T2B0K5","Municipality","Community Housing Program"]
["2218273167483203 - 33A Avenue SE",221827316748,"3203 - 33A Avenue SE","CHC","Calgary Housing Company","Dover 2 (Municipal)","Calgary","T2B0K2","Municipality","Community Housing Program"]
["2218273167483207 - 33A Avenue SE",221827316748,"3207 - 33A Avenue SE","CHC","Calgary Housing Company","Dover 2 (Municipal)","Calgary","T2B0K2","Municipality","Community Housing Program"]
["2218273167483209 - 33A Avenue SE",221827316748,"3209 - 33A Avenue SE","CHC","Calgary Housing Company","Dover 2 (Municipal)","Calgary","T2B0K2","Municipality","Community Housing Program"]
["2218273167483213 - 33A Avenue SE",221827316748,"3213 - 33A Avenue SE","CHC","Calgary Housing Company","Dover 2 (Municipal)","Calgary","T2B0K2","Municipality","Community Housing Program"]
["2218273167483217 - 33A Avenue SE",221827316748,"3217 - 33A Avenue SE","CHC","Calgary Housing Company","Dover 2 (Municipal)","Calgary","T2B0K2","Municipality","Community Housing Program"]
["2218273167483203 - 31A Street SE",221827316748,"3203 - 31A Street SE","CHC","Calgary Housing Company","Dover 2 (Municipal)","Calgary","T2B0H8","Municipality","Community Housing Program"]
["2218273167483207 - 31A Street SE",221827316748,"3207 - 31A Street SE","CHC","Calgary Housing Company","Dover 2 (Municipal)","Calgary","T2B0H8","Municipality","Community Housing Program"]
["2218273167483219 - 31A Avenue SE",221827316748,"3219 - 31A Avenue SE","CHC","Calgary Housing Company","Dover 2 (Municipal)","Calgary","T2B0H8","Municipality","Community Housing Program"]
["2218273167483222 - 30A Street SE",221827316748,"3222 - 30A Street SE","CHC","Calgary Housing Company","Dover 2 (Municipal)","Calgary","T2B0H4","Municipality","Community Housing Program"]
["2218273167483216 - 30A Street SE",221827316748,"3216 - 30A Street SE","CHC","Calgary Housing Company","Dover 2 (Municipal)","Calgary","T2B0H4","Municipality","Community Housing Program"]
["2218273167483459 - 31A Avenue SE",221827316748,"3459 - 31A Avenue SE","CHC","Calgary Housing Company","Dover 2 (Municipal)","Calgary","T2B0J2","Municipality","Community Housing Program"]
["2218273167483007 - 28A Street SE",221827316748,"3007 - 28A Street SE","CHC","Calgary Housing Company","Dover 2 (Municipal)","Calgary","T2B0S1","Municipality","Community Housing Program"]
["2218273167483011 - 28A Street SE",221827316748,"3011 - 28A Street SE","CHC","Calgary Housing Company","Dover 2 (Municipal)","Calgary","T2B0S1","Municipality","Community Housing Program"]
["2218273167483010 - 29A Street SE",221827316748,"3010 - 29A Street SE","CHC","Calgary Housing Company","Dover 2 (Municipal)","Calgary","T2B0S3","Municipality","Community Housing Program"]
["2218273167483008 - 29A Street SE",221827316748,"3008 - 29A Street SE","CHC","Calgary Housing Company","Dover 2 (Municipal)","Calgary","T2B0S3","Municipality","Community Housing Program"]
["2218273167483004 - 29A Street SE",221827316748,"3004 - 29A Street SE","CHC","Calgary Housing Company","Dover 2 (Municipal)","Calgary","T2B0S3","Municipality","Community Housing Program"]
["2218273167483216 - 32A Avenue SE",221827316748,"3216 - 32A Avenue SE","CHC","Calgary Housing Company","Dover 2 (Municipal)","Calgary","T2B0J5","Municipality","Community Housing Program"]
["2218273167483212 - 32A Avenue SE",221827316748,"3212 - 32A Avenue SE","CHC","Calgary Housing Company","Dover 2 (Municipal)","Calgary","T2B0J5","Municipality","Community Housing Program"]
["2218273167483208 - 32A Avenue SE",221827316748,"3208 - 32A Avenue SE","CHC","Calgary Housing Company","Dover 2 (Municipal)","Calgary","T2B0J5","Municipality","Community Housing Program"]
["2218273167483467 - 31A Avenue SE",221827316748,"3467 - 31A Avenue SE","CHC","Calgary Housing Company","Dover 2 (Municipal)","Calgary","T2B0J2","Municipality","Community Housing Program"]
["2218273167483456 - 32A Avenue SE",221827316748,"3456 - 32A Avenue SE","CHC","Calgary Housing Company","Dover 2 (Municipal)","Calgary","T2B0J7","Municipality","Community Housing Program"]
["2218273167483460 - 32A Avenue SE",221827316748,"3460 - 32A Avenue SE","CHC","Calgary Housing Company","Dover 2 (Municipal)","Calgary","T2B0J7","Municipality","Community Housing Program"]
[{"$f":"CONCATENATE(B515,C515)","v":"2218273167483464 - 32A Avenue SE"},221827316748,"3464 - 32A Avenue SE","CHC","Calgary Housing Company","Dover 2 (Municipal)","Calgary","T2B0J7","Municipality","Community Housing Program"]
["2218273167483454 - 30A Street SE",221827316748,"3454 - 30A Street SE","CHC","Calgary Housing Company","Dover 2 (Municipal)","Calgary","T2B0H6","Municipality","Community Housing Program"]
["2218273167483456 - 30A Street SE",221827316748,"3456 - 30A Street SE","CHC","Calgary Housing Company","Dover 2 (Municipal)","Calgary","T2B0H6","Municipality","Community Housing Program"]
["2218273167483460 - 30A Avenue SE",221827316748,"3460 - 30A Avenue SE","CHC","Calgary Housing Company","Dover 2 (Municipal)","Calgary","T2B0H6","Municipality","Community Housing Program"]
["2218273167483464 - 30A Avenue SE",221827316748,"3464 - 30A Avenue SE","CHC","Calgary Housing Company","Dover 2 (Municipal)","Calgary","T2B0H6","Municipality","Community Housing Program"]
["2218273167483470 - 30A Avenue SE",221827316748,"3470 - 30A Avenue SE","CHC","Calgary Housing Company","Dover 2 (Municipal)","Calgary","T2B0H6","Municipality","Community Housing Program"]
["2218273167483018 - 29A Street SE",221827316748,"3018 - 29A Street SE","CHC","Calgary Housing Company","Dover 2 (Municipal)","Calgary","T2B0S3","Municipality","Community Housing Program"]
["2218273167483014 - 29A Street SE",221827316748,"3014 - 29A Street SE","CHC","Calgary Housing Company","Dover 2 (Municipal)","Calgary","T2B0S3","Municipality","Community Housing Program"]
["2218273167483467 - 33A Avenue SE",221827316748,"3467 - 33A Avenue SE","CHC","Calgary Housing Company","Dover 2 (Municipal)","Calgary","T2B0K5","Municipality","Community Housing Program"]
["2218273167483463 - 33A Avenue SE",221827316748,"3463 - 33A Avenue SE","CHC","Calgary Housing Company","Dover 2 (Municipal)","Calgary","T2B0K5","Municipality","Community Housing Program"]
["2218273167483459 - 33A Avenue SE",221827316748,"3459 - 33A Avenue SE","CHC","Calgary Housing Company","Dover 2 (Municipal)","Calgary","T2B0K5","Municipality","Community Housing Program"]
["2218273167483013 - 28A Street SE",221827316748,"3013 - 28A Street SE","CHC","Calgary Housing Company","Dover 2 (Municipal)","Calgary","T2B0S1","Municipality","Community Housing Program"]
["2218273167483017 - 28A Street SE",221827316748,"3017 - 28A Street SE","CHC","Calgary Housing Company","Dover 2 (Municipal)","Calgary","T2B0S1","Municipality","Community Housing Program"]
["2218273167483474 - 30A Avenue SE",221827316748,"3474 - 30A Avenue SE","CHC","Calgary Housing Company","Dover 2 (Municipal)","Calgary","T2B0H6","Municipality","Community Housing Program"]
["2218273167483206 - 30A Street SE",221827316748,"3206 - 30A Street SE","CHC","Calgary Housing Company","Dover 2 (Municipal)","Calgary","T2B0H4","Municipality","Community Housing Program"]
["2218273167483202 - 30A Street SE",221827316748,"3202 - 30A Street SE","CHC","Calgary Housing Company","Dover 2 (Municipal)","Calgary","T2B0H4","Municipality","Community Housing Program"]
["2218273167483206 - 32A Avenue SE",221827316748,"3206 - 32A Avenue SE","CHC","Calgary Housing Company","Dover 2 (Municipal)","Calgary","T2B0J5","Municipality","Community Housing Program"]
["2218273167483202 - 32A Avenue SE",221827316748,"3202 - 32A Avenue SE","CHC","Calgary Housing Company","Dover 2 (Municipal)","Calgary","T2B0J5","Municipality","Community Housing Program"]
["2218273100313018 - 33A Street SE",221827310031,"3018 - 33A Street SE","CHC","Calgary Housing Company","Dover 3","Calgary","T2B0W2","Alberta Social Housing Corporation","Community Housing Program"]
["2218273100313014 - 33A Street SE",221827310031,"3014 - 33A Street SE","CHC","Calgary Housing Company","Dover 3","Calgary","T2B0W2","Alberta Social Housing Corporation","Community Housing Program"]
["2218273100313010 - 33A Street SE",221827310031,"3010 - 33A Street SE","CHC","Calgary Housing Company","Dover 3","Calgary","T2B0W2","Alberta Social Housing Corporation","Community Housing Program"]
["2218273100313009 - 32A Street SE",221827310031,"3009 - 32A Street SE","CHC","Calgary Housing Company","Dover 3","Calgary","T2B0T2","Alberta Social Housing Corporation","Community Housing Program"]
["2218273100313013 - 32A Street SE",221827310031,"3013 - 32A Street SE","CHC","Calgary Housing Company","Dover 3","Calgary","T2B0T2","Alberta Social Housing Corporation","Community Housing Program"]
["2218273100313017 - 32A Street SE",221827310031,"3017 - 32A Street SE","CHC","Calgary Housing Company","Dover 3","Calgary","T2B0T2","Alberta Social Housing Corporation","Community Housing Program"]
["2218273160053601 - 28 Avenue SE",221827316005,"3601 - 28 Avenue SE","CHC","Calgary Housing Company","Dover 4","Calgary","T2B2N1","Alberta Social Housing Corporation","Community Housing Program"]
["2218273160053605 - 28 Avenue SE",221827316005,"3605 - 28 Avenue SE","CHC","Calgary Housing Company","Dover 4","Calgary","T2B2N1","Alberta Social Housing Corporation","Community Housing Program"]
["2218273160053609 - 28 Avenue SE",221827316005,"3609 - 28 Avenue SE","CHC","Calgary Housing Company","Dover 4","Calgary","T2B2N1","Alberta Social Housing Corporation","Community Housing Program"]
["2218273160053613 - 28 Avenue SE",221827316005,"3613 - 28 Avenue SE","CHC","Calgary Housing Company","Dover 4","Calgary","T2B2N1","Alberta Social Housing Corporation","Community Housing Program"]
["2218273160053617 - 28 Avenue SE",221827316005,"3617 - 28 Avenue SE","CHC","Calgary Housing Company","Dover 4","Calgary","T2B2N1","Alberta Social Housing Corporation","Community Housing Program"]
["2218273160053621 - 28 Avenue SE",221827316005,"3621 - 28 Avenue SE","CHC","Calgary Housing Company","Dover 4","Calgary","T2B2N1","Alberta Social Housing Corporation","Community Housing Program"]
["2218273160053625 - 28 Avenue SE",221827316005,"3625 - 28 Avenue SE","CHC","Calgary Housing Company","Dover 4","Calgary","T2B2N1","Alberta Social Housing Corporation","Community Housing Program"]
["2218273160053629 - 28 Avenue SE",221827316005,"3629 - 28 Avenue SE","CHC","Calgary Housing Company","Dover 4","Calgary","T2B2N1","Alberta Social Housing Corporation","Community Housing Program"]
["2218273160053633 - 28 Avenue SE",221827316005,"3633 - 28 Avenue SE","CHC","Calgary Housing Company","Dover 4","Calgary","T2B2N1","Alberta Social Housing Corporation","Community Housing Program"]
["2218273160543209 - 31A Avenue SE",221827316054,"3209 - 31A Avenue SE","CHC","Calgary Housing Company","Dover 5","Calgary","T2B0H8","Alberta Social Housing Corporation","Community Housing Program"]
["2218273160543215 - 31A Avenue SE",221827316054,"3215 - 31A Avenue SE","CHC","Calgary Housing Company","Dover 5","Calgary","T2B0H8","Alberta Social Housing Corporation","Community Housing Program"]
["2218273160393213A - 31A Avenue SE",221827316039,"3213A - 31A Avenue SE","CHC","Calgary Housing Company","Dover 5B","Calgary","T2B0H8","Alberta Social Housing Corporation","Community Housing Program"]
["221827316064198 Doverglen Crescent SE",221827316064,"198 Doverglen Crescent SE","CHC","Calgary Housing Company","Dover 6","Calgary","T2B2P6","Alberta Social Housing Corporation","Community Housing Program"]
["221827316064202 Doverglen Crescent SE",221827316064,"202 Doverglen Crescent SE","CHC","Calgary Housing Company","Dover 6","Calgary","T2B2P6","Alberta Social Housing Corporation","Community Housing Program"]
["221827316064206 Doverglen Crescent SE",221827316064,"206 Doverglen Crescent SE","CHC","Calgary Housing Company","Dover 6","Calgary","T2B2P6","Alberta Social Housing Corporation","Community Housing Program"]
["221827316064210 Doverglen Crescent SE",221827316064,"210 Doverglen Crescent SE","CHC","Calgary Housing Company","Dover 6","Calgary","T2B2P6","Alberta Social Housing Corporation","Community Housing Program"]
["221827316064194 Doverglen Crescent SE",221827316064,"194 Doverglen Crescent SE","CHC","Calgary Housing Company","Dover 6","Calgary","T2B2P6","Alberta Social Housing Corporation","Community Housing Program"]
["221827316749727 - 1 Avenue SW",221827316749,"727 - 1 Avenue SW","CHC","Calgary Housing Company","Eau Claire 1 (Municipal)","Calgary","T2P2V3","Municipality","Community Housing Program"]
["221827316146101 Edgeburn Gardens NW",221827316146,"101 Edgeburn Gardens NW","CHC","Calgary Housing Company","Edgemont 1","Calgary","T3A4J8","Alberta Social Housing Corporation","Community Housing Program"]
["221827316069118 Erin Dale Crescent SE",221827316069,"118 Erin Dale Crescent SE","CHC","Calgary Housing Company","Erin Woods 2","Calgary","T2B2R5","Alberta Social Housing Corporation","Community Housing Program"]
["22182731606980 Erinmount Crescent SE",221827316069,"80 Erinmount Crescent SE","CHC","Calgary Housing Company","Erin Woods 2","Calgary","T2B2S3","Alberta Social Housing Corporation","Community Housing Program"]
["221827316097201 Erin Croft Crescent SE",221827316097,"201 Erin Croft Crescent SE","CHC","Calgary Housing Company","Erin Woods 3","Calgary","T2B2V9","Alberta Social Housing Corporation","Community Housing Program"]
["22182731625853 Erin Ridge Road SE",221827316258,"53 Erin Ridge Road SE","CHC","Calgary Housing Company","Erin Woods 4 (FCLS)","Calgary","T2B2W2","Alberta Social Housing Corporation","Community Housing Program"]
["221827316258140 Erin Grove Close SE",221827316258,"140 Erin Grove Close SE","CHC","Calgary Housing Company","Erin Woods 4 (FCLS)","Calgary","T2B2T4","Alberta Social Housing Corporation","Community Housing Program"]
["221827316258127 Erin Mount Crescent SE",221827316258,"127 Erin Mount Crescent SE","CHC","Calgary Housing Company","Erin Woods 4 (FCLS)","Calgary","T2B2T3","Alberta Social Housing Corporation","Community Housing Program"]
["221827316258123 Erin Mount Crescent SE",221827316258,"123 Erin Mount Crescent SE","CHC","Calgary Housing Company","Erin Woods 4 (FCLS)","Calgary","T2B2T3","Alberta Social Housing Corporation","Community Housing Program"]
["221827316258207 Erin Mount Crescent SE",221827316258,"207 Erin Mount Crescent SE","CHC","Calgary Housing Company","Erin Woods 4 (FCLS)","Calgary","T2B2T3","Alberta Social Housing Corporation","Community Housing Program"]
["221827316258171 Erin Mount Crescent SE",221827316258,"171 Erin Mount Crescent SE","CHC","Calgary Housing Company","Erin Woods 4 (FCLS)","Calgary","T2B2T3","Alberta Social Housing Corporation","Community Housing Program"]
["221827316258139 Erin Mount Crescent SE",221827316258,"139 Erin Mount Crescent SE","CHC","Calgary Housing Company","Erin Woods 4 (FCLS)","Calgary","T2B2T3","Alberta Social Housing Corporation","Community Housing Program"]
["221827316258110 Erin Woods Boulevard SE",221827316258,"110 Erin Woods Boulevard SE","CHC","Calgary Housing Company","Erin Woods 4 (FCLS)","Calgary","T2B2R1","Alberta Social Housing Corporation","Community Housing Program"]
["221827316258114 Erin Woods Boulevard SE",221827316258,"114 Erin Woods Boulevard SE","CHC","Calgary Housing Company","Erin Woods 4 (FCLS)","Calgary","T2B2R1","Alberta Social Housing Corporation","Community Housing Program"]
["221827316258173 Erin Ridge Road SE",221827316258,"173 Erin Ridge Road SE","CHC","Calgary Housing Company","Erin Woods 4 (FCLS)","Calgary","T2B2W2","Alberta Social Housing Corporation","Community Housing Program"]
["22182731625892 Erin Ridge Road SE",221827316258,"92 Erin Ridge Road SE","CHC","Calgary Housing Company","Erin Woods 4 (FCLS)","Calgary","T2B2W8","Alberta Social Housing Corporation","Community Housing Program"]
["22182731625883 Erin Woods Place SE",221827316258,"83 Erin Woods Place SE","CHC","Calgary Housing Company","Erin Woods 4 (FCLS)","Calgary","T2B2W5","Alberta Social Housing Corporation","Community Housing Program"]
["22182731625812 Erin Ridge Place SE",221827316258,"12 Erin Ridge Place SE","CHC","Calgary Housing Company","Erin Woods 4 (FCLS)","Calgary","T2B2W7","Alberta Social Housing Corporation","Community Housing Program"]
["22182731625886 Erin Ridge Road SE",221827316258,"86 Erin Ridge Road SE","CHC","Calgary Housing Company","Erin Woods 4 (FCLS)","Calgary","T2B2W8","Alberta Social Housing Corporation","Community Housing Program"]
["22182731625870 Erin Ridge Road SE",221827316258,"70 Erin Ridge Road SE","CHC","Calgary Housing Company","Erin Woods 4 (FCLS)","Calgary","T2B2W8","Alberta Social Housing Corporation","Community Housing Program"]
["22182731625868 Erin Ridge Road SE",221827316258,"68 Erin Ridge Road SE","CHC","Calgary Housing Company","Erin Woods 4 (FCLS)","Calgary","T2B2W8","Alberta Social Housing Corporation","Community Housing Program"]
["22182731625834 Erin Ridge Place SE",221827316258,"34 Erin Ridge Place SE","CHC","Calgary Housing Company","Erin Woods 4 (FCLS)","Calgary","T2B2W7","Alberta Social Housing Corporation","Community Housing Program"]
["2218273162589 Erin Ridge Road SE",221827316258,"9 Erin Ridge Road SE","CHC","Calgary Housing Company","Erin Woods 4 (FCLS)","Calgary","T2B2W2","Alberta Social Housing Corporation","Community Housing Program"]
[{"$f":"CONCATENATE(B579,C579)","v":"22182731625829 Erin Ridge Road SE"},221827316258,"29 Erin Ridge Road SE","CHC","Calgary Housing Company","Erin Woods 4 (FCLS)","Calgary","T2B2W2","Alberta Social Housing Corporation","Community Housing Program"]
["22182731625837 Erin Ridge Road SE",221827316258,"37 Erin Ridge Road SE","CHC","Calgary Housing Company","Erin Woods 4 (FCLS)","Calgary","T2B2W2","Alberta Social Housing Corporation","Community Housing Program"]
["22182731625813 Erin Woods Place SE",221827316258,"13 Erin Woods Place SE","CHC","Calgary Housing Company","Erin Woods 4 (FCLS)","Calgary","T2B2W5","Alberta Social Housing Corporation","Community Housing Program"]
["221827316258208 Erin Croft Crescent SE",221827316258,"208 Erin Croft Crescent SE","CHC","Calgary Housing Company","Erin Woods 4 (FCLS)","Calgary","T2B2V1","Alberta Social Housing Corporation","Community Housing Program"]
["22182731625819 Erin Grove Close SE",221827316258,"19 Erin Grove Close SE","CHC","Calgary Housing Company","Erin Woods 4 (FCLS)","Calgary","T2B2T4","Alberta Social Housing Corporation","Community Housing Program"]
["22182731625820 Erin Croft Green SE",221827316258,"20 Erin Croft Green SE","CHC","Calgary Housing Company","Erin Woods 4 (FCLS)","Calgary","T2B2V2","Alberta Social Housing Corporation","Community Housing Program"]
["22182731625855 Erin Dale Crescent SE",221827316258,"55 Erin Dale Crescent SE","CHC","Calgary Housing Company","Erin Woods 4 (FCLS)","Calgary","T2B2R4","Alberta Social Housing Corporation","Community Housing Program"]
["22182731625819 Erin Dale Crescent SE",221827316258,"19 Erin Dale Crescent SE","CHC","Calgary Housing Company","Erin Woods 4 (FCLS)","Calgary","T2B2R3","Alberta Social Housing Corporation","Community Housing Program"]
["221827316258112 Erin Woods Boulevard SE",221827316258,"112 Erin Woods Boulevard SE","CHC","Calgary Housing Company","Erin Woods 4 (FCLS)","Calgary","T2B2R1","Alberta Social Housing Corporation","Community Housing Program"]
["221827316258116 Erin Woods Boulevard SE",221827316258,"116 Erin Woods Boulevard SE","CHC","Calgary Housing Company","Erin Woods 4 (FCLS)","Calgary","T2B2R1","Alberta Social Housing Corporation","Community Housing Program"]
["221827316058301 Falconridge Crescent NE",221827316058,"301 Falconridge Crescent NE","CHC","Calgary Housing Company","Falconridge 1","Calgary","T3J1H3","Alberta Social Housing Corporation","Community Housing Program"]
["22182731606510 Falmead Place NE",221827316065,"10 Falmead Place NE","CHC","Calgary Housing Company","Falconridge 2","Calgary","T3J1H1","Alberta Social Housing Corporation","Community Housing Program"]
["2218273160656 Falmead Place NE",221827316065,"6 Falmead Place NE","CHC","Calgary Housing Company","Falconridge 2","Calgary","T3J1H1","Alberta Social Housing Corporation","Community Housing Program"]
["22182731606538 Falmead Bay NE",221827316065,"38 Falmead Bay NE","CHC","Calgary Housing Company","Falconridge 2","Calgary","T3J1H2","Alberta Social Housing Corporation","Community Housing Program"]
["22182731606534 Falmead Bay NE",221827316065,"34 Falmead Bay NE","CHC","Calgary Housing Company","Falconridge 2","Calgary","T3J1H2","Alberta Social Housing Corporation","Community Housing Program"]
["221827316077101, 1260 Falconridge Drive NE",221827316077,"101, 1260 Falconridge Drive NE","CHC","Calgary Housing Company","Falconridge 6","Calgary","T3J1N5","Alberta Social Housing Corporation","Community Housing Program"]
["22182731630739 Falshire Way NE",221827316307,"39 Falshire Way NE","CHC","Calgary Housing Company","Falconridge 7 (FCLS)","Calgary","T3J2B2","Alberta Social Housing Corporation","Community Housing Program"]
["221827316307339 Falshire Way NE",221827316307,"339 Falshire Way NE","CHC","Calgary Housing Company","Falconridge 7 (FCLS)","Calgary","T3J2B3","Alberta Social Housing Corporation","Community Housing Program"]
["22182731630789 Falworth Way NE",221827316307,"89 Falworth Way NE","CHC","Calgary Housing Company","Falconridge 7 (FCLS)","Calgary","T3J1E4","Alberta Social Housing Corporation","Community Housing Program"]
["2218273163075735 - 68 Street NE",221827316307,"5735 - 68 Street NE","CHC","Calgary Housing Company","Falconridge 7 (FCLS)","Calgary","T3J1W1","Alberta Social Housing Corporation","Community Housing Program"]
["2218273163075733 - 68 Street NE",221827316307,"5733 - 68 Street NE","CHC","Calgary Housing Company","Falconridge 7 (FCLS)","Calgary","T3J1W1","Alberta Social Housing Corporation","Community Housing Program"]
["2218273163075729 - 68 Street NE",221827316307,"5729 - 68 Street NE","CHC","Calgary Housing Company","Falconridge 7 (FCLS)","Calgary","T3J1W1","Alberta Social Housing Corporation","Community Housing Program"]
["221827316307187 Falton Way NE",221827316307,"187 Falton Way NE","CHC","Calgary Housing Company","Falconridge 7 (FCLS)","Calgary","T3J1J5","Housing Provider","Community Housing Program"]
["221827316307120 Falton Drive NE",221827316307,"120 Falton Drive NE","CHC","Calgary Housing Company","Falconridge 7 (FCLS)","Calgary","T3J1X8","Housing Provider","Community Housing Program"]
["221827316307132 Falton Drive NE",221827316307,"132 Falton Drive NE","CHC","Calgary Housing Company","Falconridge 7 (FCLS)","Calgary","T3J1X8","Alberta Social Housing Corporation","Community Housing Program"]
["22182731630720 Falton Mews NE",221827316307,"20 Falton Mews NE","CHC","Calgary Housing Company","Falconridge 7 (FCLS)","Calgary","T3J2A6","Alberta Social Housing Corporation","Community Housing Program"]
["2218273163075745 - 68 Street NE",221827316307,"5745 - 68 Street NE","CHC","Calgary Housing Company","Falconridge 7 (FCLS)","Calgary","T3J1W1","Alberta Social Housing Corporation","Community Housing Program"]
["221827316307189 Falshire Drive NE",221827316307,"189 Falshire Drive NE","CHC","Calgary Housing Company","Falconridge 7 (FCLS)","Calgary","T3J1P7","Alberta Social Housing Corporation","Community Housing Program"]
["221827316307187 Falshire Drive NE",221827316307,"187 Falshire Drive NE","CHC","Calgary Housing Company","Falconridge 7 (FCLS)","Calgary","T3J1P7","Alberta Social Housing Corporation","Community Housing Program"]
["2218273163075719 - 68 Street NE",221827316307,"5719 - 68 Street NE","CHC","Calgary Housing Company","Falconridge 7 (FCLS)","Calgary","T3J1W1","Alberta Social Housing Corporation","Community Housing Program"]
["221827316307173 Falton Drive NE",221827316307,"173 Falton Drive NE","CHC","Calgary Housing Company","Falconridge 7 (FCLS)","Calgary","T3J1W7","Alberta Social Housing Corporation","Community Housing Program"]
["221827316307175 Falton Drive NE",221827316307,"175 Falton Drive NE","CHC","Calgary Housing Company","Falconridge 7 (FCLS)","Calgary","T3J1W7","Alberta Social Housing Corporation","Community Housing Program"]
["221827316307207 Faldale Close NE",221827316307,"207 Faldale Close NE","CHC","Calgary Housing Company","Falconridge 7 (FCLS)","Calgary","T3J1V9","Alberta Social Housing Corporation","Community Housing Program"]
["22182731630728 Falton Rise NE",221827316307,"28 Falton Rise NE","CHC","Calgary Housing Company","Falconridge 7 (FCLS)","Calgary","T3J1W9","Alberta Social Housing Corporation","Community Housing Program"]
["221827316307121 Falton Drive NE",221827316307,"121 Falton Drive NE","CHC","Calgary Housing Company","Falconridge 7 (FCLS)","Calgary","T3J1W7","Alberta Social Housing Corporation","Community Housing Program"]
["221827316307140 Falton Close NE",221827316307,"140 Falton Close NE","CHC","Calgary Housing Company","Falconridge 7 (FCLS)","Calgary","T3J1X2","Alberta Social Housing Corporation","Community Housing Program"]
["221827316307144 Falton Close NE",221827316307,"144 Falton Close NE","CHC","Calgary Housing Company","Falconridge 7 (FCLS)","Calgary","T3J1X2","Housing Provider","Community Housing Program"]
["221827316307160 Falton Drive NE",221827316307,"160 Falton Drive NE","CHC","Calgary Housing Company","Falconridge 7 (FCLS)","Calgary","T3J1W5","Alberta Social Housing Corporation","Community Housing Program"]
["221827316307159 Falton Drive NE",221827316307,"159 Falton Drive NE","CHC","Calgary Housing Company","Falconridge 7 (FCLS)","Calgary","T3J1W7","Alberta Social Housing Corporation","Community Housing Program"]
["221827316307167 Falton Drive NE",221827316307,"167 Falton Drive NE","CHC","Calgary Housing Company","Falconridge 7 (FCLS)","Calgary","T3J1W7","Alberta Social Housing Corporation","Community Housing Program"]
["2218273163075725 - 68 Street NE",221827316307,"5725 - 68 Street NE","CHC","Calgary Housing Company","Falconridge 7 (FCLS)","Calgary","T3J1W1","Alberta Social Housing Corporation","Community Housing Program"]
["221827316307155 Falton Drive NE",221827316307,"155 Falton Drive NE","CHC","Calgary Housing Company","Falconridge 7 (FCLS)","Calgary","T3J1W7","Alberta Social Housing Corporation","Community Housing Program"]
["22182731630772 Falton Rise NE",221827316307,"72 Falton Rise NE","CHC","Calgary Housing Company","Falconridge 7 (FCLS)","Calgary","T3J1W9","Alberta Social Housing Corporation","Community Housing Program"]
["221827316307327 Falshire Drive NE",221827316307,"327 Falshire Drive NE","CHC","Calgary Housing Company","Falconridge 7 (FCLS)","Calgary","T3J1T8","Alberta Social Housing Corporation","Community Housing Program"]
["22182731630723 Falchurch Place NE",221827316307,"23 Falchurch Place NE","CHC","Calgary Housing Company","Falconridge 7 (FCLS)","Calgary","T3J1L9","Alberta Social Housing Corporation","Community Housing Program"]
["2218273163071352 Falconridge Drive NE",221827316307,"1352 Falconridge Drive NE","CHC","Calgary Housing Company","Falconridge 7 (FCLS)","Calgary","T3J1J1","Alberta Social Housing Corporation","Community Housing Program"]
["221827316307100 Falchurch Crescent NE",221827316307,"100 Falchurch Crescent NE","CHC","Calgary Housing Company","Falconridge 7 (FCLS)","Calgary","T3J1K1","Housing Provider","Community Housing Program"]
["22182731630721 Falbury Crescent NE",221827316307,"21 Falbury Crescent NE","CHC","Calgary Housing Company","Falconridge 7 (FCLS)","Calgary","T3J1H8","Alberta Social Housing Corporation","Community Housing Program"]
["22182731630741 Falbury Crescent NE",221827316307,"41 Falbury Crescent NE","CHC","Calgary Housing Company","Falconridge 7 (FCLS)","Calgary","T3J1H8","Alberta Social Housing Corporation","Community Housing Program"]
["22182731630776 Falconridge Place NE",221827316307,"76 Falconridge Place NE","CHC","Calgary Housing Company","Falconridge 7 (FCLS)","Calgary","T3J1A6","Alberta Social Housing Corporation","Community Housing Program"]
["221827316307123 Falsby Road NE",221827316307,"123 Falsby Road NE","CHC","Calgary Housing Company","Falconridge 7 (FCLS)","Calgary","T3J1B7","Alberta Social Housing Corporation","Community Housing Program"]
["221827316307161 Falton Drive NE",221827316307,"161 Falton Drive NE","CHC","Calgary Housing Company","Falconridge 7 (FCLS)","Calgary","T3J1W7","Alberta Social Housing Corporation","Community Housing Program"]
["2218273163075727 - 68 Street NE",221827316307,"5727 - 68 Street NE","CHC","Calgary Housing Company","Falconridge 7 (FCLS)","Calgary","T3J1W1","Alberta Social Housing Corporation","Community Housing Program"]
["2218273163075731 - 68 Street NE",221827316307,"5731 - 68 Street NE","CHC","Calgary Housing Company","Falconridge 7 (FCLS)","Calgary","T3J1W1","Alberta Social Housing Corporation","Community Housing Program"]
["22182731630743 Falbury Crescent NE",221827316307,"43 Falbury Crescent NE","CHC","Calgary Housing Company","Falconridge 7 (FCLS)","Calgary","T3J1H8","Alberta Social Housing Corporation","Community Housing Program"]
["2218273163075737 - 68 Street NE",221827316307,"5737 - 68 Street NE","CHC","Calgary Housing Company","Falconridge 7 (FCLS)","Calgary","T3J1W1","Alberta Social Housing Corporation","Community Housing Program"]
["221827316307157 Falton Drive NE",221827316307,"157 Falton Drive NE","CHC","Calgary Housing Company","Falconridge 7 (FCLS)","Calgary","T3J1W7","Alberta Social Housing Corporation","Community Housing Program"]
["221827316307169 Falton Drive NE",221827316307,"169 Falton Drive NE","CHC","Calgary Housing Company","Falconridge 7 (FCLS)","Calgary","T3J1W7","Alberta Social Housing Corporation","Community Housing Program"]
["221827316307115 Falbury Crescent NE",221827316307,"115 Falbury Crescent NE","CHC","Calgary Housing Company","Falconridge 7 (FCLS)","Calgary","T3J1H8","Alberta Social Housing Corporation","Community Housing Program"]
["221827316307123 Falton Drive NE",221827316307,"123 Falton Drive NE","CHC","Calgary Housing Company","Falconridge 7 (FCLS)","Calgary","T3J1W7","Alberta Social Housing Corporation","Community Housing Program"]
["22182731630723 Falbury Crescent NE",221827316307,"23 Falbury Crescent NE","CHC","Calgary Housing Company","Falconridge 7 (FCLS)","Calgary","T3J1H8","Alberta Social Housing Corporation","Community Housing Program"]
["221827316307113 Falbury Crescent NE",221827316307,"113 Falbury Crescent NE","CHC","Calgary Housing Company","Falconridge 7 (FCLS)","Calgary","T3J1H8","Alberta Social Housing Corporation","Community Housing Program"]
["2218273163075743 - 68 Street NE",221827316307,"5743 - 68 Street NE","CHC","Calgary Housing Company","Falconridge 7 (FCLS)","Calgary","T3J1W1","Alberta Social Housing Corporation","Community Housing Program"]
["221827316307121 Falsby Road NE",221827316307,"121 Falsby Road NE","CHC","Calgary Housing Company","Falconridge 7 (FCLS)","Calgary","T3J1B7","Alberta Social Housing Corporation","Community Housing Program"]
[{"$f":"CONCATENATE(B643,C643)","v":"2218273163075721 - 68 Street NE"},221827316307,"5721 - 68 Street NE","CHC","Calgary Housing Company","Falconridge 7 (FCLS)","Calgary","T3J1W1","Alberta Social Housing Corporation","Community Housing Program"]
["2218273163075723 - 68 Street NE",221827316307,"5723 - 68 Street NE","CHC","Calgary Housing Company","Falconridge 7 (FCLS)","Calgary","T3J1W1","Alberta Social Housing Corporation","Community Housing Program"]
["22182731630774 Falconridge Place NE",221827316307,"74 Falconridge Place NE","CHC","Calgary Housing Company","Falconridge 7 (FCLS)","Calgary","T3J1A6","Alberta Social Housing Corporation","Community Housing Program"]
["221827316307171 Falton Drive NE",221827316307,"171 Falton Drive NE","CHC","Calgary Housing Company","Falconridge 7 (FCLS)","Calgary","T3J1W7","Alberta Social Housing Corporation","Community Housing Program"]
["221827316307177 Falton Drive NE",221827316307,"177 Falton Drive NE","CHC","Calgary Housing Company","Falconridge 7 (FCLS)","Calgary","T3J1W7","Alberta Social Housing Corporation","Community Housing Program"]
["22182735602031 Fay Road SE",221827356020,"31 Fay Road SE","CHC","Calgary Housing Company","Fay Road","Calgary","T2H1H5","Alberta Social Housing Corporation","Community Housing Program"]
["2218273167504601 Memorial Drive NE",221827316750,"4601 Memorial Drive NE","CHC","Calgary Housing Company","Forest Heights 1 (Municipal)","Calgary","T2A2P8","Municipality","Community Housing Program"]
["2218273167504605 Memorial Drive NE",221827316750,"4605 Memorial Drive NE","CHC","Calgary Housing Company","Forest Heights 1 (Municipal)","Calgary","T2A2P8","Municipality","Community Housing Program"]
["2218273167504609 Memorial Drive NE",221827316750,"4609 Memorial Drive NE","CHC","Calgary Housing Company","Forest Heights 1 (Municipal)","Calgary","T2A2P8","Municipality","Community Housing Program"]
["2218273167504613 Memorial Drive NE",221827316750,"4613 Memorial Drive NE","CHC","Calgary Housing Company","Forest Heights 1 (Municipal)","Calgary","T2A2P8","Municipality","Community Housing Program"]
["2218273167504617 Memorial Drive NE",221827316750,"4617 Memorial Drive NE","CHC","Calgary Housing Company","Forest Heights 1 (Municipal)","Calgary","T2A2P8","Municipality","Community Housing Program"]
["2218273167504621 Memorial Drive NE",221827316750,"4621 Memorial Drive NE","CHC","Calgary Housing Company","Forest Heights 1 (Municipal)","Calgary","T2A2P8","Municipality","Community Housing Program"]
["2218273167504625 Memorial Drive NE",221827316750,"4625 Memorial Drive NE","CHC","Calgary Housing Company","Forest Heights 1 (Municipal)","Calgary","T2A2P8","Municipality","Community Housing Program"]
["2218273167504629 Memorial Drive NE",221827316750,"4629 Memorial Drive NE","CHC","Calgary Housing Company","Forest Heights 1 (Municipal)","Calgary","T2A2P8","Municipality","Community Housing Program"]
["2218273167504633 Memorial Drive NE",221827316750,"4633 Memorial Drive NE","CHC","Calgary Housing Company","Forest Heights 1 (Municipal)","Calgary","T2A2P8","Municipality","Community Housing Program"]
["2218273167504637 Memorial Drive NE",221827316750,"4637 Memorial Drive NE","CHC","Calgary Housing Company","Forest Heights 1 (Municipal)","Calgary","T2A2P8","Municipality","Community Housing Program"]
["2218273167504641 Memorial Drive NE",221827316750,"4641 Memorial Drive NE","CHC","Calgary Housing Company","Forest Heights 1 (Municipal)","Calgary","T2A2P8","Municipality","Community Housing Program"]
["2218273167504645 Memorial Drive NE",221827316750,"4645 Memorial Drive NE","CHC","Calgary Housing Company","Forest Heights 1 (Municipal)","Calgary","T2A2P8","Municipality","Community Housing Program"]
["2218273167504649 Memorial Drive NE",221827316750,"4649 Memorial Drive NE","CHC","Calgary Housing Company","Forest Heights 1 (Municipal)","Calgary","T2A2P8","Municipality","Community Housing Program"]
["2218273160421, 28 Fonda Drive SE",221827316042,"1, 28 Fonda Drive SE","CHC","Calgary Housing Company","Forest Heights 2","Calgary","T2A6E5","Alberta Social Housing Corporation","Community Housing Program"]
["22182731601849 Fonda Drive SE",221827316018,"49 Fonda Drive SE","CHC","Calgary Housing Company","Forest Heights 3","Calgary","T2A6E4","Alberta Social Housing Corporation","Community Housing Program"]
["22182731601853 Fonda Drive SE",221827316018,"53 Fonda Drive SE","CHC","Calgary Housing Company","Forest Heights 3","Calgary","T2A6E4","Alberta Social Housing Corporation","Community Housing Program"]
["22182731601857 Fonda Drive SE",221827316018,"57 Fonda Drive SE","CHC","Calgary Housing Company","Forest Heights 3","Calgary","T2A6E4","Alberta Social Housing Corporation","Community Housing Program"]
["22182731601861 Fonda Drive SE",221827316018,"61 Fonda Drive SE","CHC","Calgary Housing Company","Forest Heights 3","Calgary","T2A6E4","Alberta Social Housing Corporation","Community Housing Program"]
["22182731601865 Fonda Drive SE",221827316018,"65 Fonda Drive SE","CHC","Calgary Housing Company","Forest Heights 3","Calgary","T2A6E4","Alberta Social Housing Corporation","Community Housing Program"]
["22182731601869 Fonda Drive SE",221827316018,"69 Fonda Drive SE","CHC","Calgary Housing Company","Forest Heights 3","Calgary","T2A6E4","Alberta Social Housing Corporation","Community Housing Program"]
["22182731601873 Fonda Drive SE",221827316018,"73 Fonda Drive SE","CHC","Calgary Housing Company","Forest Heights 3","Calgary","T2A6E4","Alberta Social Housing Corporation","Community Housing Program"]
["2218273161322442 - 47 Street SE",221827316132,"2442 - 47 Street SE","CHC","Calgary Housing Company","Forest Lawn","Calgary","T2B1M5","Alberta Social Housing Corporation","Community Housing Program"]
["2218273161322441 - 48 Street SE",221827316132,"2441 - 48 Street SE","CHC","Calgary Housing Company","Forest Lawn","Calgary","T2B1M5","Alberta Social Housing Corporation","Community Housing Program"]
["2218273167511, 3805 - 47 Street SW",221827316751,"1, 3805 - 47 Street SW","CHC","Calgary Housing Company","Glenbrook 1 (Municipal)","Calgary","T3E3X3","Municipality","Community Housing Program"]
["22182731675231, 3905 - 47 Street SW",221827316752,"31, 3905 - 47 Street SW","CHC","Calgary Housing Company","Glenbrook 2 (Municipal)","Calgary","T3E3X3","Municipality","Community Housing Program"]
["2218273161304500 Richmond Road SW",221827316130,"4500 Richmond Road SW","CHC","Calgary Housing Company","Glenbrook 3","Calgary","T3E4P8","Alberta Social Housing Corporation","Community Housing Program"]
["2218273160493501 - 51 Street SW",221827316049,"3501 - 51 Street SW","CHC","Calgary Housing Company","Glenbrook 4","Calgary","T3E6R6","Alberta Social Housing Corporation","Community Housing Program"]
["221827356005128 Havenhurst Crescent S.W.",221827356005,"128 Havenhurst Crescent S.W.","CHC","Calgary Housing Company","Haysboro/Huntington Hills","Calgary","T2V3C5","Alberta Social Housing Corporation","Community Housing Program"]
["2218273560051019 - 78 Avenue N.W.",221827356005,"1019 - 78 Avenue N.W.","CHC","Calgary Housing Company","Haysboro/Huntington Hills","Calgary","T2K0S6","Alberta Social Housing Corporation","Community Housing Program"]
["2218273160621, 360  - 40 Avenue NW",221827316062,"1, 360  - 40 Avenue NW","CHC","Calgary Housing Company","Highland Park 2","Calgary","T2K6B5","Alberta Social Housing Corporation","Community Housing Program"]
["221827316753411 - 14 Street NW",221827316753,"411 - 14 Street NW","CHC","Calgary Housing Company","Hillhurst 1 (Municipal)","Calgary","T2N2A1","Municipality","Community Housing Program"]
["221827316754325 - 10 Street NW",221827316754,"325 - 10 Street NW","CHC","Calgary Housing Company","Hillhurst 2 (Municipal)","Calgary","T2N4J5","Municipality","Community Housing Program"]
["2218273167551, 508 - 72 Avenue NW",221827316755,"1, 508 - 72 Avenue NW","CHC","Calgary Housing Company","Huntington Hills 1 (Municipal)","Calgary","T2K0P2","Municipality","Community Housing Program"]
["2218273167566835 Centre Street NW",221827316756,"6835 Centre Street NW","CHC","Calgary Housing Company","Huntington Hills 2 (Municipal)","Calgary","T2K5C4","Municipality","Community Housing Program"]
["2218273167576803 Centre Street NW",221827316757,"6803 Centre Street NW","CHC","Calgary Housing Company","Huntington Hills 3 (Municipal)","Calgary","T2K5C4","Municipality","Community Housing Program"]
["2218273660021407, 1409 - 16 Street SE",221827366002,"1407, 1409 - 16 Street SE","CHC","Calgary Housing Company","Inglewood","Calgary","T2G3P4","Municipality","Specialized Housing"]
["2218273660021404, 1406 - 15 Street SE",221827366002,"1404, 1406 - 15 Street SE","CHC","Calgary Housing Company","Inglewood","Calgary","T2G3L7","Municipality","Specialized Housing"]
["2218273660021, 2 1420 - 16A Street SE",221827366002,"1, 2 1420 - 16A Street SE","CHC","Calgary Housing Company","Inglewood","Calgary","T2G3S4","Municipality","Specialized Housing"]
["2218273660021413, 1415 - 16A Street SE",221827366002,"1413, 1415 - 16A Street SE","CHC","Calgary Housing Company","Inglewood","Calgary","T2G3S5","Municipality","Specialized Housing"]
["2218273660021408, 1410 - 16 Street SE",221827366002,"1408, 1410 - 16 Street SE","CHC","Calgary Housing Company","Inglewood","Calgary","T2G3P5","Municipality","Specialized Housing"]
["2218273160561918 - 8 Avenue SE",221827316056,"1918 - 8 Avenue SE","CHC","Calgary Housing Company","Inglewood 3","Calgary","T2G0N6","Alberta Social Housing Corporation","Community Housing Program"]
["2218273160931636 - 16A Street SE",221827316093,"1636 - 16A Street SE","CHC","Calgary Housing Company","Inglewood 8","Calgary","T2G5B2","Alberta Social Housing Corporation","Community Housing Program"]
["2218273560011920 - 29 Street SW",221827356001,"1920 - 29 Street SW","CHC","Calgary Housing Company","Killarney 1","Calgary","T3E2J8","Alberta Social Housing Corporation","Community Housing Program"]
["2218273167402226 - 30 Street SW",221827316740,"2226 - 30 Street SW","CHC","Calgary Housing Company","Killarney 2","Calgary","T3E2L8","Alberta Social Housing Corporation","Community Housing Program"]
["221827316766433 Macleod Trail SE",221827316766,"433 Macleod Trail SE","CHC","Calgary Housing Company","Baker House","Calgary","T2G0E4","Alberta Social Housing Corporation","Community Housing Program"]
["2218273660034480, 4484, 4486 Richardson Road SW",221827366003,"4480, 4484, 4486 Richardson Road SW","CHC","Calgary Housing Company","Lincoln Park 1","Calgary","T3E7G4","Municipality","Specialized Housing"]
["2218273660034433, 4435, 4437, 4439, 4441, 4447, 4451, 4455, 4459, 4461 Richardson Way SW",221827366003,"4433, 4435, 4437, 4439, 4441, 4447, 4451, 4455, 4459, 4461 Richardson Way SW","CHC","Calgary Housing Company","Lincoln Park 1","Calgary","T3E7G5","Municipality","Specialized Housing"]
["2218273660034414, 4418, 4424, 4426, 4432, 4434, 4438 Richardson Road SW",221827366003,"4414, 4418, 4424, 4426, 4432, 4434, 4438 Richardson Road SW","CHC","Calgary Housing Company","Lincoln Park 1","Calgary","T3E7G4","Municipality","Specialized Housing"]
["2218273660034407, 4409, 4413, 4417, 4423, 4425, 4427, 4429, 4431 Richardson Way SW",221827366003,"4407, 4409, 4413, 4417, 4423, 4425, 4427, 4429, 4431 Richardson Way SW","CHC","Calgary Housing Company","Lincoln Park 1","Calgary","T3E7G5","Municipality","Specialized Housing"]
["2218273660034450, 4454, 4456, 4462, 4464, 4470 Richardson Road SW",221827366003,"4450, 4454, 4456, 4462, 4464, 4470 Richardson Road SW","CHC","Calgary Housing Company","Lincoln Park 1","Calgary","T3E7G4","Municipality","Specialized Housing"]
["2218273660034514, 4520, 4522, 4528, 4530, 4534 Richardson Road SW",221827366003,"4514, 4520, 4522, 4528, 4530, 4534 Richardson Road SW","CHC","Calgary Housing Company","Lincoln Park 1","Calgary","T3E7G4","Municipality","Specialized Housing"]
["2218273660034469, 4471, 4475, 4479, 4483 Richardson Way SW",221827366003,"4469, 4471, 4475, 4479, 4483 Richardson Way SW","CHC","Calgary Housing Company","Lincoln Park 1","Calgary","T3E7G5","Municipality","Specialized Housing"]
["2218273160121 Lincoln Place SW",221827316012,"1 Lincoln Place SW","CHC","Calgary Housing Company","Lincoln Park 2","Calgary","T3E6X2","Alberta Social Housing Corporation","Community Housing Program"]
["22182731601210 Lincoln Way SW",221827316012,"10 Lincoln Way SW","CHC","Calgary Housing Company","Lincoln Park 2","Calgary","T3E6X4","Alberta Social Housing Corporation","Community Housing Program"]
["2218273660064495 Richardson Way SW",221827366006,"4495 Richardson Way SW","CHC","Calgary Housing Company","Lincoln Park 4","Calgary","T3E7G5","Municipality","Specialized Housing"]
["2218273660054511, 4513 Richardson Way SW",221827366005,"4511, 4513 Richardson Way SW","CHC","Calgary Housing Company","Lincoln Park Fanning Centre","Calgary","T3E7G5","Municipality","Specialized Housing"]
["2218273660041719 - 10 Street S.W.",221827366004,"1719 - 10 Street S.W.","CHC","Calgary Housing Company","York Residential","Calgary","T2T3E9","Housing Provider","Specialized Housing"]
["22182731610210 Macewan Terrace NW",221827316102,"10 Macewan Terrace NW","CHC","Calgary Housing Company","Macewan Glen 1","Calgary","T3K3K3","Alberta Social Housing Corporation","Community Housing Program"]
[{"$f":"CONCATENATE(B707,C707)","v":"22182731611619 Macewan Terrace NW"},221827316116,"19 Macewan Terrace NW","CHC","Calgary Housing Company","Macewan Glen 2","Calgary","T3K3K5","Alberta Social Housing Corporation","Community Housing Program"]
["22182731609910 McKenna Lane SE",221827316099,"10 McKenna Lane SE","CHC","Calgary Housing Company","McKenzie 1","Calgary","T2Z1X6","Alberta Social Housing Corporation","Community Housing Program"]
["22182731611710 Bannister Manor SE",221827316117,"10 Bannister Manor SE","CHC","Calgary Housing Company","Midnapore","Calgary","T2X2L2","Alberta Social Housing Corporation","Community Housing Program"]
["221827316732316 - 20 Avenue SE",221827316732,"316 - 20 Avenue SE","CHC","Calgary Housing Company","Mission 1","Calgary","T2S0E5","Alberta Social Housing Corporation","Community Housing Program"]
["2218273167585239 - 19 Avenue NW",221827316758,"5239 - 19 Avenue NW","CHC","Calgary Housing Company","Montgomery 1 (Municipal)","Calgary","T3B0T3","Municipality","Community Housing Program"]
["2218273167585243 - 19 Avenue NW",221827316758,"5243 - 19 Avenue NW","CHC","Calgary Housing Company","Montgomery 1 (Municipal)","Calgary","T3B0T3","Municipality","Community Housing Program"]
["2218273167585247 - 19 Avenue NW",221827316758,"5247 - 19 Avenue NW","CHC","Calgary Housing Company","Montgomery 1 (Municipal)","Calgary","T3B0T3","Municipality","Community Housing Program"]
["2218273167585251 - 19 Avenue NW",221827316758,"5251 - 19 Avenue NW","CHC","Calgary Housing Company","Montgomery 1 (Municipal)","Calgary","T3B0T3","Municipality","Community Housing Program"]
["2218273167585255 - 19 Avenue NW",221827316758,"5255 - 19 Avenue NW","CHC","Calgary Housing Company","Montgomery 1 (Municipal)","Calgary","T3B0T3","Municipality","Community Housing Program"]
["2218273167585259 - 19 Avenue NW",221827316758,"5259 - 19 Avenue NW","CHC","Calgary Housing Company","Montgomery 1 (Municipal)","Calgary","T3B0T3","Municipality","Community Housing Program"]
["2218273167585263 - 19 Avenue NW",221827316758,"5263 - 19 Avenue NW","CHC","Calgary Housing Company","Montgomery 1 (Municipal)","Calgary","T3B0T3","Municipality","Community Housing Program"]
["2218273167585267 - 19 Avenue NW",221827316758,"5267 - 19 Avenue NW","CHC","Calgary Housing Company","Montgomery 1 (Municipal)","Calgary","T3B0T3","Municipality","Community Housing Program"]
["2218273167585226 - 19 Avenue NW",221827316758,"5226 - 19 Avenue NW","CHC","Calgary Housing Company","Montgomery 1 (Municipal)","Calgary","T3B0T2","Municipality","Community Housing Program"]
["2218273167585230 - 19 Avenue NW",221827316758,"5230 - 19 Avenue NW","CHC","Calgary Housing Company","Montgomery 1 (Municipal)","Calgary","T3B0T2","Municipality","Community Housing Program"]
["2218273167585234 - 19 Avenue NW",221827316758,"5234 - 19 Avenue NW","CHC","Calgary Housing Company","Montgomery 1 (Municipal)","Calgary","T3B0T2","Municipality","Community Housing Program"]
["2218273167585238 - 19 Avenue NW",221827316758,"5238 - 19 Avenue NW","CHC","Calgary Housing Company","Montgomery 1 (Municipal)","Calgary","T3B0T2","Municipality","Community Housing Program"]
["2218273167585242 - 19 Avenue NW",221827316758,"5242 - 19 Avenue NW","CHC","Calgary Housing Company","Montgomery 1 (Municipal)","Calgary","T3B0T2","Municipality","Community Housing Program"]
["2218273160414325 Bowness Road NW",221827316041,"4325 Bowness Road NW","CHC","Calgary Housing Company","Montgomery 4","Calgary","T3B0A5","Alberta Social Housing Corporation","Community Housing Program"]
["221827316024101-105, 4521 Montgomery Avenue NW",221827316024,"101-105, 4521 Montgomery Avenue NW","CHC","Calgary Housing Company","Montgomery 6","Calgary","T3B0K8","Alberta Social Housing Corporation","Community Housing Program"]
["221827316024201-204, 4521 Montgomery Av NW",221827316024,"201-204, 4521 Montgomery Av NW","CHC","Calgary Housing Company","Montgomery 6","Calgary","T3B0K8","Alberta Social Housing Corporation","Community Housing Program"]
["221827316024301-303, 4521 Montgomery Av NW",221827316024,"301-303, 4521 Montgomery Av NW","CHC","Calgary Housing Company","Montgomery 6","Calgary","T3B0KE","Alberta Social Housing Corporation","Community Housing Program"]
["221827316024401-405, 4521 Mongomery Av NW",221827316024,"401-405, 4521 Mongomery Av NW","CHC","Calgary Housing Company","Montgomery 6","Calgary","T3B0K8","Alberta Social Housing Corporation","Community Housing Program"]
["221827316024501-505, 4521 Montgomery Av NW",221827316024,"501-505, 4521 Montgomery Av NW","CHC","Calgary Housing Company","Montgomery 6","Calgary","T3B0K8","Alberta Social Housing Corporation","Community Housing Program"]
["221827316024601-604, 4527 Montgomery Av NW",221827316024,"601-604, 4527 Montgomery Av NW","CHC","Calgary Housing Company","Montgomery 6","Calgary","T3B0K8","Alberta Social Housing Corporation","Community Housing Program"]
["221827316024701-703, 4527 Montgomery Av NW",221827316024,"701-703, 4527 Montgomery Av NW","CHC","Calgary Housing Company","Montgomery 6","Calgary","T3B0K8","Alberta Social Housing Corporation","Community Housing Program"]
["221827316024801-804, 4527 Montgomery Av NW",221827316024,"801-804, 4527 Montgomery Av NW","CHC","Calgary Housing Company","Montgomery 6","Calgary","T3B0K8","Alberta Social Housing Corporation","Community Housing Program"]
["221827316024901-905, 4404 Montgomery Rd NW",221827316024,"901-905, 4404 Montgomery Rd NW","CHC","Calgary Housing Company","Montgomery 6","Calgary","T3B 5B2","Alberta Social Housing Corporation","Community Housing Program"]
["2218273160241001-1003, 4404 Montgomery Rd NW",221827316024,"1001-1003, 4404 Montgomery Rd NW","CHC","Calgary Housing Company","Montgomery 6","Calgary","T3B5B2","Alberta Social Housing Corporation","Community Housing Program"]
["2218273160241101-1104, 4404 Montgomery Rd NW",221827316024,"1101-1104, 4404 Montgomery Rd NW","CHC","Calgary Housing Company","Montgomery 6","Calgary","T3B 5B2","Alberta Social Housing Corporation","Community Housing Program"]
["2218273160244531-4541, Montgomery Av NW",221827316024,"4531-4541, Montgomery Av NW","CHC","Calgary Housing Company","Montgomery 6","Calgary","T3B 0K8","Alberta Social Housing Corporation","Community Housing Program"]
["2218273160111, 461 - 23 Avenue NE",221827316011,"1, 461 - 23 Avenue NE","CHC","Calgary Housing Company","Mountview","Calgary","T2E1W1","Alberta Social Housing Corporation","Community Housing Program"]
["2218273160111, 465 - 23 Avenue NE",221827316011,"1, 465 - 23 Avenue NE","CHC","Calgary Housing Company","Mountview","Calgary","T2E1W1","Alberta Social Housing Corporation","Community Housing Program"]
["2218273160721, 15 Norquay Court NW",221827316072,"1, 15 Norquay Court NW","CHC","Calgary Housing Company","North Haven 2","Calgary","T2K6A4","Alberta Social Housing Corporation","Community Housing Program"]
["2218273167592525 - 98 Avenue SW",221827316759,"2525 - 98 Avenue SW","CHC","Calgary Housing Company","Oakridge 1 (Municipal)","Calgary","T2V0Z3","Municipality","Community Housing Program"]
["2218273167607602 - 26A Street SE",221827316760,"7602 - 26A Street SE","CHC","Calgary Housing Company","Ogden 1 (Municipal)","Calgary","T2C1E6","Municipality","Community Housing Program"]
["2218273167607603 - 27 Street SE",221827316760,"7603 - 27 Street SE","CHC","Calgary Housing Company","Ogden 1 (Municipal)","Calgary","T2C1E6","Municipality","Community Housing Program"]
["2218273167607606 - 26A Street SE",221827316760,"7606 - 26A Street SE","CHC","Calgary Housing Company","Ogden 1 (Municipal)","Calgary","T2C1E6","Municipality","Community Housing Program"]
["2218273167607607 - 27 Street SE",221827316760,"7607 - 27 Street SE","CHC","Calgary Housing Company","Ogden 1 (Municipal)","Calgary","T2C1E6","Municipality","Community Housing Program"]
["2218273167607610 - 26A Street SE",221827316760,"7610 - 26A Street SE","CHC","Calgary Housing Company","Ogden 1 (Municipal)","Calgary","T2C1E6","Municipality","Community Housing Program"]
["2218273167607611 - 27 Street SE",221827316760,"7611 - 27 Street SE","CHC","Calgary Housing Company","Ogden 1 (Municipal)","Calgary","T2C1E6","Municipality","Community Housing Program"]
["2218273167607614 - 26A Street SE",221827316760,"7614 - 26A Street SE","CHC","Calgary Housing Company","Ogden 1 (Municipal)","Calgary","T2C1E6","Municipality","Community Housing Program"]
["2218273167607615 - 27 Street SE",221827316760,"7615 - 27 Street SE","CHC","Calgary Housing Company","Ogden 1 (Municipal)","Calgary","T2C1E6","Municipality","Community Housing Program"]
["2218273167607618 - 26A Street SE",221827316760,"7618 - 26A Street SE","CHC","Calgary Housing Company","Ogden 1 (Municipal)","Calgary","T2C1E6","Municipality","Community Housing Program"]
["2218273167607619 - 27 Street SE",221827316760,"7619 - 27 Street SE","CHC","Calgary Housing Company","Ogden 1 (Municipal)","Calgary","T2C1E6","Municipality","Community Housing Program"]
["2218273167607622 - 26A Street SE",221827316760,"7622 - 26A Street SE","CHC","Calgary Housing Company","Ogden 1 (Municipal)","Calgary","T2C1E6","Municipality","Community Housing Program"]
["2218273167607623 - 27 Street SE",221827316760,"7623 - 27 Street SE","CHC","Calgary Housing Company","Ogden 1 (Municipal)","Calgary","T2C1E6","Municipality","Community Housing Program"]
["2218273167607626 - 26A Street SE",221827316760,"7626 - 26A Street SE","CHC","Calgary Housing Company","Ogden 1 (Municipal)","Calgary","T2C1E6","Municipality","Community Housing Program"]
["2218273167607627 - 27 Street SE",221827316760,"7627 - 27 Street SE","CHC","Calgary Housing Company","Ogden 1 (Municipal)","Calgary","T2C1E6","Municipality","Community Housing Program"]
["2218273167607630 - 26A Street SE",221827316760,"7630 - 26A Street SE","CHC","Calgary Housing Company","Ogden 1 (Municipal)","Calgary","T2C1E6","Municipality","Community Housing Program"]
["2218273167607631 - 27 Street SE",221827316760,"7631 - 27 Street SE","CHC","Calgary Housing Company","Ogden 1 (Municipal)","Calgary","T2C1E6","Municipality","Community Housing Program"]
["2218273167607634 - 26A Street SE",221827316760,"7634 - 26A Street SE","CHC","Calgary Housing Company","Ogden 1 (Municipal)","Calgary","T2C1E6","Municipality","Community Housing Program"]
["2218273167607638 - 26A Street SE",221827316760,"7638 - 26A Street SE","CHC","Calgary Housing Company","Ogden 1 (Municipal)","Calgary","T2C1E6","Municipality","Community Housing Program"]
["2218273167607639 - 27 Street SE",221827316760,"7639 - 27 Street SE","CHC","Calgary Housing Company","Ogden 1 (Municipal)","Calgary","T2C1E6","Municipality","Community Housing Program"]
["2218273167607643 - 27 Street SE",221827316760,"7643 - 27 Street SE","CHC","Calgary Housing Company","Ogden 1 (Municipal)","Calgary","T2C1E6","Municipality","Community Housing Program"]
["2218273167607627 - 26A Street SE",221827316760,"7627 - 26A Street SE","CHC","Calgary Housing Company","Ogden 1 (Municipal)","Calgary","T2C1E5","Municipality","Community Housing Program"]
["2218273167607631 - 26A Street SE",221827316760,"7631 - 26A Street SE","CHC","Calgary Housing Company","Ogden 1 (Municipal)","Calgary","T2C1E5","Municipality","Community Housing Program"]
["2218273167607635 - 26A Street SE",221827316760,"7635 - 26A Street SE","CHC","Calgary Housing Company","Ogden 1 (Municipal)","Calgary","T2C1E5","Municipality","Community Housing Program"]
["2218273167607639 - 26A Street SE",221827316760,"7639 - 26A Street SE","CHC","Calgary Housing Company","Ogden 1 (Municipal)","Calgary","T2C1E5","Municipality","Community Housing Program"]
["2218273167607643 - 26A Street SE",221827316760,"7643 - 26A Street SE","CHC","Calgary Housing Company","Ogden 1 (Municipal)","Calgary","T2C1E5","Municipality","Community Housing Program"]
["2218273160557634 - 23 Street SE",221827316055,"7634 - 23 Street SE","CHC","Calgary Housing Company","Ogden 4","Calgary","T2C0Y1","Alberta Social Housing Corporation","Community Housing Program"]
["2218273160557630 - 23 Street SE",221827316055,"7630 - 23 Street SE","CHC","Calgary Housing Company","Ogden 4","Calgary","T2C0Y1","Alberta Social Housing Corporation","Community Housing Program"]
["2218273161297001 - 24 Street SE",221827316129,"7001 - 24 Street SE","CHC","Calgary Housing Company","Ogden 5","Calgary","T2C0Y3","Alberta Social Housing Corporation","Community Housing Program"]
["2218273161297005 - 24 Street SE",221827316129,"7005 - 24 Street SE","CHC","Calgary Housing Company","Ogden 5","Calgary","T2C0Y3","Alberta Social Housing Corporation","Community Housing Program"]
["2218273160367801 - 24 Street SE",221827316036,"7801 - 24 Street SE","CHC","Calgary Housing Company","Ogden 6","Calgary","T2C0Z2","Alberta Social Housing Corporation","Community Housing Program"]
[{"$f":"CONCATENATE(B771,C771)","v":"2218273160367805 - 24 Street SE"},221827316036,"7805 - 24 Street SE","CHC","Calgary Housing Company","Ogden 6","Calgary","T2C0Z2","Alberta Social Housing Corporation","Community Housing Program"]
["2218273160367809 - 24 Street SE",221827316036,"7809 - 24 Street SE","CHC","Calgary Housing Company","Ogden 6","Calgary","T2C0Z2","Alberta Social Housing Corporation","Community Housing Program"]
["2218273160367813 - 24 Street SE",221827316036,"7813 - 24 Street SE","CHC","Calgary Housing Company","Ogden 6","Calgary","T2C0Z2","Alberta Social Housing Corporation","Community Housing Program"]
["2218273160367817 - 24 Street SE",221827316036,"7817 - 24 Street SE","CHC","Calgary Housing Company","Ogden 6","Calgary","T2C0Z2","Alberta Social Housing Corporation","Community Housing Program"]
["2218273160367821 - 24 Street SE",221827316036,"7821 - 24 Street SE","CHC","Calgary Housing Company","Ogden 6","Calgary","T2C0Z2","Alberta Social Housing Corporation","Community Housing Program"]
["22182731606182 Deer Ridge Way SE",221827316061,"82 Deer Ridge Way SE","CHC","Calgary Housing Company","Parkland 1","Calgary","T2J5Y6","Alberta Social Housing Corporation","Community Housing Program"]
["22182731606186 Deer Ridge Way SE",221827316061,"86 Deer Ridge Way SE","CHC","Calgary Housing Company","Parkland 1","Calgary","T2J5Y6","Alberta Social Housing Corporation","Community Housing Program"]
["22182731606146 Deer Ridge Way SE",221827316061,"46 Deer Ridge Way SE","CHC","Calgary Housing Company","Parkland 1","Calgary","T2J5Y6","Alberta Social Housing Corporation","Community Housing Program"]
["22182731606154 Deer Ridge Way SE",221827316061,"54 Deer Ridge Way SE","CHC","Calgary Housing Company","Parkland 1","Calgary","T2J5Y6","Alberta Social Housing Corporation","Community Housing Program"]
["22182731607939 Deerpoint Road SE",221827316079,"39 Deerpoint Road SE","CHC","Calgary Housing Company","Parkland 2","Calgary","T2J6R3","Alberta Social Housing Corporation","Community Housing Program"]
["22182731607931 Deerpoint Road SE",221827316079,"31 Deerpoint Road SE","CHC","Calgary Housing Company","Parkland 2","Calgary","T2J6R3","Alberta Social Housing Corporation","Community Housing Program"]
["22182731607923 Deerpoint Road SE",221827316079,"23 Deerpoint Road SE","CHC","Calgary Housing Company","Parkland 2","Calgary","T2J6R3","Alberta Social Housing Corporation","Community Housing Program"]
["22182731607915 Deerpoint Road SE",221827316079,"15 Deerpoint Road SE","CHC","Calgary Housing Company","Parkland 2","Calgary","T2J6R3","Alberta Social Housing Corporation","Community Housing Program"]
["22182731607911 Deerpoint Road SE",221827316079,"11 Deerpoint Road SE","CHC","Calgary Housing Company","Parkland 2","Calgary","T2J6R3","Alberta Social Housing Corporation","Community Housing Program"]
["2218273166611733 - 28 Avenue SW",221827316661,"1733 - 28 Avenue SW","CHC","Calgary Housing Company","Parkside (FCLS) (South Calgary)","Calgary","T2T1J7","Alberta Social Housing Corporation","Community Housing Program"]
["2218273167611220 - 52 Street SE",221827316761,"1220 - 52 Street SE","CHC","Calgary Housing Company","Penbrooke 1 (Municipal)","Calgary","T2C1E6","Municipality","Community Housing Program"]
["22182731600320 Penworth Close SE",221827316003,"20 Penworth Close SE","CHC","Calgary Housing Company","Penbrooke 2","Calgary","T2A5R6","Alberta Social Housing Corporation","Community Housing Program"]
["221827316003281  Pensville Close SE",221827316003,"281  Pensville Close SE","CHC","Calgary Housing Company","Penbrooke 2","Calgary","T2A5P2","Alberta Social Housing Corporation","Community Housing Program"]
["221827316003247  Pensville Close SE",221827316003,"247  Pensville Close SE","CHC","Calgary Housing Company","Penbrooke 2","Calgary","T2A5P2","Alberta Social Housing Corporation","Community Housing Program"]
["22182731600372  Penworth Close SE",221827316003,"72  Penworth Close SE","CHC","Calgary Housing Company","Penbrooke 2","Calgary","T2A5R6","Alberta Social Housing Corporation","Community Housing Program"]
["221827316722119 Pinehill Place NE",221827316722,"119 Pinehill Place NE","CHC","Calgary Housing Company","Pinehill Gardens","Calgary","T1Y2L8","Alberta Social Housing Corporation","Community Housing Program"]
["221827316722107 Pinehill Place NE",221827316722,"107 Pinehill Place NE","CHC","Calgary Housing Company","Pinehill Gardens","Calgary","T1Y2L8","Alberta Social Housing Corporation","Community Housing Program"]
["221827316722112 Pinehill Place NE",221827316722,"112 Pinehill Place NE","CHC","Calgary Housing Company","Pinehill Gardens","Calgary","T1Y2L8","Alberta Social Housing Corporation","Community Housing Program"]
["221827316007102, 5920 - 22 Avenue NE",221827316007,"102, 5920 - 22 Avenue NE","CHC","Calgary Housing Company","Pineridge 1 (FCLS)","Calgary","T1Y4P4","Alberta Social Housing Corporation","Community Housing Program"]
["221827316007202, 5920 - 22 Avenue NE",221827316007,"202, 5920 - 22 Avenue NE","CHC","Calgary Housing Company","Pineridge 1 (FCLS)","Calgary","T1Y4P4","Alberta Social Housing Corporation","Community Housing Program"]
["221827316007302, 5920 - 22 Avenue NE",221827316007,"302, 5920 - 22 Avenue NE","CHC","Calgary Housing Company","Pineridge 1 (FCLS)","Calgary","T1Y4P4","Alberta Social Housing Corporation","Community Housing Program"]
["221827316007502, 5920 - 22 Avenue NE",221827316007,"502, 5920 - 22 Avenue NE","CHC","Calgary Housing Company","Pineridge 1 (FCLS)","Calgary","T1Y4P4","Alberta Social Housing Corporation","Community Housing Program"]
["221827316007602, 5920 - 22 Avenue NE",221827316007,"602, 5920 - 22 Avenue NE","CHC","Calgary Housing Company","Pineridge 1 (FCLS)","Calgary","T1Y4P4","Alberta Social Housing Corporation","Community Housing Program"]
["221827316007702, 5920 - 22 Avenue NE",221827316007,"702, 5920 - 22 Avenue NE","CHC","Calgary Housing Company","Pineridge 1 (FCLS)","Calgary","T1Y4P4","Alberta Social Housing Corporation","Community Housing Program"]
["2218273160071001, 5919 - 24 Avenue NE",221827316007,"1001, 5919 - 24 Avenue NE","CHC","Calgary Housing Company","Pineridge 1 (FCLS)","Calgary","T1Y4P4","Alberta Social Housing Corporation","Community Housing Program"]
["2218273160071101, 5919 - 24 Avenue NE",221827316007,"1101, 5919 - 24 Avenue NE","CHC","Calgary Housing Company","Pineridge 1 (FCLS)","Calgary","T1Y4P4","Alberta Social Housing Corporation","Community Housing Program"]
["2218273160071201, 5919 - 24 Avenue NE",221827316007,"1201, 5919 - 24 Avenue NE","CHC","Calgary Housing Company","Pineridge 1 (FCLS)","Calgary","T1Y4P4","Alberta Social Housing Corporation","Community Housing Program"]
["2218273160071401, 5919 - 24 Avenue NE",221827316007,"1401, 5919 - 24 Avenue NE","CHC","Calgary Housing Company","Pineridge 1 (FCLS)","Calgary","T1Y4P4","Alberta Social Housing Corporation","Community Housing Program"]
["2218273160071501, 5919 - 24 Avenue NE",221827316007,"1501, 5919 - 24 Avenue NE","CHC","Calgary Housing Company","Pineridge 1 (FCLS)","Calgary","T1Y4P4","Alberta Social Housing Corporation","Community Housing Program"]
["2218273160071601, 5919 - 24 Avenue NE",221827316007,"1601, 5919 - 24 Avenue NE","CHC","Calgary Housing Company","Pineridge 1 (FCLS)","Calgary","T1Y4P4","Alberta Social Housing Corporation","Community Housing Program"]
["2218273160071701, 5919 - 24 Avenue NE",221827316007,"1701, 5919 - 24 Avenue NE","CHC","Calgary Housing Company","Pineridge 1 (FCLS)","Calgary","T1Y4P4","Alberta Social Housing Corporation","Community Housing Program"]
["221827316623802, 5919 - 24 Avenue NE",221827316623,"802, 5919 - 24 Avenue NE","CHC","Calgary Housing Company","Pineridge 2 (FCLS)","Calgary","T1Y4P3","Alberta Social Housing Corporation","Community Housing Program"]
["221827316623902, 5919 - 24 Avenue NE",221827316623,"902, 5919 - 24 Avenue NE","CHC","Calgary Housing Company","Pineridge 2 (FCLS)","Calgary","T1Y4P3","Alberta Social Housing Corporation","Community Housing Program"]
["2218273166235919 - 24 Avenue NE",221827316623,"5919 - 24 Avenue NE","CHC","Calgary Housing Company","Pineridge 2 (FCLS)","Calgary","T1Y4P3","Alberta Social Housing Corporation","Community Housing Program"]
["2218273166235920 - 22 Avenue NE",221827316623,"5920 - 22 Avenue NE","CHC","Calgary Housing Company","Pineridge 2 (FCLS)","Calgary","T1Y4P3","Alberta Social Housing Corporation","Community Housing Program"]
["2218273166231801, 5919 - 24 Avenue NE",221827316623,"1801, 5919 - 24 Avenue NE","CHC","Calgary Housing Company","Pineridge 2 (FCLS)","Calgary","T1Y4P3","Alberta Social Housing Corporation","Community Housing Program"]
["2218273166603229 - 56 Street NE",221827316660,"3229 - 56 Street NE","CHC","Calgary Housing Company","Pineridge 3 (FCLS) Chateau W","Calgary","T1Y3T7","Alberta Social Housing Corporation","Community Housing Program"]
["2218273160521, 2804 - 13 Avenue SE",221827316052,"1, 2804 - 13 Avenue SE","CHC","Calgary Housing Company","Radisson Heights 1","Calgary","T2A0J3","Alberta Social Housing Corporation","Community Housing Program"]
["2218273160531, 2513 - 14 Avenue SE",221827316053,"1, 2513 - 14 Avenue SE","CHC","Calgary Housing Company","Radisson Heights 2","Calgary","T2A0J4","Alberta Social Housing Corporation","Community Housing Program"]
["2218273160311, 28 Radcliffe Court SE",221827316031,"1, 28 Radcliffe Court SE","CHC","Calgary Housing Company","Radisson Heights 3","Calgary","T2A6B1","Alberta Social Housing Corporation","Community Housing Program"]
["2218273160321, 236 Radley Place SE",221827316032,"1, 236 Radley Place SE","CHC","Calgary Housing Company","Radisson Heights 4","Calgary","T2A5X6","Alberta Social Housing Corporation","Community Housing Program"]
["221827316040527  Radley Way SE",221827316040,"527  Radley Way SE","CHC","Calgary Housing Company","Radisson Heights 5","Calgary","T2A6X2","Alberta Social Housing Corporation","Community Housing Program"]
["221827316040202  Radley Place SE",221827316040,"202  Radley Place SE","CHC","Calgary Housing Company","Radisson Heights 5","Calgary","T2A5X6","Alberta Social Housing Corporation","Community Housing Program"]
["2218273161281, 36 Radcliffe Court SE",221827316128,"1, 36 Radcliffe Court SE","CHC","Calgary Housing Company","Radisson Heights 6","Calgary","T2A6B1","Alberta Social Housing Corporation","Community Housing Program"]
["2218273161287, 36 Radcliffe Court SE",221827316128,"7, 36 Radcliffe Court SE","CHC","Calgary Housing Company","Radisson Heights 6","Calgary","T2A6B1","Alberta Social Housing Corporation","Community Housing Program"]
["2218273161281, 4 Radcliffe  Court SE",221827316128,"1, 4 Radcliffe  Court SE","CHC","Calgary Housing Company","Radisson Heights 6","Calgary","T2A6B1","Alberta Social Housing Corporation","Community Housing Program"]
["2218273161281, 19 Radcliffe Close SE",221827316128,"1, 19 Radcliffe Close SE","CHC","Calgary Housing Company","Radisson Heights 6","Calgary","T2A6B2","Alberta Social Housing Corporation","Community Housing Program"]
["2218273161281, 47 Radcliffe Close SE",221827316128,"1, 47 Radcliffe Close SE","CHC","Calgary Housing Company","Radisson Heights 6","Calgary","T2A6B2","Alberta Social Housing Corporation","Community Housing Program"]
["2218273161284, 47 Radcliffe Close SE",221827316128,"4, 47 Radcliffe Close SE","CHC","Calgary Housing Company","Radisson Heights 6","Calgary","T2A6B2","Alberta Social Housing Corporation","Community Housing Program"]
["2218273161281, 18 Radcliffe Crescent SE",221827316128,"1, 18 Radcliffe Crescent SE","CHC","Calgary Housing Company","Radisson Heights 6","Calgary","T2A5X2","Alberta Social Housing Corporation","Community Housing Program"]
["2218273161284, 18 Radcliffe Crescent SE",221827316128,"4, 18 Radcliffe Crescent SE","CHC","Calgary Housing Company","Radisson Heights 6","Calgary","T2A5X2","Alberta Social Housing Corporation","Community Housing Program"]
["221827316128520 Radley Way SE",221827316128,"520 Radley Way SE","CHC","Calgary Housing Company","Radisson Heights 6","Calgary","T2A5X8","Alberta Social Housing Corporation","Community Housing Program"]
["2218273161281, 56 Radcliffe Crescent SE",221827316128,"1, 56 Radcliffe Crescent SE","CHC","Calgary Housing Company","Radisson Heights 6","Calgary","T2A6B1","Alberta Social Housing Corporation","Community Housing Program"]
["2218273161284, 56 Radcliffe Crescent SE",221827316128,"4, 56 Radcliffe Crescent SE","CHC","Calgary Housing Company","Radisson Heights 6","Calgary","T2A6B1","Alberta Social Housing Corporation","Community Housing Program"]
["2218273160211040 Maggie Street SE",221827316021,"1040 Maggie Street SE","CHC","Calgary Housing Company","Ramsay 2","Calgary","T2G4L7","Alberta Social Housing Corporation","Community Housing Program"]
["2218273160211041 - 8 Street SE",221827316021,"1041 - 8 Street SE","CHC","Calgary Housing Company","Ramsay 2","Calgary","T2G2Z5","Alberta Social Housing Corporation","Community Housing Program"]
["2218273160211045 - 8 Street SE",221827316021,"1045 - 8 Street SE","CHC","Calgary Housing Company","Ramsay 2","Calgary","T2G2Z5","Alberta Social Housing Corporation","Community Housing Program"]
["2218273160211049 - 8 Street SE",221827316021,"1049 - 8 Street SE","CHC","Calgary Housing Company","Ramsay 2","Calgary","T2G2Z5","Alberta Social Housing Corporation","Community Housing Program"]
["2218273161151031A - 8 Street SE",221827316115,"1031A - 8 Street SE","CHC","Calgary Housing Company","Ramsay 7","Calgary","T2G2Z5","Alberta Social Housing Corporation","Community Housing Program"]
[{"$f":"CONCATENATE(B835,C835)","v":"2218273161311209 Ranchlands Boulevard NW"},221827316131,"1209 Ranchlands Boulevard NW","CHC","Calgary Housing Company","Ranchlands 1","Calgary","T3G1S6","Alberta Social Housing Corporation","Community Housing Program"]
["221827316131163 Ranchglen Drive NW",221827316131,"163 Ranchglen Drive NW","CHC","Calgary Housing Company","Ranchlands 1","Calgary","T3G1S6","Alberta Social Housing Corporation","Community Housing Program"]
["22182731603510 Ranchlands Bay NW",221827316035,"10 Ranchlands Bay NW","CHC","Calgary Housing Company","Ranchlands 2","Calgary","T3G1S4","Alberta Social Housing Corporation","Community Housing Program"]
["22182731603514 Ranchlands Bay NW",221827316035,"14 Ranchlands Bay NW","CHC","Calgary Housing Company","Ranchlands 2","Calgary","T3G1S4","Alberta Social Housing Corporation","Community Housing Program"]
["22182731603522 Ranchlands Bay NW",221827316035,"22 Ranchlands Bay NW","CHC","Calgary Housing Company","Ranchlands 2","Calgary","T3G1S4","Alberta Social Housing Corporation","Community Housing Program"]
["22182731603532 Ranchlands Bay NW",221827316035,"32 Ranchlands Bay NW","CHC","Calgary Housing Company","Ranchlands 2","Calgary","T3G1S4","Alberta Social Housing Corporation","Community Housing Program"]
["2218273160341, 1840  Ranchlands Way NW",221827316034,"1, 1840  Ranchlands Way NW","CHC","Calgary Housing Company","Ranchlands 3","Calgary","T3G1R4","Alberta Social Housing Corporation","Community Housing Program"]
["22182731603410, 1840  Ranchlands Way NW",221827316034,"10, 1840  Ranchlands Way NW","CHC","Calgary Housing Company","Ranchlands 3","Calgary","T3G1R4","Alberta Social Housing Corporation","Community Housing Program"]
["22182731603411, 1840  Ranchlands Way NW",221827316034,"11, 1840  Ranchlands Way NW","CHC","Calgary Housing Company","Ranchlands 3","Calgary","T3G1R4","Alberta Social Housing Corporation","Community Housing Program"]
["2218273160331, 15 Ranchero Green NW",221827316033,"1, 15 Ranchero Green NW","CHC","Calgary Housing Company","Ranchlands 4","Calgary","T3G1C5","Alberta Social Housing Corporation","Community Housing Program"]
["2218273160335, 15 Ranchero Green NW",221827316033,"5, 15 Ranchero Green NW","CHC","Calgary Housing Company","Ranchlands 4","Calgary","T3G1C5","Alberta Social Housing Corporation","Community Housing Program"]
["2218273161341, 7000 Ranchero Road NW",221827316134,"1, 7000 Ranchero Road NW","CHC","Calgary Housing Company","Ranchlands 5","Calgary","T3G1J7","Alberta Social Housing Corporation","Community Housing Program"]
["22182731613410, 7000 Ranchero Road NW",221827316134,"10, 7000 Ranchero Road NW","CHC","Calgary Housing Company","Ranchlands 5","Calgary","T3G1J7","Alberta Social Housing Corporation","Community Housing Program"]
["22182731613414, 7000 Ranchero Road NW",221827316134,"14, 7000 Ranchero Road NW","CHC","Calgary Housing Company","Ranchlands 5","Calgary","T3G1J7","Alberta Social Housing Corporation","Community Housing Program"]
["22182731613419, 7000 Ranchero Road NW",221827316134,"19, 7000 Ranchero Road NW","CHC","Calgary Housing Company","Ranchlands 5","Calgary","T3G1J7","Alberta Social Housing Corporation","Community Housing Program"]
["2218273161341, 6900 Ranchlands Road NW",221827316134,"1, 6900 Ranchlands Road NW","CHC","Calgary Housing Company","Ranchlands 5","Calgary","T3G1J7","Alberta Social Housing Corporation","Community Housing Program"]
["22182731613410, 6900 Ranchlands Road NW",221827316134,"10, 6900 Ranchlands Road NW","CHC","Calgary Housing Company","Ranchlands 5","Calgary","T3G1J7","Alberta Social Housing Corporation","Community Housing Program"]
["22182731613414, 6900 Ranchlands Road NW",221827316134,"14, 6900 Ranchlands Road NW","CHC","Calgary Housing Company","Ranchlands 5","Calgary","T3G1J7","Alberta Social Housing Corporation","Community Housing Program"]
["221827316118402, Ranchlands Grove NW",221827316118,"402, Ranchlands Grove NW","CHC","Calgary Housing Company","Ranchlands 7","Calgary","T3G2L6","Alberta Social Housing Corporation","Community Housing Program"]
["2218273160711, 900 Robert Road NE",221827316071,"1, 900 Robert Road NE","CHC","Calgary Housing Company","Renfrew 2","Calgary","T2E7T4","Alberta Social Housing Corporation","Community Housing Program"]
["221827316043101, 1625 - 42 Street SW",221827316043,"101, 1625 - 42 Street SW","CHC","Calgary Housing Company","Rosscarrock","Calgary","T3C1Z6","Alberta Social Housing Corporation","Community Housing Program"]
["2218273160161, 147 Rundlemere Road NE",221827316016,"1, 147 Rundlemere Road NE","CHC","Calgary Housing Company","Rundle","Calgary","T1Y3K5","Alberta Social Housing Corporation","Community Housing Program"]
["2218273167704225 - 26 Avenue N.E.",221827316770,"4225 - 26 Avenue N.E.","CHC","Calgary Housing Company","Rundle Manor","Calgary","T1Y4P9","Housing Provider","Community Housing Program"]
["2218273160811 Shawnessy Terrace SW",221827316081,"1 Shawnessy Terrace SW","CHC","Calgary Housing Company","Shawnessy 1","Calgary","T2Y1H3","Alberta Social Housing Corporation","Community Housing Program"]
["2218273161682614 - 44 Street SE",221827316168,"2614 - 44 Street SE","CHC","Calgary Housing Company","Social Housing 1","Calgary","T2B1J6","Housing Provider","Community Housing Program"]
["2218273161684607 Fortune Road SE",221827316168,"4607 Fortune Road SE","CHC","Calgary Housing Company","Social Housing 1","Calgary","T2A2A7","Housing Provider","Community Housing Program"]
["221827316168411 Arlington Drive SE",221827316168,"411 Arlington Drive SE","CHC","Calgary Housing Company","Social Housing 1","Calgary","T2H1S4","Housing Provider","Community Housing Program"]
["2218273164798402 Centre Street NE",221827316479,"8402 Centre Street NE","CHC","Calgary Housing Company","Social Housing 3 (FCLS)","Calgary","T3K1Y1","Alberta Social Housing Corporation","Community Housing Program"]
["2218273167698 Thornlee Crescent NW",221827316769,"8 Thornlee Crescent NW","CHC","Calgary Housing Company","Social Housing 5","Calgary","T2K2V9","Housing Provider","Community Housing Program"]
["22182731600810, 2730 - 19 Avenue SE",221827316008,"10, 2730 - 19 Avenue SE","CHC","Calgary Housing Company","Southview 2","Calgary","T2B0A3","Alberta Social Housing Corporation","Community Housing Program"]
["22182731600820, 2730 - 19 Avenue SE",221827316008,"20, 2730 - 19 Avenue SE","CHC","Calgary Housing Company","Southview 2","Calgary","T2B0A3","Alberta Social Housing Corporation","Community Housing Program"]
["22182731600830, 2730 - 19 Avenue SE",221827316008,"30, 2730 - 19 Avenue SE","CHC","Calgary Housing Company","Southview 2","Calgary","T2B0A3","Alberta Social Housing Corporation","Community Housing Program"]
["22182731600840, 2730 - 19 Avenue SE",221827316008,"40, 2730 - 19 Avenue SE","CHC","Calgary Housing Company","Southview 2","Calgary","T2B0A3","Alberta Social Housing Corporation","Community Housing Program"]
["22182731600850, 2730 - 19 Avenue SE",221827316008,"50, 2730 - 19 Avenue SE","CHC","Calgary Housing Company","Southview 2","Calgary","T2B0A3","Alberta Social Housing Corporation","Community Housing Program"]
["22182731600860, 2730 - 19 Avenue SE",221827316008,"60, 2730 - 19 Avenue SE","CHC","Calgary Housing Company","Southview 2","Calgary","T2B0A3","Alberta Social Housing Corporation","Community Housing Program"]
["22182731600870, 2730 - 19 Avenue SE",221827316008,"70, 2730 - 19 Avenue SE","CHC","Calgary Housing Company","Southview 2","Calgary","T2B0A3","Alberta Social Housing Corporation","Community Housing Program"]
["22182731676210 Plum Tree Place SW",221827316762,"10 Plum Tree Place SW","CHC","Calgary Housing Company","Spruce Cliff 2 (Municipal)","Calgary","T3C2X8","Municipality","Community Housing Program"]
["22182731672140 - 38A Avenue SW",221827316721,"40 - 38A Avenue SW","CHC","Calgary Housing Company","Stanley Manor","Calgary","T2S2Z9","Alberta Social Housing Corporation","Community Housing Program"]
["2218273167211-6, 31-38 Avenue SW",221827316721,"1-6, 31-38 Avenue SW","CHC","Calgary Housing Company","Stanley Manor","Calgary","T2S2Z9","Alberta Social Housing Corporation","Community Housing Program"]
["2218273167217-12, 29-38 Avenue SW",221827316721,"7-12, 29-38 Avenue SW","CHC","Calgary Housing Company","Stanley Manor","Calgary","T2S2Z9","Alberta Social Housing Corporation","Community Housing Program"]
["221827316048101, 36 Stradwick Rise SW",221827316048,"101, 36 Stradwick Rise SW","CHC","Calgary Housing Company","Strathcona 1","Calgary","T3H1G5","Alberta Social Housing Corporation","Community Housing Program"]
["22182731606010 Templemont Lane NE",221827316060,"10 Templemont Lane NE","CHC","Calgary Housing Company","Temple 1","Calgary","T1Y5Y4","Alberta Social Housing Corporation","Community Housing Program"]
["221827316530182 Templegreen Drive NE",221827316530,"182 Templegreen Drive NE","CHC","Calgary Housing Company","Temple 2 (FCLS)","Calgary","T1Y4T9","Alberta Social Housing Corporation","Community Housing Program"]
["22182731653030 Templeby Way NE",221827316530,"30 Templeby Way NE","CHC","Calgary Housing Company","Temple 2 (FCLS)","Calgary","T1Y5N8","Alberta Social Housing Corporation","Community Housing Program"]
["22182731653029 Templeton Bay NE",221827316530,"29 Templeton Bay NE","CHC","Calgary Housing Company","Temple 2 (FCLS)","Calgary","T1Y4Y4","Alberta Social Housing Corporation","Community Housing Program"]
["2218273165304829 - 60 Street NE",221827316530,"4829 - 60 Street NE","CHC","Calgary Housing Company","Temple 2 (FCLS)","Calgary","T1Y5B8","Alberta Social Housing Corporation","Community Housing Program"]
["2218273160286301 Centre Street NW",221827316028,"6301 Centre Street NW","CHC","Calgary Housing Company","Thorncliffe","Calgary","T2K0V3","Alberta Social Housing Corporation","Community Housing Program"]
["221827316028106 Tache Avenue NW",221827316028,"106 Tache Avenue NW","CHC","Calgary Housing Company","Thorncliffe","Calgary","T2K0V3","Alberta Social Housing Corporation","Community Housing Program"]
["22182731608611 Ventura Lane NE",221827316086,"11 Ventura Lane NE","CHC","Calgary Housing Company","Vista Heights","Calgary","T2E8H1","Alberta Social Housing Corporation","Community Housing Program"]
["2218273160504303 Whitehorn Drive NE",221827316050,"4303 Whitehorn Drive NE","CHC","Calgary Housing Company","Whitehorn 1","Calgary","T1Y5R3","Alberta Social Housing Corporation","Community Housing Program"]
["2218273160504311 Whitehorn Drive NE",221827316050,"4311 Whitehorn Drive NE","CHC","Calgary Housing Company","Whitehorn 1","Calgary","T1Y5R3","Alberta Social Housing Corporation","Community Housing Program"]
["2218273160504319 Whitehorn Drive NE",221827316050,"4319 Whitehorn Drive NE","CHC","Calgary Housing Company","Whitehorn 1","Calgary","T1Y5R3","Alberta Social Housing Corporation","Community Housing Program"]
["2218273160504327 Whitehorn Drive NE",221827316050,"4327 Whitehorn Drive NE","CHC","Calgary Housing Company","Whitehorn 1","Calgary","T1Y5R3","Alberta Social Housing Corporation","Community Housing Program"]
["2218273160504335 Whitehorn Drive NE",221827316050,"4335 Whitehorn Drive NE","CHC","Calgary Housing Company","Whitehorn 1","Calgary","T1Y5R3","Alberta Social Housing Corporation","Community Housing Program"]
["2218273160504343 Whitehorn Drive NE",221827316050,"4343 Whitehorn Drive NE","CHC","Calgary Housing Company","Whitehorn 1","Calgary","T1Y5R3","Alberta Social Housing Corporation","Community Housing Program"]
["2218273160504351 Whitehorn Drive NE",221827316050,"4351 Whitehorn Drive NE","CHC","Calgary Housing Company","Whitehorn 1","Calgary","T1Y5R3","Alberta Social Housing Corporation","Community Housing Program"]
["2218273160504359 Whitehorn Drive NE",221827316050,"4359 Whitehorn Drive NE","CHC","Calgary Housing Company","Whitehorn 1","Calgary","T1Y5R3","Alberta Social Housing Corporation","Community Housing Program"]
["221827316066357 Whitlock Way NE",221827316066,"357 Whitlock Way NE","CHC","Calgary Housing Company","Whitehorn 2","Calgary","T1Y5C9","Alberta Social Housing Corporation","Community Housing Program"]
["221827316066341 Whitlock Way NE",221827316066,"341 Whitlock Way NE","CHC","Calgary Housing Company","Whitehorn 2","Calgary","T1Y5C9","Alberta Social Housing Corporation","Community Housing Program"]
["221827316066319 Whitlock Way NE",221827316066,"319 Whitlock Way NE","CHC","Calgary Housing Company","Whitehorn 2","Calgary","T1Y5C9","Alberta Social Housing Corporation","Community Housing Program"]
["221827316066313 Whitlock Way NE",221827316066,"313 Whitlock Way NE","CHC","Calgary Housing Company","Whitehorn 2","Calgary","T1Y5C9","Alberta Social Housing Corporation","Community Housing Program"]
["2218273165693902 - 44 Avenue NE",221827316569,"3902 - 44 Avenue NE","CHC","Calgary Housing Company","Whitehorn 4 (FCLS)","Calgary","T1Y5V8","Alberta Social Housing Corporation","Community Housing Program"]
["221827316010101, 9960 Bonaventure Drive SE",221827316010,"101, 9960 Bonaventure Drive SE","CHC","Calgary Housing Company","Willow Park 1","Calgary","T2J5R9","Alberta Social Housing Corporation","Community Housing Program"]
["221827316010105, 9960 Bonaventure Drive SE",221827316010,"105, 9960 Bonaventure Drive SE","CHC","Calgary Housing Company","Willow Park 1","Calgary","T2J5R9","Alberta Social Housing Corporation","Community Housing Program"]
[{"$f":"CONCATENATE(B899,C899)","v":"221827316010107, 9960 Bonaventure Drive SE"},221827316010,"107, 9960 Bonaventure Drive SE","CHC","Calgary Housing Company","Willow Park 1","Calgary","T2J5R9","Alberta Social Housing Corporation","Community Housing Program"]
["221827316010109, 9960 Bonaventure Drive SE",221827316010,"109, 9960 Bonaventure Drive SE","CHC","Calgary Housing Company","Willow Park 1","Calgary","T2J5R9","Alberta Social Housing Corporation","Community Housing Program"]
["221827316010112, 9960 Bonaventure Drive SE",221827316010,"112, 9960 Bonaventure Drive SE","CHC","Calgary Housing Company","Willow Park 1","Calgary","T2J5R9","Alberta Social Housing Corporation","Community Housing Program"]
["221827316010115, 9960 Bonaventure Drive SE",221827316010,"115, 9960 Bonaventure Drive SE","CHC","Calgary Housing Company","Willow Park 1","Calgary","T2J5R9","Alberta Social Housing Corporation","Community Housing Program"]
["221827316010118, 9960 Bonaventure Drive SE",221827316010,"118, 9960 Bonaventure Drive SE","CHC","Calgary Housing Company","Willow Park 1","Calgary","T2J5R9","Alberta Social Housing Corporation","Community Housing Program"]
["221827316068100 Woodmont Court SW",221827316068,"100 Woodmont Court SW","CHC","Calgary Housing Company","Woodbine 1","Calgary","T2W5C3","Alberta Social Housing Corporation","Community Housing Program"]
["22182731608310 Woodview Terrace SW",221827316083,"10 Woodview Terrace SW","CHC","Calgary Housing Company","Woodlands 1","Calgary","T2W5E4","Alberta Social Housing Corporation","Community Housing Program"]
["221827316100209 Woodridge Drive SW",221827316100,"209 Woodridge Drive SW","CHC","Calgary Housing Company","Woodlands 2","Calgary","T2W3X7","Alberta Social Housing Corporation","Community Housing Program"]
["999974709-50 Street",99997,"4709-50 Street","11000","Camrose Womens Shelter Society","Camrose Women's Shelter","Camrose","T4V4C9","Other","None"]
["1617273720256208B - 48A  Avenue",161727372025,"6208B - 48A  Avenue","CME","Canadian Mental Health Association Alberta East Central Region 2000","Camrose Residence","Camrose","T4V0L6","Housing Provider","Specialized Housing"]
["1617273720256208A - 48A Avenue",161727372025,"6208A - 48A Avenue","CME","Canadian Mental Health Association Alberta East Central Region 2000","Camrose Residence","Camrose","T4V0L6","Housing Provider","Specialized Housing"]
["11252735201310641- 103 Street NW",112527352013,"10641- 103 Street NW","CMH","Canadian Mental Health Association-Edmonton Region","Place 103","Edmonton","T5H2V6","Alberta Social Housing Corporation","Specialized Housing"]
["11252735200812020 - 66 Street NW",112527352008,"12020 - 66 Street NW","CMH","Canadian Mental Health Association-Edmonton Region","Santa Rosa I","Edmonton","T5B1J6","Alberta Social Housing Corporation","Specialized Housing"]
["11252735200912021 - 66 Street NW",112527352009,"12021 - 66 Street NW","CMH","Canadian Mental Health Association-Edmonton Region","Santa Rosa II","Edmonton","T5B1J7","Alberta Social Housing Corporation","Specialized Housing"]
["1619272260195110 - 52 Street",161927226019,"5110 - 52 Street","CAS","Castor and District Housing Authority","Castor - R&N 1","Castor","T0C0X0","Alberta Social Housing Corporation","Community Housing Program"]
["1619272260195101 - 50 Street",161927226019,"5101 - 50 Street","CAS","Castor and District Housing Authority","Castor - R&N 1","Castor","T0C0X0","Alberta Social Housing Corporation","Community Housing Program"]
["1619275521154508 - 50 Avenue",161927552115,"4508 - 50 Avenue","CAS","Castor and District Housing Authority","Castor Legion Manor 1","Castor","T0C0X0","Alberta Social Housing Corporation","Seniors Self Contained Program"]
["1619275522754914 - 49 Avenue",161927552275,"4914 - 49 Avenue","CAS","Castor and District Housing Authority","Castor Legion Manor 2","Castor","T0C0X0","Alberta Social Housing Corporation","Seniors Self Contained Program"]
["1619275561894910 - 49 Avenue",161927556189,"4910 - 49 Avenue","CAS","Castor and District Housing Authority","Castor Legion Manor 3","Castor","T0C0X0","Alberta Social Housing Corporation","Seniors Self Contained Program"]
["1619275120904501 - 55 Avenue",161927512090,"4501 - 55 Avenue","CAS","Castor and District Housing Authority","Paintearth Lodge","Castor","T0C0X0","Housing Provider","Seniors Lodge Program"]
["995301 - 47 Avenue",99,"5301 - 47 Avenue","12000","Central Alberta Womens Emergency Shelter Society","Central Alberta Womens Emergency Shelter","Red Deer","T4N3R1","Other","None"]
["1125275502239550 - 102 Avenue NW",112527550223,"9550 - 102 Avenue NW","CBA","Chinese Seniors Management Services Ltd","Chinese Elders Mansion I","Edmonton","T5H4A8","Alberta Social Housing Corporation","Seniors Self Contained Program"]
["1125275523359530 - 102 Avenue NW",112527552335,"9530 - 102 Avenue NW","CBA","Chinese Seniors Management Services Ltd","Chinese Elders Mansion II","Edmonton","T5H4K4","Alberta Social Housing Corporation","Seniors Self Contained Program"]
["1125275121179525 102A  Avenue NW",112527512117,"9525 102A  Avenue NW","CBA","Chinese Seniors Management Services Ltd","Chinese Seniors Lodge","Edmonton","T5H0G2","Housing Provider","Seniors Lodge Program"]
["225827516064451 - 3 Street W",225827516064,"451 - 3 Street W","CKF","Chinook Foundation","Chinook Lodge","Cardston","T0K0K0","Alberta Social Housing Corporation","Seniors Lodge Program"]
["261227516072162 S Centre St",261227516072,"162 S Centre St","CKF","Chinook Foundation","Diamond Willow Lodge","Magrath","T0K 1J0","Alberta Social Housing Corporation","Seniors Lodge Program"]
["225827556053364 - 5 Avenue West",225827556053,"364 - 5 Avenue West","CKF","Chinook Foundation","Temple City Villa 1","Cardston","T0K0K0","Alberta Social Housing Corporation","Seniors Self Contained Program"]
["225827556167364 - 5 Avenue West",225827556167,"364 - 5 Avenue West","CKF","Chinook Foundation","Temple City Villa 2","Cardston","T0K0K0","Alberta Social Housing Corporation","Seniors Self Contained Program"]
["11252746200113426 - 57 Street NW",112527462001,"13426 - 57 Street NW","CSC","Christian Senior Citizens' Homes Society of Northern Alberta","Emmanuel Home","Edmonton","T5A2G1","Housing Provider","Seniors Lodge Program"]
["11252738200913425 - 57 Street NW",112527382009,"13425 - 57 Street NW","CSC","Christian Senior Citizens' Homes Society of Northern Alberta","Emmanuel Home Addition","Edmonton","T5A2G1","Housing Provider","Specialized Housing"]
["17",17,null,"CSC","Christian Senior Citizens' Homes Society of Northern Alberta","Emmanuel Home Care Facility","Edmonton",null,"Other","None"]
["8888888800377212 - 81 Avenue",888888880037,"7212 - 81 Avenue","HOM","City of Edmonton Non-Profit Housing Corporation - Homeed","Anderson Avenue West Apts","Edmonton","T6B0E2","Housing Provider","None"]
["888888880033184 & 185 Street and 97 & 97A Avenue",888888880033,"184 & 185 Street and 97 & 97A Avenue","HOM","City of Edmonton Non-Profit Housing Corporation - Homeed","Barkley Square","Edmonton","T5T3L6","Housing Provider","None"]
["30000000102710640 123 Street",300000001027,"10640 123 Street","HOM","City of Edmonton Non-Profit Housing Corporation - Homeed","Berkley Arms","Edmonton","T5N 1P2","Housing Provider","None"]
["30000000102610021 62 Ave",300000001026,"10021 62 Ave","HOM","City of Edmonton Non-Profit Housing Corporation - Homeed","Brightstar","Edmonton","T6M 0M8","Housing Provider","None"]
["88888888003514305 - 121 Street",888888880035,"14305 - 121 Street","HOM","City of Edmonton Non-Profit Housing Corporation - Homeed","Castle Brae Place Townhouses","Edmonton","T5X3P8","Housing Provider","None"]
["1125274220049903 - 169 Avenue NW",112527422004,"9903 - 169 Avenue NW","HOM","City of Edmonton Non-Profit Housing Corporation - Homeed","Castle Close","Edmonton","T5X5A7","Municipality","None"]
["11252742200310515 - 92 Street NW",112527422003,"10515 - 92 Street NW","HOM","City of Edmonton Non-Profit Housing Corporation - Homeed","Clarke St. Apartments","Edmonton","T5H1T8","Municipality","None"]
["8888888800319238 Street & 110A Avenue",888888880031,"9238 Street & 110A Avenue","HOM","City of Edmonton Non-Profit Housing Corporation - Homeed","Edminston Street Apartments","Edmonton","T5H1J4","Housing Provider","None"]
["30000000102913014 – 112 Street",300000001029,"13014 – 112 Street","HOM","City of Edmonton Non-Profit Housing Corporation - Homeed","Elm Park","Edmonton",null,"Housing Provider","None"]
["3000000010302547 151 Ave",300000001030,"2547 151 Ave","HOM","City of Edmonton Non-Profit Housing Corporation - Homeed","Fraser","Edmonton","T5Y 0M2","Housing Provider","None"]
["30000000102811224 124 Street",300000001028,"11224 124 Street","HOM","City of Edmonton Non-Profit Housing Corporation - Homeed","Ivy Manor","Edmonton","T5M 0J9","Housing Provider","None"]
["11252742200574 Street and Lakewood Road N NW",112527422005,"74 Street and Lakewood Road N NW","HOM","City of Edmonton Non-Profit Housing Corporation - Homeed","Kameyosek Place","Edmonton","T6K2B1","Municipality","None"]
["30000000102511025 124 Street",300000001025,"11025 124 Street","HOM","City of Edmonton Non-Profit Housing Corporation - Homeed","Lexington","Edmonton","T5M 0J5","Housing Provider","None"]
["888888880034345 Hooper Crescent NW",888888880034,"345 Hooper Crescent NW","HOM","City of Edmonton Non-Profit Housing Corporation - Homeed","Mission Glen Townhouses","Edmonton","T5A4L9","Housing Provider","None"]
["11252742200669 Avenue & 170 Street NW",112527422006,"69 Avenue & 170 Street NW","HOM","City of Edmonton Non-Profit Housing Corporation - Homeed","N. Callingwood Place","Edmonton","T5T4W5","Municipality","None"]
["88888888003696 Avenue & 182 Street",888888880036,"96 Avenue & 182 Street","HOM","City of Edmonton Non-Profit Housing Corporation - Homeed","Primrose Place Townhouses","Edmonton","T5T3N5","Housing Provider","None"]
["11252742200210128 - 88 Street NW",112527422002,"10128 - 88 Street NW","HOM","City of Edmonton Non-Profit Housing Corporation - Homeed","Riverdale Place","Edmonton","T5H1P1","Municipality","None"]
["1125274220029008 - 101 Avenue NW",112527422002,"9008 - 101 Avenue NW","HOM","City of Edmonton Non-Profit Housing Corporation - Homeed","Riverdale Place","Edmonton","T5H4C9","Municipality","None"]
["11252742200210120 - 92 Street NW",112527422002,"10120 - 92 Street NW","HOM","City of Edmonton Non-Profit Housing Corporation - Homeed","Riverdale Place","Edmonton","T5H1S7","Municipality","None"]
["88888888003210730 - 106 Avenue",888888880032,"10730 - 106 Avenue","HOM","City of Edmonton Non-Profit Housing Corporation - Homeed","Vermillion Place Apartments","Edmonton","T5H0R1","Housing Provider","None"]
["11252736200211720 - 96 Street NW",112527362002,"11720 - 96 Street NW","HOM","City of Edmonton Non-Profit Housing Corporation - Homeed","Yorkstreet","Edmonton","T5G1V2","Municipality","Specialized Housing"]
["112527312847Abbottsfield Road N.W. (Units 408 - 425)",112527312847,"Abbottsfield Road N.W. (Units 408 - 425)","CRH","Civida","Abbottsfield 1 Municipal","Edmonton","T5W4S4","Municipality","Community Housing Program"]
["112527312847Abbottsfield Road N.W.",112527312847,"Abbottsfield Road N.W.","CRH","Civida","Abbottsfield 1 Municipal","Edmonton","T5W4S4","Municipality","Community Housing Program"]
["112527312847Abbottsfield Road N.W.",112527312847,"Abbottsfield Road N.W.","CRH","Civida","Abbottsfield 1 Municipal","Edmonton","T5W4S4","Municipality","Community Housing Program"]
["112527312847Abbottsfield Road N.W.",112527312847,"Abbottsfield Road N.W.","CRH","Civida","Abbottsfield 1 Municipal","Edmonton","T5W4S4","Municipality","Community Housing Program"]
["112527312847Abbottsfield Road N.W.",112527312847,"Abbottsfield Road N.W.","CRH","Civida","Abbottsfield 1 Municipal","Edmonton","T5W4S4","Municipality","Community Housing Program"]
["112527312847Abbottsfield Road N.W.",112527312847,"Abbottsfield Road N.W.","CRH","Civida","Abbottsfield 1 Municipal","Edmonton","T5W4S4","Municipality","Community Housing Program"]
["112527312847Abbottsfield Road N.W.",112527312847,"Abbottsfield Road N.W.","CRH","Civida","Abbottsfield 1 Municipal","Edmonton","T5W4S4","Municipality","Community Housing Program"]
["112527312847Abbottsfield Road N.W.",112527312847,"Abbottsfield Road N.W.","CRH","Civida","Abbottsfield 1 Municipal","Edmonton","T5W4S4","Municipality","Community Housing Program"]
["112527312847Abbottsfield Road. N.W.",112527312847,"Abbottsfield Road. N.W.","CRH","Civida","Abbottsfield 1 Municipal","Edmonton","T5W4S4","Municipality","Community Housing Program"]
["112527312847Abbottsfield Road N.W.",112527312847,"Abbottsfield Road N.W.","CRH","Civida","Abbottsfield 1 Municipal","Edmonton","T5W4S4","Municipality","Community Housing Program"]
["112527312847Abbottsfield Road N.W.",112527312847,"Abbottsfield Road N.W.","CRH","Civida","Abbottsfield 1 Municipal","Edmonton","T5W4S4","Municipality","Community Housing Program"]
["112527312847Abbottsfield Road N.W.",112527312847,"Abbottsfield Road N.W.","CRH","Civida","Abbottsfield 1 Municipal","Edmonton","T5W4S4","Municipality","Community Housing Program"]
[{"$f":"CONCATENATE(B963,C963)","v":"112527312847Abbottsfield Road N.W."},112527312847,"Abbottsfield Road N.W.","CRH","Civida","Abbottsfield 1 Municipal","Edmonton","T5W4S4","Municipality","Community Housing Program"]
["112527312847Abbottsfield Road N.W.",112527312847,"Abbottsfield Road N.W.","CRH","Civida","Abbottsfield 1 Municipal","Edmonton","T5W4S4","Municipality","Community Housing Program"]
["112527312847Abbottsfield Road N.W.",112527312847,"Abbottsfield Road N.W.","CRH","Civida","Abbottsfield 1 Municipal","Edmonton","T5W4S4","Municipality","Community Housing Program"]
["1125276920039335 - 105 Avenue NW",112527692003,"9335 - 105 Avenue NW","CRH","Civida","Ashton Apartments","Edmonton","T5H4E4","Alberta Social Housing Corporation","Community Housing Program"]
["1125273128656615 - 131A Avenue NW",112527312865,"6615 - 131A Avenue NW","CRH","Civida","Balwin","Edmonton","T5C1Z5","Alberta Social Housing Corporation","Community Housing Program"]
["1125273128656616 - 131A Avenue",112527312865,"6616 - 131A Avenue","CRH","Civida","Balwin","Edmonton","T5C1Z5","Alberta Social Housing Corporation","Community Housing Program"]
["1125273128656628 - 131A Avenue",112527312865,"6628 - 131A Avenue","CRH","Civida","Balwin","Edmonton","T5C1Z5","Alberta Social Housing Corporation","Community Housing Program"]
["11252731284811810 - 38 Street NW",112527312848,"11810 - 38 Street NW","CRH","Civida","Beacon Heights Municipal","Edmonton","T5W2H4","Municipality","Community Housing Program"]
["11252731220410007 - 158 Avenue NW",112527312204,"10007 - 158 Avenue NW","CRH","Civida","Beaumaris II","Edmonton","T5X5L4","Alberta Social Housing Corporation","Community Housing Program"]
["11252731220410023 - 158 Avenue",112527312204,"10023 - 158 Avenue","CRH","Civida","Beaumaris II","Edmonton","T5X5L4","Alberta Social Housing Corporation","Community Housing Program"]
["11252731220415722 - 100 Street",112527312204,"15722 - 100 Street","CRH","Civida","Beaumaris II","Edmonton","T5X5L4","Alberta Social Housing Corporation","Community Housing Program"]
["11252731220415706 - 100 Street",112527312204,"15706 - 100 Street","CRH","Civida","Beaumaris II","Edmonton","T5X5L4","Alberta Social Housing Corporation","Community Housing Program"]
["11252731220415730 - 100 Street",112527312204,"15730 - 100 Street","CRH","Civida","Beaumaris II","Edmonton","T5X5L4","Alberta Social Housing Corporation","Community Housing Program"]
["11252731207018204, 18206, 18208, 18210  - 87 Ave NW",112527312070,"18204, 18206, 18208, 18210  - 87 Ave NW","CRH","Civida","Belmead I","Edmonton","T5T3T8","Alberta Social Housing Corporation","Community Housing Program"]
["11252731207018212, 18214, 18216, 18218 - 87 Avenue",112527312070,"18212, 18214, 18216, 18218 - 87 Avenue","CRH","Civida","Belmead I","Edmonton","T5T3T8","Alberta Social Housing Corporation","Community Housing Program"]
["11252731207087 Avenue",112527312070,"87 Avenue","CRH","Civida","Belmead I","Edmonton","T5T3T8","Alberta Social Housing Corporation","Community Housing Program"]
["11252731207018232, 18234, 18236, 18238 - 87 Avenue",112527312070,"18232, 18234, 18236, 18238 - 87 Avenue","CRH","Civida","Belmead I","Edmonton","T5T3T8","Alberta Social Housing Corporation","Community Housing Program"]
["11252731201989 Ave",112527312019,"89 Ave","CRH","Civida","Belmead II","Edmonton","T5T1M7","Alberta Social Housing Corporation","Community Housing Program"]
["11252731201989 Avenue",112527312019,"89 Avenue","CRH","Civida","Belmead II","Edmonton","T5T1M7","Alberta Social Housing Corporation","Community Housing Program"]
["11252731201918044, 18046, 18048, 18050 - 89 Avenue",112527312019,"18044, 18046, 18048, 18050 - 89 Avenue","CRH","Civida","Belmead II","Edmonton","T5T1M7","Alberta Social Housing Corporation","Community Housing Program"]
["11252731201989 Avenue",112527312019,"89 Avenue","CRH","Civida","Belmead II","Edmonton","T5T1M7","Alberta Social Housing Corporation","Community Housing Program"]
["11252731201918062, 18065, 18066, 18068 - 89 Avenue",112527312019,"18062, 18065, 18066, 18068 - 89 Avenue","CRH","Civida","Belmead II","Edmonton","T5T1M7","Alberta Social Housing Corporation","Community Housing Program"]
["11252731201918070, 18072, 18074, 18076 - 89 Avenue",112527312019,"18070, 18072, 18074, 18076 - 89 Avenue","CRH","Civida","Belmead II","Edmonton","T5T1M7","Alberta Social Housing Corporation","Community Housing Program"]
["11252731202593 Avenue",112527312025,"93 Avenue","CRH","Civida","Belmead III","Edmonton","T5T1Y1","Alberta Social Housing Corporation","Community Housing Program"]
["11252731202593 Avenue",112527312025,"93 Avenue","CRH","Civida","Belmead III","Edmonton","T5T1Y1","Alberta Social Housing Corporation","Community Housing Program"]
["11252731202593 Avenue (Units 18180, 18080A, 18082,",112527312025,"93 Avenue (Units 18180, 18080A, 18082,","CRH","Civida","Belmead III","Edmonton","T5T1Y1","Alberta Social Housing Corporation","Community Housing Program"]
["11252731202518188A, 90, 90A, 92, 92A, 94 - 93 Avenue",112527312025,"18188A, 90, 90A, 92, 92A, 94 - 93 Avenue","CRH","Civida","Belmead III","Edmonton","T5T1Y1","Alberta Social Housing Corporation","Community Housing Program"]
["11252731202518196, 96A, 98, 98A - 93 Avenue",112527312025,"18196, 96A, 98, 98A - 93 Avenue","CRH","Civida","Belmead III","Edmonton","T5T1Y1","Alberta Social Housing Corporation","Community Housing Program"]
["1125273120259311, 9313, 9315, 9317 - 182 Street",112527312025,"9311, 9313, 9315, 9317 - 182 Street","CRH","Civida","Belmead III","Edmonton","T5T1Y1","Alberta Social Housing Corporation","Community Housing Program"]
["112527312025182 Street (Units 9411, 9413, 9415,",112527312025,"182 Street (Units 9411, 9413, 9415,","CRH","Civida","Belmead III","Edmonton","T5T1Y1","Alberta Social Housing Corporation","Community Housing Program"]
["11252731202518188 - 93 Avenue",112527312025,"18188 - 93 Avenue","CRH","Civida","Belmead III","Edmonton","T5T1Y1","Alberta Social Housing Corporation","Community Housing Program"]
["11252731200113604 - 38 Street",112527312001,"13604 - 38 Street","CRH","Civida","Belmont I","Edmonton","T5A3T5","Alberta Social Housing Corporation","Community Housing Program"]
["11252731200113614 - 38 Street",112527312001,"13614 - 38 Street","CRH","Civida","Belmont I","Edmonton","T5A3T5","Alberta Social Housing Corporation","Community Housing Program"]
["11252731200113626 - 38 Street",112527312001,"13626 - 38 Street","CRH","Civida","Belmont I","Edmonton","T5A3T5","Alberta Social Housing Corporation","Community Housing Program"]
["11252731200113634 - 38 Street",112527312001,"13634 - 38 Street","CRH","Civida","Belmont I","Edmonton","T5A3T5","Alberta Social Housing Corporation","Community Housing Program"]
["11252731200113640 - 38 Street",112527312001,"13640 - 38 Street","CRH","Civida","Belmont I","Edmonton","T5A3T5","Alberta Social Housing Corporation","Community Housing Program"]
["11252731200113642 - 38 Street",112527312001,"13642 - 38 Street","CRH","Civida","Belmont I","Edmonton","T5A3T5","Alberta Social Housing Corporation","Community Housing Program"]
["11252731200113603 - 38 Street",112527312001,"13603 - 38 Street","CRH","Civida","Belmont I","Edmonton","T5A3T5","Alberta Social Housing Corporation","Community Housing Program"]
["11252731200113625 - 38 Street",112527312001,"13625 - 38 Street","CRH","Civida","Belmont I","Edmonton","T5A3T5","Alberta Social Housing Corporation","Community Housing Program"]
["11252731200113639 - 38 Street",112527312001,"13639 - 38 Street","CRH","Civida","Belmont I","Edmonton","T5A3T5","Alberta Social Housing Corporation","Community Housing Program"]
["11252731200113637 - 40 Street",112527312001,"13637 - 40 Street","CRH","Civida","Belmont I","Edmonton","T5A3T5","Alberta Social Housing Corporation","Community Housing Program"]
["1125273120023903 - 134 Avenue NW",112527312002,"3903 - 134 Avenue NW","CRH","Civida","Belmont II","Edmonton","T5A3L7","Alberta Social Housing Corporation","Community Housing Program"]
["1125273120023915 - 134 Avenue",112527312002,"3915 - 134 Avenue","CRH","Civida","Belmont II","Edmonton","T5A3L7","Alberta Social Housing Corporation","Community Housing Program"]
["1125273120023933 - 134 Avenue",112527312002,"3933 - 134 Avenue","CRH","Civida","Belmont II","Edmonton","T5A3L7","Alberta Social Housing Corporation","Community Housing Program"]
["1125273120023937 - 134 Avenue",112527312002,"3937 - 134 Avenue","CRH","Civida","Belmont II","Edmonton","T5A3L7","Alberta Social Housing Corporation","Community Housing Program"]
["1125273120023943 - 134 Avenue",112527312002,"3943 - 134 Avenue","CRH","Civida","Belmont II","Edmonton","T5A3L7","Alberta Social Housing Corporation","Community Housing Program"]
["1125273120023959 - 134 Avenue",112527312002,"3959 - 134 Avenue","CRH","Civida","Belmont II","Edmonton","T5A3L7","Alberta Social Housing Corporation","Community Housing Program"]
["1125273120033303 - 132A Avenue NW",112527312003,"3303 - 132A Avenue NW","CRH","Civida","Belmont III","Edmonton","T5A3K4","Alberta Social Housing Corporation","Community Housing Program"]
["1125273120033311 132A Avenue",112527312003,"3311 132A Avenue","CRH","Civida","Belmont III","Edmonton","T5A3K4","Alberta Social Housing Corporation","Community Housing Program"]
["1125273120033315 132A Avenue",112527312003,"3315 132A Avenue","CRH","Civida","Belmont III","Edmonton","T5A3K4","Alberta Social Housing Corporation","Community Housing Program"]
["11252731200313203 33 Street",112527312003,"13203 33 Street","CRH","Civida","Belmont III","Edmonton","T5A3K4","Alberta Social Housing Corporation","Community Housing Program"]
["1125273120043114 - 132A Avenue",112527312004,"3114 - 132A Avenue","CRH","Civida","Belmont IV","Edmonton","T5A3T1","Alberta Social Housing Corporation","Community Housing Program"]
["1125273120043120 - 132A Avenue",112527312004,"3120 - 132A Avenue","CRH","Civida","Belmont IV","Edmonton","T5A3T1","Alberta Social Housing Corporation","Community Housing Program"]
["1125273120043124 - 132A Avenue",112527312004,"3124 - 132A Avenue","CRH","Civida","Belmont IV","Edmonton","T5A3T1","Alberta Social Housing Corporation","Community Housing Program"]
["11252731200413218 - 31 Street",112527312004,"13218 - 31 Street","CRH","Civida","Belmont IV","Edmonton","T5A3T1","Alberta Social Housing Corporation","Community Housing Program"]
["1125273120043104 - 132A Avenue NW",112527312004,"3104 - 132A Avenue NW","CRH","Civida","Belmont IV","Edmonton","T5A3T1","Alberta Social Housing Corporation","Community Housing Program"]
["1125273128665708 - 5716 135 Avenue NW",112527312866,"5708 - 5716 135 Avenue NW","CRH","Civida","Belvedere I","Edmonton","T5A2H2","Alberta Social Housing Corporation","Community Housing Program"]
["1125273128665718 - 5722  135 Avenue NW",112527312866,"5718 - 5722  135 Avenue NW","CRH","Civida","Belvedere I","Edmonton","T5A2H2","Alberta Social Housing Corporation","Community Housing Program"]
["11252731286613503 - 13509 57 Street",112527312866,"13503 - 13509 57 Street","CRH","Civida","Belvedere I","Edmonton","T5A2H2","Alberta Social Housing Corporation","Community Housing Program"]
["11252731286613511 - 13517 57 Street",112527312866,"13511 - 13517 57 Street","CRH","Civida","Belvedere I","Edmonton","T5A2H2","Alberta Social Housing Corporation","Community Housing Program"]
["1125273128665711, 5715, 5719 - 136 Avenue",112527312866,"5711, 5715, 5719 - 136 Avenue","CRH","Civida","Belvedere I","Edmonton","T5A2H2","Alberta Social Housing Corporation","Community Housing Program"]
["11252731286613519 - 13523 57 Street",112527312866,"13519 - 13523 57 Street","CRH","Civida","Belvedere I","Edmonton","T5A2H2","Alberta Social Housing Corporation","Community Housing Program"]
["1125273128665704 - 5712 136 Avenue",112527312866,"5704 - 5712 136 Avenue","CRH","Civida","Belvedere I","Edmonton","T5A2H2","Alberta Social Housing Corporation","Community Housing Program"]
["11252731286613603 - 13609 58 Street",112527312866,"13603 - 13609 58 Street","CRH","Civida","Belvedere I","Edmonton","T5A2H2","Alberta Social Housing Corporation","Community Housing Program"]
[{"$f":"CONCATENATE(B1027,C1027)","v":"11252731286613611 & 13613 58 Street"},112527312866,"13611 & 13613 58 Street","CRH","Civida","Belvedere I","Edmonton","T5A2H2","Alberta Social Housing Corporation","Community Housing Program"]
["1125273128665703 - 5711 137 Avenue",112527312866,"5703 - 5711 137 Avenue","CRH","Civida","Belvedere I","Edmonton","T5A2H2","Alberta Social Housing Corporation","Community Housing Program"]
["1125273128665713 - 5721 137 Avenue",112527312866,"5713 - 5721 137 Avenue","CRH","Civida","Belvedere I","Edmonton","T5A2H2","Alberta Social Housing Corporation","Community Housing Program"]
["1125273128665714 - 5716 136 Avenue",112527312866,"5714 - 5716 136 Avenue","CRH","Civida","Belvedere I","Edmonton","T5A2H2","Alberta Social Housing Corporation","Community Housing Program"]
["11252731286713416 Fort Road NW",112527312867,"13416 Fort Road NW","CRH","Civida","Belvedere II","Edmonton","T5A1C5","Alberta Social Housing Corporation","Community Housing Program"]
["11252731286713428 Fort Road NW",112527312867,"13428 Fort Road NW","CRH","Civida","Belvedere II","Edmonton","T5A1C5","Alberta Social Housing Corporation","Community Housing Program"]
["11252731286713403 - 56 Street NW",112527312867,"13403 - 56 Street NW","CRH","Civida","Belvedere II","Edmonton","T5A2G9","Alberta Social Housing Corporation","Community Housing Program"]
["11252731286713409 - 56 Street NW",112527312867,"13409 - 56 Street NW","CRH","Civida","Belvedere II","Edmonton","T5A2G9","Alberta Social Housing Corporation","Community Housing Program"]
["1125273128675604 - 134A Avenue NW",112527312867,"5604 - 134A Avenue NW","CRH","Civida","Belvedere II","Edmonton","T5A2H1","Alberta Social Housing Corporation","Community Housing Program"]
["11252731286813404 - 65 Street NW",112527312868,"13404 - 65 Street NW","CRH","Civida","Belvedere III","Edmonton","T5A1A4","Alberta Social Housing Corporation","Community Housing Program"]
["11252731286813408 - 65 Street NW",112527312868,"13408 - 65 Street NW","CRH","Civida","Belvedere III","Edmonton","T5A1A4","Alberta Social Housing Corporation","Community Housing Program"]
["11252731286813412 - 65 Street NW",112527312868,"13412 - 65 Street NW","CRH","Civida","Belvedere III","Edmonton","T5A1A4","Alberta Social Housing Corporation","Community Housing Program"]
["11252731286813416 - 65 Street NW",112527312868,"13416 - 65 Street NW","CRH","Civida","Belvedere III","Edmonton","T5A1A4","Alberta Social Housing Corporation","Community Housing Program"]
["11252731202911404 - 31 Avenue NW",112527312029,"11404 - 31 Avenue NW","CRH","Civida","Blue Quill","Edmonton","T6J4K7","Alberta Social Housing Corporation","Community Housing Program"]
["11252731202911412 - 31 Avenue",112527312029,"11412 - 31 Avenue","CRH","Civida","Blue Quill","Edmonton","T6J4K7","Alberta Social Housing Corporation","Community Housing Program"]
["11252731202911422 - 31 Avenue",112527312029,"11422 - 31 Avenue","CRH","Civida","Blue Quill","Edmonton","T6J4K7","Alberta Social Housing Corporation","Community Housing Program"]
["11252731202911432 - 31 Avenue",112527312029,"11432 - 31 Avenue","CRH","Civida","Blue Quill","Edmonton","T6J4K7","Alberta Social Housing Corporation","Community Housing Program"]
["11252731284914902 - 51 Avenue NW",112527312849,"14902 - 51 Avenue NW","CRH","Civida","Brander Gardens Municipal","Edmonton","T6H4V8","Municipality","Community Housing Program"]
["11252731284914901 - 52 Avenue",112527312849,"14901 - 52 Avenue","CRH","Civida","Brander Gardens Municipal","Edmonton","T6H4V8","Municipality","Community Housing Program"]
["11252731284914901 - 53 Avenue and 14903, 14905,",112527312849,"14901 - 53 Avenue and 14903, 14905,","CRH","Civida","Brander Gardens Municipal","Edmonton","T6H4V8","Municipality","Community Housing Program"]
["11252731284914917 - 53 Avenue and 14919, 14921,",112527312849,"14917 - 53 Avenue and 14919, 14921,","CRH","Civida","Brander Gardens Municipal","Edmonton","T6H4V8","Municipality","Community Housing Program"]
["1125273128495101 - 149A Street and 5103, 5105,",112527312849,"5101 - 149A Street and 5103, 5105,","CRH","Civida","Brander Gardens Municipal","Edmonton","T6H4V8","Municipality","Community Housing Program"]
["1125273128495102 - 149A Street and 5104, 5106, 5108,",112527312849,"5102 - 149A Street and 5104, 5106, 5108,","CRH","Civida","Brander Gardens Municipal","Edmonton","T6H4V8","Municipality","Community Housing Program"]
["1125273128495102 - Riverbend Road and 5104, 5106,",112527312849,"5102 - Riverbend Road and 5104, 5106,","CRH","Civida","Brander Gardens Municipal","Edmonton","T6H4V8","Municipality","Community Housing Program"]
["1125273128495118 Riverbend Road and 5120, 5122, 5124",112527312849,"5118 Riverbend Road and 5120, 5122, 5124","CRH","Civida","Brander Gardens Municipal","Edmonton","T6H4V8","Municipality","Community Housing Program"]
["1125273128495201 - 149A Street and 5203, 5205, 5207",112527312849,"5201 - 149A Street and 5203, 5205, 5207","CRH","Civida","Brander Gardens Municipal","Edmonton","T6H4V8","Municipality","Community Housing Program"]
["1125273128495202 Riverbend Road and 5204, 5206, 5208",112527312849,"5202 Riverbend Road and 5204, 5206, 5208","CRH","Civida","Brander Gardens Municipal","Edmonton","T6H4V8","Municipality","Community Housing Program"]
["1125273128495202 149A St. and 5204, 5206, 5208, 5210",112527312849,"5202 149A St. and 5204, 5206, 5208, 5210","CRH","Civida","Brander Gardens Municipal","Edmonton","T6H4V8","Municipality","Community Housing Program"]
["1125273128495210 Riverbend Road and 5212, 5214, 5216",112527312849,"5210 Riverbend Road and 5212, 5214, 5216","CRH","Civida","Brander Gardens Municipal","Edmonton","T6H4V8","Municipality","Community Housing Program"]
["1125273128495113 - 149A Street and 5215, 5217, 5219",112527312849,"5113 - 149A Street and 5215, 5217, 5219","CRH","Civida","Brander Gardens Municipal","Edmonton","T6H4V8","Municipality","Community Housing Program"]
["11252731005314825 - 118 Street NW",112527310053,"14825 - 118 Street NW","CRH","Civida","Caernarvon I","Edmonton","T5X3A6","Alberta Social Housing Corporation","Community Housing Program"]
["11252731003814515 - 118 Street NW",112527310038,"14515 - 118 Street NW","CRH","Civida","Caernarvon II","Edmonton","T5X1K4","Alberta Social Housing Corporation","Community Housing Program"]
["11252731003814603 - 118 Street",112527310038,"14603 - 118 Street","CRH","Civida","Caernarvon II","Edmonton","T5X1K4","Alberta Social Housing Corporation","Community Housing Program"]
["11252731003814609 - 118 Street",112527310038,"14609 - 118 Street","CRH","Civida","Caernarvon II","Edmonton","T5X1K4","Alberta Social Housing Corporation","Community Housing Program"]
["11252731003511603 - 152 Avenue NW",112527310035,"11603 - 152 Avenue NW","CRH","Civida","Caernarvon III","Edmonton","T5X2J6","Alberta Social Housing Corporation","Community Housing Program"]
["11252731003511609 - 152 Avenue",112527310035,"11609 - 152 Avenue","CRH","Civida","Caernarvon III","Edmonton","T5X2J6","Alberta Social Housing Corporation","Community Housing Program"]
["11252731003511615 - 152 Avenue",112527310035,"11615 - 152 Avenue","CRH","Civida","Caernarvon III","Edmonton","T5X2J6","Alberta Social Housing Corporation","Community Housing Program"]
["11252731003511619 - 152 Avenue",112527310035,"11619 - 152 Avenue","CRH","Civida","Caernarvon III","Edmonton","T5X2J6","Alberta Social Housing Corporation","Community Housing Program"]
["11252731003611315 - 152 Avenue NW",112527310036,"11315 - 152 Avenue NW","CRH","Civida","Caernarvon IV","Edmonton","T5X1W3","Alberta Social Housing Corporation","Community Housing Program"]
["11252731003611321 - 152 Avenue",112527310036,"11321 - 152 Avenue","CRH","Civida","Caernarvon IV","Edmonton","T5X1W3","Alberta Social Housing Corporation","Community Housing Program"]
["11252731003611403 - 152 Avenue",112527310036,"11403 - 152 Avenue","CRH","Civida","Caernarvon IV","Edmonton","T5X1W3","Alberta Social Housing Corporation","Community Housing Program"]
["11252731003611411 - 152 Avenue",112527310036,"11411 - 152 Avenue","CRH","Civida","Caernarvon IV","Edmonton","T5X1W3","Alberta Social Housing Corporation","Community Housing Program"]
["11252731003711902 - 152 Avenue NW",112527310037,"11902 - 152 Avenue NW","CRH","Civida","Caernarvon V","Edmonton","T5X2J8","Alberta Social Housing Corporation","Community Housing Program"]
["11252731003711908 - 152 Avenue",112527310037,"11908 - 152 Avenue","CRH","Civida","Caernarvon V","Edmonton","T5X2J8","Alberta Social Housing Corporation","Community Housing Program"]
["11252731003711918 - 152 Avenue",112527310037,"11918 - 152 Avenue","CRH","Civida","Caernarvon V","Edmonton","T5X2J8","Alberta Social Housing Corporation","Community Housing Program"]
["11252731202114520 - 121 Street NW",112527312021,"14520 - 121 Street NW","CRH","Civida","Caernarvon VI","Edmonton","T5X3N6","Alberta Social Housing Corporation","Community Housing Program"]
["11252731202114528 - 121 Street",112527312021,"14528 - 121 Street","CRH","Civida","Caernarvon VI","Edmonton","T5X3N6","Alberta Social Housing Corporation","Community Housing Program"]
["11252731202114536 - 121 Street",112527312021,"14536 - 121 Street","CRH","Civida","Caernarvon VI","Edmonton","T5X3N6","Alberta Social Housing Corporation","Community Housing Program"]
["11252731202114544 - 121 Street",112527312021,"14544 - 121 Street","CRH","Civida","Caernarvon VI","Edmonton","T5X3N6","Alberta Social Housing Corporation","Community Housing Program"]
["11252731202114552 - 121 Street",112527312021,"14552 - 121 Street","CRH","Civida","Caernarvon VI","Edmonton","T5X3N6","Alberta Social Housing Corporation","Community Housing Program"]
["11252731285012325 - 130 Avenue NW",112527312850,"12325 - 130 Avenue NW","CRH","Civida","Calder Municipal","Edmonton","T5L4M5","Municipality","Community Housing Program"]
["112527312096Units 14004 to 14010 - 117 Street NW",112527312096,"Units 14004 to 14010 - 117 Street NW","CRH","Civida","Carlisle I","Edmonton","T5X5K7","Alberta Social Housing Corporation","Community Housing Program"]
["11252731209614012 to 14016 - 117 Street",112527312096,"14012 to 14016 - 117 Street","CRH","Civida","Carlisle I","Edmonton","T5X5K7","Alberta Social Housing Corporation","Community Housing Program"]
["11252731209614018 to 14026 - 117 Street",112527312096,"14018 to 14026 - 117 Street","CRH","Civida","Carlisle I","Edmonton","T5X5K7","Alberta Social Housing Corporation","Community Housing Program"]
["11252731209614028 to 14034 - 117 Street",112527312096,"14028 to 14034 - 117 Street","CRH","Civida","Carlisle I","Edmonton","T5X5K7","Alberta Social Housing Corporation","Community Housing Program"]
["11252731209614036 to 14038 - 117 Street",112527312096,"14036 to 14038 - 117 Street","CRH","Civida","Carlisle I","Edmonton","T5X5K7","Alberta Social Housing Corporation","Community Housing Program"]
["11252731209614040 to 14042 - 117 Street",112527312096,"14040 to 14042 - 117 Street","CRH","Civida","Carlisle I","Edmonton","T5X5K7","Alberta Social Housing Corporation","Community Housing Program"]
["11252731209614044 to 14050 - 117 Street",112527312096,"14044 to 14050 - 117 Street","CRH","Civida","Carlisle I","Edmonton","T5X5K7","Alberta Social Housing Corporation","Community Housing Program"]
["11252731209614052 to 14058 - 117 Street",112527312096,"14052 to 14058 - 117 Street","CRH","Civida","Carlisle I","Edmonton","T5X5K7","Alberta Social Housing Corporation","Community Housing Program"]
["11252731209614062 to 14066 - 117 Street",112527312096,"14062 to 14066 - 117 Street","CRH","Civida","Carlisle I","Edmonton","T5X5K7","Alberta Social Housing Corporation","Community Housing Program"]
["11252731209614068 to 14074 - 117 Street",112527312096,"14068 to 14074 - 117 Street","CRH","Civida","Carlisle I","Edmonton","T5X5K7","Alberta Social Housing Corporation","Community Housing Program"]
["11252731209614076 to 14082 - 117 Street",112527312096,"14076 to 14082 - 117 Street","CRH","Civida","Carlisle I","Edmonton","T5X5K7","Alberta Social Housing Corporation","Community Housing Program"]
["11252731209714004 - 14016, 121 Street",112527312097,"14004 - 14016, 121 Street","CRH","Civida","Carlisle II","Edmonton","T5X5K4","Alberta Social Housing Corporation","Community Housing Program"]
["11252731209712138 - 12154, 140 Avenue",112527312097,"12138 - 12154, 140 Avenue","CRH","Civida","Carlisle II","Edmonton","T5X5K4","Alberta Social Housing Corporation","Community Housing Program"]
[{"$f":"CONCATENATE(B1091,C1091)","v":"11252731209712124 - 12136, 140 Avenue"},112527312097,"12124 - 12136, 140 Avenue","CRH","Civida","Carlisle II","Edmonton","T5X5K4","Alberta Social Housing Corporation","Community Housing Program"]
["11252731209712114 - 12122, 140 Avenue",112527312097,"12114 - 12122, 140 Avenue","CRH","Civida","Carlisle II","Edmonton","T5X5K4","Alberta Social Housing Corporation","Community Housing Program"]
["11252731209714030 - 14042, 121  Street",112527312097,"14030 - 14042, 121  Street","CRH","Civida","Carlisle II","Edmonton","T5X5K4","Alberta Social Housing Corporation","Community Housing Program"]
["11252731209712104 - 12112, 140 Avenue",112527312097,"12104 - 12112, 140 Avenue","CRH","Civida","Carlisle II","Edmonton","T5X5K4","Alberta Social Housing Corporation","Community Housing Program"]
["11252731209714008 - 14028, 121 Street",112527312097,"14008 - 14028, 121 Street","CRH","Civida","Carlisle II","Edmonton","T5X5K4","Alberta Social Housing Corporation","Community Housing Program"]
["11252731209714004 - 14016 121 Street NW",112527312097,"14004 - 14016 121 Street NW","CRH","Civida","Carlisle II","Edmonton","T5X3S6","Alberta Social Housing Corporation","Community Housing Program"]
["112527312026600 Clareview Road NW",112527312026,"600 Clareview Road NW","CRH","Civida","Clareview I","Edmonton","T5A4J7","Alberta Social Housing Corporation","Community Housing Program"]
["112527312026608 Clairview Road",112527312026,"608 Clairview Road","CRH","Civida","Clareview I","Edmonton","T5A4J7","Alberta Social Housing Corporation","Community Housing Program"]
["112527312026614 Clairview Road",112527312026,"614 Clairview Road","CRH","Civida","Clareview I","Edmonton","T5A4J7","Alberta Social Housing Corporation","Community Housing Program"]
["112527312026620 Clairview Road",112527312026,"620 Clairview Road","CRH","Civida","Clareview I","Edmonton","T5A4J7","Alberta Social Housing Corporation","Community Housing Program"]
["112527312026626 Clairview Road",112527312026,"626 Clairview Road","CRH","Civida","Clareview I","Edmonton","T5A4J7","Alberta Social Housing Corporation","Community Housing Program"]
["112527312026634 Clairview Road",112527312026,"634 Clairview Road","CRH","Civida","Clareview I","Edmonton","T5A4J7","Alberta Social Housing Corporation","Community Housing Program"]
["112527312026646 Clairview Road",112527312026,"646 Clairview Road","CRH","Civida","Clareview I","Edmonton","T5A4J7","Alberta Social Housing Corporation","Community Housing Program"]
["112527312026658 Clairview Road",112527312026,"658 Clairview Road","CRH","Civida","Clareview I","Edmonton","T5A4J7","Alberta Social Housing Corporation","Community Housing Program"]
["112527312026664 Clairview Road",112527312026,"664 Clairview Road","CRH","Civida","Clareview I","Edmonton","T5A4J7","Alberta Social Housing Corporation","Community Housing Program"]
["112527312026674 Clairview Road",112527312026,"674 Clairview Road","CRH","Civida","Clareview I","Edmonton","T5A4J7","Alberta Social Housing Corporation","Community Housing Program"]
["112527312026690 Clairview Road",112527312026,"690 Clairview Road","CRH","Civida","Clareview I","Edmonton","T5A4J7","Alberta Social Housing Corporation","Community Housing Program"]
["1125273120612404 - 139 Avenue NW",112527312061,"2404 - 139 Avenue NW","CRH","Civida","Clareview II","Edmonton","T5Y2G9","Alberta Social Housing Corporation","Community Housing Program"]
["1125273120612416 - 139 Avenue",112527312061,"2416 - 139 Avenue","CRH","Civida","Clareview II","Edmonton","T5Y2G9","Alberta Social Housing Corporation","Community Housing Program"]
["1125273120612436 - 139 Avenue",112527312061,"2436 - 139 Avenue","CRH","Civida","Clareview II","Edmonton","T5Y2G9","Alberta Social Housing Corporation","Community Housing Program"]
["1125273120612448 - 139 Avenue",112527312061,"2448 - 139 Avenue","CRH","Civida","Clareview II","Edmonton","T5Y2G9","Alberta Social Housing Corporation","Community Housing Program"]
["1125273120612462 - 139 Avenue",112527312061,"2462 - 139 Avenue","CRH","Civida","Clareview II","Edmonton","T5Y2G9","Alberta Social Housing Corporation","Community Housing Program"]
["11252731206113911 - 26 Street",112527312061,"13911 - 26 Street","CRH","Civida","Clareview II","Edmonton","T5Y2G9","Alberta Social Housing Corporation","Community Housing Program"]
["11252731206113931 - 26 Street",112527312061,"13931 - 26 Street","CRH","Civida","Clareview II","Edmonton","T5Y2G9","Alberta Social Housing Corporation","Community Housing Program"]
["11252731206113947 - 26 Street",112527312061,"13947 - 26 Street","CRH","Civida","Clareview II","Edmonton","T5Y2G9","Alberta Social Housing Corporation","Community Housing Program"]
["1125273120612434 - 139 Avenue",112527312061,"2434 - 139 Avenue","CRH","Civida","Clareview II","Edmonton","T5Y2G9","Alberta Social Housing Corporation","Community Housing Program"]
["1125273122071, 14731 34 Street NW",112527312207,"1, 14731 34 Street NW","CRH","Civida","Clareview V","Edmonton","T5Y2L3","Alberta Social Housing Corporation","Community Housing Program"]
["11252731220710, 14731 34 Street NW",112527312207,"10, 14731 34 Street NW","CRH","Civida","Clareview V","Edmonton","T5Y2L3","Alberta Social Housing Corporation","Community Housing Program"]
["11252731220714, 14731 34 Street NW",112527312207,"14, 14731 34 Street NW","CRH","Civida","Clareview V","Edmonton","T5Y2L3","Alberta Social Housing Corporation","Community Housing Program"]
["11252731220720, 14731 34 Street NW",112527312207,"20, 14731 34 Street NW","CRH","Civida","Clareview V","Edmonton","T5Y2L3","Alberta Social Housing Corporation","Community Housing Program"]
["11252731220728, 14731 34 Street NW",112527312207,"28, 14731 34 Street NW","CRH","Civida","Clareview V","Edmonton","T5Y2L3","Alberta Social Housing Corporation","Community Housing Program"]
["1125273120733504 - 3516, 139 Avenue",112527312073,"3504 - 3516, 139 Avenue","CRH","Civida","Clareview VI","Edmonton","T5Y2J4","Alberta Social Housing Corporation","Community Housing Program"]
["1125273120733518 - 3530, 139 Avenue",112527312073,"3518 - 3530, 139 Avenue","CRH","Civida","Clareview VI","Edmonton","T5Y2J4","Alberta Social Housing Corporation","Community Housing Program"]
["1125273120733532 - 3542, 139 Avenue",112527312073,"3532 - 3542, 139 Avenue","CRH","Civida","Clareview VI","Edmonton","T5Y2J4","Alberta Social Housing Corporation","Community Housing Program"]
["1125273120733546 - 3560, 139 Avenue",112527312073,"3546 - 3560, 139 Avenue","CRH","Civida","Clareview VI","Edmonton","T5Y2J4","Alberta Social Housing Corporation","Community Housing Program"]
["11252731207313905 - 13919, 35 Street",112527312073,"13905 - 13919, 35 Street","CRH","Civida","Clareview VI","Edmonton","T5Y2J4","Alberta Social Housing Corporation","Community Housing Program"]
["11252731207313921 - 13933, 35 Street",112527312073,"13921 - 13933, 35 Street","CRH","Civida","Clareview VI","Edmonton","T5Y2J4","Alberta Social Housing Corporation","Community Housing Program"]
["11252731207313935 - 13943, 35 Street",112527312073,"13935 - 13943, 35 Street","CRH","Civida","Clareview VI","Edmonton","T5Y2J4","Alberta Social Housing Corporation","Community Housing Program"]
["11252731207313945 - 13953, 35 Street",112527312073,"13945 - 13953, 35 Street","CRH","Civida","Clareview VI","Edmonton","T5Y2J4","Alberta Social Housing Corporation","Community Housing Program"]
["11252737200416912 - 101 Street NW",112527372004,"16912 - 101 Street NW","CRH","Civida","Crhc 17","Edmonton","T5X4M4","Housing Provider","Specialized Housing"]
["11252737200813315 - 123A Street NW",112527372008,"13315 - 123A Street NW","CRH","Civida","Crhc 19","Edmonton","T5L0L7","Housing Provider","Specialized Housing"]
["1125273720111419 - 63 Street NW",112527372011,"1419 - 63 Street NW","CRH","Civida","Crhc 20","Edmonton","T6L1T1","Housing Provider","Specialized Housing"]
["1125273720112071 - 49A  Street NW",112527372011,"2071 - 49A  Street NW","CRH","Civida","Crhc 20","Edmonton","T6L2W9","Housing Provider","Specialized Housing"]
["1125273720114836 - 11A Avenue NW",112527372011,"4836 - 11A Avenue NW","CRH","Civida","Crhc 20","Edmonton","T6L4A8","Housing Provider","Specialized Housing"]
["1125273720111819 - 56 Street NW",112527372011,"1819 - 56 Street NW","CRH","Civida","Crhc 20","Edmonton","T6L1L6","Housing Provider","Specialized Housing"]
["1125273720121816 - 48 Street NW",112527372012,"1816 - 48 Street NW","CRH","Civida","Crhc 21","Edmonton","T6L2X6","Housing Provider","Specialized Housing"]
["11252731248512607 - 161 Avenue NW",112527312485,"12607 - 161 Avenue NW","CRH","Civida","Debarr I (FCLS)","Edmonton","T5X4W7","Housing Provider","Community Housing Program"]
["1125273124994432 - 33A Avenue NW",112527312499,"4432 - 33A Avenue NW","CRH","Civida","Debarr IV (FCLS)","Edmonton","T6L4X3","Housing Provider","Community Housing Program"]
["11252731209112130 - 90 Street NW",112527312091,"12130 - 90 Street NW","CRH","Civida","Delton I (Infill)","Edmonton","T5B3Z3","Alberta Social Housing Corporation","Community Housing Program"]
["11252731209112134 - 90 Street NW",112527312091,"12134 - 90 Street NW","CRH","Civida","Delton I (Infill)","Edmonton","T5B3Z3","Alberta Social Housing Corporation","Community Housing Program"]
["11252731209112138 - 90 Street NW",112527312091,"12138 - 90 Street NW","CRH","Civida","Delton I (Infill)","Edmonton","T5B3Z3","Alberta Social Housing Corporation","Community Housing Program"]
["1125273128699203 - 145 Avenue NW",112527312869,"9203 - 145 Avenue NW","CRH","Civida","Dickinsfield I","Edmonton","T5E2J3","Alberta Social Housing Corporation","Community Housing Program"]
["1125273128699215 - 145 Avenue",112527312869,"9215 - 145 Avenue","CRH","Civida","Dickinsfield I","Edmonton","T5E2J3","Alberta Social Housing Corporation","Community Housing Program"]
["1125273128699227 - 145 Avenue",112527312869,"9227 - 145 Avenue","CRH","Civida","Dickinsfield I","Edmonton","T5E2J3","Alberta Social Housing Corporation","Community Housing Program"]
["1125273128699235 - 145 Avenue",112527312869,"9235 - 145 Avenue","CRH","Civida","Dickinsfield I","Edmonton","T5E2J3","Alberta Social Housing Corporation","Community Housing Program"]
["11252731286914503 - 94 Street",112527312869,"14503 - 94 Street","CRH","Civida","Dickinsfield I","Edmonton","T5E2J3","Alberta Social Housing Corporation","Community Housing Program"]
["11252731286914508 - 93 Street",112527312869,"14508 - 93 Street","CRH","Civida","Dickinsfield I","Edmonton","T5E2J3","Alberta Social Housing Corporation","Community Housing Program"]
["11252731286914519 - 94 Street",112527312869,"14519 - 94 Street","CRH","Civida","Dickinsfield I","Edmonton","T5E2J3","Alberta Social Housing Corporation","Community Housing Program"]
["1125273128699304 - 146 Avenue",112527312869,"9304 - 146 Avenue","CRH","Civida","Dickinsfield I","Edmonton","T5E2J3","Alberta Social Housing Corporation","Community Housing Program"]
["11252731286914524 - 93 Street",112527312869,"14524 - 93 Street","CRH","Civida","Dickinsfield I","Edmonton","T5E2J3","Alberta Social Housing Corporation","Community Housing Program"]
["11252731286914503 - 93 Street",112527312869,"14503 - 93 Street","CRH","Civida","Dickinsfield I","Edmonton","T5E2J3","Alberta Social Housing Corporation","Community Housing Program"]
["11252731286914519 - 93 Street",112527312869,"14519 - 93 Street","CRH","Civida","Dickinsfield I","Edmonton","T5E2J3","Alberta Social Housing Corporation","Community Housing Program"]
["1125273128699213 - 146 Avenue, Community Centre",112527312869,"9213 - 146 Avenue, Community Centre","CRH","Civida","Dickinsfield I","Edmonton","T5E2J3","Alberta Social Housing Corporation","Community Housing Program"]
["11252731286914504 - 92A Street",112527312869,"14504 - 92A Street","CRH","Civida","Dickinsfield I","Edmonton","T5E2J3","Alberta Social Housing Corporation","Community Housing Program"]
[{"$f":"CONCATENATE(B1155,C1155)","v":"11252731286914514 - 92A Street"},112527312869,"14514 - 92A Street","CRH","Civida","Dickinsfield I","Edmonton","T5E2J3","Alberta Social Housing Corporation","Community Housing Program"]
["1125273128699212 - 146 Avenue",112527312869,"9212 - 146 Avenue","CRH","Civida","Dickinsfield I","Edmonton","T5E2J3","Alberta Social Housing Corporation","Community Housing Program"]
["1125273128699238 - 146 Avenue",112527312869,"9238 - 146 Avenue","CRH","Civida","Dickinsfield I","Edmonton","T5E2J3","Alberta Social Housing Corporation","Community Housing Program"]
["11252731286914503 - 92A Street",112527312869,"14503 - 92A Street","CRH","Civida","Dickinsfield I","Edmonton","T5E2J3","Alberta Social Housing Corporation","Community Housing Program"]
["11252731286914523 - 92A Street",112527312869,"14523 - 92A Street","CRH","Civida","Dickinsfield I","Edmonton","T5E2J3","Alberta Social Housing Corporation","Community Housing Program"]
["11252731286914504 - 92 Street",112527312869,"14504 - 92 Street","CRH","Civida","Dickinsfield I","Edmonton","T5E2J3","Alberta Social Housing Corporation","Community Housing Program"]
["11252731286914518 - 92 Street",112527312869,"14518 - 92 Street","CRH","Civida","Dickinsfield I","Edmonton","T5E2J3","Alberta Social Housing Corporation","Community Housing Program"]
["1125273128699215 - 146 Avenue",112527312869,"9215 - 146 Avenue","CRH","Civida","Dickinsfield I","Edmonton","T5E2J3","Alberta Social Housing Corporation","Community Housing Program"]
["1125273128518831 - 148 Avenue NW",112527312851,"8831 - 148 Avenue NW","CRH","Civida","Dickinsfield III Municipal","Edmonton","T5E2L2","Municipality","Community Housing Program"]
["1125273128518903 - 148 Avenue",112527312851,"8903 - 148 Avenue","CRH","Civida","Dickinsfield III Municipal","Edmonton","T5E2L2","Municipality","Community Housing Program"]
["11252731285114804 - 89A Street",112527312851,"14804 - 89A Street","CRH","Civida","Dickinsfield III Municipal","Edmonton","T5E2L2","Municipality","Community Housing Program"]
["11252731285114808 - 89A Street",112527312851,"14808 - 89A Street","CRH","Civida","Dickinsfield III Municipal","Edmonton","T5E2L2","Municipality","Community Housing Program"]
["11252731285114904 - 89A Street",112527312851,"14904 - 89A Street","CRH","Civida","Dickinsfield III Municipal","Edmonton","T5E2L2","Municipality","Community Housing Program"]
["11252731285114914 - 89A Street",112527312851,"14914 - 89A Street","CRH","Civida","Dickinsfield III Municipal","Edmonton","T5E2L2","Municipality","Community Housing Program"]
["1125273128518903 - 150 Avenue",112527312851,"8903 - 150 Avenue","CRH","Civida","Dickinsfield III Municipal","Edmonton","T5E2L2","Municipality","Community Housing Program"]
["1125273128518841 - 150 Avenue",112527312851,"8841 - 150 Avenue","CRH","Civida","Dickinsfield III Municipal","Edmonton","T5E2L2","Municipality","Community Housing Program"]
["1125273128518831 - 150 Avenue",112527312851,"8831 - 150 Avenue","CRH","Civida","Dickinsfield III Municipal","Edmonton","T5E2L2","Municipality","Community Housing Program"]
["11252731285114912 - 88A Street",112527312851,"14912 - 88A Street","CRH","Civida","Dickinsfield III Municipal","Edmonton","T5E2L2","Municipality","Community Housing Program"]
["11252731285114904 - 88A Street",112527312851,"14904 - 88A Street","CRH","Civida","Dickinsfield III Municipal","Edmonton","T5E2L2","Municipality","Community Housing Program"]
["11252731285114816 - 88A Street",112527312851,"14816 - 88A Street","CRH","Civida","Dickinsfield III Municipal","Edmonton","T5E2L2","Municipality","Community Housing Program"]
["11252731285114804 - 88A Street",112527312851,"14804 - 88A Street","CRH","Civida","Dickinsfield III Municipal","Edmonton","T5E2L2","Municipality","Community Housing Program"]
["11252731285114803 - 89 Street",112527312851,"14803 - 89 Street","CRH","Civida","Dickinsfield III Municipal","Edmonton","T5E2L2","Municipality","Community Housing Program"]
["11252731285114811 - 89 Street",112527312851,"14811 - 89 Street","CRH","Civida","Dickinsfield III Municipal","Edmonton","T5E2L2","Municipality","Community Housing Program"]
["11252731285114909 - 89 Street",112527312851,"14909 - 89 Street","CRH","Civida","Dickinsfield III Municipal","Edmonton","T5E2L2","Municipality","Community Housing Program"]
["1125273128518904 - 149A Avenue",112527312851,"8904 - 149A Avenue","CRH","Civida","Dickinsfield III Municipal","Edmonton","T5E2L2","Municipality","Community Housing Program"]
["1125273128518914 - 149A Avenue",112527312851,"8914 - 149A Avenue","CRH","Civida","Dickinsfield III Municipal","Edmonton","T5E2L2","Municipality","Community Housing Program"]
["11252731285114903 - 89A Street",112527312851,"14903 - 89A Street","CRH","Civida","Dickinsfield III Municipal","Edmonton","T5E2L2","Municipality","Community Housing Program"]
["11252731285114803 - 89A Street",112527312851,"14803 - 89A Street","CRH","Civida","Dickinsfield III Municipal","Edmonton","T5E2L2","Municipality","Community Housing Program"]
["11252731285114804 - 89 Street",112527312851,"14804 - 89 Street","CRH","Civida","Dickinsfield III Municipal","Edmonton","T5E2L2","Municipality","Community Housing Program"]
["11252731285114904 - 89 Street",112527312851,"14904 - 89 Street","CRH","Civida","Dickinsfield III Municipal","Edmonton","T5E2L2","Municipality","Community Housing Program"]
["1125273128523724 - 105 Street",112527312852,"3724 - 105 Street","CRH","Civida","Duncastle Downs (Duggan)","Edmonton","T6J2K5","Municipality","Community Housing Program"]
["1125273128523716 - 105 Street",112527312852,"3716 - 105 Street","CRH","Civida","Duncastle Downs (Duggan)","Edmonton","T6J2K5","Municipality","Community Housing Program"]
["1125273128523620 - 105 Street",112527312852,"3620 - 105 Street","CRH","Civida","Duncastle Downs (Duggan)","Edmonton","T6J2K5","Municipality","Community Housing Program"]
["11252731285210512 - 36A Avenue",112527312852,"10512 - 36A Avenue","CRH","Civida","Duncastle Downs (Duggan)","Edmonton","T6J2K5","Municipality","Community Housing Program"]
["11252731285210516 - 36A Avenue",112527312852,"10516 - 36A Avenue","CRH","Civida","Duncastle Downs (Duggan)","Edmonton","T6J2K5","Municipality","Community Housing Program"]
["11252731285210524 - 36A Avenue",112527312852,"10524 - 36A Avenue","CRH","Civida","Duncastle Downs (Duggan)","Edmonton","T6J2K5","Municipality","Community Housing Program"]
["1125273128523704 - 105 Street NW",112527312852,"3704 - 105 Street NW","CRH","Civida","Duncastle Downs (Duggan)","Edmonton","T6J2K5","Municipality","Community Housing Program"]
["1125273128523708 - 105 Street",112527312852,"3708 - 105 Street","CRH","Civida","Duncastle Downs (Duggan)","Edmonton","T6J2K5","Municipality","Community Housing Program"]
["11252731285210511 - 36A Avenue",112527312852,"10511 - 36A Avenue","CRH","Civida","Duncastle Downs (Duggan)","Edmonton","T6J2K5","Municipality","Community Housing Program"]
["11252731285210515 - 36A Avenue",112527312852,"10515 - 36A Avenue","CRH","Civida","Duncastle Downs (Duggan)","Edmonton","T6J2K5","Municipality","Community Housing Program"]
["11252731285210507 - 36A Avenue",112527312852,"10507 - 36A Avenue","CRH","Civida","Duncastle Downs (Duggan)","Edmonton","T6J2K5","Municipality","Community Housing Program"]
["1125273128523712 - 105 Street",112527312852,"3712 - 105 Street","CRH","Civida","Duncastle Downs (Duggan)","Edmonton","T6J2K5","Municipality","Community Housing Program"]
["1125273128523720 - 105 Street",112527312852,"3720 - 105 Street","CRH","Civida","Duncastle Downs (Duggan)","Edmonton","T6J2K5","Municipality","Community Housing Program"]
["1125273128523724 - 105 Street",112527312852,"3724 - 105 Street","CRH","Civida","Duncastle Downs (Duggan)","Edmonton","T6J2K5","Municipality","Community Housing Program"]
["11252731206412004 - 153 Avenue NW",112527312064,"12004 - 153 Avenue NW","CRH","Civida","Dunluce I","Edmonton","T5X5G4","Alberta Social Housing Corporation","Community Housing Program"]
["11252731206415303 - 121 Street",112527312064,"15303 - 121 Street","CRH","Civida","Dunluce I","Edmonton","T5X5G4","Alberta Social Housing Corporation","Community Housing Program"]
["11252731206415335 - 121 Street",112527312064,"15335 - 121 Street","CRH","Civida","Dunluce I","Edmonton","T5X5G4","Alberta Social Housing Corporation","Community Housing Program"]
["11252731206415319 - 121 Street",112527312064,"15319 - 121 Street","CRH","Civida","Dunluce I","Edmonton","T5X5G4","Alberta Social Housing Corporation","Community Housing Program"]
["11252731206415311 - 121 Street",112527312064,"15311 - 121 Street","CRH","Civida","Dunluce I","Edmonton","T5X5G4","Alberta Social Housing Corporation","Community Housing Program"]
["1125273120652 Dunlce Road NW",112527312065,"2 Dunlce Road NW","CRH","Civida","Dunluce II","Edmonton","T5X5G8","Alberta Social Housing Corporation","Community Housing Program"]
["11252731206516441 - 116 Street",112527312065,"16441 - 116 Street","CRH","Civida","Dunluce II","Edmonton","T5X4B2","Alberta Social Housing Corporation","Community Housing Program"]
["11252731206516503 - 116 Street",112527312065,"16503 - 116 Street","CRH","Civida","Dunluce II","Edmonton","T5X4B2","Alberta Social Housing Corporation","Community Housing Program"]
["11252731206516502 - 115 Street",112527312065,"16502 - 115 Street","CRH","Civida","Dunluce II","Edmonton","T5X3V4","Alberta Social Housing Corporation","Community Housing Program"]
["11252731206516440 - 115 Street",112527312065,"16440 - 115 Street","CRH","Civida","Dunluce II","Edmonton","T5X5G8","Alberta Social Housing Corporation","Community Housing Program"]
["11252731206611450 - 162 Avenue NW",112527312066,"11450 - 162 Avenue NW","CRH","Civida","Dunluce III","Edmonton","T5X5G1","Alberta Social Housing Corporation","Community Housing Program"]
["11252731206616211 - 115 Street",112527312066,"16211 - 115 Street","CRH","Civida","Dunluce III","Edmonton","T5X5G1","Alberta Social Housing Corporation","Community Housing Program"]
["11252731206616219 - 115 Street",112527312066,"16219 - 115 Street","CRH","Civida","Dunluce III","Edmonton","T5X5G1","Alberta Social Housing Corporation","Community Housing Program"]
["11252731206616227 - 115 Street",112527312066,"16227 - 115 Street","CRH","Civida","Dunluce III","Edmonton","T5X5G1","Alberta Social Housing Corporation","Community Housing Program"]
["11252731206616235 - 115 Street",112527312066,"16235 - 115 Street","CRH","Civida","Dunluce III","Edmonton","T5X5G1","Alberta Social Housing Corporation","Community Housing Program"]
["11252731206711930 - 162 Avenue NW Units 1 - 4",112527312067,"11930 - 162 Avenue NW Units 1 - 4","CRH","Civida","Dunluce IV","Edmonton","T5X4W9","Alberta Social Housing Corporation","Community Housing Program"]
["11252731206711930 - 162 Avenue Unit 5 - 8",112527312067,"11930 - 162 Avenue Unit 5 - 8","CRH","Civida","Dunluce IV","Edmonton","T5X4W9","Alberta Social Housing Corporation","Community Housing Program"]
["11252731206711930 - 162 Avenue Unit 16 - 19",112527312067,"11930 - 162 Avenue Unit 16 - 19","CRH","Civida","Dunluce IV","Edmonton","T5X4W9","Alberta Social Housing Corporation","Community Housing Program"]
["11252731206711930 - 162 Avenue Unit 13 - 15",112527312067,"11930 - 162 Avenue Unit 13 - 15","CRH","Civida","Dunluce IV","Edmonton","T5X4W9","Alberta Social Housing Corporation","Community Housing Program"]
["11252731206711930 - 162 Avenue Unit 20 - 23",112527312067,"11930 - 162 Avenue Unit 20 - 23","CRH","Civida","Dunluce IV","Edmonton","T5X4W9","Alberta Social Housing Corporation","Community Housing Program"]
[{"$f":"CONCATENATE(B1219,C1219)","v":"11252731206711930 - 162 Avenue Unit 24 - 28"},112527312067,"11930 - 162 Avenue Unit 24 - 28","CRH","Civida","Dunluce IV","Edmonton","T5X4W9","Alberta Social Housing Corporation","Community Housing Program"]
["11252731206711930 - 162 Avenue Unit 29 - 31",112527312067,"11930 - 162 Avenue Unit 29 - 31","CRH","Civida","Dunluce IV","Edmonton","T5X4W9","Alberta Social Housing Corporation","Community Housing Program"]
["11252731206711930 - 162 Avenue Unit 32 - 35",112527312067,"11930 - 162 Avenue Unit 32 - 35","CRH","Civida","Dunluce IV","Edmonton","T5X4W9","Alberta Social Housing Corporation","Community Housing Program"]
["11252731206711930 - 162 Avenue Unit 36 - 39",112527312067,"11930 - 162 Avenue Unit 36 - 39","CRH","Civida","Dunluce IV","Edmonton","T5X4W9","Alberta Social Housing Corporation","Community Housing Program"]
["11252731206711930 - 162 Avenue Unit 40 - 44",112527312067,"11930 - 162 Avenue Unit 40 - 44","CRH","Civida","Dunluce IV","Edmonton","T5X4W9","Alberta Social Housing Corporation","Community Housing Program"]
["11252731206711930 - 162 Avenue Unit 10 - 12",112527312067,"11930 - 162 Avenue Unit 10 - 12","CRH","Civida","Dunluce IV","Edmonton","T5X4W9","Alberta Social Housing Corporation","Community Housing Program"]
["11252731206711930 - 162 Avenue Unit 45 - 48",112527312067,"11930 - 162 Avenue Unit 45 - 48","CRH","Civida","Dunluce IV","Edmonton","T5X4W9","Alberta Social Housing Corporation","Community Housing Program"]
["11252731206711930 - 162 Avenue Unit 49 - 52",112527312067,"11930 - 162 Avenue Unit 49 - 52","CRH","Civida","Dunluce IV","Edmonton","T5X4W9","Alberta Social Housing Corporation","Community Housing Program"]
["11252731206711930 - 162 Avenue Unit 9",112527312067,"11930 - 162 Avenue Unit 9","CRH","Civida","Dunluce IV","Edmonton","T5X4W9","Alberta Social Housing Corporation","Community Housing Program"]
["11252731206714530 - 72 Street",112527312067,"14530 - 72 Street","CRH","Civida","Dunluce IV","Edmonton","T5X4W9","Alberta Social Housing Corporation","Community Housing Program"]
["11252731203812220/12222 - 86 Street NW",112527312038,"12220/12222 - 86 Street NW","CRH","Civida","Duplex","Edmonton","T5B3K9","Alberta Social Housing Corporation","Community Housing Program"]
["1125273120151703 Millwoods Rd. & Units 1705/1707/ &",112527312015,"1703 Millwoods Rd. & Units 1705/1707/ &","CRH","Civida","Ekota I","Edmonton","T6K3L9","Alberta Social Housing Corporation","Community Housing Program"]
["1125273120151719 Millwoods Rd & 1721/1723/1725 &",112527312015,"1719 Millwoods Rd & 1721/1723/1725 &","CRH","Civida","Ekota I","Edmonton","T6K3L9","Alberta Social Housing Corporation","Community Housing Program"]
["1125273120151735 Millwoods Rd & 1737/1739/1741/1743",112527312015,"1735 Millwoods Rd & 1737/1739/1741/1743","CRH","Civida","Ekota I","Edmonton","T6K3L9","Alberta Social Housing Corporation","Community Housing Program"]
["1125273120151803 Millwoods Rd & 1805/1807/1809/1811",112527312015,"1803 Millwoods Rd & 1805/1807/1809/1811","CRH","Civida","Ekota I","Edmonton","T6K3L9","Alberta Social Housing Corporation","Community Housing Program"]
["112527312015141 Millwoods Rd & 1843/1845/1847 &",112527312015,"141 Millwoods Rd & 1843/1845/1847 &","CRH","Civida","Ekota I","Edmonton","T6K3L9","Alberta Social Housing Corporation","Community Housing Program"]
["1125273120151733 Millwoods Rd",112527312015,"1733 Millwoods Rd","CRH","Civida","Ekota I","Edmonton","T6K3L9","Alberta Social Housing Corporation","Community Housing Program"]
["1125273120167008 - 17 Avenue NW",112527312016,"7008 - 17 Avenue NW","CRH","Civida","Ekota II","Edmonton","T6K2L8","Alberta Social Housing Corporation","Community Housing Program"]
["1125273120492403 - 105 Street NW & 2405/2407 &",112527312049,"2403 - 105 Street NW & 2405/2407 &","CRH","Civida","Ermineskin I","Edmonton","T6J5K5","Alberta Social Housing Corporation","Community Housing Program"]
["1125273120492415 - 105 Street & 2417/2419 &",112527312049,"2415 - 105 Street & 2417/2419 &","CRH","Civida","Ermineskin I","Edmonton","T6J5K5","Alberta Social Housing Corporation","Community Housing Program"]
["1125273120492427 - 105 Street & 2429/2431 &",112527312049,"2427 - 105 Street & 2429/2431 &","CRH","Civida","Ermineskin I","Edmonton","T6J5K5","Alberta Social Housing Corporation","Community Housing Program"]
["1125273120492437 - 105 Street & 2439/2441 &",112527312049,"2437 - 105 Street & 2439/2441 &","CRH","Civida","Ermineskin I","Edmonton","T6J5K5","Alberta Social Housing Corporation","Community Housing Program"]
["1125273120492449 - 105 Street & Units 2451/2453 &",112527312049,"2449 - 105 Street & Units 2451/2453 &","CRH","Civida","Ermineskin I","Edmonton","T6J5K5","Alberta Social Housing Corporation","Community Housing Program"]
["1125273120492461 - 105 Street & Units 2463/2465 &",112527312049,"2461 - 105 Street & Units 2463/2465 &","CRH","Civida","Ermineskin I","Edmonton","T6J5K5","Alberta Social Housing Corporation","Community Housing Program"]
["11252731207710727 - 24 Avenue NW (& Units 10729/",112527312077,"10727 - 24 Avenue NW (& Units 10729/","CRH","Civida","Ermineskin II","Edmonton","T6J5P9","Alberta Social Housing Corporation","Community Housing Program"]
["11252731207710743 - 24 Avenue (& Units 10745/10747/",112527312077,"10743 - 24 Avenue (& Units 10745/10747/","CRH","Civida","Ermineskin II","Edmonton","T6J5P9","Alberta Social Housing Corporation","Community Housing Program"]
["11252731207710757 - 24 Avenue (& Units 10759/10761/",112527312077,"10757 - 24 Avenue (& Units 10759/10761/","CRH","Civida","Ermineskin II","Edmonton","T6J5P9","Alberta Social Housing Corporation","Community Housing Program"]
["11252731207710765 - 24 Avenue (& Units 10767/10769",112527312077,"10765 - 24 Avenue (& Units 10767/10769","CRH","Civida","Ermineskin II","Edmonton","T6J5P9","Alberta Social Housing Corporation","Community Housing Program"]
["1125273120772303 - 109 Street (& Units 2305/2307/",112527312077,"2303 - 109 Street (& Units 2305/2307/","CRH","Civida","Ermineskin II","Edmonton","T6J5P9","Alberta Social Housing Corporation","Community Housing Program"]
["1125273120772317 - 109 Street (& Unit 2317/2319)",112527312077,"2317 - 109 Street (& Unit 2317/2319)","CRH","Civida","Ermineskin II","Edmonton","T6J5P9","Alberta Social Housing Corporation","Community Housing Program"]
["1125273120772323 - 109 Street (& Units 2325/2327/",112527312077,"2323 - 109 Street (& Units 2325/2327/","CRH","Civida","Ermineskin II","Edmonton","T6J5P9","Alberta Social Housing Corporation","Community Housing Program"]
["1125273120772335 - 109 Street (& Units 2337/2339/",112527312077,"2335 - 109 Street (& Units 2337/2339/","CRH","Civida","Ermineskin II","Edmonton","T6J5P9","Alberta Social Housing Corporation","Community Housing Program"]
["1125273120772343 - 109 Street (& Units 2345/2347/",112527312077,"2343 - 109 Street (& Units 2345/2347/","CRH","Civida","Ermineskin II","Edmonton","T6J5P9","Alberta Social Housing Corporation","Community Housing Program"]
["1125273120772404 - 108 Street (& Units 2406/2408/",112527312077,"2404 - 108 Street (& Units 2406/2408/","CRH","Civida","Ermineskin II","Edmonton","T6J5P9","Alberta Social Housing Corporation","Community Housing Program"]
["1125273100484403 to 4417 - 128 Avenue",112527310048,"4403 to 4417 - 128 Avenue","CRH","Civida","Hermitage I","Edmonton","T5A3M9","Alberta Social Housing Corporation","Community Housing Program"]
["1125273100484419 to 4433 - 128 Avenue",112527310048,"4419 to 4433 - 128 Avenue","CRH","Civida","Hermitage I","Edmonton","T5A3M9","Alberta Social Housing Corporation","Community Housing Program"]
["1125273100484435 to 4449 - 128 Avenue",112527310048,"4435 to 4449 - 128 Avenue","CRH","Civida","Hermitage I","Edmonton","T5A3M9","Alberta Social Housing Corporation","Community Housing Program"]
["112527310048501 to 511 Hermitage Rd.",112527310048,"501 to 511 Hermitage Rd.","CRH","Civida","Hermitage I","Edmonton","T5A3M9","Alberta Social Housing Corporation","Community Housing Program"]
["112527310048515 to 529 Hermitage Rd.",112527310048,"515 to 529 Hermitage Rd.","CRH","Civida","Hermitage I","Edmonton","T5A3M9","Alberta Social Housing Corporation","Community Housing Program"]
["112527310048531 to 537 Hermitage Rd.",112527310048,"531 to 537 Hermitage Rd.","CRH","Civida","Hermitage I","Edmonton","T5A3M9","Alberta Social Housing Corporation","Community Housing Program"]
["112527310048539 to 553 Hermitage Rd.",112527310048,"539 to 553 Hermitage Rd.","CRH","Civida","Hermitage I","Edmonton","T5A3M9","Alberta Social Housing Corporation","Community Housing Program"]
["112527310048513 Hermitage Rd.",112527310048,"513 Hermitage Rd.","CRH","Civida","Hermitage I","Edmonton","T5A3M9","Alberta Social Housing Corporation","Community Housing Program"]
["1125273120721181, 1183, 1185, 1187  Hyndman Road NW",112527312072,"1181, 1183, 1185, 1187  Hyndman Road NW","CRH","Civida","Hermitage III","Edmonton","T5A4S8","Alberta Social Housing Corporation","Community Housing Program"]
["1125273120721189 - 1203 Hyndman Road NW",112527312072,"1189 - 1203 Hyndman Road NW","CRH","Civida","Hermitage III","Edmonton","T5A4S8","Alberta Social Housing Corporation","Community Housing Program"]
["1125273120721205 - 1215 Hyndman Road NW",112527312072,"1205 - 1215 Hyndman Road NW","CRH","Civida","Hermitage III","Edmonton","T5A4S8","Alberta Social Housing Corporation","Community Housing Program"]
["1125273120721217 - 1227 Hyndman Road NW",112527312072,"1217 - 1227 Hyndman Road NW","CRH","Civida","Hermitage III","Edmonton","T5A4S8","Alberta Social Housing Corporation","Community Housing Program"]
["1125273120721229 - 1231 Hyndman Road NW",112527312072,"1229 - 1231 Hyndman Road NW","CRH","Civida","Hermitage III","Edmonton","T5A4S8","Alberta Social Housing Corporation","Community Housing Program"]
["1125273120721233 - 1239 Hyndman Road NW",112527312072,"1233 - 1239 Hyndman Road NW","CRH","Civida","Hermitage III","Edmonton","T5A4S8","Alberta Social Housing Corporation","Community Housing Program"]
["1125273120721243 - 1253 Hyndman Road NW",112527312072,"1243 - 1253 Hyndman Road NW","CRH","Civida","Hermitage III","Edmonton","T5A4S8","Alberta Social Housing Corporation","Community Housing Program"]
["1125273120721255 - 1269 Hyndman Road NW",112527312072,"1255 - 1269 Hyndman Road NW","CRH","Civida","Hermitage III","Edmonton","T5A4S8","Alberta Social Housing Corporation","Community Housing Program"]
["1125273120721271 - 1285 Hyndman Road NW",112527312072,"1271 - 1285 Hyndman Road NW","CRH","Civida","Hermitage III","Edmonton","T5A4S8","Alberta Social Housing Corporation","Community Housing Program"]
["112527312072352 - 360 Hyndman Crescent",112527312072,"352 - 360 Hyndman Crescent","CRH","Civida","Hermitage III","Edmonton","T5A4S8","Alberta Social Housing Corporation","Community Housing Program"]
["1125273120721241 Hyndman Road NW",112527312072,"1241 Hyndman Road NW","CRH","Civida","Hermitage III","Edmonton","T5A4S8","Alberta Social Housing Corporation","Community Housing Program"]
["1125273120475513 - 5519 38 Avenue",112527312047,"5513 - 5519 38 Avenue","CRH","Civida","Hillview III","Edmonton","T6L2Z1","Alberta Social Housing Corporation","Community Housing Program"]
["1125273120475521 - 5527 38 Avenue",112527312047,"5521 - 5527 38 Avenue","CRH","Civida","Hillview III","Edmonton","T6L2Z1","Alberta Social Housing Corporation","Community Housing Program"]
["1125273120475529 - 5535 38 Avenue",112527312047,"5529 - 5535 38 Avenue","CRH","Civida","Hillview III","Edmonton","T6L2Z1","Alberta Social Housing Corporation","Community Housing Program"]
["1125273120475537 - 5543 38 Avenue",112527312047,"5537 - 5543 38 Avenue","CRH","Civida","Hillview III","Edmonton","T6L2Z1","Alberta Social Housing Corporation","Community Housing Program"]
["112527312047451 - 459 Woodvale Road",112527312047,"451 - 459 Woodvale Road","CRH","Civida","Hillview III","Edmonton","T6L2Z1","Alberta Social Housing Corporation","Community Housing Program"]
["112527312046Units 1-7 Edmonton Hillview One NW",112527312046,"Units 1-7 Edmonton Hillview One NW","CRH","Civida","Hillview I","Edmonton","T6L5C4","Alberta Social Housing Corporation","Community Housing Program"]
["112527312046Units 8-20  Edmonton Hillview One",112527312046,"Units 8-20  Edmonton Hillview One","CRH","Civida","Hillview I","Edmonton","T6L5C4","Alberta Social Housing Corporation","Community Housing Program"]
["112527312046Units 21-30 Edmonton Hillview One",112527312046,"Units 21-30 Edmonton Hillview One","CRH","Civida","Hillview I","Edmonton","T6L5C4","Alberta Social Housing Corporation","Community Housing Program"]
["112527312046Units 31-35 Edmonton Hillview One",112527312046,"Units 31-35 Edmonton Hillview One","CRH","Civida","Hillview I","Edmonton","T6L5C4","Alberta Social Housing Corporation","Community Housing Program"]
["112527312046Units 36-40  Edmonton Hillview One",112527312046,"Units 36-40  Edmonton Hillview One","CRH","Civida","Hillview I","Edmonton","T6L5C4","Alberta Social Housing Corporation","Community Housing Program"]
["112527312046Units 42-45 Edmonton Hillview One",112527312046,"Units 42-45 Edmonton Hillview One","CRH","Civida","Hillview I","Edmonton","T6L5C4","Alberta Social Housing Corporation","Community Housing Program"]
[{"$f":"CONCATENATE(B1283,C1283)","v":"112527312046Units 46-55  Edmonton Hillview One"},112527312046,"Units 46-55  Edmonton Hillview One","CRH","Civida","Hillview I","Edmonton","T6L5C4","Alberta Social Housing Corporation","Community Housing Program"]
["112527312046Units 56-63 Edmonton Hillview One",112527312046,"Units 56-63 Edmonton Hillview One","CRH","Civida","Hillview I","Edmonton","T6L5C4","Alberta Social Housing Corporation","Community Housing Program"]
["112527312046Units 64-67 Edmonton Hillview One",112527312046,"Units 64-67 Edmonton Hillview One","CRH","Civida","Hillview I","Edmonton","T6L5C4","Alberta Social Housing Corporation","Community Housing Program"]
["112527312046Units 41- Edmonton Hillview One",112527312046,"Units 41- Edmonton Hillview One","CRH","Civida","Hillview I","Edmonton","T6L5C4","Alberta Social Housing Corporation","Community Housing Program"]
["1125273120475503 - 5511 38 Avenue NW",112527312047,"5503 - 5511 38 Avenue NW","CRH","Civida","Hillview III","Edmonton","T6L2Z1","Alberta Social Housing Corporation","Community Housing Program"]
["1125273120866110 - 6118 38 Avenue",112527312086,"6110 - 6118 38 Avenue","CRH","Civida","Hillview IV","Edmonton","T6L5S4","Alberta Social Housing Corporation","Community Housing Program"]
["1125273120866122 - 6134 38 Avenue",112527312086,"6122 - 6134 38 Avenue","CRH","Civida","Hillview IV","Edmonton","T6L5S4","Alberta Social Housing Corporation","Community Housing Program"]
["1125273120866136 - 6150 38 Avenue",112527312086,"6136 - 6150 38 Avenue","CRH","Civida","Hillview IV","Edmonton","T6L5S4","Alberta Social Housing Corporation","Community Housing Program"]
["1125273120863811 - 3821 Even 61 Avenue",112527312086,"3811 - 3821 Even 61 Avenue","CRH","Civida","Hillview IV","Edmonton","T6L5S4","Alberta Social Housing Corporation","Community Housing Program"]
["30000000102410765 – 98 Street",300000001024,"10765 – 98 Street","CRH","Civida","Hotel Grand Manor:","Edmonton","T5H 2P2","Housing Provider","None"]
["1125273120236904 - 6910, 29 Avenue",112527312023,"6904 - 6910, 29 Avenue","CRH","Civida","Kameyosek I","Edmonton","T6K3T4","Alberta Social Housing Corporation","Community Housing Program"]
["1125273120236912 - 6922, 29 Avenue",112527312023,"6912 - 6922, 29 Avenue","CRH","Civida","Kameyosek I","Edmonton","T6K3T4","Alberta Social Housing Corporation","Community Housing Program"]
["1125273120236924 - 6930, 29 Avenue",112527312023,"6924 - 6930, 29 Avenue","CRH","Civida","Kameyosek I","Edmonton","T6K3T4","Alberta Social Housing Corporation","Community Housing Program"]
["1125273120236932 - 6942, 29 Avenue",112527312023,"6932 - 6942, 29 Avenue","CRH","Civida","Kameyosek I","Edmonton","T6K3T4","Alberta Social Housing Corporation","Community Housing Program"]
["112527312023203 - 209 Lakewood Road East",112527312023,"203 - 209 Lakewood Road East","CRH","Civida","Kameyosek I","Edmonton","T6K3T4","Alberta Social Housing Corporation","Community Housing Program"]
["112527312023211 - 221 Lakewood Road East",112527312023,"211 - 221 Lakewood Road East","CRH","Civida","Kameyosek I","Edmonton","T6K3T4","Alberta Social Housing Corporation","Community Housing Program"]
["112527312023223 - 237 Lakewood Road East",112527312023,"223 - 237 Lakewood Road East","CRH","Civida","Kameyosek I","Edmonton","T6K3T4","Alberta Social Housing Corporation","Community Housing Program"]
["112527312023239 - 245 Lakewood Road East",112527312023,"239 - 245 Lakewood Road East","CRH","Civida","Kameyosek I","Edmonton","T6K3T4","Alberta Social Housing Corporation","Community Housing Program"]
["112527312023247 - 253 Lakewood Road East",112527312023,"247 - 253 Lakewood Road East","CRH","Civida","Kameyosek I","Edmonton","T6K3T4","Alberta Social Housing Corporation","Community Housing Program"]
["112527312023255 - 263 Lakewood Road East",112527312023,"255 - 263 Lakewood Road East","CRH","Civida","Kameyosek I","Edmonton","T6K3T4","Alberta Social Housing Corporation","Community Housing Program"]
["1125273120236903 - 6909, 31 Avenue",112527312023,"6903 - 6909, 31 Avenue","CRH","Civida","Kameyosek I","Edmonton","T6K3T4","Alberta Social Housing Corporation","Community Housing Program"]
["1125273120236911 - 6921, 31 Avenue",112527312023,"6911 - 6921, 31 Avenue","CRH","Civida","Kameyosek I","Edmonton","T6K3T4","Alberta Social Housing Corporation","Community Housing Program"]
["1125273120236923 - 6929, 31 Avenue",112527312023,"6923 - 6929, 31 Avenue","CRH","Civida","Kameyosek I","Edmonton","T6K3T4","Alberta Social Housing Corporation","Community Housing Program"]
["112527312023201 - Lakewood Road East",112527312023,"201 - Lakewood Road East","CRH","Civida","Kameyosek I","Edmonton","T6K3T4","Alberta Social Housing Corporation","Community Housing Program"]
["112527310039739 - 747 Lakewood Road",112527310039,"739 - 747 Lakewood Road","CRH","Civida","Kameyosek II","Edmonton","T6K2B1","Alberta Social Housing Corporation","Community Housing Program"]
["112527310039751 - 767 Lakewood Road",112527310039,"751 - 767 Lakewood Road","CRH","Civida","Kameyosek II","Edmonton","T6K2B1","Alberta Social Housing Corporation","Community Housing Program"]
["112527310039771 - 783 Lakewood Road",112527310039,"771 - 783 Lakewood Road","CRH","Civida","Kameyosek II","Edmonton","T6K2B1","Alberta Social Housing Corporation","Community Housing Program"]
["112527310039787 - 799 Lakewood Road",112527310039,"787 - 799 Lakewood Road","CRH","Civida","Kameyosek II","Edmonton","T6K2B1","Alberta Social Housing Corporation","Community Housing Program"]
["112527310039803 - 823 Lakewoodroad",112527310039,"803 - 823 Lakewoodroad","CRH","Civida","Kameyosek II","Edmonton","T6K2B1","Alberta Social Housing Corporation","Community Housing Program"]
["112527310039827 - 835 Lakewood Road",112527310039,"827 - 835 Lakewood Road","CRH","Civida","Kameyosek II","Edmonton","T6K2B1","Alberta Social Housing Corporation","Community Housing Program"]
["1125273127409724 - 180 Street NW",112527312740,"9724 - 180 Street NW","CRH","Civida","Kingfisher Estates","Edmonton","T5T3V3","Alberta Social Housing Corporation","Community Housing Program"]
["1125273127409704 - 180 Street NW",112527312740,"9704 - 180 Street NW","CRH","Civida","Kingfisher Estates","Edmonton","T5T3V3","Alberta Social Housing Corporation","Community Housing Program"]
["11252731274018017 - 98 Avenue NW",112527312740,"18017 - 98 Avenue NW","CRH","Civida","Kingfisher Estates","Edmonton","T5T3V2","Alberta Social Housing Corporation","Community Housing Program"]
["11252731274018013 - 98 Avenue NW",112527312740,"18013 - 98 Avenue NW","CRH","Civida","Kingfisher Estates","Edmonton","T5T3V2","Alberta Social Housing Corporation","Community Housing Program"]
["11252731274018003 - 98 Avenue NW",112527312740,"18003 - 98 Avenue NW","CRH","Civida","Kingfisher Estates","Edmonton","T5T3V2","Alberta Social Housing Corporation","Community Housing Program"]
["1125273127409726 - 180 Street NW",112527312740,"9726 - 180 Street NW","CRH","Civida","Kingfisher Estates","Edmonton","T5T3V3","Alberta Social Housing Corporation","Community Housing Program"]
["1125273127409720 - 180 Street NW",112527312740,"9720 - 180 Street NW","CRH","Civida","Kingfisher Estates","Edmonton","T5T3V3","Alberta Social Housing Corporation","Community Housing Program"]
["1125273127409728 - 180 Street NW",112527312740,"9728 - 180 Street NW","CRH","Civida","Kingfisher Estates","Edmonton","T5T3V3","Alberta Social Housing Corporation","Community Housing Program"]
["11252731274018015 - 98 Avenue NW",112527312740,"18015 - 98 Avenue NW","CRH","Civida","Kingfisher Estates","Edmonton","T5T3V2","Alberta Social Housing Corporation","Community Housing Program"]
["1125273127409734 - 180 Street NW",112527312740,"9734 - 180 Street NW","CRH","Civida","Kingfisher Estates","Edmonton","T5T3V3","Alberta Social Housing Corporation","Community Housing Program"]
["11252731274018011 - 98 Avenue NW",112527312740,"18011 - 98 Avenue NW","CRH","Civida","Kingfisher Estates","Edmonton","T5T3V2","Alberta Social Housing Corporation","Community Housing Program"]
["11252731274018025 - 98 Avenue NW",112527312740,"18025 - 98 Avenue NW","CRH","Civida","Kingfisher Estates","Edmonton","T5T3V2","Alberta Social Housing Corporation","Community Housing Program"]
["11252731274018029 - 98 Avenue NW",112527312740,"18029 - 98 Avenue NW","CRH","Civida","Kingfisher Estates","Edmonton","T5T3V2","Alberta Social Housing Corporation","Community Housing Program"]
["11252731274018021 - 98 Avenue NW",112527312740,"18021 - 98 Avenue NW","CRH","Civida","Kingfisher Estates","Edmonton","T5T3V2","Alberta Social Housing Corporation","Community Housing Program"]
["1125273127409738 - 180 Street NW",112527312740,"9738 - 180 Street NW","CRH","Civida","Kingfisher Estates","Edmonton","T5T3V3","Alberta Social Housing Corporation","Community Housing Program"]
["11252731274018033 - 98 Avenue NW",112527312740,"18033 - 98 Avenue NW","CRH","Civida","Kingfisher Estates","Edmonton","T5T3V2","Alberta Social Housing Corporation","Community Housing Program"]
["11252731274018023 - 98 Avenue NW",112527312740,"18023 - 98 Avenue NW","CRH","Civida","Kingfisher Estates","Edmonton","T5T3V2","Alberta Social Housing Corporation","Community Housing Program"]
["1125273127409722 - 180 Street NW",112527312740,"9722 - 180 Street NW","CRH","Civida","Kingfisher Estates","Edmonton","T5T3V3","Alberta Social Housing Corporation","Community Housing Program"]
["11252731274018027 - 98 Avenue NW",112527312740,"18027 - 98 Avenue NW","CRH","Civida","Kingfisher Estates","Edmonton","T5T3V2","Alberta Social Housing Corporation","Community Housing Program"]
["1125273127409736 - 180 Street NW",112527312740,"9736 - 180 Street NW","CRH","Civida","Kingfisher Estates","Edmonton","T5T3V2","Alberta Social Housing Corporation","Community Housing Program"]
["1125273127409718 - 180 Street NW",112527312740,"9718 - 180 Street NW","CRH","Civida","Kingfisher Estates","Edmonton","T5T3V3","Alberta Social Housing Corporation","Community Housing Program"]
["1125273127409714 - 180 Street NW",112527312740,"9714 - 180 Street NW","CRH","Civida","Kingfisher Estates","Edmonton","T5T3V3","Alberta Social Housing Corporation","Community Housing Program"]
["1125273127409712 - 180 Street NW",112527312740,"9712 - 180 Street NW","CRH","Civida","Kingfisher Estates","Edmonton","T5T3V3","Alberta Social Housing Corporation","Community Housing Program"]
["1125273127409710 - 180 Street NW",112527312740,"9710 - 180 Street NW","CRH","Civida","Kingfisher Estates","Edmonton","T5T3V3","Alberta Social Housing Corporation","Community Housing Program"]
["1125273127409706 - 180 Street NW",112527312740,"9706 - 180 Street NW","CRH","Civida","Kingfisher Estates","Edmonton","T5T3V3","Alberta Social Housing Corporation","Community Housing Program"]
["11252731274018005 - 98 Avenue NW",112527312740,"18005 - 98 Avenue NW","CRH","Civida","Kingfisher Estates","Edmonton","T5T3V2","Alberta Social Housing Corporation","Community Housing Program"]
["11252731274018007 - 98 Avenue NW",112527312740,"18007 - 98 Avenue NW","CRH","Civida","Kingfisher Estates","Edmonton","T5T3V2","Alberta Social Housing Corporation","Community Housing Program"]
["11252731274018031 - 98 Avenue NW",112527312740,"18031 - 98 Avenue NW","CRH","Civida","Kingfisher Estates","Edmonton","T5T3V2","Alberta Social Housing Corporation","Community Housing Program"]
["11252731274018019 - 98 Avenue NW",112527312740,"18019 - 98 Avenue NW","CRH","Civida","Kingfisher Estates","Edmonton","T5T3V2","Alberta Social Housing Corporation","Community Housing Program"]
["1125273127409708 - 180 Street NW",112527312740,"9708 - 180 Street NW","CRH","Civida","Kingfisher Estates","Edmonton","T5T3V3","Alberta Social Housing Corporation","Community Housing Program"]
["1125273127409732 - 180 Street NW",112527312740,"9732 - 180 Street NW","CRH","Civida","Kingfisher Estates","Edmonton","T5T3V2","Alberta Social Housing Corporation","Community Housing Program"]
["11252731274018039 - 98 Avenue NW",112527312740,"18039 - 98 Avenue NW","CRH","Civida","Kingfisher Estates","Edmonton","T5T3V2","Alberta Social Housing Corporation","Community Housing Program"]
["1125273127409716 - 180 Street NW",112527312740,"9716 - 180 Street NW","CRH","Civida","Kingfisher Estates","Edmonton","T5T3V3","Alberta Social Housing Corporation","Community Housing Program"]
["1125273127409730 - 180 Street NW",112527312740,"9730 - 180 Street NW","CRH","Civida","Kingfisher Estates","Edmonton","T5T3V3","Alberta Social Housing Corporation","Community Housing Program"]
[{"$f":"CONCATENATE(B1347,C1347)","v":"11252731274018035 - 98 Avenue NW"},112527312740,"18035 - 98 Avenue NW","CRH","Civida","Kingfisher Estates","Edmonton","T5T3V2","Alberta Social Housing Corporation","Community Housing Program"]
["11252731274018037 - 98 Avenue NW",112527312740,"18037 - 98 Avenue NW","CRH","Civida","Kingfisher Estates","Edmonton","T5T3V2","Alberta Social Housing Corporation","Community Housing Program"]
["112527310047250, 254, 258, 262 Millbourne Rd E",112527310047,"250, 254, 258, 262 Millbourne Rd E","CRH","Civida","Lee Ridge II","Edmonton","T6K3B2","Alberta Social Housing Corporation","Community Housing Program"]
["112527310047266, 270, 274, 278 Millbourne Rd E",112527310047,"266, 270, 274, 278 Millbourne Rd E","CRH","Civida","Lee Ridge II","Edmonton","T6K3B2","Alberta Social Housing Corporation","Community Housing Program"]
["112527310047282, 286, 338, 342 Millbourne Rd E",112527310047,"282, 286, 338, 342 Millbourne Rd E","CRH","Civida","Lee Ridge II","Edmonton","T6K3B2","Alberta Social Housing Corporation","Community Housing Program"]
["112527310047290, 310, 330, 334 Millbourne Rd E",112527310047,"290, 310, 330, 334 Millbourne Rd E","CRH","Civida","Lee Ridge II","Edmonton","T6K3B2","Alberta Social Housing Corporation","Community Housing Program"]
["112527310047294, 298, 302, 306 Millbourne Rd E",112527310047,"294, 298, 302, 306 Millbourne Rd E","CRH","Civida","Lee Ridge II","Edmonton","T6K3B2","Alberta Social Housing Corporation","Community Housing Program"]
["112527310047314, 318, 322, 326 Millbourne Rd E",112527310047,"314, 318, 322, 326 Millbourne Rd E","CRH","Civida","Lee Ridge II","Edmonton","T6K3B2","Alberta Social Housing Corporation","Community Housing Program"]
["112527310047346, 350, 354, 358 Millbourne Rd E",112527310047,"346, 350, 354, 358 Millbourne Rd E","CRH","Civida","Lee Ridge II","Edmonton","T6K3B2","Alberta Social Housing Corporation","Community Housing Program"]
["112527310047362, 366, 370, 374 Millbourne Rd E",112527310047,"362, 366, 370, 374 Millbourne Rd E","CRH","Civida","Lee Ridge II","Edmonton","T6K3B2","Alberta Social Housing Corporation","Community Housing Program"]
["1125273120307504 -7512 36B Avenue NW",112527312030,"7504 -7512 36B Avenue NW","CRH","Civida","Lee Ridge III","Edmonton","T6K3T2","Alberta Social Housing Corporation","Community Housing Program"]
["1125273120307514 - 7528 36B Avenue",112527312030,"7514 - 7528 36B Avenue","CRH","Civida","Lee Ridge III","Edmonton","T6K3T2","Alberta Social Housing Corporation","Community Housing Program"]
["1125273120307530 - 7544 36B Avenue",112527312030,"7530 - 7544 36B Avenue","CRH","Civida","Lee Ridge III","Edmonton","T6K3T2","Alberta Social Housing Corporation","Community Housing Program"]
["1125273120307546 - 7554 36B Avenue",112527312030,"7546 - 7554 36B Avenue","CRH","Civida","Lee Ridge III","Edmonton","T6K3T2","Alberta Social Housing Corporation","Community Housing Program"]
["1125273120307556 - 7566 36B Avenue",112527312030,"7556 - 7566 36B Avenue","CRH","Civida","Lee Ridge III","Edmonton","T6K3T2","Alberta Social Housing Corporation","Community Housing Program"]
["1125273120303639 - 3655 Millwoods Road",112527312030,"3639 - 3655 Millwoods Road","CRH","Civida","Lee Ridge III","Edmonton","T6K3T2","Alberta Social Housing Corporation","Community Housing Program"]
["1125273120303657 - 3665 Millwoods Road",112527312030,"3657 - 3665 Millwoods Road","CRH","Civida","Lee Ridge III","Edmonton","T6K3T2","Alberta Social Housing Corporation","Community Housing Program"]
["1125273120303669 - 3677 Millwoods Road",112527312030,"3669 - 3677 Millwoods Road","CRH","Civida","Lee Ridge III","Edmonton","T6K3T2","Alberta Social Housing Corporation","Community Housing Program"]
["1125273120303679 - 3693 Millwoods Road",112527312030,"3679 - 3693 Millwoods Road","CRH","Civida","Lee Ridge III","Edmonton","T6K3T2","Alberta Social Housing Corporation","Community Housing Program"]
["1125273120303667- Millwoods Road",112527312030,"3667- Millwoods Road","CRH","Civida","Lee Ridge III","Edmonton","T6K3T2","Alberta Social Housing Corporation","Community Housing Program"]
["112527310046451, 453, 455, 457  Millbourne Rd E",112527310046,"451, 453, 455, 457  Millbourne Rd E","CRH","Civida","Lee Ridge I","Edmonton","T6K0P4","Alberta Social Housing Corporation","Community Housing Program"]
["112527310046459-475 Millbourne Rd E",112527310046,"459-475 Millbourne Rd E","CRH","Civida","Lee Ridge I","Edmonton","T6K0P4","Alberta Social Housing Corporation","Community Housing Program"]
["112527310046477, 479 Millbourne Rd E",112527310046,"477, 479 Millbourne Rd E","CRH","Civida","Lee Ridge I","Edmonton","T6K0P4","Alberta Social Housing Corporation","Community Housing Program"]
["112527310046481, 483, 485, 487 Millbourne Rd E",112527310046,"481, 483, 485, 487 Millbourne Rd E","CRH","Civida","Lee Ridge I","Edmonton","T6K0P4","Alberta Social Housing Corporation","Community Housing Program"]
["112527310046495, 497, 499, 501 Millbourne Rd E",112527310046,"495, 497, 499, 501 Millbourne Rd E","CRH","Civida","Lee Ridge I","Edmonton","T6K0P4","Alberta Social Housing Corporation","Community Housing Program"]
["112527310046503 - 517 Millbourne Rd E",112527310046,"503 - 517 Millbourne Rd E","CRH","Civida","Lee Ridge I","Edmonton","T6K0P4","Alberta Social Housing Corporation","Community Housing Program"]
["112527310046519 - 531 Millbourne Rd E",112527310046,"519 - 531 Millbourne Rd E","CRH","Civida","Lee Ridge I","Edmonton","T6K0P4","Alberta Social Housing Corporation","Community Housing Program"]
["112527310046533, 535, 537, 539 Millbourne Rd E",112527310046,"533, 535, 537, 539 Millbourne Rd E","CRH","Civida","Lee Ridge I","Edmonton","T6K0P4","Alberta Social Housing Corporation","Community Housing Program"]
["112527310046541, 543, 545, 547 Millbourne Rd E",112527310046,"541, 543, 545, 547 Millbourne Rd E","CRH","Civida","Lee Ridge I","Edmonton","T6K0P4","Alberta Social Housing Corporation","Community Housing Program"]
["112527310046551, 553 Millbourne Rd E",112527310046,"551, 553 Millbourne Rd E","CRH","Civida","Lee Ridge I","Edmonton","T6K0P4","Alberta Social Housing Corporation","Community Housing Program"]
["112527310046555, 557, 559 Millbourne Rd E",112527310046,"555, 557, 559 Millbourne Rd E","CRH","Civida","Lee Ridge I","Edmonton","T6K0P4","Alberta Social Housing Corporation","Community Housing Program"]
["112527310046549 Millbourne Rd E",112527310046,"549 Millbourne Rd E","CRH","Civida","Lee Ridge I","Edmonton","T6K0P4","Alberta Social Housing Corporation","Community Housing Program"]
["11252731285314540 72 Street NW",112527312853,"14540 72 Street NW","CRH","Civida","Londonderry Municipal","Edmonton",null,"Joint Ownership","Community Housing Program"]
["11252731200710503 - 164 Avenue NW",112527312007,"10503 - 164 Avenue NW","CRH","Civida","Lorelei I","Edmonton","T5X2J2","Alberta Social Housing Corporation","Community Housing Program"]
["11252731200710511 - 164 Avenue",112527312007,"10511 - 164 Avenue","CRH","Civida","Lorelei I","Edmonton","T5X2J2","Alberta Social Housing Corporation","Community Housing Program"]
["11252731200710515 - 164 Avenue",112527312007,"10515 - 164 Avenue","CRH","Civida","Lorelei I","Edmonton","T5X2J2","Alberta Social Housing Corporation","Community Housing Program"]
["11252731200710603 - 164 Avenue",112527312007,"10603 - 164 Avenue","CRH","Civida","Lorelei I","Edmonton","T5X2J2","Alberta Social Housing Corporation","Community Housing Program"]
["11252731200710703 - 164 Avenue",112527312007,"10703 - 164 Avenue","CRH","Civida","Lorelei I","Edmonton","T5X2J2","Alberta Social Housing Corporation","Community Housing Program"]
["11252731200810710 - 165 Avenue NW",112527312008,"10710 - 165 Avenue NW","CRH","Civida","Lorelei II","Edmonton","T5X1X8","Alberta Social Housing Corporation","Community Housing Program"]
["11252731200810804 - 165 Avenue",112527312008,"10804 - 165 Avenue","CRH","Civida","Lorelei II","Edmonton","T5X1X8","Alberta Social Housing Corporation","Community Housing Program"]
["11252731200816503 - 109 Street",112527312008,"16503 - 109 Street","CRH","Civida","Lorelei II","Edmonton","T5X1X8","Alberta Social Housing Corporation","Community Housing Program"]
["11252731200910903 - 168A Avenue NW",112527312009,"10903 - 168A Avenue NW","CRH","Civida","Lorelei III","Edmonton","T5X3A2","Alberta Social Housing Corporation","Community Housing Program"]
["11252731200910915 - 168A Avenue",112527312009,"10915 - 168A Avenue","CRH","Civida","Lorelei III","Edmonton","T5X3A2","Alberta Social Housing Corporation","Community Housing Program"]
["11252731200910927 - 168A Avenue",112527312009,"10927 - 168A Avenue","CRH","Civida","Lorelei III","Edmonton","T5X3A2","Alberta Social Housing Corporation","Community Housing Program"]
["11252731200916814 - 109 Street",112527312009,"16814 - 109 Street","CRH","Civida","Lorelei III","Edmonton","T5X3A2","Alberta Social Housing Corporation","Community Housing Program"]
["11252731200916812 - 109 Street",112527312009,"16812 - 109 Street","CRH","Civida","Lorelei III","Edmonton","T5X3A2","Alberta Social Housing Corporation","Community Housing Program"]
["11252731201010909 - 163A Avenue NW",112527312010,"10909 - 163A Avenue NW","CRH","Civida","Lorelei IV","Edmonton","T5X2S3","Alberta Social Housing Corporation","Community Housing Program"]
["11252731201010911 - 163A Avenue",112527312010,"10911 - 163A Avenue","CRH","Civida","Lorelei IV","Edmonton","T5X2S3","Alberta Social Housing Corporation","Community Housing Program"]
["11252731201016304 - 109 Street",112527312010,"16304 - 109 Street","CRH","Civida","Lorelei IV","Edmonton","T5X2S3","Alberta Social Housing Corporation","Community Housing Program"]
["11252731201016246 - 109 Street",112527312010,"16246 - 109 Street","CRH","Civida","Lorelei IV","Edmonton","T5X2S3","Alberta Social Housing Corporation","Community Housing Program"]
["11252731201016240 - 109 Street",112527312010,"16240 - 109 Street","CRH","Civida","Lorelei IV","Edmonton","T5X2S3","Alberta Social Housing Corporation","Community Housing Program"]
["11252731201110403 - 164 Avenue NW",112527312011,"10403 - 164 Avenue NW","CRH","Civida","Lorelei V","Edmonton","T5X2J2","Alberta Social Housing Corporation","Community Housing Program"]
["11252731201110411 - 164 Avenue",112527312011,"10411 - 164 Avenue","CRH","Civida","Lorelei V","Edmonton","T5X2J2","Alberta Social Housing Corporation","Community Housing Program"]
["11252731201216113 - 103 Street NW",112527312012,"16113 - 103 Street NW","CRH","Civida","Lorelei VI","Edmonton","T5X2P7","Alberta Social Housing Corporation","Community Housing Program"]
["11252731201216209 - 103 Street",112527312012,"16209 - 103 Street","CRH","Civida","Lorelei VI","Edmonton","T5X2P7","Alberta Social Housing Corporation","Community Housing Program"]
["11252731201216201 - 103 Street",112527312012,"16201 - 103 Street","CRH","Civida","Lorelei VI","Edmonton","T5X2P7","Alberta Social Housing Corporation","Community Housing Program"]
["11252731201216219 - 103 Street",112527312012,"16219 - 103 Street","CRH","Civida","Lorelei VI","Edmonton","T5X2P7","Alberta Social Housing Corporation","Community Housing Program"]
["11252731201216227 - 103 Street",112527312012,"16227 - 103 Street","CRH","Civida","Lorelei VI","Edmonton","T5X2P7","Alberta Social Housing Corporation","Community Housing Program"]
["11252731201216239 - 103 Street",112527312012,"16239 - 103 Street","CRH","Civida","Lorelei VI","Edmonton","T5X2P7","Alberta Social Housing Corporation","Community Housing Program"]
["11252731201216249 - 103 Street",112527312012,"16249 - 103 Street","CRH","Civida","Lorelei VI","Edmonton","T5X2P7","Alberta Social Housing Corporation","Community Housing Program"]
["11252731201216217 - 103 Street",112527312012,"16217 - 103 Street","CRH","Civida","Lorelei VI","Edmonton","T5X2P7","Alberta Social Housing Corporation","Community Housing Program"]
["1125273120367403 - 7423, 180 Street NW",112527312036,"7403 - 7423, 180 Street NW","CRH","Civida","Lymburn I","Edmonton","T5T2K9","Alberta Social Housing Corporation","Community Housing Program"]
["1125273120367427 - 7435, 180 Street NW",112527312036,"7427 - 7435, 180 Street NW","CRH","Civida","Lymburn I","Edmonton","T5T2K9","Alberta Social Housing Corporation","Community Housing Program"]
["1125273120367503 - 7523, 180 Street NW",112527312036,"7503 - 7523, 180 Street NW","CRH","Civida","Lymburn I","Edmonton","T5T2K9","Alberta Social Housing Corporation","Community Housing Program"]
[{"$f":"CONCATENATE(B1411,C1411)","v":"1125273120367525 - 7535, 180 Street NW"},112527312036,"7525 - 7535, 180 Street NW","CRH","Civida","Lymburn I","Edmonton","T5T2K9","Alberta Social Housing Corporation","Community Housing Program"]
["1125273120367537 - 7543, 180 Street NW",112527312036,"7537 - 7543, 180 Street NW","CRH","Civida","Lymburn I","Edmonton","T5T2K9","Alberta Social Housing Corporation","Community Housing Program"]
["1125273120367545 - 7565, 180 Street NW",112527312036,"7545 - 7565, 180 Street NW","CRH","Civida","Lymburn I","Edmonton","T5T2K9","Alberta Social Housing Corporation","Community Housing Program"]
["1125273120367425 - 180 Street NW",112527312036,"7425 - 180 Street NW","CRH","Civida","Lymburn I","Edmonton","T5T2K9","Alberta Social Housing Corporation","Community Housing Program"]
["112527312081B01, 9541 - 108A Avenue NW",112527312081,"B01, 9541 - 108A Avenue NW","CRH","Civida","McCauley","Edmonton","T5H4G8","Alberta Social Housing Corporation","Community Housing Program"]
["1125273120877211 - 7221  Millwoods Road South",112527312087,"7211 - 7221  Millwoods Road South","CRH","Civida","Menisa I","Edmonton","T6K3Z9","Alberta Social Housing Corporation","Community Housing Program"]
["1125273120877223 - 7229 Millwoods Road South",112527312087,"7223 - 7229 Millwoods Road South","CRH","Civida","Menisa I","Edmonton","T6K3Z9","Alberta Social Housing Corporation","Community Housing Program"]
["1125273120877231 - 7235 Millwoods Road South",112527312087,"7231 - 7235 Millwoods Road South","CRH","Civida","Menisa I","Edmonton","T6K3Z9","Alberta Social Housing Corporation","Community Housing Program"]
["1125273120877243 - 7249 Millwoods Road South",112527312087,"7243 - 7249 Millwoods Road South","CRH","Civida","Menisa I","Edmonton","T6K3Z9","Alberta Social Housing Corporation","Community Housing Program"]
["1125273120877237 - 7241 Millwoods Road South",112527312087,"7237 - 7241 Millwoods Road South","CRH","Civida","Menisa I","Edmonton","T6K3Z9","Alberta Social Housing Corporation","Community Housing Program"]
["1125273120877251 - 7255 Millwoods Road South",112527312087,"7251 - 7255 Millwoods Road South","CRH","Civida","Menisa I","Edmonton","T6K3Z9","Alberta Social Housing Corporation","Community Housing Program"]
["1125273120877257 - 7261 Mill Woods Road South",112527312087,"7257 - 7261 Mill Woods Road South","CRH","Civida","Menisa I","Edmonton","T6K3Z9","Alberta Social Housing Corporation","Community Housing Program"]
["1125273120885603 - 22 Avenue NW",112527312088,"5603 - 22 Avenue NW","CRH","Civida","Meyokumin I","Edmonton","T6L5L7","Alberta Social Housing Corporation","Community Housing Program"]
["1125273120882031 57 Street",112527312088,"2031 57 Street","CRH","Civida","Meyokumin I","Edmonton","T6L5L7","Alberta Social Housing Corporation","Community Housing Program"]
["1125273120882024 56 Street",112527312088,"2024 56 Street","CRH","Civida","Meyokumin I","Edmonton","T6L5L7","Alberta Social Housing Corporation","Community Housing Program"]
["1125273120882011 57 Street",112527312088,"2011 57 Street","CRH","Civida","Meyokumin I","Edmonton","T6L5L7","Alberta Social Housing Corporation","Community Housing Program"]
["1125273120882003 57 Street",112527312088,"2003 57 Street","CRH","Civida","Meyokumin I","Edmonton","T6L5L7","Alberta Social Housing Corporation","Community Housing Program"]
["1125273100401163 Millbourne Road E",112527310040,"1163 Millbourne Road E","CRH","Civida","Michaels Park I","Edmonton","T6K0W4","Alberta Social Housing Corporation","Community Housing Program"]
["1125273100401171 Millbourne Road E",112527310040,"1171 Millbourne Road E","CRH","Civida","Michaels Park I","Edmonton","T6K0W4","Alberta Social Housing Corporation","Community Housing Program"]
["1125273100401181 Millbourne Road E",112527310040,"1181 Millbourne Road E","CRH","Civida","Michaels Park I","Edmonton","T6K0W4","Alberta Social Housing Corporation","Community Housing Program"]
["112527312099820 Millbourne Road E",112527312099,"820 Millbourne Road E","CRH","Civida","Michaels Park II","Edmonton","T6K2P8","Alberta Social Housing Corporation","Community Housing Program"]
["1125273120997116 38 Avenue",112527312099,"7116 38 Avenue","CRH","Civida","Michaels Park II","Edmonton","T6K2P8","Alberta Social Housing Corporation","Community Housing Program"]
["1125273120997124 38 Avenue",112527312099,"7124 38 Avenue","CRH","Civida","Michaels Park II","Edmonton","T6K2P8","Alberta Social Housing Corporation","Community Housing Program"]
["1125273120997132 38 Avenue",112527312099,"7132 38 Avenue","CRH","Civida","Michaels Park II","Edmonton","T6K2P8","Alberta Social Housing Corporation","Community Housing Program"]
["1125273120997140 38 Avenue",112527312099,"7140 38 Avenue","CRH","Civida","Michaels Park II","Edmonton","T6K2P8","Alberta Social Housing Corporation","Community Housing Program"]
["1125273120997148 38 Avenue",112527312099,"7148 38 Avenue","CRH","Civida","Michaels Park II","Edmonton","T6K2P8","Alberta Social Housing Corporation","Community Housing Program"]
["1125273120997156 38 Avenue",112527312099,"7156 38 Avenue","CRH","Civida","Michaels Park II","Edmonton","T6K2P8","Alberta Social Housing Corporation","Community Housing Program"]
["1125273120997104 - 38 Avenue NW",112527312099,"7104 - 38 Avenue NW","CRH","Civida","Michaels Park II","Edmonton","T6K2P8","Alberta Social Housing Corporation","Community Housing Program"]
["112527312099804 Milbourne Road E",112527312099,"804 Milbourne Road E","CRH","Civida","Michaels Park II","Edmonton","T6K2P8","Alberta Social Housing Corporation","Community Housing Program"]
["112527312099812 Millbourne Road E",112527312099,"812 Millbourne Road E","CRH","Civida","Michaels Park II","Edmonton","T6K2P8","Alberta Social Housing Corporation","Community Housing Program"]
["1125273100012120  - 78 Street NW",112527310001,"2120  - 78 Street NW","CRH","Civida","Millwoods Experimental","Edmonton","T6K2E5","Alberta Social Housing Corporation","Community Housing Program"]
["112527310001707 Knottwood S Road NW",112527310001,"707 Knottwood S Road NW","CRH","Civida","Millwoods Experimental","Edmonton","T6K1W3","Alberta Social Housing Corporation","Community Housing Program"]
["1125273100018103 - 17 Avenue NW",112527310001,"8103 - 17 Avenue NW","CRH","Civida","Millwoods Experimental","Edmonton","T6K2C7","Alberta Social Housing Corporation","Community Housing Program"]
["1125273100011048 - 80 Street NW",112527310001,"1048 - 80 Street NW","CRH","Civida","Millwoods Experimental","Edmonton","T6K2C5","Alberta Social Housing Corporation","Community Housing Program"]
["1125273100012104 - 85 Street NW",112527310001,"2104 - 85 Street NW","CRH","Civida","Millwoods Experimental","Edmonton","T6K2G3","Alberta Social Housing Corporation","Community Housing Program"]
["112527310001347 Knottwood N Road NW",112527310001,"347 Knottwood N Road NW","CRH","Civida","Millwoods Experimental","Edmonton","T6K2G5","Alberta Social Housing Corporation","Community Housing Program"]
["1125273128306521 - 120 Avenue NW",112527312830,"6521 - 120 Avenue NW","CRH","Civida","Montrose I","Edmonton","T5W5H6","Alberta Social Housing Corporation","Community Housing Program"]
["11252731283011921 - 66 Street NW",112527312830,"11921 - 66 Street NW","CRH","Civida","Montrose I","Edmonton","T5W5H6","Alberta Social Housing Corporation","Community Housing Program"]
["11252731283011925 - 66 Street NW",112527312830,"11925 - 66 Street NW","CRH","Civida","Montrose I","Edmonton","T5W5H6","Alberta Social Housing Corporation","Community Housing Program"]
["11252731283011933 - 66 Street NW",112527312830,"11933 - 66 Street NW","CRH","Civida","Montrose I","Edmonton","T5W5H6","Alberta Social Housing Corporation","Community Housing Program"]
["11252731283011941 - 66 Street NW",112527312830,"11941 - 66 Street NW","CRH","Civida","Montrose I","Edmonton","T5W5H6","Alberta Social Housing Corporation","Community Housing Program"]
["1125273128707103 - 129 Avenue NW",112527312870,"7103 - 129 Avenue NW","CRH","Civida","New Delton I","Edmonton","T5C1V9","Alberta Social Housing Corporation","Community Housing Program"]
["1125273128707115 - 129 Avenue NW",112527312870,"7115 - 129 Avenue NW","CRH","Civida","New Delton I","Edmonton","T5C1V9","Alberta Social Housing Corporation","Community Housing Program"]
["11252731287012810 - 71 Street NW",112527312870,"12810 - 71 Street NW","CRH","Civida","New Delton I","Edmonton","T5C0M2","Alberta Social Housing Corporation","Community Housing Program"]
["11252731287012811 - 72 Street NW",112527312870,"12811 - 72 Street NW","CRH","Civida","New Delton I","Edmonton","T5C0P4","Alberta Social Housing Corporation","Community Housing Program"]
["11252731287112803 - 68 Street NW",112527312871,"12803 - 68 Street NW","CRH","Civida","New Delton II","Edmonton","T5C0E6","Alberta Social Housing Corporation","Community Housing Program"]
["11252731287112811 - 68 Street",112527312871,"12811 - 68 Street","CRH","Civida","New Delton II","Edmonton","T5C0E6","Alberta Social Housing Corporation","Community Housing Program"]
["11252731287112815 - 68 Street",112527312871,"12815 - 68 Street","CRH","Civida","New Delton II","Edmonton","T5C0E6","Alberta Social Housing Corporation","Community Housing Program"]
["11252731287112823 - 68 Street",112527312871,"12823 - 68 Street","CRH","Civida","New Delton II","Edmonton","T5C0E6","Alberta Social Housing Corporation","Community Housing Program"]
["11252731287112827 - 68 Street",112527312871,"12827 - 68 Street","CRH","Civida","New Delton II","Edmonton","T5C0E6","Alberta Social Housing Corporation","Community Housing Program"]
["11252731209211618 - 95A Street NW",112527312092,"11618 - 95A Street NW","CRH","Civida","Norwood II (Infill)","Edmonton","T5G1P8","Alberta Social Housing Corporation","Community Housing Program"]
["11252731209211622 - 95A Street NW",112527312092,"11622 - 95A Street NW","CRH","Civida","Norwood II (Infill)","Edmonton","T5G1P8","Alberta Social Housing Corporation","Community Housing Program"]
["11252731209211626 - 95A Street NW",112527312092,"11626 - 95A Street NW","CRH","Civida","Norwood II (Infill)","Edmonton","T5G1P8","Alberta Social Housing Corporation","Community Housing Program"]
["11252731209211624 - 95A Street NW",112527312092,"11624 - 95A Street NW","CRH","Civida","Norwood II (Infill)","Edmonton","T5G1P8","Alberta Social Housing Corporation","Community Housing Program"]
["11252731209311509 - 97 Street NW",112527312093,"11509 - 97 Street NW","CRH","Civida","Norwood III (Infill)","Edmonton","T5G1X7","Alberta Social Housing Corporation","Community Housing Program"]
["11252731209311503 - 97 Street NW",112527312093,"11503 - 97 Street NW","CRH","Civida","Norwood III (Infill)","Edmonton","T5G1X7","Alberta Social Housing Corporation","Community Housing Program"]
["11252731209311505 - 97 Street NW",112527312093,"11505 - 97 Street NW","CRH","Civida","Norwood III (Infill)","Edmonton","T5G1X7","Alberta Social Housing Corporation","Community Housing Program"]
["11252731209311507 - 97 Street NW",112527312093,"11507 - 97 Street NW","CRH","Civida","Norwood III (Infill)","Edmonton","T5G1X7","Alberta Social Housing Corporation","Community Housing Program"]
["11252731209411445 - 97 Street NW",112527312094,"11445 - 97 Street NW","CRH","Civida","Norwood Phase 2 (Infill)","Edmonton","T5G1X6","Alberta Social Housing Corporation","Community Housing Program"]
["11252731209411437 - 97 Street NW",112527312094,"11437 - 97 Street NW","CRH","Civida","Norwood Phase 2 (Infill)","Edmonton","T5G1X6","Alberta Social Housing Corporation","Community Housing Program"]
["11252731209411441 - 97 Street NW",112527312094,"11441 - 97 Street NW","CRH","Civida","Norwood Phase 2 (Infill)","Edmonton","T5G1X6","Alberta Social Housing Corporation","Community Housing Program"]
["11252731209411443 - 97 Street NW",112527312094,"11443 - 97 Street NW","CRH","Civida","Norwood Phase 2 (Infill)","Edmonton","T5G1X6","Alberta Social Housing Corporation","Community Housing Program"]
["11252731209511114 - 96 Street NW",112527312095,"11114 - 96 Street NW","CRH","Civida","Norwood Phase 6 (Infill)","Edmonton","T5G1S7","Alberta Social Housing Corporation","Community Housing Program"]
["11252731209511118 - 96 Street NW",112527312095,"11118 - 96 Street NW","CRH","Civida","Norwood Phase 6 (Infill)","Edmonton","T5G1S7","Alberta Social Housing Corporation","Community Housing Program"]
[{"$f":"CONCATENATE(B1475,C1475)","v":"1125273120336207 - 178 Street NW"},112527312033,"6207 - 178 Street NW","CRH","Civida","Ormsby Place I","Edmonton","T5T3B8","Alberta Social Housing Corporation","Community Housing Program"]
["1125273120336215 - 6223, 178 Street NW",112527312033,"6215 - 6223, 178 Street NW","CRH","Civida","Ormsby Place I","Edmonton","T5T3B8","Alberta Social Housing Corporation","Community Housing Program"]
["1125273120336225 - 6233, 178 Street NW",112527312033,"6225 - 6233, 178 Street NW","CRH","Civida","Ormsby Place I","Edmonton","T5T3B8","Alberta Social Housing Corporation","Community Housing Program"]
["1125273120336235 - 6251, 178 Street NW",112527312033,"6235 - 6251, 178 Street NW","CRH","Civida","Ormsby Place I","Edmonton","T5T3B8","Alberta Social Housing Corporation","Community Housing Program"]
["1125273120336253 - 6269, 178 Street NW",112527312033,"6253 - 6269, 178 Street NW","CRH","Civida","Ormsby Place I","Edmonton","T5T3B8","Alberta Social Housing Corporation","Community Housing Program"]
["1125273120336271 - 6279, 178 Street NW",112527312033,"6271 - 6279, 178 Street NW","CRH","Civida","Ormsby Place I","Edmonton","T5T3B8","Alberta Social Housing Corporation","Community Housing Program"]
["1125273120336281 - 6293, 178 Street NW",112527312033,"6281 - 6293, 178 Street NW","CRH","Civida","Ormsby Place I","Edmonton","T5T3B8","Alberta Social Housing Corporation","Community Housing Program"]
["1125273120336295 - 6299, 178 Street NW",112527312033,"6295 - 6299, 178 Street NW","CRH","Civida","Ormsby Place I","Edmonton","T5T3B8","Alberta Social Housing Corporation","Community Housing Program"]
["1125273120316216 - 180 Street",112527312031,"6216 - 180 Street","CRH","Civida","Ormsby Place II","Edmonton","T5T2T2","Alberta Social Housing Corporation","Community Housing Program"]
["1125273120316230 - 180 Street",112527312031,"6230 - 180 Street","CRH","Civida","Ormsby Place II","Edmonton","T5T2T2","Alberta Social Housing Corporation","Community Housing Program"]
["1125273120316238 - 180 Street",112527312031,"6238 - 180 Street","CRH","Civida","Ormsby Place II","Edmonton","T5T2T2","Alberta Social Housing Corporation","Community Housing Program"]
["1125273120316252 - 180 Street",112527312031,"6252 - 180 Street","CRH","Civida","Ormsby Place II","Edmonton","T5T2T2","Alberta Social Housing Corporation","Community Housing Program"]
["1125273120316260 - 180 Street",112527312031,"6260 - 180 Street","CRH","Civida","Ormsby Place II","Edmonton","T5T2T2","Alberta Social Housing Corporation","Community Housing Program"]
["1125273120316218 - 180 Street",112527312031,"6218 - 180 Street","CRH","Civida","Ormsby Place II","Edmonton","T5T2T2","Alberta Social Housing Corporation","Community Housing Program"]
["1125273120316278A - 180 Street",112527312031,"6278A - 180 Street","CRH","Civida","Ormsby Place II","Edmonton","T5T2T2","Alberta Social Housing Corporation","Community Housing Program"]
["1125273120316288 - 180 Street",112527312031,"6288 - 180 Street","CRH","Civida","Ormsby Place II","Edmonton","T5T2T2","Alberta Social Housing Corporation","Community Housing Program"]
["1125273120316298 - 180 Street",112527312031,"6298 - 180 Street","CRH","Civida","Ormsby Place II","Edmonton","T5T2T2","Alberta Social Housing Corporation","Community Housing Program"]
["1125273120316310 - 180 Street",112527312031,"6310 - 180 Street","CRH","Civida","Ormsby Place II","Edmonton","T5T2T2","Alberta Social Housing Corporation","Community Housing Program"]
["1125273120316250 - 180 Street",112527312031,"6250 - 180 Street","CRH","Civida","Ormsby Place II","Edmonton","T5T2T2","Alberta Social Housing Corporation","Community Housing Program"]
["1125273120446402 - 184 Street NW",112527312044,"6402 - 184 Street NW","CRH","Civida","Ormsby Place III","Edmonton","T5T2N9","Alberta Social Housing Corporation","Community Housing Program"]
["1125273120446410 - 184 Street",112527312044,"6410 - 184 Street","CRH","Civida","Ormsby Place III","Edmonton","T5T2N9","Alberta Social Housing Corporation","Community Housing Program"]
["1125273120446424,6424A,6426,6428, 184 Street",112527312044,"6424,6424A,6426,6428, 184 Street","CRH","Civida","Ormsby Place III","Edmonton","T5T2N9","Alberta Social Housing Corporation","Community Housing Program"]
["1125273120446430,6430A,6432,6434 - 184 Street",112527312044,"6430,6430A,6432,6434 - 184 Street","CRH","Civida","Ormsby Place III","Edmonton","T5T2N9","Alberta Social Housing Corporation","Community Housing Program"]
["1125273120446436,6438,6438A,6440,6442,6442A, 184 St",112527312044,"6436,6438,6438A,6440,6442,6442A, 184 St","CRH","Civida","Ormsby Place III","Edmonton","T5T2N9","Alberta Social Housing Corporation","Community Housing Program"]
["1125273120446444,6446,6446A,6448,6448A, 184 Street",112527312044,"6444,6446,6446A,6448,6448A, 184 Street","CRH","Civida","Ormsby Place III","Edmonton","T5T2N9","Alberta Social Housing Corporation","Community Housing Program"]
["1125273520075310 - 20 Avenue NW",112527352007,"5310 - 20 Avenue NW","CRH","Civida","Our Home I","Edmonton","T6L5J3","Alberta Social Housing Corporation","Community Housing Program"]
["11252735201410427 - 18 Avenue NW",112527352014,"10427 - 18 Avenue NW","CRH","Civida","Our Home II","Edmonton","T6J5J3","Alberta Social Housing Corporation","Community Housing Program"]
["11252735201630  Walden Park",112527352016,"30  Walden Park","CRH","Civida","Our Home III","St. Albert","T8N3V6","Alberta Social Housing Corporation","Community Housing Program"]
["1125273520178538 - 38A  Avenue NW",112527352017,"8538 - 38A  Avenue NW","CRH","Civida","Our Home IV","Edmonton","T6K3E5","Alberta Social Housing Corporation","Community Housing Program"]
["1125273128318329 113 Avenue",112527312831,"8329 113 Avenue","CRH","Civida","Parkdale","Edmonton","T5B 0C8","Joint Ownership","Community Housing Program"]
["1125273128318315 113 Avenue",112527312831,"8315 113 Avenue","CRH","Civida","Parkdale","Edmonton","T5B 0J1","Joint Ownership","Community Housing Program"]
["11252731285411503 - 41 Avenue NW  (Units 1, 2, & 3)",112527312854,"11503 - 41 Avenue NW  (Units 1, 2, & 3)","CRH","Civida","Petrolia Municipal","Edmonton","T6J2T7","Municipality","Community Housing Program"]
["11252731285411507 - 41 Avenue (Units 1, 2, & 3)",112527312854,"11507 - 41 Avenue (Units 1, 2, & 3)","CRH","Civida","Petrolia Municipal","Edmonton","T6J2T7","Municipality","Community Housing Program"]
["11252731285411511 - 41 Avenue",112527312854,"11511 - 41 Avenue","CRH","Civida","Petrolia Municipal","Edmonton","T6J2T7","Municipality","Community Housing Program"]
["11252731285411515 - 41 Avenue",112527312854,"11515 - 41 Avenue","CRH","Civida","Petrolia Municipal","Edmonton","T6J2T7","Municipality","Community Housing Program"]
["11252731285411519 - 41 Avenue (Units 1, 2, 3)",112527312854,"11519 - 41 Avenue (Units 1, 2, 3)","CRH","Civida","Petrolia Municipal","Edmonton","T6J2T7","Municipality","Community Housing Program"]
["11252731285411523 - 41 Avenue",112527312854,"11523 - 41 Avenue","CRH","Civida","Petrolia Municipal","Edmonton","T6J2T7","Municipality","Community Housing Program"]
["11252731285411527 - 41 Avenue",112527312854,"11527 - 41 Avenue","CRH","Civida","Petrolia Municipal","Edmonton","T6J2T7","Municipality","Community Housing Program"]
["11252731285411537 - 41 Avenue (Units #1, 2, 3)",112527312854,"11537 - 41 Avenue (Units #1, 2, 3)","CRH","Civida","Petrolia Municipal","Edmonton","T6J2T7","Municipality","Community Housing Program"]
["11252731285411531 - 41 Avenue",112527312854,"11531 - 41 Avenue","CRH","Civida","Petrolia Municipal","Edmonton","T6J2T7","Municipality","Community Housing Program"]
["11252731285411539 - 41 Avenue (Units 1, 2, 3)",112527312854,"11539 - 41 Avenue (Units 1, 2, 3)","CRH","Civida","Petrolia Municipal","Edmonton","T6J2T7","Municipality","Community Housing Program"]
["1125273128544024 - 115 Street",112527312854,"4024 - 115 Street","CRH","Civida","Petrolia Municipal","Edmonton","T6J2T7","Municipality","Community Housing Program"]
["1125273128544028 - 115 Street",112527312854,"4028 - 115 Street","CRH","Civida","Petrolia Municipal","Edmonton","T6J2T7","Municipality","Community Housing Program"]
["1125273120719606 - 180 Street (Units 13 - 16)",112527312071,"9606 - 180 Street (Units 13 - 16)","CRH","Civida","Primrose I","Edmonton","T5T3V4","Alberta Social Housing Corporation","Community Housing Program"]
["1125273120719606 - 180 Street (Units 30 & 31)",112527312071,"9606 - 180 Street (Units 30 & 31)","CRH","Civida","Primrose I","Edmonton","T5T3V4","Alberta Social Housing Corporation","Community Housing Program"]
["1125273120719606 - 180 Street (Units 29)",112527312071,"9606 - 180 Street (Units 29)","CRH","Civida","Primrose I","Edmonton","T5T3V4","Alberta Social Housing Corporation","Community Housing Program"]
["1125273120719606 - 180 Street NW (Units 1 - 4)",112527312071,"9606 - 180 Street NW (Units 1 - 4)","CRH","Civida","Primrose I","Edmonton","T5T3V4","Alberta Social Housing Corporation","Community Housing Program"]
["1125273120719606 - 180 Street (Units 5 - 8)",112527312071,"9606 - 180 Street (Units 5 - 8)","CRH","Civida","Primrose I","Edmonton","T5T3V4","Alberta Social Housing Corporation","Community Housing Program"]
["1125273120719606 - 180 Street (Units 9 - 12)",112527312071,"9606 - 180 Street (Units 9 - 12)","CRH","Civida","Primrose I","Edmonton","T5T3V4","Alberta Social Housing Corporation","Community Housing Program"]
["1125273120719606 - 180 Street (Units 17 - 20)",112527312071,"9606 - 180 Street (Units 17 - 20)","CRH","Civida","Primrose I","Edmonton","T5T3V4","Alberta Social Housing Corporation","Community Housing Program"]
["1125273120719606 - 180 Street (Units 21 - 24)",112527312071,"9606 - 180 Street (Units 21 - 24)","CRH","Civida","Primrose I","Edmonton","T5T3V4","Alberta Social Housing Corporation","Community Housing Program"]
["1125273120719606 - 180 Street (Units 25 - 28)",112527312071,"9606 - 180 Street (Units 25 - 28)","CRH","Civida","Primrose I","Edmonton","T5T3V4","Alberta Social Housing Corporation","Community Housing Program"]
["1125273120719606 - 180 Street (Units 32 - 34)",112527312071,"9606 - 180 Street (Units 32 - 34)","CRH","Civida","Primrose I","Edmonton","T5T3V4","Alberta Social Housing Corporation","Community Housing Program"]
["1125273120719606 - 180 Street (Units 35 - 38)",112527312071,"9606 - 180 Street (Units 35 - 38)","CRH","Civida","Primrose I","Edmonton","T5T3V4","Alberta Social Housing Corporation","Community Housing Program"]
["1125273120719606 - 180 Street (Units 39 - 42)",112527312071,"9606 - 180 Street (Units 39 - 42)","CRH","Civida","Primrose I","Edmonton","T5T3V4","Alberta Social Housing Corporation","Community Housing Program"]
["1125273120719606 - 180 Street (Units 43 - 45)",112527312071,"9606 - 180 Street (Units 43 - 45)","CRH","Civida","Primrose I","Edmonton","T5T3V4","Alberta Social Housing Corporation","Community Housing Program"]
["1125273120719606 - 180 Street (Units 46 - 49)",112527312071,"9606 - 180 Street (Units 46 - 49)","CRH","Civida","Primrose I","Edmonton","T5T3V4","Alberta Social Housing Corporation","Community Housing Program"]
["1125273120719606 - 180 Street (Units 50 - 53)",112527312071,"9606 - 180 Street (Units 50 - 53)","CRH","Civida","Primrose I","Edmonton","T5T3V4","Alberta Social Housing Corporation","Community Housing Program"]
["1125273120719606 - 180 Street (Units 54 - 57)",112527312071,"9606 - 180 Street (Units 54 - 57)","CRH","Civida","Primrose I","Edmonton","T5T3V4","Alberta Social Housing Corporation","Community Housing Program"]
["1125273120719606 - 180 Street (Units 58 - 61)",112527312071,"9606 - 180 Street (Units 58 - 61)","CRH","Civida","Primrose I","Edmonton","T5T3V4","Alberta Social Housing Corporation","Community Housing Program"]
["1125273120719606 - 180 Street (Units 62 - 65)",112527312071,"9606 - 180 Street (Units 62 - 65)","CRH","Civida","Primrose I","Edmonton","T5T3V4","Alberta Social Housing Corporation","Community Housing Program"]
["1125273120719606 - 180 Street (Units 66 - 69)",112527312071,"9606 - 180 Street (Units 66 - 69)","CRH","Civida","Primrose I","Edmonton","T5T3V4","Alberta Social Housing Corporation","Community Housing Program"]
["11252731287210737 - 76 Avenue NW",112527312872,"10737 - 76 Avenue NW","CRH","Civida","Queen Alexandra","Edmonton","T6E1L8","Alberta Social Housing Corporation","Community Housing Program"]
["11252731287210741 - 76 Avenue",112527312872,"10741 - 76 Avenue","CRH","Civida","Queen Alexandra","Edmonton","T6E1L8","Alberta Social Housing Corporation","Community Housing Program"]
[{"$f":"CONCATENATE(B1539,C1539)","v":"11252731287210749 - 76 Avenue"},112527312872,"10749 - 76 Avenue","CRH","Civida","Queen Alexandra","Edmonton","T6E1L8","Alberta Social Housing Corporation","Community Housing Program"]
["1125273128727603 - 108 Street",112527312872,"7603 - 108 Street","CRH","Civida","Queen Alexandra","Edmonton","T6E1L8","Alberta Social Housing Corporation","Community Housing Program"]
["1125273128727607 - 108 Street",112527312872,"7607 - 108 Street","CRH","Civida","Queen Alexandra","Edmonton","T6E1L8","Alberta Social Housing Corporation","Community Housing Program"]
["1125273128727611 - 108 Street",112527312872,"7611 - 108 Street","CRH","Civida","Queen Alexandra","Edmonton","T6E1L8","Alberta Social Housing Corporation","Community Housing Program"]
["1125273128727615 - 108 Street",112527312872,"7615 - 108 Street","CRH","Civida","Queen Alexandra","Edmonton","T6E1L8","Alberta Social Housing Corporation","Community Housing Program"]
["11252769200410324 - 98 Avenue NW",112527692004,"10324 - 98 Avenue NW","CRH","Civida","Renfrew Apartments","Edmonton","T5K2M7","Alberta Social Housing Corporation","Community Housing Program"]
["1125273128558515, 8517, 8519, 8521 36 Avenue",112527312855,"8515, 8517, 8519, 8521 36 Avenue","CRH","Civida","Richfield 1And 2 Municipal","Edmonton","T6K0H4","Municipality","Community Housing Program"]
["1125273128558423, 8425, 8427, 8429, 8431 36 Avenue",112527312855,"8423, 8425, 8427, 8429, 8431 36 Avenue","CRH","Civida","Richfield 1And 2 Municipal","Edmonton","T6K0H4","Municipality","Community Housing Program"]
["1125273128558433, 8435 36 Avenue",112527312855,"8433, 8435 36 Avenue","CRH","Civida","Richfield 1And 2 Municipal","Edmonton","T6K0H4","Municipality","Community Housing Program"]
["1125273128558437, 8439, 8441 36 Avenue",112527312855,"8437, 8439, 8441 36 Avenue","CRH","Civida","Richfield 1And 2 Municipal","Edmonton","T6K0H4","Municipality","Community Housing Program"]
["1125273128558443, 8445 36 Avenue",112527312855,"8443, 8445 36 Avenue","CRH","Civida","Richfield 1And 2 Municipal","Edmonton","T6K0H4","Municipality","Community Housing Program"]
["1125273128558447, 8449, 8451 36 Avenue",112527312855,"8447, 8449, 8451 36 Avenue","CRH","Civida","Richfield 1And 2 Municipal","Edmonton","T6K0H4","Municipality","Community Housing Program"]
["1125273128558453, 8455, 8457 36 Avenue",112527312855,"8453, 8455, 8457 36 Avenue","CRH","Civida","Richfield 1And 2 Municipal","Edmonton","T6K0H4","Municipality","Community Housing Program"]
["1125273128553652, 3654, 3656, 3658  85 Street NW",112527312855,"3652, 3654, 3656, 3658  85 Street NW","CRH","Civida","Richfield 1And 2 Municipal","Edmonton","T6K0J8","Municipality","Community Housing Program"]
["1125273128553646, 3648, 3650 85 Street",112527312855,"3646, 3648, 3650 85 Street","CRH","Civida","Richfield 1And 2 Municipal","Edmonton","T6K0J8","Municipality","Community Housing Program"]
["112527312855107, 109, 111 Richfield Road NW",112527312855,"107, 109, 111 Richfield Road NW","CRH","Civida","Richfield 1And 2 Municipal","Edmonton","T6K0J8","Municipality","Community Housing Program"]
["112527312855113,115,117,119, 121 Richfield Road NW",112527312855,"113,115,117,119, 121 Richfield Road NW","CRH","Civida","Richfield 1And 2 Municipal","Edmonton","T6K0J8","Municipality","Community Housing Program"]
["1125273128553656,3667,3669,3671,3673  86 Street",112527312855,"3656,3667,3669,3671,3673  86 Street","CRH","Civida","Richfield 1And 2 Municipal","Edmonton","T6K0J8","Municipality","Community Housing Program"]
["1125273128553619, 3621, 3623, 3625 86 Street",112527312855,"3619, 3621, 3623, 3625 86 Street","CRH","Civida","Richfield 1And 2 Municipal","Edmonton","T6K0J9","Municipality","Community Housing Program"]
["1125273128553627, 3629, 3631 86 Street",112527312855,"3627, 3629, 3631 86 Street","CRH","Civida","Richfield 1And 2 Municipal","Edmonton","T6K0J9","Municipality","Community Housing Program"]
["1125273128553626 - 3632, 3633 - 3639 85 Street",112527312855,"3626 - 3632, 3633 - 3639 85 Street","CRH","Civida","Richfield 1And 2 Municipal","Edmonton","T6K0J9","Municipality","Community Housing Program"]
["1125273128553641, 3643, 3645 86 Street",112527312855,"3641, 3643, 3645 86 Street","CRH","Civida","Richfield 1And 2 Municipal","Edmonton","T6K0J9","Municipality","Community Housing Program"]
["1125273128553647, 3649, 3651 86 Street",112527312855,"3647, 3649, 3651 86 Street","CRH","Civida","Richfield 1And 2 Municipal","Edmonton","T6K0J9","Municipality","Community Housing Program"]
["1125273128553634-3644, 3653-3663 85 Street",112527312855,"3634-3644, 3653-3663 85 Street","CRH","Civida","Richfield 1And 2 Municipal","Edmonton","T6K0J9","Municipality","Community Housing Program"]
["1125273128553620, 3622, 3624 85 Street",112527312855,"3620, 3622, 3624 85 Street","CRH","Civida","Richfield 1And 2 Municipal","Edmonton","T6K0J9","Municipality","Community Housing Program"]
["1125273128563704 - 78 Street NW",112527312856,"3704 - 78 Street NW","CRH","Civida","Richfield 3 Municipal","Edmonton","T6K1R7","Municipality","Community Housing Program"]
["1125273128563712 - 78 Street and Units 3714, 3716,",112527312856,"3712 - 78 Street and Units 3714, 3716,","CRH","Civida","Richfield 3 Municipal","Edmonton","T6K1R7","Municipality","Community Housing Program"]
["1125273128563722 - 78 Street and Units 3724, 3726,",112527312856,"3722 - 78 Street and Units 3724, 3726,","CRH","Civida","Richfield 3 Municipal","Edmonton","T6K1R7","Municipality","Community Housing Program"]
["1125273128563732 - 78 Street and Units 3734, 3736,",112527312856,"3732 - 78 Street and Units 3734, 3736,","CRH","Civida","Richfield 3 Municipal","Edmonton","T6K1R7","Municipality","Community Housing Program"]
["1125273128563744 - 78 Street & Units 3746, 3748,",112527312856,"3744 - 78 Street & Units 3746, 3748,","CRH","Civida","Richfield 3 Municipal","Edmonton","T6K1R7","Municipality","Community Housing Program"]
["1125273128563764 - 78 St. Units 3766/3768/3770/3772/",112527312856,"3764 - 78 St. Units 3766/3768/3770/3772/","CRH","Civida","Richfield 3 Municipal","Edmonton","T6K1R7","Municipality","Community Housing Program"]
["1125273128563782 - 78 St. Units 3784/3786/3788/3790/",112527312856,"3782 - 78 St. Units 3784/3786/3788/3790/","CRH","Civida","Richfield 3 Municipal","Edmonton","T6K1R7","Municipality","Community Housing Program"]
["1125273128563800 - 78 Street, Units 3802, 3804, 3806",112527312856,"3800 - 78 Street, Units 3802, 3804, 3806","CRH","Civida","Richfield 3 Municipal","Edmonton","T6K1R7","Municipality","Community Housing Program"]
["1125273128563814 - 78 Street and 3816, 3818, 3820",112527312856,"3814 - 78 Street and 3816, 3818, 3820","CRH","Civida","Richfield 3 Municipal","Edmonton","T6K1R7","Municipality","Community Housing Program"]
["1125273128563822 - 78 Street",112527312856,"3822 - 78 Street","CRH","Civida","Richfield 3 Municipal","Edmonton","T6K1R7","Municipality","Community Housing Program"]
["1125273128563824 - 78 Street",112527312856,"3824 - 78 Street","CRH","Civida","Richfield 3 Municipal","Edmonton","T6K1R7","Municipality","Community Housing Program"]
["1125273128563830 - 3852, 78 Street",112527312856,"3830 - 3852, 78 Street","CRH","Civida","Richfield 3 Municipal","Edmonton","T6K1R7","Municipality","Community Housing Program"]
["1125273128563854 - 78 Street and 3856, 3858, 3860,",112527312856,"3854 - 78 Street and 3856, 3858, 3860,","CRH","Civida","Richfield 3 Municipal","Edmonton","T6K1R7","Municipality","Community Housing Program"]
["1125273128563864 - 78 Street and 3866, 3868, 3870,",112527312856,"3864 - 78 Street and 3866, 3868, 3870,","CRH","Civida","Richfield 3 Municipal","Edmonton","T6K1R7","Municipality","Community Housing Program"]
["1125273128563874 - 3882, 78 Street",112527312856,"3874 - 3882, 78 Street","CRH","Civida","Richfield 3 Municipal","Edmonton","T6K1R7","Municipality","Community Housing Program"]
["1125273128563884 & 3886, 78 Street",112527312856,"3884 & 3886, 78 Street","CRH","Civida","Richfield 3 Municipal","Edmonton","T6K1R7","Municipality","Community Housing Program"]
["1125273128553548, 3550, 3552, 3554 84 Street",112527312855,"3548, 3550, 3552, 3554 84 Street","CRH","Civida","Richfield 1And 2 Municipal","Edmonton","T6K0H4","Municipality","Community Housing Program"]
["1125273128573303 - 106 Avenue NW",112527312857,"3303 - 106 Avenue NW","CRH","Civida","Rundle Heights 1 Municipal","Edmonton","T5W0C1","Municipality","Community Housing Program"]
["1125273128573319 - 106 Avenue NW",112527312857,"3319 - 106 Avenue NW","CRH","Civida","Rundle Heights 1 Municipal","Edmonton","T5W0C1","Municipality","Community Housing Program"]
["1125273128573325 - 106 Avenue NW",112527312857,"3325 - 106 Avenue NW","CRH","Civida","Rundle Heights 1 Municipal","Edmonton","T5W0C1","Municipality","Community Housing Program"]
["1125273128573403 - 106 Avenue NW",112527312857,"3403 - 106 Avenue NW","CRH","Civida","Rundle Heights 1 Municipal","Edmonton","T5W0C1","Municipality","Community Housing Program"]
["1125273128582904 - 113 Avenue NW",112527312858,"2904 - 113 Avenue NW","CRH","Civida","Rundle Heights 2 Municipal","Edmonton","T5W4S1","Municipality","Community Housing Program"]
["1125273128582908 - 113 Avenue",112527312858,"2908 - 113 Avenue","CRH","Civida","Rundle Heights 2 Municipal","Edmonton","T5W4S1","Municipality","Community Housing Program"]
["1125273128582912 - 113 Avenue",112527312858,"2912 - 113 Avenue","CRH","Civida","Rundle Heights 2 Municipal","Edmonton","T5W4S1","Municipality","Community Housing Program"]
["1125273128582916 - 113 Avenue",112527312858,"2916 - 113 Avenue","CRH","Civida","Rundle Heights 2 Municipal","Edmonton","T5W4S1","Municipality","Community Housing Program"]
["1125273128582920 - 113 Avenue",112527312858,"2920 - 113 Avenue","CRH","Civida","Rundle Heights 2 Municipal","Edmonton","T5W4S1","Municipality","Community Housing Program"]
["11252731285811331 - 32 Street",112527312858,"11331 - 32 Street","CRH","Civida","Rundle Heights 2 Municipal","Edmonton","T5W4S1","Municipality","Community Housing Program"]
["1125273128582928 - 113 Avenue",112527312858,"2928 - 113 Avenue","CRH","Civida","Rundle Heights 2 Municipal","Edmonton","T5W4S1","Municipality","Community Housing Program"]
["1125273128583012 - 113 Avenue",112527312858,"3012 - 113 Avenue","CRH","Civida","Rundle Heights 2 Municipal","Edmonton","T5W4S1","Municipality","Community Housing Program"]
["1125273128583008 - 113 Avenue",112527312858,"3008 - 113 Avenue","CRH","Civida","Rundle Heights 2 Municipal","Edmonton","T5W4S1","Municipality","Community Housing Program"]
["1125273128583004 - 113 Avenue",112527312858,"3004 - 113 Avenue","CRH","Civida","Rundle Heights 2 Municipal","Edmonton","T5W4S1","Municipality","Community Housing Program"]
["1125273128583024 - 113 Avenue",112527312858,"3024 - 113 Avenue","CRH","Civida","Rundle Heights 2 Municipal","Edmonton","T5W4S1","Municipality","Community Housing Program"]
["1125273128583020 - 113 Avenue",112527312858,"3020 - 113 Avenue","CRH","Civida","Rundle Heights 2 Municipal","Edmonton","T5W4S1","Municipality","Community Housing Program"]
["1125273128583016 - 113 Avenue",112527312858,"3016 - 113 Avenue","CRH","Civida","Rundle Heights 2 Municipal","Edmonton","T5W4S1","Municipality","Community Housing Program"]
["11252731285811311 - 32 Street",112527312858,"11311 - 32 Street","CRH","Civida","Rundle Heights 2 Municipal","Edmonton","T5W4S1","Municipality","Community Housing Program"]
["1125273128583104 - 113 Avenue",112527312858,"3104 - 113 Avenue","CRH","Civida","Rundle Heights 2 Municipal","Edmonton","T5W4S1","Municipality","Community Housing Program"]
["1125273128583108 - 113 Avenue",112527312858,"3108 - 113 Avenue","CRH","Civida","Rundle Heights 2 Municipal","Edmonton","T5W4S1","Municipality","Community Housing Program"]
["11252731285811307 - 32 Street",112527312858,"11307 - 32 Street","CRH","Civida","Rundle Heights 2 Municipal","Edmonton","T5W4S1","Municipality","Community Housing Program"]
["11252731285811319 - 32 Street",112527312858,"11319 - 32 Street","CRH","Civida","Rundle Heights 2 Municipal","Edmonton","T5W4S1","Municipality","Community Housing Program"]
[{"$f":"CONCATENATE(B1603,C1603)","v":"11252731285811323 - 32 Street"},112527312858,"11323 - 32 Street","CRH","Civida","Rundle Heights 2 Municipal","Edmonton","T5W4S1","Municipality","Community Housing Program"]
["11252731285811327 - 32 Street",112527312858,"11327 - 32 Street","CRH","Civida","Rundle Heights 2 Municipal","Edmonton","T5W4S1","Municipality","Community Housing Program"]
["11252731285811315 - 32 Street",112527312858,"11315 - 32 Street","CRH","Civida","Rundle Heights 2 Municipal","Edmonton","T5W4S1","Municipality","Community Housing Program"]
["1125273128583112 - 113 Avenue",112527312858,"3112 - 113 Avenue","CRH","Civida","Rundle Heights 2 Municipal","Edmonton","T5W4S1","Municipality","Community Housing Program"]
["11252731203211504 - 25 Avenue NW",112527312032,"11504 - 25 Avenue NW","CRH","Civida","Saddleback I","Edmonton","T6J4H3","Alberta Social Housing Corporation","Community Housing Program"]
["11252731203211528 - 25 Avenue",112527312032,"11528 - 25 Avenue","CRH","Civida","Saddleback I","Edmonton","T6J4H3","Alberta Social Housing Corporation","Community Housing Program"]
["1125273120322523 - 116 Street",112527312032,"2523 - 116 Street","CRH","Civida","Saddleback I","Edmonton","T6J4H3","Alberta Social Housing Corporation","Community Housing Program"]
["1125273120322531 - 116 Street",112527312032,"2531 - 116 Street","CRH","Civida","Saddleback I","Edmonton","T6J4H3","Alberta Social Housing Corporation","Community Housing Program"]
["1125273120322537 - 116 Street",112527312032,"2537 - 116 Street","CRH","Civida","Saddleback I","Edmonton","T6J4H3","Alberta Social Housing Corporation","Community Housing Program"]
["11252731203211516 - 25 Avenue",112527312032,"11516 - 25 Avenue","CRH","Civida","Saddleback I","Edmonton","T6J4H3","Alberta Social Housing Corporation","Community Housing Program"]
["11252731203211534 - 25 Avenue",112527312032,"11534 - 25 Avenue","CRH","Civida","Saddleback I","Edmonton","T6J4H3","Alberta Social Housing Corporation","Community Housing Program"]
["1125273120322503 - 116 Street",112527312032,"2503 - 116 Street","CRH","Civida","Saddleback I","Edmonton","T6J4H3","Alberta Social Housing Corporation","Community Housing Program"]
["1125273120322515 - 116 Street",112527312032,"2515 - 116 Street","CRH","Civida","Saddleback I","Edmonton","T6J4H3","Alberta Social Housing Corporation","Community Housing Program"]
["11252731209011404 - 25 Avenue NW & Units 11406/11408",112527312090,"11404 - 25 Avenue NW & Units 11406/11408","CRH","Civida","Saddleback II","Edmonton","T6J4H3","Alberta Social Housing Corporation","Community Housing Program"]
["11252731209011420 - 25 Avenue & Units 11422/11424",112527312090,"11420 - 25 Avenue & Units 11422/11424","CRH","Civida","Saddleback II","Edmonton","T6J4H3","Alberta Social Housing Corporation","Community Housing Program"]
["112527312090500 Saddleback Road",112527312090,"500 Saddleback Road","CRH","Civida","Saddleback II","Edmonton","T6J4H3","Alberta Social Housing Corporation","Community Housing Program"]
["112527312090510 Saddleback Road",112527312090,"510 Saddleback Road","CRH","Civida","Saddleback II","Edmonton","T6J4H3","Alberta Social Housing Corporation","Community Housing Program"]
["1125273120501, 1275 - 62 Street NW",112527312050,"1, 1275 - 62 Street NW","CRH","Civida","Sakaw I","Edmonton","T6L4J9","Alberta Social Housing Corporation","Community Housing Program"]
["1125273120501275 - 62 Street (Units 11/12/13/14/",112527312050,"1275 - 62 Street (Units 11/12/13/14/","CRH","Civida","Sakaw I","Edmonton","T6L4J9","Alberta Social Housing Corporation","Community Housing Program"]
["1125273120501275 - 62 Street (Units 17/18/19/20/21)",112527312050,"1275 - 62 Street (Units 17/18/19/20/21)","CRH","Civida","Sakaw I","Edmonton","T6L4J9","Alberta Social Housing Corporation","Community Housing Program"]
["1125273120501275 - 62 Street (Units 22/23/24/25/26)",112527312050,"1275 - 62 Street (Units 22/23/24/25/26)","CRH","Civida","Sakaw I","Edmonton","T6L4J9","Alberta Social Housing Corporation","Community Housing Program"]
["1125273120501275 - 62 Street (Units 27/28/29/30/",112527312050,"1275 - 62 Street (Units 27/28/29/30/","CRH","Civida","Sakaw I","Edmonton","T6L4J9","Alberta Social Housing Corporation","Community Housing Program"]
["1125273120501275 - 62 Street (Units 33/34/35/36)",112527312050,"1275 - 62 Street (Units 33/34/35/36)","CRH","Civida","Sakaw I","Edmonton","T6L4J9","Alberta Social Housing Corporation","Community Housing Program"]
["1125273120501275 - 62 Street (Units 37/38/39/40)",112527312050,"1275 - 62 Street (Units 37/38/39/40)","CRH","Civida","Sakaw I","Edmonton","T6L4J9","Alberta Social Housing Corporation","Community Housing Program"]
["1125273120501275 - 62 Street (Units 41/42/43/44/45)",112527312050,"1275 - 62 Street (Units 41/42/43/44/45)","CRH","Civida","Sakaw I","Edmonton","T6L4J9","Alberta Social Housing Corporation","Community Housing Program"]
["1125273120501275 - 62 Street (Units 46/47/48/49)",112527312050,"1275 - 62 Street (Units 46/47/48/49)","CRH","Civida","Sakaw I","Edmonton","T6L4J9","Alberta Social Housing Corporation","Community Housing Program"]
["1125273120501275 - 62 Street (50/51/52/53/54)",112527312050,"1275 - 62 Street (50/51/52/53/54)","CRH","Civida","Sakaw I","Edmonton","T6L4J9","Alberta Social Housing Corporation","Community Housing Program"]
["1125273120501275 - 62 Street (Units 55/56/57)",112527312050,"1275 - 62 Street (Units 55/56/57)","CRH","Civida","Sakaw I","Edmonton","T6L4J9","Alberta Social Housing Corporation","Community Housing Program"]
["11252731205012175 - 62 Street (Units 58/59/60/61/",112527312050,"12175 - 62 Street (Units 58/59/60/61/","CRH","Civida","Sakaw I","Edmonton","T6L4J9","Alberta Social Housing Corporation","Community Housing Program"]
["1125273120501275 - 62 Street (Units 64/65/66/67/",112527312050,"1275 - 62 Street (Units 64/65/66/67/","CRH","Civida","Sakaw I","Edmonton","T6L4J9","Alberta Social Housing Corporation","Community Housing Program"]
["11252731205010, 1275 - 62 Street NW",112527312050,"10, 1275 - 62 Street NW","CRH","Civida","Sakaw I","Edmonton","T6L4J9","Alberta Social Housing Corporation","Community Housing Program"]
["112527312013308 Knottwood Road North",112527312013,"308 Knottwood Road North","CRH","Civida","Satoo I","Edmonton","T6K3C4","Alberta Social Housing Corporation","Community Housing Program"]
["112527312013300 Knottwood N Road NW",112527312013,"300 Knottwood N Road NW","CRH","Civida","Satoo I","Edmonton","T6K3C4","Alberta Social Housing Corporation","Community Housing Program"]
["112527312013320 Knottwood Road North NW",112527312013,"320 Knottwood Road North NW","CRH","Civida","Satoo I","Edmonton","T6K3C4","Alberta Social Housing Corporation","Community Housing Program"]
["1125273120141204 - 80 Street NW",112527312014,"1204 - 80 Street NW","CRH","Civida","Satoo II","Edmonton","T6K3M1","Alberta Social Housing Corporation","Community Housing Program"]
["1125273120141214 - 80 Street",112527312014,"1214 - 80 Street","CRH","Civida","Satoo II","Edmonton","T6K3M1","Alberta Social Housing Corporation","Community Housing Program"]
["1125273120141304 - 80 Street",112527312014,"1304 - 80 Street","CRH","Civida","Satoo II","Edmonton","T6K3M1","Alberta Social Housing Corporation","Community Housing Program"]
["1125273120141314 - 80 Street",112527312014,"1314 - 80 Street","CRH","Civida","Satoo II","Edmonton","T6K3M1","Alberta Social Housing Corporation","Community Housing Program"]
["1125273120054708 - 133 Avenue",112527312005,"4708 - 133 Avenue","CRH","Civida","Sifton Park I","Edmonton","T5A3H4","Alberta Social Housing Corporation","Community Housing Program"]
["11252731200513304 - 47 Street",112527312005,"13304 - 47 Street","CRH","Civida","Sifton Park I","Edmonton","T5A3H4","Alberta Social Housing Corporation","Community Housing Program"]
["11252731200511318 - 47 Street",112527312005,"11318 - 47 Street","CRH","Civida","Sifton Park I","Edmonton","T5A3H4","Alberta Social Housing Corporation","Community Housing Program"]
["1125273120054703 - 134 Avenue",112527312005,"4703 - 134 Avenue","CRH","Civida","Sifton Park I","Edmonton","T5A3H4","Alberta Social Housing Corporation","Community Housing Program"]
["1125273120054704 - 133 Avenue NW",112527312005,"4704 - 133 Avenue NW","CRH","Civida","Sifton Park I","Edmonton","T5A3H4","Alberta Social Housing Corporation","Community Housing Program"]
["1125273120064212 - 135 Avenue NW",112527312006,"4212 - 135 Avenue NW","CRH","Civida","Sifton Park II","Edmonton","T5A3T6","Alberta Social Housing Corporation","Community Housing Program"]
["1125273120064218 - 135 Avenue",112527312006,"4218 - 135 Avenue","CRH","Civida","Sifton Park II","Edmonton","T5A3T6","Alberta Social Housing Corporation","Community Housing Program"]
["1125273120064222 - 135 Avenue",112527312006,"4222 - 135 Avenue","CRH","Civida","Sifton Park II","Edmonton","T5A3T6","Alberta Social Housing Corporation","Community Housing Program"]
["1125273120064234 - 135 Avenue",112527312006,"4234 - 135 Avenue","CRH","Civida","Sifton Park II","Edmonton","T5A3T6","Alberta Social Housing Corporation","Community Housing Program"]
["1125273120064248 - 135 Avenue",112527312006,"4248 - 135 Avenue","CRH","Civida","Sifton Park II","Edmonton","T5A3T6","Alberta Social Housing Corporation","Community Housing Program"]
["11252735000111110 - 86 Avenue NW",112527350001,"11110 - 86 Avenue NW","CRH","Civida","Sir Douglas Bader Tower","Edmonton","T6G2P2","Alberta Social Housing Corporation","Community Housing Program"]
["1125273122081693 - 42 Street NW (Units 1 - 4)",112527312208,"1693 - 42 Street NW (Units 1 - 4)","CRH","Civida","Southwood III","Edmonton","T6L2R8","Alberta Social Housing Corporation","Community Housing Program"]
["1125273122081693 - 42 Street (Units 5 - 10)",112527312208,"1693 - 42 Street (Units 5 - 10)","CRH","Civida","Southwood III","Edmonton","T6L2R8","Alberta Social Housing Corporation","Community Housing Program"]
["1125273122081693 - 42 Street  (Units 11-16)",112527312208,"1693 - 42 Street  (Units 11-16)","CRH","Civida","Southwood III","Edmonton","T6L2R8","Alberta Social Housing Corporation","Community Housing Program"]
["1125273122081693 - 42 Street (Units 17 - 20)",112527312208,"1693 - 42 Street (Units 17 - 20)","CRH","Civida","Southwood III","Edmonton","T6L2R8","Alberta Social Housing Corporation","Community Housing Program"]
["1125273122081693 - 42 Street (Units 21 - 25)",112527312208,"1693 - 42 Street (Units 21 - 25)","CRH","Civida","Southwood III","Edmonton","T6L2R8","Alberta Social Housing Corporation","Community Housing Program"]
["1125273122081693 - 42 Street (Units 26 - 31)",112527312208,"1693 - 42 Street (Units 26 - 31)","CRH","Civida","Southwood III","Edmonton","T6L2R8","Alberta Social Housing Corporation","Community Housing Program"]
["1125273122081693 - 42 Street (Units 32 - 37)",112527312208,"1693 - 42 Street (Units 32 - 37)","CRH","Civida","Southwood III","Edmonton","T6L2R8","Alberta Social Housing Corporation","Community Housing Program"]
["1125273122081693 - 42 Street (Units 38 - 41)",112527312208,"1693 - 42 Street (Units 38 - 41)","CRH","Civida","Southwood III","Edmonton","T6L2R8","Alberta Social Housing Corporation","Community Housing Program"]
["1125273122091765 Millwoods Road E NW (Units 1 - 9)",112527312209,"1765 Millwoods Road E NW (Units 1 - 9)","CRH","Civida","Southwood IV","Edmonton","T6K3L9","Alberta Social Housing Corporation","Community Housing Program"]
["1125273122091765 Millwoods Road E. (Units 10 - 14)",112527312209,"1765 Millwoods Road E. (Units 10 - 14)","CRH","Civida","Southwood IV","Edmonton","T6K3L9","Alberta Social Housing Corporation","Community Housing Program"]
["1125273122091765 Millwoods Road E. (Units 15 - 22)",112527312209,"1765 Millwoods Road E. (Units 15 - 22)","CRH","Civida","Southwood IV","Edmonton","T6K3L9","Alberta Social Housing Corporation","Community Housing Program"]
["1125273122091765 Millwoods Road E. (Units 23 - 31)",112527312209,"1765 Millwoods Road E. (Units 23 - 31)","CRH","Civida","Southwood IV","Edmonton","T6K3L9","Alberta Social Housing Corporation","Community Housing Program"]
["1125273122091765 Millwoods Road E. (Units 32 - 39)",112527312209,"1765 Millwoods Road E. (Units 32 - 39)","CRH","Civida","Southwood IV","Edmonton","T6K3L9","Alberta Social Housing Corporation","Community Housing Program"]
["1125273122091765 Millwoods Road E. (Units 41 - 48)",112527312209,"1765 Millwoods Road E. (Units 41 - 48)","CRH","Civida","Southwood IV","Edmonton","T6K3L9","Alberta Social Housing Corporation","Community Housing Program"]
["1125273122091765 Millwoods Road E. (Units 49 - 53)",112527312209,"1765 Millwoods Road E. (Units 49 - 53)","CRH","Civida","Southwood IV","Edmonton","T6K3L9","Alberta Social Housing Corporation","Community Housing Program"]
[{"$f":"CONCATENATE(B1667,C1667)","v":"1125273122091765 Millwoods Road E. (Units 54 - 60)"},112527312209,"1765 Millwoods Road E. (Units 54 - 60)","CRH","Civida","Southwood IV","Edmonton","T6K3L9","Alberta Social Housing Corporation","Community Housing Program"]
["1125273128736311 - 144 Avenue NW",112527312873,"6311 - 144 Avenue NW","CRH","Civida","Steele Heights I","Edmonton","T5A1L1","Alberta Social Housing Corporation","Community Housing Program"]
["1125273128736315 - 144 Avenue",112527312873,"6315 - 144 Avenue","CRH","Civida","Steele Heights I","Edmonton","T5A1L1","Alberta Social Housing Corporation","Community Housing Program"]
["1125273128736319 - 144 Avenue",112527312873,"6319 - 144 Avenue","CRH","Civida","Steele Heights I","Edmonton","T5A1L1","Alberta Social Housing Corporation","Community Housing Program"]
["1125273128736403 - 144 Avenue",112527312873,"6403 - 144 Avenue","CRH","Civida","Steele Heights I","Edmonton","T5A1L1","Alberta Social Housing Corporation","Community Housing Program"]
["1125273128736407 - 144 Avenue",112527312873,"6407 - 144 Avenue","CRH","Civida","Steele Heights I","Edmonton","T5A1L1","Alberta Social Housing Corporation","Community Housing Program"]
["1125273128736411 - 144 Avenue",112527312873,"6411 - 144 Avenue","CRH","Civida","Steele Heights I","Edmonton","T5A1L1","Alberta Social Housing Corporation","Community Housing Program"]
["1125273128736415 - 144 Avenue",112527312873,"6415 - 144 Avenue","CRH","Civida","Steele Heights I","Edmonton","T5A1L1","Alberta Social Housing Corporation","Community Housing Program"]
["1125273128736419 - 144 Avenue",112527312873,"6419 - 144 Avenue","CRH","Civida","Steele Heights I","Edmonton","T5A1L1","Alberta Social Housing Corporation","Community Housing Program"]
["1125273128736423 - 144 Avenue",112527312873,"6423 - 144 Avenue","CRH","Civida","Steele Heights I","Edmonton","T5A1L1","Alberta Social Housing Corporation","Community Housing Program"]
["1125273128736503 - 144 Avenue",112527312873,"6503 - 144 Avenue","CRH","Civida","Steele Heights I","Edmonton","T5A1L1","Alberta Social Housing Corporation","Community Housing Program"]
["1125273128736507 - 144 Avenue",112527312873,"6507 - 144 Avenue","CRH","Civida","Steele Heights I","Edmonton","T5A1L1","Alberta Social Housing Corporation","Community Housing Program"]
["1125273128736511 - 144 Avenue",112527312873,"6511 - 144 Avenue","CRH","Civida","Steele Heights I","Edmonton","T5A1L1","Alberta Social Housing Corporation","Community Housing Program"]
["1125273120175611 McLeod Road NW",112527312017,"5611 McLeod Road NW","CRH","Civida","Steele Heights II","Edmonton","T5A3S2","Alberta Social Housing Corporation","Community Housing Program"]
["1125273120175623 McLeod Road",112527312017,"5623 McLeod Road","CRH","Civida","Steele Heights II","Edmonton","T5A3S2","Alberta Social Housing Corporation","Community Housing Program"]
["1125273120175641 McLeod Road",112527312017,"5641 McLeod Road","CRH","Civida","Steele Heights II","Edmonton","T5A3S2","Alberta Social Housing Corporation","Community Housing Program"]
["112527312018100, 5210 - 149 Avenue NW",112527312018,"100, 5210 - 149 Avenue NW","CRH","Civida","Steele Heights III","Edmonton","T5A3S1","Alberta Social Housing Corporation","Community Housing Program"]
["11252731201814915 - 14923 53 Street",112527312018,"14915 - 14923 53 Street","CRH","Civida","Steele Heights III","Edmonton","T5A3S1","Alberta Social Housing Corporation","Community Housing Program"]
["11252731201814925 - 14935 53 Street",112527312018,"14925 - 14935 53 Street","CRH","Civida","Steele Heights III","Edmonton","T5A3S1","Alberta Social Housing Corporation","Community Housing Program"]
["11252731202010703 - 10715, 31 Avenue",112527312020,"10703 - 10715, 31 Avenue","CRH","Civida","Steinhauer I","Edmonton","T6J4E7","Alberta Social Housing Corporation","Community Housing Program"]
["11252731202010717 - 10727, 31 Avenue",112527312020,"10717 - 10727, 31 Avenue","CRH","Civida","Steinhauer I","Edmonton","T6J4E7","Alberta Social Housing Corporation","Community Housing Program"]
["11252731202010731 - 10737, 31 Avenue",112527312020,"10731 - 10737, 31 Avenue","CRH","Civida","Steinhauer I","Edmonton","T6J4E7","Alberta Social Housing Corporation","Community Housing Program"]
["11252731202010739 - 10751, 31 Avenue",112527312020,"10739 - 10751, 31 Avenue","CRH","Civida","Steinhauer I","Edmonton","T6J4E7","Alberta Social Housing Corporation","Community Housing Program"]
["11252731202010753 - 10765, 31 Avenue",112527312020,"10753 - 10765, 31 Avenue","CRH","Civida","Steinhauer I","Edmonton","T6J4E7","Alberta Social Housing Corporation","Community Housing Program"]
["11252731202010767 - 10773, 31 Avenue",112527312020,"10767 - 10773, 31 Avenue","CRH","Civida","Steinhauer I","Edmonton","T6J4E7","Alberta Social Housing Corporation","Community Housing Program"]
["11252731202010775 - 10783, 31 Avenue",112527312020,"10775 - 10783, 31 Avenue","CRH","Civida","Steinhauer I","Edmonton","T6J4E7","Alberta Social Housing Corporation","Community Housing Program"]
["11252731202010729 - 31 Avenue",112527312020,"10729 - 31 Avenue","CRH","Civida","Steinhauer I","Edmonton","T6J4E7","Alberta Social Housing Corporation","Community Housing Program"]
["11252731202811320, 11322,  11324 - 31 Avenue NW",112527312028,"11320, 11322,  11324 - 31 Avenue NW","CRH","Civida","Sweet Grass I","Edmonton","T6J4K6","Alberta Social Housing Corporation","Community Housing Program"]
["11252731202811321, 11323, 11325 - 31A Avenue NW",112527312028,"11321, 11323, 11325 - 31A Avenue NW","CRH","Civida","Sweet Grass I","Edmonton","T6J4K6","Alberta Social Housing Corporation","Community Housing Program"]
["11252731202811326, 11328, 11330 - 31 Avenue NW",112527312028,"11326, 11328, 11330 - 31 Avenue NW","CRH","Civida","Sweet Grass I","Edmonton","T6J4K6","Alberta Social Housing Corporation","Community Housing Program"]
["11252731202811327, 11329, 11331 - 31A Avenue NW",112527312028,"11327, 11329, 11331 - 31A Avenue NW","CRH","Civida","Sweet Grass I","Edmonton","T6J4K6","Alberta Social Housing Corporation","Community Housing Program"]
["11252731202811333, 11335, 11337 - 31A Avenue NW",112527312028,"11333, 11335, 11337 - 31A Avenue NW","CRH","Civida","Sweet Grass I","Edmonton","T6J4K6","Alberta Social Housing Corporation","Community Housing Program"]
["11252731202811340, 11342, 11344 - 31 Avenue NW",112527312028,"11340, 11342, 11344 - 31 Avenue NW","CRH","Civida","Sweet Grass I","Edmonton","T6J4K6","Alberta Social Housing Corporation","Community Housing Program"]
["11252731202811341, 11343, 11345 - 32 Avenue NW",112527312028,"11341, 11343, 11345 - 32 Avenue NW","CRH","Civida","Sweet Grass I","Edmonton","T6J4K6","Alberta Social Housing Corporation","Community Housing Program"]
["11252731202811346, 11348, 11350 - 31 Avenue NW",112527312028,"11346, 11348, 11350 - 31 Avenue NW","CRH","Civida","Sweet Grass I","Edmonton","T6J4K6","Alberta Social Housing Corporation","Community Housing Program"]
["11252731202811347, 11349, 11351 - 32 Avenue NW",112527312028,"11347, 11349, 11351 - 32 Avenue NW","CRH","Civida","Sweet Grass I","Edmonton","T6J4K6","Alberta Social Housing Corporation","Community Housing Program"]
["11252731202811353, 11355, 11357 - 32 Avenue NW",112527312028,"11353, 11355, 11357 - 32 Avenue NW","CRH","Civida","Sweet Grass I","Edmonton","T6J4K6","Alberta Social Housing Corporation","Community Housing Program"]
["11252731202811359, 11351, 11363 - 32 Avenue NW",112527312028,"11359, 11351, 11363 - 32 Avenue NW","CRH","Civida","Sweet Grass I","Edmonton","T6J4K6","Alberta Social Housing Corporation","Community Housing Program"]
["1125273120283120, 3122, 3124 - 113 B Street",112527312028,"3120, 3122, 3124 - 113 B Street","CRH","Civida","Sweet Grass I","Edmonton","T6J4K6","Alberta Social Housing Corporation","Community Housing Program"]
["112527312089Units 1-5,  2903 - 79 Street NW",112527312089,"Units 1-5,  2903 - 79 Street NW","CRH","Civida","Tipaskan I","Edmonton","T6K3Z4","Alberta Social Housing Corporation","Community Housing Program"]
["112527312089Units 6-9, 2903 - 79 Street NW",112527312089,"Units 6-9, 2903 - 79 Street NW","CRH","Civida","Tipaskan I","Edmonton","T6K3Z4","Alberta Social Housing Corporation","Community Housing Program"]
["112527312089Units 10 - 14, 2903 - 79 Street NW",112527312089,"Units 10 - 14, 2903 - 79 Street NW","CRH","Civida","Tipaskan I","Edmonton","T6K3Z4","Alberta Social Housing Corporation","Community Housing Program"]
["112527312089Units 15 - 20, 2903 - 79 Street NW",112527312089,"Units 15 - 20, 2903 - 79 Street NW","CRH","Civida","Tipaskan I","Edmonton","T6K3Z4","Alberta Social Housing Corporation","Community Housing Program"]
["112527312089Units 21 - 25, 2903 - 79 Street NW",112527312089,"Units 21 - 25, 2903 - 79 Street NW","CRH","Civida","Tipaskan I","Edmonton","T6K3Z4","Alberta Social Housing Corporation","Community Housing Program"]
["112527312089Units 26 - 30, 2903 - 79 Street NW",112527312089,"Units 26 - 30, 2903 - 79 Street NW","CRH","Civida","Tipaskan I","Edmonton","T6K3Z4","Alberta Social Housing Corporation","Community Housing Program"]
["112527312089Units 31 - 34, 2903 - 79 Street NW",112527312089,"Units 31 - 34, 2903 - 79 Street NW","CRH","Civida","Tipaskan I","Edmonton","T6K3Z4","Alberta Social Housing Corporation","Community Housing Program"]
["112527312089Units 35 - 42, 2903 - 79 Street NW",112527312089,"Units 35 - 42, 2903 - 79 Street NW","CRH","Civida","Tipaskan I","Edmonton","T6K3Z4","Alberta Social Housing Corporation","Community Housing Program"]
["112527312089Units 43 - 47, 2903 - 79 Street NW",112527312089,"Units 43 - 47, 2903 - 79 Street NW","CRH","Civida","Tipaskan I","Edmonton","T6K3Z4","Alberta Social Housing Corporation","Community Housing Program"]
["112527312089Units 48 - 52, 2903 - 79 Street NW",112527312089,"Units 48 - 52, 2903 - 79 Street NW","CRH","Civida","Tipaskan I","Edmonton","T6K3Z4","Alberta Social Housing Corporation","Community Housing Program"]
["112527312089Units 53 - 56, 2903 - 79 Street NW",112527312089,"Units 53 - 56, 2903 - 79 Street NW","CRH","Civida","Tipaskan I","Edmonton","T6K3Z4","Alberta Social Housing Corporation","Community Housing Program"]
["11252731287410625 - 99 Avenue NW",112527312874,"10625 - 99 Avenue NW","CRH","Civida","Towne House Apartments","Edmonton","T5K0G1","Alberta Social Housing Corporation","Community Housing Program"]
["1125273100452240 - 2250 Millbourne Road West",112527310045,"2240 - 2250 Millbourne Road West","CRH","Civida","Tweddle Place","Edmonton","T6K3E8","Alberta Social Housing Corporation","Community Housing Program"]
["1125273100452252 - 2258 Millbourne Road West",112527310045,"2252 - 2258 Millbourne Road West","CRH","Civida","Tweddle Place","Edmonton","T6K3E8","Alberta Social Housing Corporation","Community Housing Program"]
["1125273100458308  42A Avenue NW",112527310045,"8308  42A Avenue NW","CRH","Civida","Tweddle Place","Edmonton","T6K3E8","Alberta Social Housing Corporation","Community Housing Program"]
["1125273100458404 - 8410, 42A Avenue NW",112527310045,"8404 - 8410, 42A Avenue NW","CRH","Civida","Tweddle Place","Edmonton","T6K3E8","Alberta Social Housing Corporation","Community Housing Program"]
["1125273100458412 - 8418, 42A Avenue NW",112527310045,"8412 - 8418, 42A Avenue NW","CRH","Civida","Tweddle Place","Edmonton","T6K3E8","Alberta Social Housing Corporation","Community Housing Program"]
["1125273100458420 - 8430, 42A Avenue",112527310045,"8420 - 8430, 42A Avenue","CRH","Civida","Tweddle Place","Edmonton","T6K3E8","Alberta Social Housing Corporation","Community Housing Program"]
["1125273100458432 - 8438, 42A Avenue",112527310045,"8432 - 8438, 42A Avenue","CRH","Civida","Tweddle Place","Edmonton","T6K3E8","Alberta Social Housing Corporation","Community Housing Program"]
["1125273100458440 - 8450, 42A Avenue",112527310045,"8440 - 8450, 42A Avenue","CRH","Civida","Tweddle Place","Edmonton","T6K3E8","Alberta Social Housing Corporation","Community Housing Program"]
["1125273100458452 - 8458, 42A Avenue",112527310045,"8452 - 8458, 42A Avenue","CRH","Civida","Tweddle Place","Edmonton","T6K3E8","Alberta Social Housing Corporation","Community Housing Program"]
["1125273100458460 - 8470, 42A Avenue",112527310045,"8460 - 8470, 42A Avenue","CRH","Civida","Tweddle Place","Edmonton","T6K3E8","Alberta Social Housing Corporation","Community Housing Program"]
["1125273100452204 - 2210 Millbourne Road West",112527310045,"2204 - 2210 Millbourne Road West","CRH","Civida","Tweddle Place","Edmonton","T6K3E8","Alberta Social Housing Corporation","Community Housing Program"]
["1125273100452212 - 2222 Millbourne Road West",112527310045,"2212 - 2222 Millbourne Road West","CRH","Civida","Tweddle Place","Edmonton","T6K3E8","Alberta Social Housing Corporation","Community Housing Program"]
["1125273100452224 - 2230 Millbourne Road West",112527310045,"2224 - 2230 Millbourne Road West","CRH","Civida","Tweddle Place","Edmonton","T6K3E8","Alberta Social Housing Corporation","Community Housing Program"]
[{"$f":"CONCATENATE(B1731,C1731)","v":"1125273100452232 - 2238 Millbourne Road West"},112527310045,"2232 - 2238 Millbourne Road West","CRH","Civida","Tweddle Place","Edmonton","T6K3E8","Alberta Social Housing Corporation","Community Housing Program"]
["1192272232474912 - 49 Avenue",119227223247,"4912 - 49 Avenue","CRH","Civida","Vimy R&N 1","Vimy","T0G2J0","Housing Provider","Community Housing Program"]
["11252731221110462 - 16 Avenue NW",112527312211,"10462 - 16 Avenue NW","CRH","Civida","Yellowbird II","Edmonton","T6J5N8","Alberta Social Housing Corporation","Community Housing Program"]
["11252731221110468 - 16 Avenue",112527312211,"10468 - 16 Avenue","CRH","Civida","Yellowbird II","Edmonton","T6J5N8","Alberta Social Housing Corporation","Community Housing Program"]
["11252731221110478 - 16 Avenue",112527312211,"10478 - 16 Avenue","CRH","Civida","Yellowbird II","Edmonton","T6J5N8","Alberta Social Housing Corporation","Community Housing Program"]
["11252731221110484 - 16 Avenue",112527312211,"10484 - 16 Avenue","CRH","Civida","Yellowbird II","Edmonton","T6J5N8","Alberta Social Housing Corporation","Community Housing Program"]
["11252731221110490 - 16 Avenue",112527312211,"10490 - 16 Avenue","CRH","Civida","Yellowbird II","Edmonton","T6J5N8","Alberta Social Housing Corporation","Community Housing Program"]
["1125273122111603 - 105 Street",112527312211,"1603 - 105 Street","CRH","Civida","Yellowbird II","Edmonton","T6J5N8","Alberta Social Housing Corporation","Community Housing Program"]
["1125273122111611 - 105 Street",112527312211,"1611 - 105 Street","CRH","Civida","Yellowbird II","Edmonton","T6J5N8","Alberta Social Housing Corporation","Community Housing Program"]
["1125273122111621 - 105 Street",112527312211,"1621 - 105 Street","CRH","Civida","Yellowbird II","Edmonton","T6J5N8","Alberta Social Housing Corporation","Community Housing Program"]
["1125273122111625 - 105 Street",112527312211,"1625 - 105 Street","CRH","Civida","Yellowbird II","Edmonton","T6J5N8","Alberta Social Housing Corporation","Community Housing Program"]
["1125273122111633 - 105 Street",112527312211,"1633 - 105 Street","CRH","Civida","Yellowbird II","Edmonton","T6J5N8","Alberta Social Housing Corporation","Community Housing Program"]
["1125273122111641 - 105 Street",112527312211,"1641 - 105 Street","CRH","Civida","Yellowbird II","Edmonton","T6J5N8","Alberta Social Housing Corporation","Community Housing Program"]
["11252731207811203 - 11217,  20 Avenue NW",112527312078,"11203 - 11217,  20 Avenue NW","CRH","Civida","Yellowbird III","Edmonton","T6J5P6","Alberta Social Housing Corporation","Community Housing Program"]
["11252731207811219 - 11227, 20 Avenue",112527312078,"11219 - 11227, 20 Avenue","CRH","Civida","Yellowbird III","Edmonton","T6J5P6","Alberta Social Housing Corporation","Community Housing Program"]
["11252731207811229 - 11247, 20 Avenue",112527312078,"11229 - 11247, 20 Avenue","CRH","Civida","Yellowbird III","Edmonton","T6J5P6","Alberta Social Housing Corporation","Community Housing Program"]
["11252731207811249 - 11259, 20 Avenue",112527312078,"11249 - 11259, 20 Avenue","CRH","Civida","Yellowbird III","Edmonton","T6J5P6","Alberta Social Housing Corporation","Community Housing Program"]
["11252731207811261 - 11267, 20 Avenue",112527312078,"11261 - 11267, 20 Avenue","CRH","Civida","Yellowbird III","Edmonton","T6J5P6","Alberta Social Housing Corporation","Community Housing Program"]
["1125273120781812 - 1822, 112 Street",112527312078,"1812 - 1822, 112 Street","CRH","Civida","Yellowbird III","Edmonton","T6J5P6","Alberta Social Housing Corporation","Community Housing Program"]
["1125273120781824 - 1834 - 112 Street",112527312078,"1824 - 1834 - 112 Street","CRH","Civida","Yellowbird III","Edmonton","T6J5P6","Alberta Social Housing Corporation","Community Housing Program"]
["1125273120781904 - 1914, 112 Street",112527312078,"1904 - 1914, 112 Street","CRH","Civida","Yellowbird III","Edmonton","T6J5P6","Alberta Social Housing Corporation","Community Housing Program"]
["30000000105310350 95 street",300000001053,"10350 95 street","CRH","Civida","O-Day’Min Village","Edmonton",null,"Housing Provider","Community Housing Program"]
["11252731285916604 - 102A Avenue NW",112527312859,"16604 - 102A Avenue NW","CRH","Civida","Youngstown Municipal","Edmonton","T5P4G8","Municipality","Community Housing Program"]
["11252731285916609 102A Avenue",112527312859,"16609 102A Avenue","CRH","Civida","Youngstown Municipal","Edmonton","T5P4G8","Municipality","Community Housing Program"]
["11252731285916623 102A Avenue",112527312859,"16623 102A Avenue","CRH","Civida","Youngstown Municipal","Edmonton","T5P4G8","Municipality","Community Housing Program"]
["11252731285910219 - 10231 167 Street",112527312859,"10219 - 10231 167 Street","CRH","Civida","Youngstown Municipal","Edmonton","T5P4G8","Municipality","Community Housing Program"]
["11252731285910220 - 10230 167 Street",112527312859,"10220 - 10230 167 Street","CRH","Civida","Youngstown Municipal","Edmonton","T5P4G8","Municipality","Community Housing Program"]
["11252731285910234 167 Street",112527312859,"10234 167 Street","CRH","Civida","Youngstown Municipal","Edmonton","T5P4G8","Municipality","Community Housing Program"]
["11252731285916612 - 16622 102B Avenue",112527312859,"16612 - 16622 102B Avenue","CRH","Civida","Youngstown Municipal","Edmonton","T5P4G8","Municipality","Community Housing Program"]
["11252731285916611 - 16621 102B Avenue",112527312859,"16611 - 16621 102B Avenue","CRH","Civida","Youngstown Municipal","Edmonton","T5P4G8","Municipality","Community Housing Program"]
["11252731285910236 166 Street",112527312859,"10236 166 Street","CRH","Civida","Youngstown Municipal","Edmonton","T5P4G8","Municipality","Community Housing Program"]
["2270273100055221A – 4 Street W; 5221B – 4 Street W",227027310005,"5221A – 4 Street W; 5221B – 4 Street W","CLA","Claresholm Housing Authority","Claresholm 1","Claresholm","T0L0T0","Alberta Social Housing Corporation","Community Housing Program"]
["2270273100055217A – 4 Street W; 5217B – 4 Street W",227027310005,"5217A – 4 Street W; 5217B – 4 Street W","CLA","Claresholm Housing Authority","Claresholm 1","Claresholm","T0L0T0","Alberta Social Housing Corporation","Community Housing Program"]
["2270273100055222A – 5 Street W; 5222B – 5 Street W",227027310005,"5222A – 5 Street W; 5222B – 5 Street W","CLA","Claresholm Housing Authority","Claresholm 1","Claresholm","T0L0T0","Alberta Social Housing Corporation","Community Housing Program"]
["2270273100055226A – 5 Street W;  5226B – 5 Street W",227027310005,"5226A – 5 Street W;  5226B – 5 Street W","CLA","Claresholm Housing Authority","Claresholm 1","Claresholm","T0L0T0","Alberta Social Housing Corporation","Community Housing Program"]
["2270273100055225A – 4 Street W; 5225B – 4 Street W",227027310005,"5225A – 4 Street W; 5225B – 4 Street W","CLA","Claresholm Housing Authority","Claresholm 1","Claresholm","T0L0T0","Alberta Social Housing Corporation","Community Housing Program"]
["227027316137305 - 55 Avenue W; 307 - 55 Avenue W",227027316137,"305 - 55 Avenue W; 307 - 55 Avenue W","CLA","Claresholm Housing Authority","Claresholm 2","Claresholm","T0L0T0","Alberta Social Housing Corporation","Community Housing Program"]
["227027316137302 - 54 Avenue W",227027316137,"302 - 54 Avenue W","CLA","Claresholm Housing Authority","Claresholm 2","Claresholm","T0L0T0","Alberta Social Housing Corporation","Community Housing Program"]
["227027316137306 - 54 Avenue W",227027316137,"306 - 54 Avenue W","CLA","Claresholm Housing Authority","Claresholm 2","Claresholm","T0L0T0","Alberta Social Housing Corporation","Community Housing Program"]
["227027316167205A - 49 Avenue E; 205B - 49 Avenue E",227027316167,"205A - 49 Avenue E; 205B - 49 Avenue E","CLA","Claresholm Housing Authority","Claresholm 3","Claresholm","T0L0T0","Alberta Social Housing Corporation","Community Housing Program"]
["2270273161885046 - 6 Street W",227027316188,"5046 - 6 Street W","CLA","Claresholm Housing Authority","Claresholm 4 (FCLS)","Claresholm","T0L0T0","Alberta Social Housing Corporation","Community Housing Program"]
["227027316188304 - 55 Avenue W",227027316188,"304 - 55 Avenue W","CLA","Claresholm Housing Authority","Claresholm 4 (FCLS)","Claresholm","T0L0T0","Alberta Social Housing Corporation","Community Housing Program"]
["2270275561515023 - 2A Street E",227027556151,"5023 - 2A Street E","CLA","Claresholm Housing Authority","Heritage Manor","Claresholm","T0L0T0","Alberta Social Housing Corporation","Seniors Self Contained Program"]
["227027556013321 - 45 Avenue W",227027556013,"321 - 45 Avenue W","CLA","Claresholm Housing Authority","Parkside Manor","Claresholm","T0L0T0","Alberta Social Housing Corporation","Seniors Self Contained Program"]
["1681275101876001 - 50 Avenue",168127510187,"6001 - 50 Avenue","CSH","County of Stettler Housing Authority","Heart Haven Lodge","Stettler","T0C2L2","Housing Provider","Seniors Lodge Program"]
["1681275520145011 - 55 Street",168127552014,"5011 - 55 Street","CSH","County of Stettler Housing Authority","Paragon Place","Stettler","T0C2L2","Alberta Social Housing Corporation","Seniors Lodge Program"]
["1681275521925011 - 55 Street",168127552192,"5011 - 55 Street","CSH","County of Stettler Housing Authority","Paragon Place Addition","Stettler","T0C2L2","Alberta Social Housing Corporation","Seniors Lodge Program"]
["1681273100224409 - 58 Street",168127310022,"4409 - 58 Street","CSH","County of Stettler Housing Authority","Stettler","Stettler","T0C2L1","Alberta Social Housing Corporation","Community Housing Program"]
["1681273100224414 - 58 Street",168127310022,"4414 - 58 Street","CSH","County of Stettler Housing Authority","Stettler","Stettler","T0C2L1","Alberta Social Housing Corporation","Community Housing Program"]
["1681273100224410 - 58 Street",168127310022,"4410 - 58 Street","CSH","County of Stettler Housing Authority","Stettler","Stettler","T0C2L1","Alberta Social Housing Corporation","Community Housing Program"]
["1681273100224406 - 58 Street",168127310022,"4406 - 58 Street","CSH","County of Stettler Housing Authority","Stettler","Stettler","T0C2L1","Alberta Social Housing Corporation","Community Housing Program"]
["1681273100224402 - 58 Street",168127310022,"4402 - 58 Street","CSH","County of Stettler Housing Authority","Stettler","Stettler","T0C2L1","Alberta Social Housing Corporation","Community Housing Program"]
["1681273100224403 - 58 Street",168127310022,"4403 - 58 Street","CSH","County of Stettler Housing Authority","Stettler","Stettler","T0C2L1","Alberta Social Housing Corporation","Community Housing Program"]
["1681273100224407 - 58 Street",168127310022,"4407 - 58 Street","CSH","County of Stettler Housing Authority","Stettler","Stettler","T0C2L1","Alberta Social Housing Corporation","Community Housing Program"]
["1681273100224411 - 58 Street",168127310022,"4411 - 58 Street","CSH","County of Stettler Housing Authority","Stettler","Stettler","T0C2L1","Alberta Social Housing Corporation","Community Housing Program"]
["1681273100224413 - 58 Street",168127310022,"4413 - 58 Street","CSH","County of Stettler Housing Authority","Stettler","Stettler","T0C2L1","Alberta Social Housing Corporation","Community Housing Program"]
["1681273100224408 - 58 Street",168127310022,"4408 - 58 Street","CSH","County of Stettler Housing Authority","Stettler","Stettler","T0C2L1","Alberta Social Housing Corporation","Community Housing Program"]
["1681273100224404 - 58 Street",168127310022,"4404 - 58 Street","CSH","County of Stettler Housing Authority","Stettler","Stettler","T0C2L1","Alberta Social Housing Corporation","Community Housing Program"]
["1681273100224405 - 58 Street",168127310022,"4405 - 58 Street","CSH","County of Stettler Housing Authority","Stettler","Stettler","T0C2L1","Alberta Social Housing Corporation","Community Housing Program"]
["1681273100224401 - 58 Street",168127310022,"4401 - 58 Street","CSH","County of Stettler Housing Authority","Stettler","Stettler","T0C2L1","Alberta Social Housing Corporation","Community Housing Program"]
["1681273100224412 - 58 Street",168127310022,"4412 - 58 Street","CSH","County of Stettler Housing Authority","Stettler","Stettler","T0C2L1","Alberta Social Housing Corporation","Community Housing Program"]
["16152755206453 Main Street Units 1 - 6",161527552064,"53 Main Street Units 1 - 6","CSH","County of Stettler Housing Authority","Valley Villa Apartments 1","Big Valley","T0J0G0","Alberta Social Housing Corporation","Seniors Self Contained Program"]
["161527552248Main Street & 1 Avenue",161527552248,"Main Street & 1 Avenue","CSH","County of Stettler Housing Authority","Valley Villa Apartments 2","Big Valley","T0J0G0","Alberta Social Housing Corporation","Seniors Self Contained Program"]
["1681275121116020 - 47 Avenue",168127512111,"6020 - 47 Avenue","CSH","County of Stettler Housing Authority","Willow Creek Lodge","Stettler","T0C2L1","Alberta Social Housing Corporation","Seniors Lodge Program"]
[{"$f":"CONCATENATE(B1795,C1795)","v":"3000000010508633 - 22 Avenue"},300000001050,"8633 - 22 Avenue","CNP","Crowsnest Pass Senior Housing","Peaks to Pines Senior Lodge","Crowsnest Pass, Municipality Of","T0K0M0","Alberta Social Housing Corporation","Seniors Lodge Program"]
["2098275560521802 - 112 Street",209827556052,"1802 - 112 Street","CNP","Crowsnest Pass Senior Housing","Tecumseh Mountain Manor","Crowsnest Pass, Municipality Of","T0K0E0","Alberta Social Housing Corporation","Seniors Self Contained Program"]
["2086275560392502 - 212 Street",208627556039,"2502 - 212 Street","CNP","Crowsnest Pass Senior Housing","Westwind Apartments","Crowsnest Pass, Municipality Of","T0K0C0","Alberta Social Housing Corporation","Seniors Self Contained Program"]
["2098275160291810 - 112 Street",209827516029,"1810 - 112 Street","CNP","Crowsnest Pass Senior Housing","York Creek Lodge","Crowsnest Pass, Municipality Of","T0K0E0","Alberta Social Housing Corporation","Seniors Lodge Program"]
["3000000010811001 – 10 Avenue SW",300000001081,"1001 – 10 Avenue SW","CUP","CUPS Calgary Society","Main Facility","Calgary","T2R 0B7","Other","Specialized Housing"]
["261927516067722 Bassett Crescent NW",261927516067,"722 Bassett Crescent NW","CVF","Cypress View Foundation","Cypress View","Medicine Hat","T1A7W8","Housing Provider","Seniors Lodge Program"]
["261927550237722 Bassett Crescent NW",261927550237,"722 Bassett Crescent NW","CVF","Cypress View Foundation","The Teeoda","Medicine Hat","T1A7W8","Alberta Social Housing Corporation","Seniors Self Contained Program"]
["999987",999987,null,"11111","Discovery House Family Violence Prevention Society","Discovery House Second Stage Shelter","Calgary","T2A7R7","Other","None"]
["1541273820035201 - 50 Street",154127382003,"5201 - 50 Street","DMS","Dr. Margaret Savage Crisis Centre Society","Womens Shelter","Cold Lake","T9M1X2","Housing Provider","None"]
["262227556144205 2nd Avenue South",262227556144,"205 2nd Avenue South","DDF","Drumheller and District Seniors Foundation","Blooming Prairie","Morrin","T0J2B0","Alberta Social Housing Corporation","Seniors Self Contained Program"]
["232027556069106 1 Avenue NW",232027556069,"106 1 Avenue NW","DDF","Drumheller and District Seniors Foundation","Highland Dell","Delia","T0J0W0","Alberta Social Housing Corporation","Seniors Self Contained Program"]
["236127512216696-6 Avenue East",236127512216,"696-6 Avenue East","DDF","Drumheller and District Seniors Foundation","Hillview Lodge","Drumheller","T0J0Y5","Housing Provider","Seniors Lodge Program"]
["236127556109250 - 2 Street East",236127556109,"250 - 2 Street East","DDF","Drumheller and District Seniors Foundation","Maple Ridge Manor 1","Drumheller","T0J0Y4","Alberta Social Housing Corporation","Seniors Self Contained Program"]
["236127556171133 Centre Street",236127556171,"133 Centre Street","DDF","Drumheller and District Seniors Foundation","Maple Ridge Manor 2","Drumheller","T0J0Y4","Alberta Social Housing Corporation","Seniors Self Contained Program"]
["236127556187685 Riverview Drive East",236127556187,"685 Riverview Drive East","DDF","Drumheller and District Seniors Foundation","Riverview Villa","Drumheller","T0J0Y0","Alberta Social Housing Corporation","Seniors Self Contained Program"]
["236127556187698 - 6 Avenue East",236127556187,"698 - 6 Avenue East","DDF","Drumheller and District Seniors Foundation","Riverview Villa","Drumheller","T0J0Y5","Housing Provider","Seniors Self Contained Program"]
["236127566006Bldg 1, 698 - 6 Avenue East",236127566006,"Bldg 1, 698 - 6 Avenue East","DDF","Drumheller and District Seniors Foundation","Sunshine","Drumheller","T0J0Y5","Housing Provider","Seniors Lodge Program"]
["236127566006Bldg 3, 698 - 6 Avenue East",236127566006,"Bldg 3, 698 - 6 Avenue East","DDF","Drumheller and District Seniors Foundation","Sunshine","Drumheller","T0J0Y5","Housing Provider","Seniors Lodge Program"]
["236127566006Bldg 2, 698 - 6 Avenue East",236127566006,"Bldg 2, 698 - 6 Avenue East","DDF","Drumheller and District Seniors Foundation","Sunshine","Drumheller","T0J0Y5","Housing Provider","Seniors Lodge Program"]
["236127510134698 - 6 Avenue East",236127510134,"698 - 6 Avenue East","DDF","Drumheller and District Seniors Foundation","Sunshine Lodge","Drumheller","T0J0Y5","Housing Provider","Seniors Lodge Program"]
["23612731676715 Pine Place",236127316767,"15 Pine Place","DRU","Drumheller Housing Administration","Drumheller 1","Drumheller","T0J0Y7","Alberta Social Housing Corporation","Community Housing Program"]
["23612731676719 Pine Place",236127316767,"19 Pine Place","DRU","Drumheller Housing Administration","Drumheller 1","Drumheller","T0J0Y7","Alberta Social Housing Corporation","Community Housing Program"]
["23612731676723 Pine Place",236127316767,"23 Pine Place","DRU","Drumheller Housing Administration","Drumheller 1","Drumheller","T0J0Y7","Alberta Social Housing Corporation","Community Housing Program"]
["23612731676727 Pine Place",236127316767,"27 Pine Place","DRU","Drumheller Housing Administration","Drumheller 1","Drumheller","T0J0Y7","Alberta Social Housing Corporation","Community Housing Program"]
["23612731676731 Pine Place",236127316767,"31 Pine Place","DRU","Drumheller Housing Administration","Drumheller 1","Drumheller","T0J0Y7","Alberta Social Housing Corporation","Community Housing Program"]
["23612731676735 Pine Place",236127316767,"35 Pine Place","DRU","Drumheller Housing Administration","Drumheller 1","Drumheller","T0J0Y7","Alberta Social Housing Corporation","Community Housing Program"]
["23612731676739 Pine Place",236127316767,"39 Pine Place","DRU","Drumheller Housing Administration","Drumheller 1","Drumheller","T0J0Y7","Alberta Social Housing Corporation","Community Housing Program"]
["23612731676743 Pine Place",236127316767,"43 Pine Place","DRU","Drumheller Housing Administration","Drumheller 1","Drumheller","T0J0Y7","Alberta Social Housing Corporation","Community Housing Program"]
["23612731676714 Juniper Road",236127316767,"14 Juniper Road","DRU","Drumheller Housing Administration","Drumheller 1","Drumheller","T0J0Y7","Alberta Social Housing Corporation","Community Housing Program"]
["23612731676718 Juniper Road",236127316767,"18 Juniper Road","DRU","Drumheller Housing Administration","Drumheller 1","Drumheller","T0J0Y7","Alberta Social Housing Corporation","Community Housing Program"]
["23612731676722 Juniper Road",236127316767,"22 Juniper Road","DRU","Drumheller Housing Administration","Drumheller 1","Drumheller","T0J0Y7","Alberta Social Housing Corporation","Community Housing Program"]
["23612731676726 Juniper Road",236127316767,"26 Juniper Road","DRU","Drumheller Housing Administration","Drumheller 1","Drumheller","T0J0Y7","Alberta Social Housing Corporation","Community Housing Program"]
["23612731676771 Cedar Crescent",236127316767,"71 Cedar Crescent","DRU","Drumheller Housing Administration","Drumheller 1","Drumheller","T0J0Y7","Alberta Social Housing Corporation","Community Housing Program"]
["23612731676310, 20 Hunts Drive",236127316763,"10, 20 Hunts Drive","DRU","Drumheller Housing Administration","Drumheller 2 Municipal","Drumheller","T0J0Y6","Municipality","Community Housing Program"]
["23612731676314, 20 Hunts Drive",236127316763,"14, 20 Hunts Drive","DRU","Drumheller Housing Administration","Drumheller 2 Municipal","Drumheller","T0J0Y6","Municipality","Community Housing Program"]
["23612731676320, 20 Hunts Drive",236127316763,"20, 20 Hunts Drive","DRU","Drumheller Housing Administration","Drumheller 2 Municipal","Drumheller","T0J0Y6","Municipality","Community Housing Program"]
["23612731676328, 20 Hunts Drive",236127316763,"28, 20 Hunts Drive","DRU","Drumheller Housing Administration","Drumheller 2 Municipal","Drumheller","T0J0Y6","Municipality","Community Housing Program"]
["1599275120304305 - 49 Street",159927512030,"4305 - 49 Street","EHF","Eagle Hill Foundation (1995)","Eagle Hill Lodge","Willingdon","T0B4R0","Alberta Social Housing Corporation","Seniors Lodge Program"]
["156327510171South Railway Ave",156327510171,"South Railway Ave","EHF","Eagle Hill Foundation (1995)","Eagle View Lodge and Villa","Myrnam","T0B3K0","Housing Provider","Seniors Lodge Program"]
["1581275520275201 - 52 Avenue Units 1-2",158127552027,"5201 - 52 Avenue Units 1-2","EHF","Eagle Hill Foundation (1995)","Eventide Homes","Two Hills","T0B4K0","Alberta Social Housing Corporation","Seniors Self Contained Program"]
["1581275520275201 - 52 Avenue Unit 3 - 6",158127552027,"5201 - 52 Avenue Unit 3 - 6","EHF","Eagle Hill Foundation (1995)","Eventide Homes","Two Hills","T0B4K0","Alberta Social Housing Corporation","Seniors Self Contained Program"]
["1581275520275201 - 52 Avenue Unit 7 - 10",158127552027,"5201 - 52 Avenue Unit 7 - 10","EHF","Eagle Hill Foundation (1995)","Eventide Homes","Two Hills","T0B4K0","Alberta Social Housing Corporation","Seniors Self Contained Program"]
["1581275520275201 - 52 Avenue Unit 11 - 12",158127552027,"5201 - 52 Avenue Unit 11 - 12","EHF","Eagle Hill Foundation (1995)","Eventide Homes","Two Hills","T0B4K0","Alberta Social Housing Corporation","Seniors Self Contained Program"]
["1581275522175201 - 52 Avenue Units 14-19",158127552217,"5201 - 52 Avenue Units 14-19","EHF","Eagle Hill Foundation (1995)","Eventide Homes 2","Two Hills","T0B4K0","Alberta Social Housing Corporation","Seniors Self Contained Program"]
["1581275522175201 - 52 Avenue Units 20-29",158127552217,"5201 - 52 Avenue Units 20-29","EHF","Eagle Hill Foundation (1995)","Eventide Homes 2","Two Hills","T0B4K0","Alberta Social Housing Corporation","Seniors Self Contained Program"]
["1581275120494801 - 53 Avenue",158127512049,"4801 - 53 Avenue","EHF","Eagle Hill Foundation (1995)","Hillside Senior Citizens Lodge","Two Hills","T0B4K0","Alberta Social Housing Corporation","Seniors Lodge Program"]
["153027552289Derwent",153027552289,"Derwent","EHF","Eagle Hill Foundation (1995)","Northern Lights Manor","Derwent","T0B1C0","Alberta Social Housing Corporation","Seniors Self Contained Program"]
["1581272229744401 - 50 Avenue",158127222974,"4401 - 50 Avenue","EHF","Eagle Hill Foundation (1995)","Two Hills R&N 1","Two Hills","T0B4K0","Alberta Social Housing Corporation","Community Housing Program"]
["1581272229744604 - 56 Street",158127222974,"4604 - 56 Street","EHF","Eagle Hill Foundation (1995)","Two Hills R&N 1","Two Hills","T0B4K0","Alberta Social Housing Corporation","Community Housing Program"]
["30000000103311621 – 91 Street",300000001033,"11621 – 91 Street","ECC","Edmonton City Centre Church Corporation","Bears Den","Edmonton","T5H 1Y3","Housing Provider","Specialized Housing"]
["11252737204211621 - 91 Street NW",112527372042,"11621 - 91 Street NW","ECC","Edmonton City Centre Church Corporation","ICY House 1","Edmonton","T5B4A9","Housing Provider","Specialized Housing"]
["11252738201310714 - 93 Street NW",112527382013,"10714 - 93 Street NW","ECC","Edmonton City Centre Church Corporation","ICY House 2","Edmonton","T5H1Y3","Housing Provider","Specialized Housing"]
["11252737204212315 - 83 Street NW",112527372042,"12315 - 83 Street NW","ECC","Edmonton City Centre Church Corporation","ICY House 1","Edmonton","T5B3A4","Housing Provider","Specialized Housing"]
["11252737204211445 - 82 Street NW",112527372042,"11445 - 82 Street NW","ECC","Edmonton City Centre Church Corporation","ICY House 1","Edmonton","T5B2V5","Housing Provider","Specialized Housing"]
["11252737204211443 - 82 Street NW",112527372042,"11443 - 82 Street NW","ECC","Edmonton City Centre Church Corporation","ICY House 1","Edmonton","T5B2V5","Housing Provider","Specialized Housing"]
["11252737201010956 - 92 Street NW",112527372010,"10956 - 92 Street NW","ECC","Edmonton City Centre Church Corporation","Meadows One (HHS 9)","Edmonton","T5H1W3","Housing Provider","Specialized Housing"]
["11252737200910855 - 94 Street NW",112527372009,"10855 - 94 Street NW","ECC","Edmonton City Centre Church Corporation","Meadows Two (HHS 8)","Edmonton","T5H1Z8","Housing Provider","Specialized Housing"]
["11252737200910921 - 93 Street NW",112527372009,"10921 - 93 Street NW","ECC","Edmonton City Centre Church Corporation","Meadows Two (HHS 8)","Edmonton","T5H1Z1","Housing Provider","Specialized Housing"]
["1125273720099419 - 110 Avenue NW",112527372009,"9419 - 110 Avenue NW","ECC","Edmonton City Centre Church Corporation","Meadows Two (HHS 8)","Edmonton","T5H1H2","Housing Provider","Specialized Housing"]
["1125273720339537 - 106 Street NW",112527372033,"9537 - 106 Street NW","ECC","Edmonton City Centre Church Corporation","Our Place","Edmonton","T5H0N3","Housing Provider","Specialized Housing"]
["1125273720329359 - 104 Avenue NW",112527372032,"9359 - 104 Avenue NW","ECC","Edmonton City Centre Church Corporation","Sorenson Place","Edmonton","T5H0H9","Housing Provider","Specialized Housing"]
["1125273820109611- 101A Avenue",112527382010,"9611- 101A Avenue","ECC","Edmonton City Centre Church Corporation","Womens Emergency","Edmonton","T5H0C8","Housing Provider","Specialized Housing"]
["11252738201311411 - 92 Street NW",112527382013,"11411 - 92 Street NW","ECC","Edmonton City Centre Church Corporation","ICY House 2","Edmonton","T5G0Z6","Housing Provider","Specialized Housing"]
["1125273720289534 - 103 Avenue NW",112527372028,"9534 - 103 Avenue NW","PIN","Edmonton People in Need Shelter Society","Kerwin-Lucier House","Edmonton","T5H0G9","Housing Provider","Specialized Housing"]
[{"$f":"CONCATENATE(B1859,C1859)","v":"983825 118 Ave NW"},98,"3825 118 Ave NW","22222","Edmonton Women's Shelter LTD","Business Office","Edmonton",null,"Other","None"]
["99999999992911814 46 Street",999999999929,"11814 46 Street","22222","Edmonton Women's Shelter LTD","Edmonton Women's Shelter","Edmonton","T5W2V7","Other","None"]
["99999999992911813 38 Street",999999999929,"11813 38 Street","22222","Edmonton Women's Shelter LTD","Edmonton Women's Shelter","Edmonton","T5W2H3","Other","None"]
["99999999992911712 93 Street",999999999929,"11712 93 Street","22222","Edmonton Women's Shelter LTD","Edmonton Women's Shelter","Edmonton","T5G1E1","Other","None"]
["97Box 1194",97,"Box 1194","FSWC","Fairview and District Women's Center Association","Fairview and District Women's Shelter","Fairview","T0H1L0","Other","None"]
["30000000105575 – 6 Street NE",300000001055,"75 – 6 Street NE","FIN","Fear Is Not Love Society","Women’s Shelter","Calgary","T2E 8H7","Housing Provider","None"]
["152327372049Fishing Lake Metis Settlement",152327372049,"Fishing Lake Metis Settlement","FLM","Fishing Lake Metis Settlement Senior's Lodge Society","Fishing Lake Metis Settlement Senior's Lodge","Fishing Lake Metis Settlement","T0A3G0","Housing Provider","Specialized Housing"]
["2428275561451 Fairway Crescent",242827556145,"1 Fairway Crescent","FOR","Foremost Housing Authority","Fairway Manor","Foremost","T0K0X0","Alberta Social Housing Corporation","Seniors Self Contained Program"]
["242827316243310B - 4 Street West",242827316243,"310B - 4 Street West","FOR","Foremost Housing Authority","Foremost 1","Foremost","T0K0X0","Alberta Social Housing Corporation","Community Housing Program"]
["242827316243310A - 4 Street West",242827316243,"310A - 4 Street West","FOR","Foremost Housing Authority","Foremost 1","Foremost","T0K0X0","Alberta Social Housing Corporation","Community Housing Program"]
["212227310066106 School Crescent",212227310066,"106 School Crescent","FMF","Forty Mile Foundation","Bow Island 2","Bow Island","T0K0G0","Alberta Social Housing Corporation","Community Housing Program"]
["212227310066107 School Crescent",212227310066,"107 School Crescent","FMF","Forty Mile Foundation","Bow Island 2","Bow Island","T0K0G0","Alberta Social Housing Corporation","Community Housing Program"]
["212227310066112 School Crescent",212227310066,"112 School Crescent","FMF","Forty Mile Foundation","Bow Island 2","Bow Island","T0K0G0","Alberta Social Housing Corporation","Community Housing Program"]
["212227310066123 School Crescent",212227310066,"123 School Crescent","FMF","Forty Mile Foundation","Bow Island 2","Bow Island","T0K0G0","Alberta Social Housing Corporation","Community Housing Program"]
["212227310066223 - 1 Avenue East",212227310066,"223 - 1 Avenue East","FMF","Forty Mile Foundation","Bow Island 2","Bow Island","T0K0G0","Alberta Social Housing Corporation","Community Housing Program"]
["212227316067313 - 8 Avenue East",212227316067,"313 - 8 Avenue East","FMF","Forty Mile Foundation","Bow Island 4","Bow Island","T0K0G0","Alberta Social Housing Corporation","Community Housing Program"]
["212227316067317 - 8 Avenue East",212227316067,"317 - 8 Avenue East","FMF","Forty Mile Foundation","Bow Island 4","Bow Island","T0K0G0","Alberta Social Housing Corporation","Community Housing Program"]
["212227316067321 - 8 Avenue East",212227316067,"321 - 8 Avenue East","FMF","Forty Mile Foundation","Bow Island 4","Bow Island","T0K0G0","Alberta Social Housing Corporation","Community Housing Program"]
["212227316067325 - 8 Avenue East",212227316067,"325 - 8 Avenue East","FMF","Forty Mile Foundation","Bow Island 4","Bow Island","T0K0G0","Alberta Social Housing Corporation","Community Housing Program"]
["212227316067806 - 1 Street East",212227316067,"806 - 1 Street East","FMF","Forty Mile Foundation","Bow Island 4","Bow Island","T0K0G0","Alberta Social Housing Corporation","Community Housing Program"]
["212227316067810 - 1 Street East",212227316067,"810 - 1 Street East","FMF","Forty Mile Foundation","Bow Island 4","Bow Island","T0K0G0","Alberta Social Housing Corporation","Community Housing Program"]
["212227316067812 - 1 Street East",212227316067,"812 - 1 Street East","FMF","Forty Mile Foundation","Bow Island 4","Bow Island","T0K0G0","Alberta Social Housing Corporation","Community Housing Program"]
["2122275620041039 - 1 Street East",212227562004,"1039 - 1 Street East","FMF","Forty Mile Foundation","Pleasant View","Bow Island","T0K0G0","Housing Provider","Seniors Lodge Program"]
["2122275101131039 - 1 Street East",212227510113,"1039 - 1 Street East","FMF","Forty Mile Foundation","Pleasant View Lodge","Bow Island","T0K0G0","Housing Provider","Seniors Lodge Program"]
["2122275561351002 Centre Street S",212227556135,"1002 Centre Street S","FMF","Forty Mile Foundation","Pleasant View Manor","Bow Island","T0K0G0","Alberta Social Housing Corporation","Seniors Self Contained Program"]
["2218273167753207 Centre Street NE",221827316775,"3207 Centre Street NE","A141","Fresh Start Recovery Centre","Fresh Start Recovery Centre","Calgary","T2E2X6","Alberta Social Housing Corporation","None"]
["2218273167753419 Edmonton Trail NE",221827316775,"3419 Edmonton Trail NE","A141","Fresh Start Recovery Centre","Fresh Start Recovery Centre","Calgary","T2E0G9","Alberta Social Housing Corporation","None"]
["11252755214410170 - 120 Street NW",112527552144,"10170 - 120 Street NW","GEF","GEF Seniors Housing","Ansgar Villa","Edmonton","T5K2N7","Alberta Social Housing Corporation","Seniors Self Contained Program"]
["11252755212711909 - 88 Street NW",112527552127,"11909 - 88 Street NW","GEF","GEF Seniors Housing","Avenwood Corner","Edmonton","T5B3S2","Alberta Social Housing Corporation","Seniors Self Contained Program"]
["1125275520869923 - 90 Avenue NW",112527552086,"9923 - 90 Avenue NW","GEF","GEF Seniors Housing","Bateman Manor","Edmonton","T6E2T4","Alberta Social Housing Corporation","Seniors Self Contained Program"]
["1125275500179920 - 83 Avenue NW",112527550017,"9920 - 83 Avenue NW","GEF","GEF Seniors Housing","Bethany Senior Citizens Home","Edmonton","T6E2C1","Alberta Social Housing Corporation","Seniors Self Contained Program"]
["1125275120444410 - 117 Avenue NW",112527512044,"4410 - 117 Avenue NW","GEF","GEF Seniors Housing","Beverly Lodge","Edmonton","T5W4Z8","Alberta Social Housing Corporation","Seniors Lodge Program"]
["11252755218010142 - 157 Street NW",112527552180,"10142 - 157 Street NW","GEF","GEF Seniors Housing","Britannia Gardens","Edmonton","T5P2T8","Alberta Social Housing Corporation","Seniors Self Contained Program"]
["1125275500548804 - 121 Avenue NW",112527550054,"8804 - 121 Avenue NW","GEF","GEF Seniors Housing","Buchanan Manor","Edmonton","T5B0Z6","Alberta Social Housing Corporation","Seniors Self Contained Program"]
["11252755027910160 - 151 Street NW",112527550279,"10160 - 151 Street NW","GEF","GEF Seniors Housing","Canora Gardens","Edmonton","T5P4N2","Alberta Social Housing Corporation","Seniors Self Contained Program"]
["11252755001810039 - 103 Street NW",112527550018,"10039 - 103 Street NW","GEF","GEF Seniors Housing","Cathedral Close","Edmonton","T5J3G4","Alberta Social Housing Corporation","Seniors Self Contained Program"]
["11252755010510733 - 117 Street NW",112527550105,"10733 - 117 Street NW","GEF","GEF Seniors Housing","Central Manor","Edmonton","T5H3N3","Alberta Social Housing Corporation","Seniors Self Contained Program"]
["1125275521364215 - 102 Avenue NW",112527552136,"4215 - 102 Avenue NW","GEF","GEF Seniors Housing","Gateway Manor","Edmonton","T6A0M5","Alberta Social Housing Corporation","Seniors Self Contained Program"]
["1125275520506303 - 104 Avenue NW",112527552050,"6303 - 104 Avenue NW","GEF","GEF Seniors Housing","Grace Garden Court","Edmonton","T6A0X9","Alberta Social Housing Corporation","Seniors Self Contained Program"]
["11252755209212627 Stony Plain Road NW",112527552092,"12627 Stony Plain Road NW","GEF","GEF Seniors Housing","Groat House","Edmonton","T5N3Z4","Alberta Social Housing Corporation","Seniors Self Contained Program"]
["1125275522116209 - 118 Avenue NW",112527552211,"6209 - 118 Avenue NW","GEF","GEF Seniors Housing","Highland Place","Edmonton","T5W5A6","Alberta Social Housing Corporation","Seniors Self Contained Program"]
["11252756201510330 - 120 Street NW",112527562015,"10330 - 120 Street NW","GEF","GEF Seniors Housing","Kiwanis Place","Edmonton","T5K2A6","Alberta Social Housing Corporation","Seniors Lodge Program"]
["11252751020910330 - 120 Street NW",112527510209,"10330 - 120 Street NW","GEF","GEF Seniors Housing","Kiwanis Place Lodge","Edmonton","T5K2A6","Alberta Social Housing Corporation","Seniors Lodge Program"]
["11252755208910941 - 83 Avenue NW",112527552089,"10941 - 83 Avenue NW","GEF","GEF Seniors Housing","Knox Met Manor","Edmonton","T6G0T6","Alberta Social Housing Corporation","Seniors Self Contained Program"]
["11252755209813805 - 75 Street NW",112527552098,"13805 - 75 Street NW","GEF","GEF Seniors Housing","Londonderry Village","Edmonton","T5C3H8","Alberta Social Housing Corporation","Seniors Self Contained Program"]
["11252751013910910 – 142 Street NW",112527510139,"10910 – 142 Street NW","GEF","GEF Seniors Housing","McQueen Place Lodge","Edmonton","T5N2P9","Housing Provider","Seniors Lodge Program"]
["1125275101438609 - 161  Street NW",112527510143,"8609 - 161  Street NW","GEF","GEF Seniors Housing","Meadowlark Lodge","Edmonton","T5R5X9","Housing Provider","Seniors Lodge Program"]
["1125275521789420 - 92 Street NW",112527552178,"9420 - 92 Street NW","GEF","GEF Seniors Housing","Montgomery Legion Place","Edmonton","T6C4M9","Alberta Social Housing Corporation","Seniors Self Contained Program"]
["11252755203911512 - 128 Street NW",112527552039,"11512 - 128 Street NW","GEF","GEF Seniors Housing","Mountwood","Edmonton","T5M3Y5","Alberta Social Housing Corporation","Seniors Self Contained Program"]
["1125275122256675 92 Avenue NW",112527512225,"6675 92 Avenue NW","GEF","GEF Seniors Housing","Ottewell Manor","Edmonton","T6B0S3","Housing Provider","Seniors Lodge Program"]
["1125275101416207 - 92 Avenue NW",112527510141,"6207 - 92 Avenue NW","GEF","GEF Seniors Housing","Ottewell Place Lodge","Edmonton","T6B0S3","Housing Provider","Seniors Lodge Program"]
["3000000010726315 92 Avenue",300000001072,"6315 92 Avenue","GEF","GEF Seniors Housing","Ottewell Terrace","Edmonton","T6B 0S3","Housing Provider","None"]
["1125275502595210 - 110 Street NW",112527550259,"5210 - 110 Street NW","GEF","GEF Seniors Housing","Pleasantview Place","Edmonton","T6H5K1","Alberta Social Housing Corporation","Seniors Self Contained Program"]
["1125275102595210 - 110 Street NW",112527510259,"5210 - 110 Street NW","GEF","GEF Seniors Housing","Pleasantview Place Lodge","Edmonton","T6H5K1","Alberta Social Housing Corporation","Seniors Lodge Program"]
["1125275520964436 - 117 Avenue NW",112527552096,"4436 - 117 Avenue NW","GEF","GEF Seniors Housing","Porta Place","Edmonton","T5W4Y9","Alberta Social Housing Corporation","Seniors Self Contained Program"]
["11252751204810825 - 77 Avenue NW",112527512048,"10825 - 77 Avenue NW","GEF","GEF Seniors Housing","Queen Alexandra Lodge","Edmonton","T6E6C5","Alberta Social Housing Corporation","Seniors Lodge Program"]
["1125275520889743 - 77 Avenue NW",112527552088,"9743 - 77 Avenue NW","GEF","GEF Seniors Housing","Ritchie Pioneer Place","Edmonton","T6E1M2","Alberta Social Housing Corporation","Seniors Self Contained Program"]
["11252755207710819 - 134 Avenue NW",112527552077,"10819 - 134 Avenue NW","GEF","GEF Seniors Housing","Rosslyn Place","Edmonton","T5E1J9","Alberta Social Housing Corporation","Seniors Self Contained Program"]
["11252751201710915 - 134 Avenue NW",112527512017,"10915 - 134 Avenue NW","GEF","GEF Seniors Housing","Rosslyn Place Lodge","Edmonton","T5E1G4","Housing Provider","Seniors Lodge Program"]
["30000000107113311 92 Avenue",300000001071,"13311 92 Avenue","GEF","GEF Seniors Housing","Rosslyn Terrace","Edmonton","T5E 6R7","Housing Provider","None"]
["1125275122105815 Millwoods Rd South",112527512210,"5815 Millwoods Rd South","GEF","GEF Seniors Housing","Sakaw Terrace","Edmonton","T6L 0B1","Housing Provider","Seniors Lodge Program"]
["1125275502277720 - 108 Street NW",112527550227,"7720 - 108 Street NW","GEF","GEF Seniors Housing","Strathcona Place","Edmonton","T6E5E1","Alberta Social Housing Corporation","Seniors Self Contained Program"]
["1125275520078419 - 102 Street NW",112527552007,"8419 - 102 Street NW","GEF","GEF Seniors Housing","Trinity Hall","Edmonton","T6E5T1","Alberta Social Housing Corporation","Seniors Self Contained Program"]
["11252755208510006 - 80 Avenue NW",112527552085,"10006 - 80 Avenue NW","GEF","GEF Seniors Housing","Trinity Lutheran House","Edmonton","T6E1T5","Alberta Social Housing Corporation","Seniors Self Contained Program"]
[{"$f":"CONCATENATE(B1923,C1923)","v":"11252755217911033 - 76 Street NW"},112527552179,"11033 - 76 Street NW","GEF","GEF Seniors Housing","Virginia Park","Edmonton","T5B4T2","Alberta Social Housing Corporation","Seniors Self Contained Program"]
["11252751206811033 - 76 Street NW",112527512068,"11033 - 76 Street NW","GEF","GEF Seniors Housing","Virginia Park Lodge","Edmonton","T5B4T2","Alberta Social Housing Corporation","Seniors Lodge Program"]
["1125275520919908 - 165 Street NW",112527552091,"9908 - 165 Street NW","GEF","GEF Seniors Housing","Westlawn Courts","Edmonton","T5P4S3","Alberta Social Housing Corporation","Seniors Self Contained Program"]
["1125275520919911 - 167 Street NW",112527552091,"9911 - 167 Street NW","GEF","GEF Seniors Housing","Westlawn Courts","Edmonton","T5P4S8","Alberta Social Housing Corporation","Seniors Self Contained Program"]
["8888888800413139 Bowwood Drive NW",888888880041,"3139 Bowwood Drive NW","GCSCH","German-Canadian Senior Citizen Housing Society","Bowbridge Manor","Calgary","T3B5G2","Housing Provider","Specialized Housing"]
["8888888800429445 & 9447 - 150 Street",888888880042,"9445 & 9447 - 150 Street","GSS","Good Samaritan Society","150 Street Res","Edmonton","T5R1G8","Housing Provider","None"]
["19",19,null,"GSS","Good Samaritan Society","Millwoods Care Centre","Edmonton",null,"Other","None"]
["201290 Switzer Dr",20,"1290 Switzer Dr","GSS","Good Samaritan Society","Mountainview Centre","Hinton",null,"Other","None"]
["1197274620024702 Northmount Drive",119727462002,"4702 Northmount Drive","GSL","Good Shepherd Lutheran Social Service Society","Lutheran Home","Wetaskiwin","T9A3T3","Housing Provider","Seniors Lodge Program"]
["2218275560631826 - 16A Street SW",221827556063,"1826 - 16A Street SW","GBV","Grace Bankview House Senior Citizens Residence Society","Bankview House","Calgary","T2T4J7","Alberta Social Housing Corporation","Seniors Self Contained Program"]
["2218275561413600 Sarcee Road SW",221827556141,"3600 Sarcee Road SW","GBV","Grace Bankview House Senior Citizens Residence Society","Calgary Grace Lutheran Manor","Calgary","T3E6X5","Alberta Social Housing Corporation","Seniors Self Contained Program"]
["1239273720319539 - 123 Avenue",123927372031,"9539 - 123 Avenue","GPR","Grande Prairie Residential Society","GPR Project 1","Grande Prairie","T8V6P6","Housing Provider","Specialized Housing"]
["1239273720419609 - 123 Avenue",123927372041,"9609 - 123 Avenue","GPR","Grande Prairie Residential Society","Project 2","Grande Prairie","T8V6P6","Housing Provider","Specialized Housing"]
["1202275500011026 - 4 Avenue",120227550001,"1026 - 4 Avenue","GSP","Grande Spirit Foundation","Amisk Court","Beaverlodge","T0H0C0","Alberta Social Housing Corporation","Seniors Self Contained Program"]
["1202275500011026 - 4 Avenue",120227550001,"1026 - 4 Avenue","GSP","Grande Spirit Foundation","Amisk Court","Beaverlodge","T0H0C0","Alberta Social Housing Corporation","Seniors Self Contained Program"]
["1202275500011026 - 4 Avenue",120227550001,"1026 - 4 Avenue","GSP","Grande Spirit Foundation","Amisk Court","Beaverlodge","T0H0C0","Alberta Social Housing Corporation","Seniors Self Contained Program"]
["1202275500011026 - 4 Avenue",120227550001,"1026 - 4 Avenue","GSP","Grande Spirit Foundation","Amisk Court","Beaverlodge","T0H0C0","Alberta Social Housing Corporation","Seniors Self Contained Program"]
["1202275500011026 - 4 Avenue",120227550001,"1026 - 4 Avenue","GSP","Grande Spirit Foundation","Amisk Court","Beaverlodge","T0H0C0","Alberta Social Housing Corporation","Seniors Self Contained Program"]
["12392755000410013 - 96 Street",123927550004,"10013 - 96 Street","GSP","Grande Spirit Foundation","Aurora Court","Grande Prairie","T8V1Z8","Alberta Social Housing Corporation","Seniors Self Contained Program"]
["122327552332Unit 1, 10102 98 Ave",122327552332,"Unit 1, 10102 98 Ave","GSP","Grande Spirit Foundation","Bezanson Cottages","Bezanson","T0H0G0","Alberta Social Housing Corporation","Seniors Self Contained Program"]
["122327552332Unit 2,10102 98 Ave",122327552332,"Unit 2,10102 98 Ave","GSP","Grande Spirit Foundation","Bezanson Cottages","Bezanson","T0H0G0","Alberta Social Housing Corporation","Seniors Self Contained Program"]
["122327552332Unit 3, 10102 98 Ave",122327552332,"Unit 3, 10102 98 Ave","GSP","Grande Spirit Foundation","Bezanson Cottages","Bezanson","T0H0G0","Alberta Social Housing Corporation","Seniors Self Contained Program"]
["122327552332Unit 4, 10102 98 Ave",122327552332,"Unit 4, 10102 98 Ave","GSP","Grande Spirit Foundation","Bezanson Cottages","Bezanson","T0H0G0","Alberta Social Housing Corporation","Seniors Self Contained Program"]
["122327552332Unit 5, 10102 98 Ave",122327552332,"Unit 5, 10102 98 Ave","GSP","Grande Spirit Foundation","Bezanson Cottages","Bezanson","T0H0G0","Alberta Social Housing Corporation","Seniors Self Contained Program"]
["122327552332Unit 6, 10102 98 Ave",122327552332,"Unit 6, 10102 98 Ave","GSP","Grande Spirit Foundation","Bezanson Cottages","Bezanson","T0H0G0","Alberta Social Housing Corporation","Seniors Self Contained Program"]
["1209275522021 Street East",120927552202,"1 Street East","GSP","Grande Spirit Foundation","Debolt Manors","Debolt","T0H1B0","Housing Provider","Seniors Self Contained Program"]
["1209275522021 Street East",120927552202,"1 Street East","GSP","Grande Spirit Foundation","Debolt Manors","Debolt","T0H1B0","Housing Provider","Seniors Self Contained Program"]
["1239275520809428 - 121 Avenue",123927552080,"9428 - 121 Avenue","GSP","Grande Spirit Foundation","Dieppe Manor","Grande Prairie","T8V6H9","Alberta Social Housing Corporation","Seniors Self Contained Program"]
["1289272229879519 - 94 Avenue",128927222987,"9519 - 94 Avenue","GSP","Grande Spirit Foundation","Family Beaverlodge","Wembley","T0H3S0","Alberta Social Housing Corporation","Community Housing Program"]
["1289272229871118 - 3 Avenue",128927222987,"1118 - 3 Avenue","GSP","Grande Spirit Foundation","Family Beaverlodge","Wembley","T0H0C0","Alberta Social Housing Corporation","Community Housing Program"]
["1289272229879719 - 95 Avenue",128927222987,"9719 - 95 Avenue","GSP","Grande Spirit Foundation","Family Beaverlodge","Wembley","T0H3S0","Alberta Social Housing Corporation","Community Housing Program"]
["1289272229879744 - 94 Avenue",128927222987,"9744 - 94 Avenue","GSP","Grande Spirit Foundation","Family Beaverlodge","Wembley","T0H3S0","Alberta Social Housing Corporation","Community Housing Program"]
["1289272229879315 - 98 Street",128927222987,"9315 - 98 Street","GSP","Grande Spirit Foundation","Family Beaverlodge","Wembley","T0H3S0","Alberta Social Housing Corporation","Community Housing Program"]
["128927222987120 - 11 Street",128927222987,"120 - 11 Street","GSP","Grande Spirit Foundation","Family Beaverlodge","Wembley","T0H0C0","Alberta Social Housing Corporation","Community Housing Program"]
["128927222987717 Oak Drive",128927222987,"717 Oak Drive","GSP","Grande Spirit Foundation","Family Beaverlodge","Wembley","T0H0C0","Alberta Social Housing Corporation","Community Housing Program"]
["128927222987520 - 6 Avenue",128927222987,"520 - 6 Avenue","GSP","Grande Spirit Foundation","Family Beaverlodge","Wembley","T0H0C0","Alberta Social Housing Corporation","Community Housing Program"]
["1289272229879904 - 93 Avenue",128927222987,"9904 - 93 Avenue","GSP","Grande Spirit Foundation","Family Beaverlodge","Wembley","T0H3S0","Alberta Social Housing Corporation","Community Housing Program"]
["1289272229879906 - 93 Avenue",128927222987,"9906 - 93 Avenue","GSP","Grande Spirit Foundation","Family Beaverlodge","Wembley","T0H3S0","Alberta Social Housing Corporation","Community Housing Program"]
["12782722228859 McAlpine Crescent",127827222288,"59 McAlpine Crescent","GSP","Grande Spirit Foundation","Family Rycroft/Spirit River","Spirit River","T0H3G0","Housing Provider","Community Housing Program"]
["12782722228843 McAlpine Crescent",127827222288,"43 McAlpine Crescent","GSP","Grande Spirit Foundation","Family Rycroft/Spirit River","Spirit River","T0H3G0","Alberta Social Housing Corporation","Community Housing Program"]
["12782722228848 McAlpine Crescent",127827222288,"48 McAlpine Crescent","GSP","Grande Spirit Foundation","Family Rycroft/Spirit River","Spirit River","T0H3G0","Alberta Social Housing Corporation","Community Housing Program"]
["12142722310810121 - 99 Street",121427223108,"10121 - 99 Street","GSP","Grande Spirit Foundation","Family Sexsmith/Clairmont","Sexsmith","T0H3C0","Housing Provider","Community Housing Program"]
["1214272231089716 - 91 Street",121427223108,"9716 - 91 Street","GSP","Grande Spirit Foundation","Family Sexsmith/Clairmont","Sexsmith","T0H3C0","Housing Provider","Community Housing Program"]
["1214272231089805 - 91 Street",121427223108,"9805 - 91 Street","GSP","Grande Spirit Foundation","Family Sexsmith/Clairmont","Sexsmith","T0H3C0","Housing Provider","Community Housing Program"]
["1214272231089709 - 98 Avenue",121427223108,"9709 - 98 Avenue","GSP","Grande Spirit Foundation","Family Sexsmith/Clairmont","Sexsmith","T0H3C0","Housing Provider","Community Housing Program"]
["1214272231089822 - 103 Avenue",121427223108,"9822 - 103 Avenue","GSP","Grande Spirit Foundation","Family Sexsmith/Clairmont","Sexsmith","T0H0W1","Alberta Social Housing Corporation","Community Housing Program"]
["1214272231089824 - 103 Avenue",121427223108,"9824 - 103 Avenue","GSP","Grande Spirit Foundation","Family Sexsmith/Clairmont","Sexsmith","T0H0W1","Alberta Social Housing Corporation","Community Housing Program"]
["1214272231089601 - 91 Street",121427223108,"9601 - 91 Street","GSP","Grande Spirit Foundation","Family Sexsmith/Clairmont","Sexsmith","T0H3C0","Housing Provider","Community Housing Program"]
["1214272231089302 100 Avenue",121427223108,"9302 100 Avenue","GSP","Grande Spirit Foundation","Family Sexsmith/Clairmont","Sexsmith",null,"Housing Provider","Community Housing Program"]
["12392731286010803 - 93A Street",123927312860,"10803 - 93A Street","GSP","Grande Spirit Foundation","Grande Prairie Municipal Family Housing","Grande Prairie","T8V1Y6","Municipality","Community Housing Program"]
["12392731286010806 - 93 Street",123927312860,"10806 - 93 Street","GSP","Grande Spirit Foundation","Grande Prairie Municipal Family Housing","Grande Prairie","T8V1Y4","Municipality","Community Housing Program"]
["12392731286010809 - 93A Street",123927312860,"10809 - 93A Street","GSP","Grande Spirit Foundation","Grande Prairie Municipal Family Housing","Grande Prairie","T8V1Y6","Municipality","Community Housing Program"]
["12392731286010810 - 93 Street",123927312860,"10810 - 93 Street","GSP","Grande Spirit Foundation","Grande Prairie Municipal Family Housing","Grande Prairie","T8V1Y4","Municipality","Community Housing Program"]
["12392731286010814 - 93 Street",123927312860,"10814 - 93 Street","GSP","Grande Spirit Foundation","Grande Prairie Municipal Family Housing","Grande Prairie","T8V1Y4","Municipality","Community Housing Program"]
["12392731286010818 - 93 Street",123927312860,"10818 - 93 Street","GSP","Grande Spirit Foundation","Grande Prairie Municipal Family Housing","Grande Prairie","T8V1Y4","Municipality","Community Housing Program"]
["1239273128609306 - 108 Avenue",123927312860,"9306 - 108 Avenue","GSP","Grande Spirit Foundation","Grande Prairie Municipal Family Housing","Grande Prairie","T8V1M7","Municipality","Community Housing Program"]
["1239273128609307 - 109 Avenue",123927312860,"9307 - 109 Avenue","GSP","Grande Spirit Foundation","Grande Prairie Municipal Family Housing","Grande Prairie","T8V1P9","Municipality","Community Housing Program"]
["1239273128609308 - 109 Avenue",123927312860,"9308 - 109 Avenue","GSP","Grande Spirit Foundation","Grande Prairie Municipal Family Housing","Grande Prairie","T8V1R1","Municipality","Community Housing Program"]
["1239273128609310 - 108 Avenue",123927312860,"9310 - 108 Avenue","GSP","Grande Spirit Foundation","Grande Prairie Municipal Family Housing","Grande Prairie","T8V1M7","Municipality","Community Housing Program"]
["1239273128609313 - 109 Avenue",123927312860,"9313 - 109 Avenue","GSP","Grande Spirit Foundation","Grande Prairie Municipal Family Housing","Grande Prairie","T8V1P9","Municipality","Community Housing Program"]
["1239273128609312 - 108 Avenue",123927312860,"9312 - 108 Avenue","GSP","Grande Spirit Foundation","Grande Prairie Municipal Family Housing","Grande Prairie","T8V1M7","Municipality","Community Housing Program"]
["1239273128609314 - 108 Avenue",123927312860,"9314 - 108 Avenue","GSP","Grande Spirit Foundation","Grande Prairie Municipal Family Housing","Grande Prairie","T8V1M7","Municipality","Community Housing Program"]
["1239273128609315 - 109 Avenue",123927312860,"9315 - 109 Avenue","GSP","Grande Spirit Foundation","Grande Prairie Municipal Family Housing","Grande Prairie","T8V1P9","Municipality","Community Housing Program"]
["1239273128609318 - 108 Avenue",123927312860,"9318 - 108 Avenue","GSP","Grande Spirit Foundation","Grande Prairie Municipal Family Housing","Grande Prairie","T8V1M7","Municipality","Community Housing Program"]
[{"$f":"CONCATENATE(B1987,C1987)","v":"1239273128609319 - 109 Avenue"},123927312860,"9319 - 109 Avenue","GSP","Grande Spirit Foundation","Grande Prairie Municipal Family Housing","Grande Prairie","T8V1P9","Municipality","Community Housing Program"]
["1239273128609322 - 108 Avenue",123927312860,"9322 - 108 Avenue","GSP","Grande Spirit Foundation","Grande Prairie Municipal Family Housing","Grande Prairie","T8V1M7","Municipality","Community Housing Program"]
["1239273122136340 - 96 Street",123927312213,"6340 - 96 Street","GSP","Grande Spirit Foundation","Grande Prairie Provincial Family Housing","Grande Prairie","T8W2B8","Municipality","Community Housing Program"]
["1239273122139330 - 74 Avenue",123927312213,"9330 - 74 Avenue","GSP","Grande Spirit Foundation","Grande Prairie Provincial Family Housing","Grande Prairie","T8V6G3","Municipality","Community Housing Program"]
["1239273122137316/7318 - 93A Street",123927312213,"7316/7318 - 93A Street","GSP","Grande Spirit Foundation","Grande Prairie Provincial Family Housing","Grande Prairie","T8V6H5","Alberta Social Housing Corporation","Community Housing Program"]
["1239273122139337 - 67 Avenue",123927312213,"9337 - 67 Avenue","GSP","Grande Spirit Foundation","Grande Prairie Provincial Family Housing","Grande Prairie","T8W1A3","Municipality","Community Housing Program"]
["1239273122139309 - 67 Avenue",123927312213,"9309 - 67 Avenue","GSP","Grande Spirit Foundation","Grande Prairie Provincial Family Housing","Grande Prairie","T8W1A3","Municipality","Community Housing Program"]
["1239273122139336 - 67 Avenue",123927312213,"9336 - 67 Avenue","GSP","Grande Spirit Foundation","Grande Prairie Provincial Family Housing","Grande Prairie","T8W1C2","Municipality","Community Housing Program"]
["1239273122139339 - 66 Avenue",123927312213,"9339 - 66 Avenue","GSP","Grande Spirit Foundation","Grande Prairie Provincial Family Housing","Grande Prairie","T8W1E1","Municipality","Community Housing Program"]
["1239273122139648 - 74 Avenue",123927312213,"9648 - 74 Avenue","GSP","Grande Spirit Foundation","Grande Prairie Provincial Family Housing","Grande Prairie","T8V5B2","Municipality","Community Housing Program"]
["1239273122136912 - 99A Street",123927312213,"6912 - 99A Street","GSP","Grande Spirit Foundation","Grande Prairie Provincial Family Housing","Grande Prairie","T8V5G4","Municipality","Community Housing Program"]
["1239273122139412 - 80 Avenue",123927312213,"9412 - 80 Avenue","GSP","Grande Spirit Foundation","Grande Prairie Provincial Family Housing","Grande Prairie","T8V5J4","Municipality","Community Housing Program"]
["1239273122137306 - 98 Street",123927312213,"7306 - 98 Street","GSP","Grande Spirit Foundation","Grande Prairie Provincial Family Housing","Grande Prairie","T8V4X8","Municipality","Community Housing Program"]
["1239273122139401 - 120 Avenue",123927312213,"9401 - 120 Avenue","GSP","Grande Spirit Foundation","Grande Prairie Provincial Family Housing","Grande Prairie","T8V4P9","Alberta Social Housing Corporation","Community Housing Program"]
["1239273122139405 - 120 Avenue",123927312213,"9405 - 120 Avenue","GSP","Grande Spirit Foundation","Grande Prairie Provincial Family Housing","Grande Prairie","T8V4P9","Alberta Social Housing Corporation","Community Housing Program"]
["1239273122139529 - 121 Avenue",123927312213,"9529 - 121 Avenue","GSP","Grande Spirit Foundation","Grande Prairie Provincial Family Housing","Grande Prairie","T8V4R6","Alberta Social Housing Corporation","Community Housing Program"]
["12392731221310113A - 92A Street",123927312213,"10113A - 92A Street","GSP","Grande Spirit Foundation","Grande Prairie Provincial Family Housing","Grande Prairie","T8V1X8","Alberta Social Housing Corporation","Community Housing Program"]
["1239273122139306A/B - 105 Avenue",123927312213,"9306A/B - 105 Avenue","GSP","Grande Spirit Foundation","Grande Prairie Provincial Family Housing","Grande Prairie","T8V1G4","Alberta Social Housing Corporation","Community Housing Program"]
["1239273122139731 - 117 Avenue",123927312213,"9731 - 117 Avenue","GSP","Grande Spirit Foundation","Grande Prairie Provincial Family Housing","Grande Prairie","T8V3P3","Alberta Social Housing Corporation","Community Housing Program"]
["12392731221311431 - 96A Street",123927312213,"11431 - 96A Street","GSP","Grande Spirit Foundation","Grande Prairie Provincial Family Housing","Grande Prairie","T8V2B3","Municipality","Community Housing Program"]
["1239273122139314A/B - 106 Avenue",123927312213,"9314A/B - 106 Avenue","GSP","Grande Spirit Foundation","Grande Prairie Provincial Family Housing","Grande Prairie","T8V1H7","Alberta Social Housing Corporation","Community Housing Program"]
["12392731221310216 - 105 Avenue",123927312213,"10216 - 105 Avenue","GSP","Grande Spirit Foundation","Grande Prairie Provincial Family Housing","Grande Prairie","T8V1H5","Alberta Social Housing Corporation","Community Housing Program"]
["1239273122139341 - 66 Avenue",123927312213,"9341 - 66 Avenue","GSP","Grande Spirit Foundation","Grande Prairie Provincial Family Housing","Grande Prairie","T8W1E1","Municipality","Community Housing Program"]
["1239273122139503 - 123 Avenue",123927312213,"9503 - 123 Avenue","GSP","Grande Spirit Foundation","Grande Prairie Provincial Family Housing","Grande Prairie","T8V5Y4","Municipality","Community Housing Program"]
["12392731221311433 - 96A Street",123927312213,"11433 - 96A Street","GSP","Grande Spirit Foundation","Grande Prairie Provincial Family Housing","Grande Prairie","T8V2B3","Municipality","Community Housing Program"]
["1239273122139533 - 121 Avenue",123927312213,"9533 - 121 Avenue","GSP","Grande Spirit Foundation","Grande Prairie Provincial Family Housing","Grande Prairie","T8V4R6","Alberta Social Housing Corporation","Community Housing Program"]
["1239273122136914 - 99A Street",123927312213,"6914 - 99A Street","GSP","Grande Spirit Foundation","Grande Prairie Provincial Family Housing","Grande Prairie","T8V5G4","Municipality","Community Housing Program"]
["1239273122139650 - 74 Avenue",123927312213,"9650 - 74 Avenue","GSP","Grande Spirit Foundation","Grande Prairie Provincial Family Housing","Grande Prairie","T8V5B2","Municipality","Community Housing Program"]
["1239273122139338 - 67 Avenue",123927312213,"9338 - 67 Avenue","GSP","Grande Spirit Foundation","Grande Prairie Provincial Family Housing","Grande Prairie","T8W1C2","Municipality","Community Housing Program"]
["1239273122137308 - 98 Street",123927312213,"7308 - 98 Street","GSP","Grande Spirit Foundation","Grande Prairie Provincial Family Housing","Grande Prairie","T8V4X8","Municipality","Community Housing Program"]
["1239273122136342 - 96 Street",123927312213,"6342 - 96 Street","GSP","Grande Spirit Foundation","Grande Prairie Provincial Family Housing","Grande Prairie","T8W2B7","Municipality","Community Housing Program"]
["12392751015010111 - 96 Street",123927510150,"10111 - 96 Street","GSP","Grande Spirit Foundation","Heritage Lodge","Grande Prairie","T8V1Z8","Housing Provider","Seniors Lodge Program"]
["12392755203510102 - 103 Avenue",123927552035,"10102 - 103 Avenue","GSP","Grande Spirit Foundation","James Manor","Grande Prairie","T8V1C1","Alberta Social Housing Corporation","Seniors Self Contained Program"]
["12142755523519432 – 113 Avenue",1214275552351,"9432 – 113 Avenue","GSP","Grande Spirit Foundation","Lakeview","Clairmont","T8X 0T2","Joint Ownership","Seniors Self Contained Program"]
["1214275122269432 - 113 Avenue",121427512226,"9432 - 113 Avenue","GSP","Grande Spirit Foundation","Lakeview Seniors Lodge","Clairmont","T8X0T2","Joint Ownership","Seniors Lodge Program"]
["1289275522579535 - 93 Avenue",128927552257,"9535 - 93 Avenue","GSP","Grande Spirit Foundation","Martin Hein Court","Wembley","T0H3S0","Alberta Social Housing Corporation","Seniors Self Contained Program"]
["1289275522579539 - 93 Avenue",128927552257,"9539 - 93 Avenue","GSP","Grande Spirit Foundation","Martin Hein Court","Wembley","T0H3S0","Alberta Social Housing Corporation","Seniors Self Contained Program"]
["1289275522579543 - 93 Avenue",128927552257,"9543 - 93 Avenue","GSP","Grande Spirit Foundation","Martin Hein Court","Wembley","T0H3S0","Alberta Social Housing Corporation","Seniors Self Contained Program"]
["1289275522579547 - 93 Avenue",128927552257,"9547 - 93 Avenue","GSP","Grande Spirit Foundation","Martin Hein Court","Wembley","T0H3S0","Alberta Social Housing Corporation","Seniors Self Contained Program"]
["1239275120929508 - 100 Avenue",123927512092,"9508 - 100 Avenue","GSP","Grande Spirit Foundation","Pioneer Lodge","Grande Prairie","T8V4M9","Housing Provider","Seniors Lodge Program"]
["1278275101865230 - 44 Avenue",127827510186,"5230 - 44 Avenue","GSP","Grande Spirit Foundation","Pleasant View Lodge","Spirit River","T0H3G0","Housing Provider","Seniors Lodge Program"]
["1284275520524901 - 52 Street",128427552052,"4901 - 52 Street","GSP","Grande Spirit Foundation","Poplar Ridge Apartments","Wanham","T0H3P0","Alberta Social Housing Corporation","Seniors Self Contained Program"]
["1274275522334634 - 49 Street",127427552233,"4634 - 49 Street","GSP","Grande Spirit Foundation","Potter Villa","Rycroft","T0H3A0","Alberta Social Housing Corporation","Seniors Self Contained Program"]
["1274275522334636 - 49 Street",127427552233,"4636 - 49 Street","GSP","Grande Spirit Foundation","Potter Villa","Rycroft","T0H3A0","Alberta Social Housing Corporation","Seniors Self Contained Program"]
["1278275520515228 - 44 Avenue",127827552051,"5228 - 44 Avenue","GSP","Grande Spirit Foundation","Rose Haven/Dr. Law Manor","Spirit River","T0H3G0","Alberta Social Housing Corporation","Seniors Self Contained Program"]
["1278275520514301 - 44 Avenue",127827552051,"4301 - 44 Avenue","GSP","Grande Spirit Foundation","Rose Haven/Dr. Law Manor","Spirit River","T0H3G0","Alberta Social Housing Corporation","Seniors Self Contained Program"]
["3000000010985230 - 44 Avenue",300000001098,"5230 - 44 Avenue","GSP","Grande Spirit Foundation","Redevelop Senior Lodge, Spirit River","Spirit River","T0H3G0","Alberta Social Housing Corporation","Seniors Lodge Program"]
["1219275520564913 - 52 Avenue",121927552056,"4913 - 52 Avenue","GSP","Grande Spirit Foundation","Summerset Manor","Eaglesham","T0H1H0","Alberta Social Housing Corporation","Seniors Self Contained Program"]
["1219275520564909 - 52 Avenue",121927552056,"4909 - 52 Avenue","GSP","Grande Spirit Foundation","Summerset Manor","Eaglesham","T0H1H0","Alberta Social Housing Corporation","Seniors Self Contained Program"]
["1276275520539702 - 97 Avenue",127627552053,"9702 - 97 Avenue","GSP","Grande Spirit Foundation","Sunset Homes","Sexsmith","T0H3C0","Alberta Social Housing Corporation","Seniors Self Contained Program"]
["1276275520539702 - 97 Avenue",127627552053,"9702 - 97 Avenue","GSP","Grande Spirit Foundation","Sunset Homes","Sexsmith","T0H3C0","Alberta Social Housing Corporation","Seniors Self Contained Program"]
["1276275520539702 - 97 Avenue",127627552053,"9702 - 97 Avenue","GSP","Grande Spirit Foundation","Sunset Homes","Sexsmith",null,"Alberta Social Housing Corporation","Seniors Self Contained Program"]
["1258275522039902 - 97 Avenue",125827552203,"9902 - 97 Avenue","GSP","Grande Spirit Foundation","Sunshine Plaza","La Glace","T0H2J0","Alberta Social Housing Corporation","Seniors Self Contained Program"]
["1258275522039902 - 97 Avenue",125827552203,"9902 - 97 Avenue","GSP","Grande Spirit Foundation","Sunshine Plaza","La Glace","T0H2J0","Alberta Social Housing Corporation","Seniors Self Contained Program"]
["1239275120569358 - 70 Avenue",123927512056,"9358 - 70 Avenue","GSP","Grande Spirit Foundation","Wild Rose Manor","Grande Prairie","T8V6L1","Housing Provider","Seniors Lodge Program"]
["1501272231293202 Cornwall Drive",150127223129,"3202 Cornwall Drive","GNF","Greater North Foundation","Athabasca R&N 1","Athabasca","T9S1N9","Alberta Social Housing Corporation","Community Housing Program"]
["1501272231293102 Cornwall Drive",150127223129,"3102 Cornwall Drive","GNF","Greater North Foundation","Athabasca R&N 1","Athabasca","T9S1N9","Alberta Social Housing Corporation","Community Housing Program"]
["1501272231294613A - 33 Street",150127223129,"4613A - 33 Street","GNF","Greater North Foundation","Athabasca R&N 1","Athabasca","T9S1P5","Alberta Social Housing Corporation","Community Housing Program"]
["1501272231294615A - 33 Street",150127223129,"4615A - 33 Street","GNF","Greater North Foundation","Athabasca R&N 1","Athabasca","T9S1P5","Alberta Social Housing Corporation","Community Housing Program"]
["1501272231294615B - 33 Street",150127223129,"4615B - 33 Street","GNF","Greater North Foundation","Athabasca R&N 1","Athabasca","T9S1P5","Alberta Social Housing Corporation","Community Housing Program"]
["1501272231294613B - 33 Street",150127223129,"4613B - 33 Street","GNF","Greater North Foundation","Athabasca R&N 1","Athabasca","T9S1P5","Alberta Social Housing Corporation","Community Housing Program"]
["1501272231293204 Cornwall Drive",150127223129,"3204 Cornwall Drive","GNF","Greater North Foundation","Athabasca R&N 1","Athabasca","T9S1N9","Alberta Social Housing Corporation","Community Housing Program"]
["1501272232104600 - 31 Street",150127223210,"4600 - 31 Street","GNF","Greater North Foundation","Athabasca R&N 2","Athabasca","T9S1P2","Alberta Social Housing Corporation","Community Housing Program"]
["1501272232104914 - 45 Street",150127223210,"4914 - 45 Street","GNF","Greater North Foundation","Athabasca R&N 2","Athabasca","T9S1P9","Alberta Social Housing Corporation","Community Housing Program"]
[{"$f":"CONCATENATE(B2051,C2051)","v":"1501272232104909 - 45 Street"},150127223210,"4909 - 45 Street","GNF","Greater North Foundation","Athabasca R&N 2","Athabasca","T9S1C4","Alberta Social Housing Corporation","Community Housing Program"]
["1501272223035312 - 43 Avenue",150127222303,"5312 - 43 Avenue","GNF","Greater North Foundation","Athabasca R&N 3","Athabasca","T9S1J7","Alberta Social Housing Corporation","Community Housing Program"]
["1501272223035316 - 43 Avenue",150127222303,"5316 - 43 Avenue","GNF","Greater North Foundation","Athabasca R&N 3","Athabasca","T9S1J7","Alberta Social Housing Corporation","Community Housing Program"]
["1512272231815907 Willow Drive N",151227223181,"5907 Willow Drive N","GNF","Greater North Foundation","Boyle R&N 1","Boyle","T0A0M0","Alberta Social Housing Corporation","Community Housing Program"]
["1512272233055010 - 51 Avenue",151227223305,"5010 - 51 Avenue","GNF","Greater North Foundation","Boyle R&N 2","Colinton","T0G0R0","Housing Provider","Community Housing Program"]
["151227223305Century Estates",151227223305,"Century Estates","GNF","Greater North Foundation","Boyle R&N 2","Colinton","T0G0R0","Housing Provider","Community Housing Program"]
["1512272233055909 Willow Drive North",151227223305,"5909 Willow Drive North","GNF","Greater North Foundation","Boyle R&N 2","Boyle","T0A0M0","Alberta Social Housing Corporation","Community Housing Program"]
["1512272231815312 Aspen Avenue",151227223181,"5312 Aspen Avenue","GNF","Greater North Foundation","Boyle R&N 1","Boyle","T0A0M0","Alberta Social Housing Corporation","Community Housing Program"]
["15512755202610204 104 Avenue",155127552026,"10204 104 Avenue","GNF","Greater North Foundation","Island View Home","Lac La Biche","T0A2C1","Alberta Social Housing Corporation","Seniors Self Contained Program"]
["15512731001410146 - 104 Street",155127310014,"10146 - 104 Street","GNF","Greater North Foundation","Lac La Biche 1","Lac La Biche","T0A2C1","Housing Provider","Community Housing Program"]
["15512731001410146 - 104 Street",155127310014,"10146 - 104 Street","GNF","Greater North Foundation","Lac La Biche 1","Lac La Biche","T0A2C1","Housing Provider","Community Housing Program"]
["1551273120399925 - 101 Avenue",155127312039,"9925 - 101 Avenue","GNF","Greater North Foundation","Lac La Biche 2","Lac La Biche","T0A2C1","Alberta Social Housing Corporation","Community Housing Program"]
["1551273120399929 - 101 Avenue",155127312039,"9929 - 101 Avenue","GNF","Greater North Foundation","Lac La Biche 2","Lac La Biche","T0A2C1","Alberta Social Housing Corporation","Community Housing Program"]
["1551273120399933 - 101 Avenue",155127312039,"9933 - 101 Avenue","GNF","Greater North Foundation","Lac La Biche 2","Lac La Biche","T0A2C1","Alberta Social Housing Corporation","Community Housing Program"]
["1551273120399937 - 101 Avenue",155127312039,"9937 - 101 Avenue","GNF","Greater North Foundation","Lac La Biche 2","Lac La Biche","T0A2C1","Alberta Social Housing Corporation","Community Housing Program"]
["1551273120399935 - 101 Avenue",155127312039,"9935 - 101 Avenue","GNF","Greater North Foundation","Lac La Biche 2","Lac La Biche","T0A2C1","Alberta Social Housing Corporation","Community Housing Program"]
["1551273120399931 - 101 Avenue",155127312039,"9931 - 101 Avenue","GNF","Greater North Foundation","Lac La Biche 2","Lac La Biche","T0A2C1","Alberta Social Housing Corporation","Community Housing Program"]
["1551273120399927 - 101 Avenue",155127312039,"9927 - 101 Avenue","GNF","Greater North Foundation","Lac La Biche 2","Lac La Biche","T0A2C1","Alberta Social Housing Corporation","Community Housing Program"]
["1551273120399939 - 101 Avenue",155127312039,"9939 - 101 Avenue","GNF","Greater North Foundation","Lac La Biche 2","Lac La Biche","T0A2C1","Alberta Social Housing Corporation","Community Housing Program"]
["1551273120599809 Lakeview Crescent",155127312059,"9809 Lakeview Crescent","GNF","Greater North Foundation","Lac La Biche 3","Lac La Biche","T0A2C1","Alberta Social Housing Corporation","Community Housing Program"]
["15512731224010008 - 94 Avenue",155127312240,"10008 - 94 Avenue","GNF","Greater North Foundation","Lac La Biche 4","Lac La Biche","T0A2C1","Alberta Social Housing Corporation","Community Housing Program"]
["1551273126959112 - 95 Avenue",155127312695,"9112 - 95 Avenue","GNF","Greater North Foundation","Lac La Biche 5 (Trans)","Lac La Biche","T0A2C1","Alberta Social Housing Corporation","Community Housing Program"]
["15512731269531 Lakeview Crescent",155127312695,"31 Lakeview Crescent","GNF","Greater North Foundation","Lac La Biche 5 (Trans)","Lac La Biche","T0A2C1","Alberta Social Housing Corporation","Community Housing Program"]
["1551273127729204 - 94 Avenue",155127312772,"9204 - 94 Avenue","GNF","Greater North Foundation","Lac La Biche 6 (Trans)","Lac La Biche","T0A2C1","Alberta Social Housing Corporation","Community Housing Program"]
["15512731277230, 10403 - 104 Avenue",155127312772,"30, 10403 - 104 Avenue","GNF","Greater North Foundation","Lac La Biche 6 (Trans)","Lac La Biche","T0A2C1","Alberta Social Housing Corporation","Community Housing Program"]
["1551273127809505 - 91 Street",155127312780,"9505 - 91 Street","GNF","Greater North Foundation","Lac La Biche 7","Lac La Biche","T0A2C1","Alberta Social Housing Corporation","Community Housing Program"]
["1551273127809110 94 Ave",155127312780,"9110 94 Ave","GNF","Greater North Foundation","Lac La Biche 7","Lac La Biche","T0A2C1","Alberta Social Housing Corporation","Community Housing Program"]
["1551273127809103 - 100 Street",155127312780,"9103 - 100 Street","GNF","Greater North Foundation","Lac La Biche 7","Lac La Biche","T0A2C1","Alberta Social Housing Corporation","Community Housing Program"]
["15512731278010414 - 104 Ave",155127312780,"10414 - 104 Ave","GNF","Greater North Foundation","Lac La Biche 7","Lac La Biche","T0A2C1","Alberta Social Housing Corporation","Community Housing Program"]
["15512722298810005 94 Ave",155127222988,"10005 94 Ave","GNF","Greater North Foundation","Lac La Biche R&N 3","Lac La Biche","T0A2C1","Alberta Social Housing Corporation","Community Housing Program"]
["1551275120939118 Beaverhill Road",155127512093,"9118 Beaverhill Road","GNF","Greater North Foundation","Lacalta Lodge","Lac La Biche","T0A2C0","Housing Provider","Seniors Lodge Program"]
["1512275523124 Ball Avenue Units 1-6",151227552312,"4 Ball Avenue Units 1-6","GNF","Greater North Foundation","Lions Aspen Manor","Boyle","T0A0M0","Alberta Social Housing Corporation","Seniors Self Contained Program"]
["1512275522704785 - 4791 4 Street South",151227552270,"4785 - 4791 4 Street South","GNF","Greater North Foundation","Lions Birch Manor","Boyle","T0A0M0","Alberta Social Housing Corporation","Seniors Self Contained Program"]
["1512275522704793 - 4799 4 Street South",151227552270,"4793 - 4799 4 Street South","GNF","Greater North Foundation","Lions Birch Manor","Boyle","T0A0M0","Alberta Social Housing Corporation","Seniors Self Contained Program"]
["1501275522954805 - 47 Street",150127552295,"4805 - 47 Street","GNF","Greater North Foundation","Lions Heritage Place","Athabasca","T9S1R4","Alberta Social Housing Corporation","Seniors Self Contained Program"]
["1501275521694705 - 47 Street",150127552169,"4705 - 47 Street","GNF","Greater North Foundation","Lions Pioneer Place","Athabasca","T9S1R5","Alberta Social Housing Corporation","Seniors Self Contained Program"]
["1501275502454807 - 49 Street",150127550245,"4807 - 49 Street","GNF","Greater North Foundation","Little Manor","Athabasca","T9S1C4","Alberta Social Housing Corporation","Seniors Self Contained Program"]
["156427552220Plamondon",156427552220,"Plamondon","GNF","Greater North Foundation","North Star Villa","Plamondon","T0A2T0","Alberta Social Housing Corporation","Seniors Self Contained Program"]
["156427552101Units 1 - 8 Rodeo Avenue",156427552101,"Units 1 - 8 Rodeo Avenue","GNF","Greater North Foundation","Pioneer Villa","Plamondon","T0A2T0","Alberta Social Housing Corporation","Seniors Self Contained Program"]
["15512755222510209 - 103 Avenue",155127552225,"10209 - 103 Avenue","GNF","Greater North Foundation","Place Bouvier","Lac La Biche","T0A2C1","Alberta Social Housing Corporation","Seniors Self Contained Program"]
["1501275101064102 50 Street",150127510106,"4102 50 Street","GNF","Greater North Foundation","Pleasant Valley Lodge","Athabasca","T9S0A6","Housing Provider","Seniors Lodge Program"]
["1512275120314700 3 Street South",151227512031,"4700 3 Street South","GNF","Greater North Foundation","Wildrose Villa","Boyle","T0A0M0","Alberta Social Housing Corporation","Seniors Lodge Program"]
["2579275102612251 - 32 Street",257927510261,"2251 - 32 Street","GAF","Green Acres Foundation","Alberta Rose Lodge","Lethbridge","T1K4J9","Alberta Social Housing Corporation","Seniors Lodge Program"]
["257927512214105 - 5 Avenue South",257927512214,"105 - 5 Avenue South","GAF","Green Acres Foundation","Black Rock Terrace","Lethbridge","T1J0Z7","Housing Provider","Seniors Lodge Program"]
["2579275160341431 - 16 Avenue North",257927516034,"1431 - 16 Avenue North","GAF","Green Acres Foundation","Blue Sky Lodge","Lethbridge","T1H4B9","Housing Provider","Seniors Lodge Program"]
["2579275560951420 - 18 Avenue North",257927556095,"1420 - 18 Avenue North","GAF","Green Acres Foundation","Blue Sky Manor","Lethbridge","T1H5R3","Alberta Social Housing Corporation","Seniors Self Contained Program"]
["257927516066751 - 1 Avenue South",257927516066,"751 - 1 Avenue South","GAF","Green Acres Foundation","Garden View Lodge","Lethbridge","T1J4N7","Housing Provider","Seniors Lodge Program"]
["257927512207751 - 1 Avenue South",257927512207,"751 - 1 Avenue South","GAF","Green Acres Foundation","Garden View Lodge Addition","Lethbridge","T1J4N7","Housing Provider","Seniors Lodge Program"]
["2579275660071615 - 13 Street North",257927566007,"1615 - 13 Street North","GAF","Green Acres Foundation","Golden Acres Cottage","Lethbridge","T1H2V2","Housing Provider","Seniors Lodge Program"]
["2579275101621401 – 16 Avenue North",257927510162,"1401 – 16 Avenue North","GAF","Green Acres Foundation","Golden Acres Lodge","Lethbridge","T1H 4B9","Housing Provider","Seniors Lodge Program"]
["257927516035601 - 6 Street South",257927516035,"601 - 6 Street South","GAF","Green Acres Foundation","Heritage Lodge","Lethbridge","T1J2E4","Alberta Social Housing Corporation","Seniors Lodge Program"]
["257927556103918 - 16 Street South",257927556103,"918 - 16 Street South","GAF","Green Acres Foundation","Legion Arms","Lethbridge","T1J3B9","Alberta Social Housing Corporation","Seniors Self Contained Program"]
["2579275561041421 - 5 Avenue North",257927556104,"1421 - 5 Avenue North","GAF","Green Acres Foundation","Legion Place","Lethbridge","T1H0N1","Alberta Social Housing Corporation","Seniors Self Contained Program"]
["257927556183605 - 4 Street South",257927556183,"605 - 4 Street South","GAF","Green Acres Foundation","Legion Terrace","Lethbridge","T1J2A4","Alberta Social Housing Corporation","Seniors Self Contained Program"]
["257927510163102 - 5 Avenue South",257927510163,"102 - 5 Avenue South","GAF","Green Acres Foundation","Pemmican Lodge","Lethbridge","T1J0S9","Housing Provider","Seniors Lodge Program"]
["266127516042300 Rogers Avenue",266127516042,"300 Rogers Avenue","GAF","Green Acres Foundation","Piyami Lodge","Picture Butte","T0K1V0","Alberta Social Housing Corporation","Seniors Lodge Program"]
["266127556102123 - 4 Street Box 600",266127556102,"123 - 4 Street Box 600","GAF","Green Acres Foundation","Piyami Manor","Picture Butte","T0K1V0","Alberta Social Housing Corporation","Seniors Self Contained Program"]
["266127512210301 Cowan Avenue",266127512210,"301 Cowan Avenue","GAF","Green Acres Foundation","Piyami Place","Picture Butte","T0K1V0","Housing Provider","Seniors Lodge Program"]
["262427556081231 Kings Street Box 146",262427556081,"231 Kings Street Box 146","GAF","Green Acres Foundation","Rose Butte Apartments","Nobleford","T0L1S0","Municipality","Seniors Self Contained Program"]
["2281275160431112 - 20 Avenue",228127516043,"1112 - 20 Avenue","GAF","Green Acres Foundation","Sunny South Lodge","Coaldale","T1M1L4","Alberta Social Housing Corporation","Seniors Lodge Program"]
["2281275560401909 - 12 Street",228127556040,"1909 - 12 Street","GAF","Green Acres Foundation","Sunny South Manor","Coaldale","T1M1L5","Alberta Social Housing Corporation","Seniors Self Contained Program"]
["2281275561291121 - 20 Avenue",228127556129,"1121 - 20 Avenue","GAF","Green Acres Foundation","Sunny South Villa","Coaldale","T1M1L3","Alberta Social Housing Corporation","Seniors Self Contained Program"]
["205927556051113 King Street",205927556051,"113 King Street","GAF","Green Acres Foundation","Wheatheart Manor","Barons","T0L0G0","Alberta Social Housing Corporation","Seniors Self Contained Program"]
["2619274660041720 Bell Street SW",261927466004,"1720 Bell Street SW","HRM","Haven of Rest of Medicine Hat","Haven of Rest","Medicine Hat","T1A5G1","Housing Provider","Seniors Lodge Program"]
[{"$f":"CONCATENATE(B2115,C2115)","v":"1218275520784810 - 2 Street"},121827552078,"4810 - 2 Street","HRH","Heart River Housing","Donnelly Seniors","Donnelly","T0H1G0","Alberta Social Housing Corporation","Seniors Self Contained Program"]
["1218275520784818 - 2 Street",121827552078,"4818 - 2 Street","HRH","Heart River Housing","Donnelly Seniors","Donnelly","T0H1G0","Alberta Social Housing Corporation","Seniors Self Contained Program"]
["12212722307510A/10B 11 Street",122127223075,"10A/10B 11 Street","HRH","Heart River Housing","Enilda Family","Enilda","T0G0W0","Alberta Social Housing Corporation","Community Housing Program"]
["1221272230754-11 Street",122127223075,"4-11 Street","HRH","Heart River Housing","Enilda Family","Enilda","T0G0W0","Housing Provider","Community Housing Program"]
["122127312260302 - 1st Avenue SE",122127312260,"302 - 1st Avenue SE","HRH","Heart River Housing","Falher Family","Falher","T0H1M0","Alberta Social Housing Corporation","Community Housing Program"]
["122127312260306 - 1st Avenue SE",122127312260,"306 - 1st Avenue SE","HRH","Heart River Housing","Falher Family","Falher","T0H1M0","Alberta Social Housing Corporation","Community Housing Program"]
["122127312260123 A/B 3rd Avenue SW",122127312260,"123 A/B 3rd Avenue SW","HRH","Heart River Housing","Falher Family","Falher","T0H1M0","Alberta Social Housing Corporation","Community Housing Program"]
["122127312260131-133 A/B 3rd Avenue SW",122127312260,"131-133 A/B 3rd Avenue SW","HRH","Heart River Housing","Falher Family","Falher","T0H1M0","Alberta Social Housing Corporation","Community Housing Program"]
["122127312260129 A/B 3rd Avenue SW",122127312260,"129 A/B 3rd Avenue SW","HRH","Heart River Housing","Falher Family","Falher","T0H1M0","Alberta Social Housing Corporation","Community Housing Program"]
["122127312260127 A/B 3rd Avenue SW",122127312260,"127 A/B 3rd Avenue SW","HRH","Heart River Housing","Falher Family","Falher","T0H1M0","Alberta Social Housing Corporation","Community Housing Program"]
["122127312260129A/B 3rd Avenue SW",122127312260,"129A/B 3rd Avenue SW","HRH","Heart River Housing","Falher Family","Falher","T0H1M0","Alberta Social Housing Corporation","Community Housing Program"]
["122127312260127A/B 3rd Avenue SW",122127312260,"127A/B 3rd Avenue SW","HRH","Heart River Housing","Falher Family","Falher","T0H1M0","Alberta Social Housing Corporation","Community Housing Program"]
["122127312260308 - 1st Avenue SE",122127312260,"308 - 1st Avenue SE","HRH","Heart River Housing","Falher Family","Falher","T0H1M0","Alberta Social Housing Corporation","Community Housing Program"]
["122127312260304 - 1st Avenue SE",122127312260,"304 - 1st Avenue SE","HRH","Heart River Housing","Falher Family","Falher","T0H1M0","Alberta Social Housing Corporation","Community Housing Program"]
["122127552308320 - 2 Street",122127552308,"320 - 2 Street","HRH","Heart River Housing","Falher Seniors (Golden Age Manor 3)","Falher","T0H1M0","Alberta Social Housing Corporation","Seniors Self Contained Program"]
["1221275521453 - 1 Avenue SW",122127552145,"3 - 1 Avenue SW","HRH","Heart River Housing","Falher Seniors (Manoir Ste. Anne)","Falher","T0H1M0","Alberta Social Housing Corporation","Seniors Self Contained Program"]
["1221275521453 - 1 Avenue SW",122127552145,"3 - 1 Avenue SW","HRH","Heart River Housing","Falher Seniors (Manoir Ste. Anne)","Falher","T0H1M0","Alberta Social Housing Corporation","Seniors Self Contained Program"]
["132527310007Faust",132527310007,"Faust","HRH","Heart River Housing","Faust 1","Faust","T0G0X0","Housing Provider","Community Housing Program"]
["123327312793402 Hammond Drive N",123327312793,"402 Hammond Drive N","HRH","Heart River Housing","Fox Creek 1","Fox Creek","T0H1P0","Alberta Social Housing Corporation","Community Housing Program"]
["123327312793404A Hammond Drive N",123327312793,"404A Hammond Drive N","HRH","Heart River Housing","Fox Creek 1","Fox Creek","T0H1P0","Alberta Social Housing Corporation","Community Housing Program"]
["123327312793406 Hammond Drive N",123327312793,"406 Hammond Drive N","HRH","Heart River Housing","Fox Creek 1","Fox Creek","T0H1P0","Alberta Social Housing Corporation","Community Housing Program"]
["123327222960803 - 9 Avenue",123327222960,"803 - 9 Avenue","HRH","Heart River Housing","Fox Creek R&N 1","Fox Creek","T0H1P0","Alberta Social Housing Corporation","Community Housing Program"]
["123327222960807 - 9 Avenue",123327222960,"807 - 9 Avenue","HRH","Heart River Housing","Fox Creek R&N 1","Fox Creek","T0H1P0","Alberta Social Housing Corporation","Community Housing Program"]
["123327222960810 - 8a Avenue",123327222960,"810 - 8a Avenue","HRH","Heart River Housing","Fox Creek R&N 1","Fox Creek","T0H1P0","Housing Provider","Community Housing Program"]
["123327222960802 - 9 Street NW",123327222960,"802 - 9 Street NW","HRH","Heart River Housing","Fox Creek R&N 1","Fox Creek","T0H1P0","Housing Provider","Community Housing Program"]
["123327222960801 - 9 Avenue",123327222960,"801 - 9 Avenue","HRH","Heart River Housing","Fox Creek R&N 1","Fox Creek","T0H1P0","Housing Provider","Community Housing Program"]
["123327222960814 - 9 Street NW",123327222960,"814 - 9 Street NW","HRH","Heart River Housing","Fox Creek R&N 1","Fox Creek","T0H1P0","Alberta Social Housing Corporation","Community Housing Program"]
["1234272233015107 - 52 Street",123427223301,"5107 - 52 Street","HRH","Heart River Housing","Girouxville - R&N 2","Girouxville","T0H1S0","Housing Provider","Community Housing Program"]
["1234272233015016 - 48 Street",123427223301,"5016 - 48 Street","HRH","Heart River Housing","Girouxville - R&N 2","Girouxville","T0H1S0","Housing Provider","Community Housing Program"]
["1234272229705208 - 51 Avenue",123427222970,"5208 - 51 Avenue","HRH","Heart River Housing","Girouxville R&N 1","Grouard","T0H1S0","Housing Provider","Community Housing Program"]
["1234272229705108 - 52 Avenue",123427222970,"5108 - 52 Avenue","HRH","Heart River Housing","Girouxville R&N 1","Grouard","T0H1S0","Housing Provider","Community Housing Program"]
["123427552049#7 - 14, 5111 - 51 Avenue",123427552049,"#7 - 14, 5111 - 51 Avenue","HRH","Heart River Housing","Girouxville Seniors(Golden Age Manor)","Girouxville","T0H1S0","Alberta Social Housing Corporation","Seniors Self Contained Program"]
["123427552049#1 - 6, 5103 - 51 Avenue",123427552049,"#1 - 6, 5103 - 51 Avenue","HRH","Heart River Housing","Girouxville Seniors(Golden Age Manor)","Girouxville","T0H1S0","Alberta Social Housing Corporation","Seniors Self Contained Program"]
["1341273100135725 Evergreen Drive",134127310013,"5725 Evergreen Drive","HRH","Heart River Housing","High Prairie Family","High Prairie","T0G1E0","Housing Provider","Community Housing Program"]
["1341273100135721/5723 E Evergreen Drive",134127310013,"5721/5723 E Evergreen Drive","HRH","Heart River Housing","High Prairie Family","High Prairie","T0G1E0","Alberta Social Housing Corporation","Community Housing Program"]
["1341273100135705 Evergreen Drive",134127310013,"5705 Evergreen Drive","HRH","Heart River Housing","High Prairie Family","High Prairie","T0G1E0","Alberta Social Housing Corporation","Community Housing Program"]
["1341273100135624 Evergreen Drive",134127310013,"5624 Evergreen Drive","HRH","Heart River Housing","High Prairie Family","High Prairie","T0G1E0","Alberta Social Housing Corporation","Community Housing Program"]
["1341273100135601 Evergreen Drive",134127310013,"5601 Evergreen Drive","HRH","Heart River Housing","High Prairie Family","High Prairie","T0G1E0","Housing Provider","Community Housing Program"]
["1341273100135700 Evergreen Drive",134127310013,"5700 Evergreen Drive","HRH","Heart River Housing","High Prairie Family","High Prairie","T0G1E0","Alberta Social Housing Corporation","Community Housing Program"]
["1341273100135600 Evergreen Drive",134127310013,"5600 Evergreen Drive","HRH","Heart River Housing","High Prairie Family","High Prairie","T0G1E0","Alberta Social Housing Corporation","Community Housing Program"]
["1341273100134317 51 Avenue",134127310013,"4317 51 Avenue","HRH","Heart River Housing","High Prairie Family","High Prairie","T0G1E0","Alberta Social Housing Corporation","Community Housing Program"]
["1341273100135112 54 Avenue",134127310013,"5112 54 Avenue","HRH","Heart River Housing","High Prairie Family","High Prairie","T0G1E0","Alberta Social Housing Corporation","Community Housing Program"]
["1341273100135108 54 Avenue",134127310013,"5108 54 Avenue","HRH","Heart River Housing","High Prairie Family","High Prairie","T0G1E0","Housing Provider","Community Housing Program"]
["1341273100134705 56 Avenue",134127310013,"4705 56 Avenue","HRH","Heart River Housing","High Prairie Family","High Prairie","T0G1E0","Alberta Social Housing Corporation","Community Housing Program"]
["1341273100134312 - 50 Avenue",134127310013,"4312 - 50 Avenue","HRH","Heart River Housing","High Prairie Family","High Prairie","T0G1E0","Housing Provider","Community Housing Program"]
["1341273100134936 58 Avenue",134127310013,"4936 58 Avenue","HRH","Heart River Housing","High Prairie Family","High Prairie","T0G1E0","Alberta Social Housing Corporation","Community Housing Program"]
["1341273100134312 - 51 Avenue",134127310013,"4312 - 51 Avenue","HRH","Heart River Housing","High Prairie Family","High Prairie","T0G1E0","Alberta Social Housing Corporation","Community Housing Program"]
["1341273100135872 Birch Crescent",134127310013,"5872 Birch Crescent","HRH","Heart River Housing","High Prairie Family","High Prairie","T0G1E0","Alberta Social Housing Corporation","Community Housing Program"]
["1341273100135857/5859 Birch Crescent",134127310013,"5857/5859 Birch Crescent","HRH","Heart River Housing","High Prairie Family","High Prairie","T0G1E0","Alberta Social Housing Corporation","Community Housing Program"]
["134127310013818 Church Street",134127310013,"818 Church Street","HRH","Heart River Housing","High Prairie Family","High Prairie","T0G1C0","Alberta Social Housing Corporation","Community Housing Program"]
["1341273100135849/5851 Birch Crescent",134127310013,"5849/5851 Birch Crescent","HRH","Heart River Housing","High Prairie Family","High Prairie","T0G1E0","Alberta Social Housing Corporation","Community Housing Program"]
["1341273100135845/5847 Birch Crescent",134127310013,"5845/5847 Birch Crescent","HRH","Heart River Housing","High Prairie Family","High Prairie","T0G1E0","Alberta Social Housing Corporation","Community Housing Program"]
["1341273100135880/5882 Birch Crescent",134127310013,"5880/5882 Birch Crescent","HRH","Heart River Housing","High Prairie Family","High Prairie","T0G1E0","Alberta Social Housing Corporation","Community Housing Program"]
["1341273100135864/5866 Birch Crescent",134127310013,"5864/5866 Birch Crescent","HRH","Heart River Housing","High Prairie Family","High Prairie","T0G1E0","Alberta Social Housing Corporation","Community Housing Program"]
["1341273100135868/5870 Birch Crescent",134127310013,"5868/5870 Birch Crescent","HRH","Heart River Housing","High Prairie Family","High Prairie","T0G1E0","Alberta Social Housing Corporation","Community Housing Program"]
["1341273100135876/5878 Birch Crescent",134127310013,"5876/5878 Birch Crescent","HRH","Heart River Housing","High Prairie Family","High Prairie","T0G1E0","Alberta Social Housing Corporation","Community Housing Program"]
["1341273100135884/5886 Birch Crescent",134127310013,"5884/5886 Birch Crescent","HRH","Heart River Housing","High Prairie Family","High Prairie","T0G1E0","Alberta Social Housing Corporation","Community Housing Program"]
["1341273100135888/5890 Birch Crescent",134127310013,"5888/5890 Birch Crescent","HRH","Heart River Housing","High Prairie Family","High Prairie","T0G1E0","Alberta Social Housing Corporation","Community Housing Program"]
["1341273100134613 59 Avenue",134127310013,"4613 59 Avenue","HRH","Heart River Housing","High Prairie Family","High Prairie","T0G1E0","Alberta Social Housing Corporation","Community Housing Program"]
["1341273100135809 47 Street",134127310013,"5809 47 Street","HRH","Heart River Housing","High Prairie Family","High Prairie","T0G1E0","Alberta Social Housing Corporation","Community Housing Program"]
["1341273100135865/5867 Birch Crescent",134127310013,"5865/5867 Birch Crescent","HRH","Heart River Housing","High Prairie Family","High Prairie","T0G1E0","Alberta Social Housing Corporation","Community Housing Program"]
["1341273100135628 Evergreen Drive",134127310013,"5628 Evergreen Drive","HRH","Heart River Housing","High Prairie Family","High Prairie","T0G1E0","Alberta Social Housing Corporation","Community Housing Program"]
["1341273100135628 Evergreen Drive",134127310013,"5628 Evergreen Drive","HRH","Heart River Housing","High Prairie Family","High Prairie","T0G1E0","Alberta Social Housing Corporation","Community Housing Program"]
["134127310013822 Church Street",134127310013,"822 Church Street","HRH","Heart River Housing","High Prairie Family","High Prairie","T0G1C0","Housing Provider","Community Housing Program"]
[{"$f":"CONCATENATE(B2179,C2179)","v":"1341273100134 - 1st Street NE (821 Church Street)"},134127310013,"4 - 1st Street NE (821 Church Street)","HRH","Heart River Housing","High Prairie Family","High Prairie","T0G1C0","Alberta Social Housing Corporation","Community Housing Program"]
["1341273100135712 Evergreen Drive",134127310013,"5712 Evergreen Drive","HRH","Heart River Housing","High Prairie Family","High Prairie","T0G1E0","Alberta Social Housing Corporation","Community Housing Program"]
["1341273100135712 Evergreen Drive",134127310013,"5712 Evergreen Drive","HRH","Heart River Housing","High Prairie Family","High Prairie","T0G1E0","Alberta Social Housing Corporation","Community Housing Program"]
["1341273100135865/5867 Birch Crescent",134127310013,"5865/5867 Birch Crescent","HRH","Heart River Housing","High Prairie Family","High Prairie","T0G1E0","Alberta Social Housing Corporation","Community Housing Program"]
["1341273100134613 - 59 Avenue",134127310013,"4613 - 59 Avenue","HRH","Heart River Housing","High Prairie Family","High Prairie","T0G1E0","Alberta Social Housing Corporation","Community Housing Program"]
["1341273100135809 - 47 Street",134127310013,"5809 - 47 Street","HRH","Heart River Housing","High Prairie Family","High Prairie","T0G1E0","Alberta Social Housing Corporation","Community Housing Program"]
["1341273100135612 Evergreen Drive",134127310013,"5612 Evergreen Drive","HRH","Heart River Housing","High Prairie Family","High Prairie","T0G1E0","Alberta Social Housing Corporation","Community Housing Program"]
["1341273100135872 Birch Crescent",134127310013,"5872 Birch Crescent","HRH","Heart River Housing","High Prairie Family","High Prairie","T0G1E0","Alberta Social Housing Corporation","Community Housing Program"]
["1341273100135863 Birch Crescent",134127310013,"5863 Birch Crescent","HRH","Heart River Housing","High Prairie Family","High Prairie","T0G1E0","Alberta Social Housing Corporation","Community Housing Program"]
["1341273100135628 Evergreen Drive",134127310013,"5628 Evergreen Drive","HRH","Heart River Housing","High Prairie Family","High Prairie","T0G1E0","Alberta Social Housing Corporation","Community Housing Program"]
["1341273100135620 Evergreen Drive",134127310013,"5620 Evergreen Drive","HRH","Heart River Housing","High Prairie Family","High Prairie","T0G1E0","Alberta Social Housing Corporation","Community Housing Program"]
["1341273100135712 Evergreen Drive",134127310013,"5712 Evergreen Drive","HRH","Heart River Housing","High Prairie Family","High Prairie","T0G1E0","Alberta Social Housing Corporation","Community Housing Program"]
["1341273100135713  Evergreen Drive",134127310013,"5713  Evergreen Drive","HRH","Heart River Housing","High Prairie Family","High Prairie","T0G1E0","Alberta Social Housing Corporation","Community Housing Program"]
["1341273100135704 Evergreen Drive",134127310013,"5704 Evergreen Drive","HRH","Heart River Housing","High Prairie Family","High Prairie","T0G1E0","Alberta Social Housing Corporation","Community Housing Program"]
["1341273100135604 Evergreen Drive",134127310013,"5604 Evergreen Drive","HRH","Heart River Housing","High Prairie Family","High Prairie","T0G1E0","Alberta Social Housing Corporation","Community Housing Program"]
["1341273100135861 Birch Crescent",134127310013,"5861 Birch Crescent","HRH","Heart River Housing","High Prairie Family","High Prairie","T0G 1E0","Alberta Social Housing Corporation","Community Housing Program"]
["1341275521435512 Evergreen Drive",134127552143,"5512 Evergreen Drive","HRH","Heart River Housing","High Prairie Seniors","High Prairie","T0G1E0","Alberta Social Housing Corporation","Seniors Self Contained Program"]
["1341275521434500 - 55 Avenue",134127552143,"4500 - 55 Avenue","HRH","Heart River Housing","High Prairie Seniors","High Prairie","T0G1E0","Alberta Social Housing Corporation","Seniors Self Contained Program"]
["1349273103744th Street",134927310374,"4th Street","HRH","Heart River Housing","Kinuso","Kinuso","T0G1K0","Alberta Social Housing Corporation","Community Housing Program"]
["125727310016113 - 4th Street E",125727310016,"113 - 4th Street E","HRH","Heart River Housing","McLennan Family","McLennan","T0H2L0","Alberta Social Housing Corporation","Community Housing Program"]
["125727310016115 - 4th Street E",125727310016,"115 - 4th Street E","HRH","Heart River Housing","McLennan Family","McLennan","T0H2L0","Alberta Social Housing Corporation","Community Housing Program"]
["125727310016401 - 3 Avenue",125727310016,"401 - 3 Avenue","HRH","Heart River Housing","McLennan Family","McLennan","T0H2L0","Alberta Social Housing Corporation","Community Housing Program"]
["125727310016403 - 3 Avenue",125727310016,"403 - 3 Avenue","HRH","Heart River Housing","McLennan Family","McLennan","T0H2L0","Alberta Social Housing Corporation","Community Housing Program"]
["125727310016405 - 3 Avenue",125727310016,"405 - 3 Avenue","HRH","Heart River Housing","McLennan Family","McLennan","T0H2L0","Alberta Social Housing Corporation","Community Housing Program"]
["125727310016409 - 3 Avenue",125727310016,"409 - 3 Avenue","HRH","Heart River Housing","McLennan Family","McLennan","T0H2L0","Alberta Social Housing Corporation","Community Housing Program"]
["125727310016411 - 3 Avenue",125727310016,"411 - 3 Avenue","HRH","Heart River Housing","McLennan Family","McLennan","T0H2L0","Alberta Social Housing Corporation","Community Housing Program"]
["125727310016308 - 2nd Avenue NE",125727310016,"308 - 2nd Avenue NE","HRH","Heart River Housing","McLennan Family","McLennan","T0H2L0","Alberta Social Housing Corporation","Community Housing Program"]
["125727310016310 - 2nd Avenue NE",125727310016,"310 - 2nd Avenue NE","HRH","Heart River Housing","McLennan Family","McLennan","T0H2L0","Alberta Social Housing Corporation","Community Housing Program"]
["125727310016312 - 2nd Avenue NE",125727310016,"312 - 2nd Avenue NE","HRH","Heart River Housing","McLennan Family","McLennan","T0H2L0","Alberta Social Housing Corporation","Community Housing Program"]
["125727310016306 - 1st Avenue NE",125727310016,"306 - 1st Avenue NE","HRH","Heart River Housing","McLennan Family","McLennan","T0H2L0","Alberta Social Housing Corporation","Community Housing Program"]
["125727310016308 - 1st Avenue NE",125727310016,"308 - 1st Avenue NE","HRH","Heart River Housing","McLennan Family","McLennan","T0H2L0","Alberta Social Housing Corporation","Community Housing Program"]
["125727310016310 - 1st Avenue NE",125727310016,"310 - 1st Avenue NE","HRH","Heart River Housing","McLennan Family","McLennan","T0H2L0","Alberta Social Housing Corporation","Community Housing Program"]
["125727310016216 - 1st Avenue NE",125727310016,"216 - 1st Avenue NE","HRH","Heart River Housing","McLennan Family","McLennan","T0H2L0","Alberta Social Housing Corporation","Community Housing Program"]
["125727310016218 - 1st Avenue NE",125727310016,"218 - 1st Avenue NE","HRH","Heart River Housing","McLennan Family","McLennan","T0H2L0","Alberta Social Housing Corporation","Community Housing Program"]
["125727310016209 - 2nd Avenue NE",125727310016,"209 - 2nd Avenue NE","HRH","Heart River Housing","McLennan Family","McLennan","T0H2L0","Alberta Social Housing Corporation","Community Housing Program"]
["125727310016118 Railway Avenue",125727310016,"118 Railway Avenue","HRH","Heart River Housing","McLennan Family","McLennan","T0H2L0","Alberta Social Housing Corporation","Community Housing Program"]
["125727310016122 Railway Avenue",125727310016,"122 Railway Avenue","HRH","Heart River Housing","McLennan Family","McLennan","T0H2L0","Alberta Social Housing Corporation","Community Housing Program"]
["125727310016124 Railway Avenue",125727310016,"124 Railway Avenue","HRH","Heart River Housing","McLennan Family","McLennan","T0H2L0","Alberta Social Housing Corporation","Community Housing Program"]
["125727310016125 - 1st Avenue NE",125727310016,"125 - 1st Avenue NE","HRH","Heart River Housing","McLennan Family","McLennan","T0H2L0","Alberta Social Housing Corporation","Community Housing Program"]
["125727310016215 - 5 Avenue",125727310016,"215 - 5 Avenue","HRH","Heart River Housing","McLennan Family","McLennan","T0H2L0","Alberta Social Housing Corporation","Community Housing Program"]
["12572755007720 - 3rd Avenue NW",125727550077,"20 - 3rd Avenue NW","HRH","Heart River Housing","McLennan Seniors (Legion Manor)","McLennan","T0H2L0","Alberta Social Housing Corporation","Seniors Self Contained Program"]
["12572755007726 - 3rd Avenue NE",125727550077,"26 - 3rd Avenue NE","HRH","Heart River Housing","McLennan Seniors (Legion Manor)","McLennan","T0H2L0","Alberta Social Housing Corporation","Seniors Self Contained Program"]
["1349275520052nd Street",134927552005,"2nd Street","HRH","Heart River Housing","Mequinn Homes","Kinuso","T0G1K0","Alberta Social Housing Corporation","Seniors Self Contained Program"]
["1349275520052nd Street",134927552005,"2nd Street","HRH","Heart River Housing","Mequinn Homes","Kinuso","T0G1K0","Alberta Social Housing Corporation","Seniors Self Contained Program"]
["1349275520052nd Street",134927552005,"2nd Street","HRH","Heart River Housing","Mequinn Homes","Kinuso","T0G1K0","Alberta Social Housing Corporation","Seniors Self Contained Program"]
["1341275101524600 Pleasant View Drive",134127510152,"4600 Pleasant View Drive","HRH","Heart River Housing","Pleasantview Lodge","High Prairie","T0G1E0","Housing Provider","Seniors Lodge Program"]
["1281275101975401 - 48 Street",128127510197,"5401 - 48 Street","HRH","Heart River Housing","Red Willow Lodge","Valleyview","T0H3N0","Alberta Social Housing Corporation","Seniors Lodge Program"]
["120727512217Ridgevalley",120727512217,"Ridgevalley","HRH","Heart River Housing","Ridgevalley Seniors Home","Ridgevalley","T0H0Y0","Housing Provider","Seniors Lodge Program"]
["1281273128404804 - 45 Street",128127312840,"4804 - 45 Street","HRH","Heart River Housing","Valleyview Family","Valleyview","T0H3N0","Housing Provider","Community Housing Program"]
["1281273128404817 - 46 Street",128127312840,"4817 - 46 Street","HRH","Heart River Housing","Valleyview Family","Valleyview","T0H3N0","Housing Provider","Community Housing Program"]
["1281273128404813 - 46 Street",128127312840,"4813 - 46 Street","HRH","Heart River Housing","Valleyview Family","Valleyview","T0H3N0","Housing Provider","Community Housing Program"]
["1281273128404803 - 46 Street",128127312840,"4803 - 46 Street","HRH","Heart River Housing","Valleyview Family","Valleyview","T0H3N0","Housing Provider","Community Housing Program"]
["1281273128404810 - 45 Street",128127312840,"4810 - 45 Street","HRH","Heart River Housing","Valleyview Family","Valleyview","T0H3N0","Housing Provider","Community Housing Program"]
["1281273128404814 - 45 Street",128127312840,"4814 - 45 Street","HRH","Heart River Housing","Valleyview Family","Valleyview","T0H3N0","Housing Provider","Community Housing Program"]
["1281273128404819 - 46 Street",128127312840,"4819 - 46 Street","HRH","Heart River Housing","Valleyview Family","Valleyview","T0H3N0","Housing Provider","Community Housing Program"]
["1281273128405008 - 46 Street",128127312840,"5008 - 46 Street","HRH","Heart River Housing","Valleyview Family","Valleyview","T0H3N0","Housing Provider","Community Housing Program"]
["1281273128404520 - 47 Street",128127312840,"4520 - 47 Street","HRH","Heart River Housing","Valleyview Family","Valleyview","T0H3N0","Housing Provider","Community Housing Program"]
["122127510006302 - 2 Street SE",122127510006,"302 - 2 Street SE","HRH","Heart River Housing","Villa Beausejour","Falher","T0H1M0","Alberta Social Housing Corporation","Seniors Lodge Program"]
["1281275522074804 - 52 Street",128127552207,"4804 - 52 Street","HRH","Heart River Housing","Wild Rose Manor","Valleyview","T0H3N0","Alberta Social Housing Corporation","Seniors Self Contained Program"]
["3000000010061040 Iris Evans Way",300000001006,"1040 Iris Evans Way","HHF","Heartland Housing Foundation","Clover Bar Lodge","Strathcona County",null,"Alberta Social Housing Corporation","Seniors Lodge Program"]
["11412755225310007 - 101 Street",114127552253,"10007 - 101 Street","HHF","Heartland Housing Foundation","Dr. T.W.E. Henry House","Fort Saskatchewan","T8L1V8","Alberta Social Housing Corporation","Seniors Self Contained Program"]
["1141275122249422 94 Avenue",114127512224,"9422 94 Avenue","HHF","Heartland Housing Foundation","Dr. Turner Lodge","Fort Saskatchewan","T8L0T7","Alberta Social Housing Corporation","Seniors Lodge Program"]
["11412755234710025 - 99 Avenue",114127552347,"10025 - 99 Avenue","HHF","Heartland Housing Foundation","Fort Lions Haven","Fort Saskatchewan","T8L1R6","Alberta Social Housing Corporation","Seniors Self Contained Program"]
["11472755212454569 Range Road 215, Units 1-8",114727552124,"54569 Range Road 215, Units 1-8","HHF","Heartland Housing Foundation","Homestead Place","Josephburg","T8L 4B9","Alberta Social Housing Corporation","Seniors Self Contained Program"]
[{"$f":"CONCATENATE(B2243,C2243)","v":"11792755234697 Willow Street"},117927552346,"97 Willow Street","HHF","Heartland Housing Foundation","Kiwanis Appleblossom Manor","Sherwood Park","T8A5R4","Alberta Social Housing Corporation","Seniors Self Contained Program"]
["117927552166495 Woodbridge Way",117927552166,"495 Woodbridge Way","HHF","Heartland Housing Foundation","Lakeside Legion Manor","Sherwood Park","T8A4P1","Alberta Social Housing Corporation","Seniors Self Contained Program"]
["3000000010709410 94 Avenue",300000001070,"9410 94 Avenue","HHF","Heartland Housing Foundation","Muriel Ross Abdurahman Court","Fort Saskatchewan","T8L 0X4","Housing Provider","None"]
["300000001068920 Bison Way",300000001068,"920 Bison Way","HHF","Heartland Housing Foundation","Silver Birch Court","Sherwood Park","T8H 2C4","Other","None"]
["300000000001906 Bison Way",300000000001,"906 Bison Way","HHF","Heartland Housing Foundation","Silver Birch Haven","Sherwood Park","T8H 2C4","Housing Provider","Seniors Lodge Program"]
["117927512119910 Bison Way",117927512119,"910 Bison Way","HHF","Heartland Housing Foundation","Silver Birch Lodge","Sherwood Park","T8H2C4","Housing Provider","Seniors Lodge Program"]
["300000001069918 Bison Way",300000001069,"918 Bison Way","HHF","Heartland Housing Foundation","Silver Birch Manor","Sherwood Park","T8H 2C4","Other","None"]
["11852751200834 Mission Avenue",118527512008,"34 Mission Avenue","HLD","Homeland Housing","Chateau Mission","St. Albert","T8N1H8","Alberta Social Housing Corporation","Seniors Lodge Program"]
["11852755207634 Mission Avenue",118527552076,"34 Mission Avenue","HLD","Homeland Housing","Chateau Mission","St. Albert","T8N1H8","Alberta Social Housing Corporation","Seniors Self Contained Program"]
["1151275120945320 - 46 Street",115127512094,"5320 - 46 Street","HLD","Homeland Housing","Chateau Sturgeon","Legal","T0G1L0","Housing Provider","Seniors Lodge Program"]
["1568275120534619 - 52 Avenue",156827512053,"4619 - 52 Avenue","HLD","Homeland Housing","Diamond Spring Lodge","Redwater","T0A2W0","Alberta Social Housing Corporation","Seniors Lodge Program"]
["1316275522304605 50 Avenue",131627552230,"4605 50 Avenue","HLD","Homeland Housing","Eastview Manor","Clyde","T0G0P0","Alberta Social Housing Corporation","Seniors Self Contained Program"]
["1568275500905119 - 47 Street",156827550090,"5119 - 47 Street","HLD","Homeland Housing","Golden Villa","Redwater","T0A2W0","Alberta Social Housing Corporation","Seniors Self Contained Program"]
["11592755207210017 - 101 Avenue",115927552072,"10017 - 101 Avenue","HLD","Homeland Housing","Heritage Place","Morinville","T8R1M3","Alberta Social Housing Corporation","Seniors Self Contained Program"]
["11592751203710015 - 101 Avenue",115927512037,"10015 - 101 Avenue","HLD","Homeland Housing","Heritage Place Lodge","Morinville","T8R1M3","Alberta Social Housing Corporation","Seniors Lodge Program"]
["13872755230910136 - 106 Street",138727552309,"10136 - 106 Street","HLD","Homeland Housing","Legion Villa","Westlock","T7P1W6","Alberta Social Housing Corporation","Seniors Self Contained Program"]
["11592755216110506 - 101 Avenue",115927552161,"10506 - 101 Avenue","HLD","Homeland Housing","Morinville Lions Manor","Morinville","T8R1M3","Alberta Social Housing Corporation","Seniors Self Contained Program"]
["11852751211021 Mont Clare Place",118527512110,"21 Mont Clare Place","HLD","Homeland Housing","North Ridge Lodge","St. Albert","T8N5Z4","Housing Provider","Seniors Lodge Program"]
["13872755204710003 97 Street",138727552047,"10003 97 Street","HLD","Homeland Housing","Parkview Place","Westlock","T7P1Z2","Alberta Social Housing Corporation","Seniors Self Contained Program"]
["13872755215810049 97 Street",138727552158,"10049 97 Street","HLD","Homeland Housing","Parkview Plaza","Westlock","T7P1Z2","Alberta Social Housing Corporation","Seniors Self Contained Program"]
["11592731288810501 101A Street",115927312888,"10501 101A Street","HLD","Homeland Housing","Paul Krauskopf Court","Morinville","T8R 1A8","Alberta Social Housing Corporation","None"]
["11592731288810501 101A Street",115927312888,"10501 101A Street","HLD","Homeland Housing","Paul Krauskopf Court","Morinville","T8R 1A8","Alberta Social Housing Corporation","None"]
["13872751020510247 - 104 Street",138727510205,"10247 - 104 Street","HLD","Homeland Housing","Pembina Lodge","Westlock","T7P1V4","Housing Provider","Seniors Lodge Program"]
["1143275522284732 - 45 Avenue",114327552228,"4732 - 45 Avenue","HLD","Homeland Housing","Pine Crest Gardens","Gibbons","T0A1N0","Alberta Social Housing Corporation","Seniors Self Contained Program"]
["13872751205410203 - 97 Street",138727512054,"10203 - 97 Street","HLD","Homeland Housing","Smithfield Lodge","Westlock","T7P2H1","Alberta Social Housing Corporation","Seniors Lodge Program"]
["13872751220310203 - 97 Street",138727512203,"10203 - 97 Street","HLD","Homeland Housing","Smithfield Supportive Housing","Westlock","T7P2H1","Housing Provider","Seniors Lodge Program"]
["1143275101484539 - 49 Street",114327510148,"4539 - 49 Street","HLD","Homeland Housing","Spruce View Manor","Gibbons","T0A1N0","Alberta Social Housing Corporation","Seniors Lodge Program"]
["1344275522341 Avenue & 5 Street",134427552234,"1 Avenue & 5 Street","HLD","Homeland Housing","Spruceview Manor","Jarvie","T0G1H0","Alberta Social Housing Corporation","Seniors Self Contained Program"]
["1111275522845017 - 49 Street",111127552284,"5017 - 49 Street","HLD","Homeland Housing","Sunridge Manor","Bon Accord","T0A0K0","Alberta Social Housing Corporation","Seniors Self Contained Program"]
["1151275523414807 - 47 Street",115127552341,"4807 - 47 Street","HLD","Homeland Housing","Sunrise Villa","Legal","T0G1L0","Alberta Social Housing Corporation","Seniors Self Contained Program"]
["1111275521425011 - 49 Street",111127552142,"5011 - 49 Street","HLD","Homeland Housing","Sunset Manor","Bon Accord","T0A0K0","Alberta Social Housing Corporation","Seniors Self Contained Program"]
["1151275523064811 - 47 Street",115127552306,"4811 - 47 Street","HLD","Homeland Housing","Sunset Villa","Legal","T0G1L0","Alberta Social Housing Corporation","Seniors Self Contained Program"]
["3000000010579908 – 106 Avenue",300000001057,"9908 – 106 Avenue","A008","Hope Mission","Main Building","Edmonton",null,"Housing Provider","None"]
["2218273860081305 - 35 Street SE",221827386008,"1305 - 35 Street SE","WRH","Hull Services","Radisson Group Home","Calgary","T2A1A9","Housing Provider","Specialized Housing"]
["12502755216810404 - 99 Street Units 1 - 4",125027552168,"10404 - 99 Street Units 1 - 4","HDP","Hythe & District Pioneer Homes (Advisory Committee)","Cozy Corner Apartments","Hythe","T0H2C0","Alberta Social Housing Corporation","Seniors Self Contained Program"]
["12502755216810404 - 99 Street Units 5 - 8",125027552168,"10404 - 99 Street Units 5 - 8","HDP","Hythe & District Pioneer Homes (Advisory Committee)","Cozy Corner Apartments","Hythe","T0H2C0","Alberta Social Housing Corporation","Seniors Self Contained Program"]
["12502755216810404 - 99 Street Units 9  - 12",125027552168,"10404 - 99 Street Units 9  - 12","HDP","Hythe & District Pioneer Homes (Advisory Committee)","Cozy Corner Apartments","Hythe","T0H2C0","Alberta Social Housing Corporation","Seniors Self Contained Program"]
["12502755006910212 - 99 Street Units 1 - 4",125027550069,"10212 - 99 Street Units 1 - 4","HDP","Hythe & District Pioneer Homes (Advisory Committee)","Happy Valley Homes","Hythe","T0H2C0","Alberta Social Housing Corporation","Seniors Self Contained Program"]
["12502755006910212 - 99 Street Units 5 - 8",125027550069,"10212 - 99 Street Units 5 - 8","HDP","Hythe & District Pioneer Homes (Advisory Committee)","Happy Valley Homes","Hythe","T0H2C0","Alberta Social Housing Corporation","Seniors Self Contained Program"]
["12502755006910212 - 99 Street Units 9 - 12",125027550069,"10212 - 99 Street Units 9 - 12","HDP","Hythe & District Pioneer Homes (Advisory Committee)","Happy Valley Homes","Hythe","T0H2C0","Alberta Social Housing Corporation","Seniors Self Contained Program"]
["12502755231610404 - 99 Street Units 1 - 4",125027552316,"10404 - 99 Street Units 1 - 4","HDP","Hythe & District Pioneer Homes (Advisory Committee)","Hyalta Apartments","Hythe","T0H2C0","Alberta Social Housing Corporation","Seniors Self Contained Program"]
["12502755231610404 - 99 Street Units 5 - 8",125027552316,"10404 - 99 Street Units 5 - 8","HDP","Hythe & District Pioneer Homes (Advisory Committee)","Hyalta Apartments","Hythe","T0H2C0","Alberta Social Housing Corporation","Seniors Self Contained Program"]
["12502746200310404 - 100 Street",125027462003,"10404 - 100 Street","HDP","Hythe & District Pioneer Homes (Advisory Committee)","Pioneer Home","Hythe","T0H2C0","Alberta Social Housing Corporation","Seniors Lodge Program"]
["21",21,null,"ICG","Intercare Corporate Group","Brentwood Care Centre","Calgary",null,"Other","None"]
["22",22,null,"ICG","Intercare Corporate Group","Southwood Care Centre","Calgary",null,"Other","None"]
["291027516038814 - 1 Street North",291027516038,"814 - 1 Street North","KHC","Kneehill Housing Corporation","Golden Hills Lodge","Three Hills","T0M2A0","Housing Provider","Seniors Lodge Program"]
["291027556199321 - 3 Street South  1 & 2",291027556199,"321 - 3 Street South  1 & 2","KHC","Kneehill Housing Corporation","J.C. Long Memorial Court","Three Hills","T0M2A0","Alberta Social Housing Corporation","Seniors Self Contained Program"]
["291027556199321 - 3 Street South  Unit 3 - 6",291027556199,"321 - 3 Street South  Unit 3 - 6","KHC","Kneehill Housing Corporation","J.C. Long Memorial Court","Three Hills","T0M2A0","Alberta Social Housing Corporation","Seniors Self Contained Program"]
["291027556199321 - 3 Street South  Unit 7 & 8",291027556199,"321 - 3 Street South  Unit 7 & 8","KHC","Kneehill Housing Corporation","J.C. Long Memorial Court","Three Hills","T0M2A0","Alberta Social Housing Corporation","Seniors Self Contained Program"]
["259027550073202 Centre Avenue  E.",259027550073,"202 Centre Avenue  E.","KHC","Kneehill Housing Corporation","Lynn Haven","Linden","T0M1J0","Alberta Social Housing Corporation","Seniors Self Contained Program"]
["201227550024109 Allison Street",201227550024,"109 Allison Street","KHC","Kneehill Housing Corporation","Meadow Park Manor","Acme","T0M0A0","Alberta Social Housing Corporation","Seniors Self Contained Program"]
["291027550019806 - 1 Street North",291027550019,"806 - 1 Street North","KHC","Kneehill Housing Corporation","Robertson Manor","Three Hills","T0M2A0","Alberta Social Housing Corporation","Seniors Self Contained Program"]
["291027556087806 - 1 Street North",291027556087,"806 - 1 Street North","KHC","Kneehill Housing Corporation","Robertson Manor Addition 1","Three Hills","T0M2A0","Alberta Social Housing Corporation","Seniors Self Contained Program"]
["291027556163806 - 1 Street North",291027556163,"806 - 1 Street North","KHC","Kneehill Housing Corporation","Robertson Manor Addition 2","Three Hills","T0M2A0","Alberta Social Housing Corporation","Seniors Self Contained Program"]
["291027316139818 - 1 Street South",291027316139,"818 - 1 Street South","KHC","Kneehill Housing Corporation","Three Hills 1","Three Hills","T0M2A0","Alberta Social Housing Corporation","Community Housing Program"]
["291027316139814 - 1 Street South",291027316139,"814 - 1 Street South","KHC","Kneehill Housing Corporation","Three Hills 1","Three Hills","T0M2A0","Alberta Social Housing Corporation","Community Housing Program"]
["291027316139810 - 1 Street South",291027316139,"810 - 1 Street South","KHC","Kneehill Housing Corporation","Three Hills 1","Three Hills","T0M2A0","Alberta Social Housing Corporation","Community Housing Program"]
["291027316139822 - 1 Street South",291027316139,"822 - 1 Street South","KHC","Kneehill Housing Corporation","Three Hills 1","Three Hills","T0M2A0","Alberta Social Housing Corporation","Community Housing Program"]
["292127556045#100 - 2 Avenue  Units 1 - 6",292127556045,"#100 - 2 Avenue  Units 1 - 6","KHC","Kneehill Housing Corporation","Torre Ville","Torrington","T0M2B0","Alberta Social Housing Corporation","Seniors Self Contained Program"]
["292927550243403 Royal Way",292927550243,"403 Royal Way","KHC","Kneehill Housing Corporation","Trochu Valley Manor 1","Trochu","T0M2C0","Alberta Social Housing Corporation","Seniors Self Contained Program"]
["292927556088403 Royal Way",292927556088,"403 Royal Way","KHC","Kneehill Housing Corporation","Trochu Valley Manor 2","Trochu","T0M2C0","Alberta Social Housing Corporation","Seniors Self Contained Program"]
["29292755616822 & 22, 500 Royal Way",292927556168,"22 & 22, 500 Royal Way","KHC","Kneehill Housing Corporation","Trochu Valley Manor 3","Trochu","T0M2C0","Alberta Social Housing Corporation","Seniors Self Contained Program"]
["29292755616823 & 24,  500 Royal Way",292927556168,"23 & 24,  500 Royal Way","KHC","Kneehill Housing Corporation","Trochu Valley Manor 3","Trochu","T0M2C0","Alberta Social Housing Corporation","Seniors Self Contained Program"]
["29292755616825 & 26,  500 Royal Way",292927556168,"25 & 26,  500 Royal Way","KHC","Kneehill Housing Corporation","Trochu Valley Manor 3","Trochu","T0M2C0","Alberta Social Housing Corporation","Seniors Self Contained Program"]
[{"$f":"CONCATENATE(B2307,C2307)","v":"29292755616827 & 28,  500 Royal Way"},292927556168,"27 & 28,  500 Royal Way","KHC","Kneehill Housing Corporation","Trochu Valley Manor 3","Trochu","T0M2C0","Alberta Social Housing Corporation","Seniors Self Contained Program"]
["11252755207511020 - 99 Avenue NW",112527552075,"11020 - 99 Avenue NW","LSM","La Société des Manoirs Saint-Joachim et Saint-Thomas","Manoir St. Joachim","Edmonton","T5K2M2","Alberta Social Housing Corporation","Seniors Self Contained Program"]
["1125275520799022 - 85 Avenue NW",112527552079,"9022 - 85 Avenue NW","LSM","La Société des Manoirs Saint-Joachim et Saint-Thomas","Manoir St. Thomas","Edmonton","T6C4M4","Alberta Social Housing Corporation","Seniors Self Contained Program"]
["1350275520745127 - 57 Avenue",135027552074,"5127 - 57 Avenue","LSF","Lac Ste. Anne Foundation","Beaupre Court","Onoway","T0E1V0","Alberta Social Housing Corporation","Seniors Self Contained Program"]
["1350275122135123 - 49 Avenue",135027512213,"5123 - 49 Avenue","LSF","Lac Ste. Anne Foundation","Chateau Lac Ste Anne","Onoway","T0E1V0","Housing Provider","Seniors Lodge Program"]
["133727550253406 55022 St. Anne Trail",133727550253,"406 55022 St. Anne Trail","LSF","Lac Ste. Anne Foundation","Gunn Lakeview Manor","Gunn","T0E1A0","Alberta Social Housing Corporation","Seniors Self Contained Program"]
["1351275521864416 - 48 Street",135127552186,"4416 - 48 Street","LSF","Lac Ste. Anne Foundation","Highview Haven","Mayerthorpe","T0E1N0","Alberta Social Housing Corporation","Seniors Self Contained Program"]
["1389275520414503 - 52 Avenue",138927552041,"4503 - 52 Avenue","LSF","Lac Ste. Anne Foundation","Lions Woodland Villa","Whitecourt","T7S1M4","Alberta Social Housing Corporation","Seniors Self Contained Program"]
["1351275122224407 - 42 A Avenue",135127512222,"4407 - 42 A Avenue","LSF","Lac Ste. Anne Foundation","Pleasant View Lodge","Mayerthorpe","T0E1N0","Housing Provider","Seniors Lodge Program"]
["1350275521705136 - 47 Avenue",135027552170,"5136 - 47 Avenue","LSF","Lac Ste. Anne Foundation","Seeley Manor","Onoway","T0E1V0","Alberta Social Housing Corporation","Seniors Self Contained Program"]
["13892751211412 Sunset Boulevard",138927512114,"12 Sunset Boulevard","LSF","Lac Ste. Anne Foundation","Spruce View Lodge/Heights","Whitecourt","T7S1S9","Housing Provider","Seniors Lodge Program"]
["1351275520024702 - 54 Street",135127552002,"4702 - 54 Street","LSF","Lac Ste. Anne Foundation","Sunnydale Manor","Mayerthorpe","T0E1N0","Alberta Social Housing Corporation","Seniors Self Contained Program"]
["12082755208354219 Highway 765  Units 1-12",120827552083,"54219 Highway 765  Units 1-12","LSF","Lac Ste. Anne Foundation","Tri-Lakes Manor","Lac Ste. Anne County","T0E0L0","Alberta Social Housing Corporation","Seniors Self Contained Program"]
["1389273128895116 51 Ave",138927312889,"5116 51 Ave","LSF","Lac Ste. Anne Foundation","Wellspring Family Resource and Crisis Centre","Whitecourt","T7S 1A1","Housing Provider","None"]
["1363275500915133 - 53 Avenue",136327550091,"5133 - 53 Avenue","LSF","Lac Ste. Anne Foundation","Westwind Manor","Sangudo","T0E2A0","Alberta Social Housing Corporation","Seniors Self Contained Program"]
["1389273127793605 - 55 Avenue",138927312779,"3605 - 55 Avenue","LSF","Lac Ste. Anne Foundation","Whitecourt 4","Whitecourt","T7S1C9","Housing Provider","Community Housing Program"]
["1511275121004712 - 47 Avenue",151127512100,"4712 - 47 Avenue","LLF","Lakeland Lodge and Housing Foundation","Bonnylodge (Reg)","Bonnyville","T9N2E7","Alberta Social Housing Corporation","Seniors Lodge Program"]
["151127312098101, 4806 - 54 Street",151127312098,"101, 4806 - 54 Street","LLF","Lakeland Lodge and Housing Foundation","Bonnyville 2","Bonnyville","T9N1Y9","Alberta Social Housing Corporation","Community Housing Program"]
["151127312098104, 4806 - 54 Street",151127312098,"104, 4806 - 54 Street","LLF","Lakeland Lodge and Housing Foundation","Bonnyville 2","Bonnyville","T9N1Y9","Alberta Social Housing Corporation","Community Housing Program"]
["151127312098102, 4806 - 54 Street",151127312098,"102, 4806 - 54 Street","LLF","Lakeland Lodge and Housing Foundation","Bonnyville 2","Bonnyville","T9N1Y9","Alberta Social Housing Corporation","Community Housing Program"]
["151127312098103, 4806 - 54 Street",151127312098,"103, 4806 - 54 Street","LLF","Lakeland Lodge and Housing Foundation","Bonnyville 2","Bonnyville","T9N1Y9","Alberta Social Housing Corporation","Community Housing Program"]
["1511273120854102 - 48 Avenue",151127312085,"4102 - 48 Avenue","LLF","Lakeland Lodge and Housing Foundation","Bonnyville 3","Bonnyville","T9N1H5","Alberta Social Housing Corporation","Community Housing Program"]
["1511273122474115 - 49 Avenue",151127312247,"4115 - 49 Avenue","LLF","Lakeland Lodge and Housing Foundation","Bonnyville 4","Bonnyville","T9N1G3","Alberta Social Housing Corporation","Community Housing Program"]
["1511273122474119 - 49 Avenue",151127312247,"4119 - 49 Avenue","LLF","Lakeland Lodge and Housing Foundation","Bonnyville 4","Bonnyville","T9N1G3","Alberta Social Housing Corporation","Community Housing Program"]
["1511273122474117 - 49 Avenue",151127312247,"4117 - 49 Avenue","LLF","Lakeland Lodge and Housing Foundation","Bonnyville 4","Bonnyville","T9N1G3","Alberta Social Housing Corporation","Community Housing Program"]
["1511273122474121 - 49 Avenue",151127312247,"4121 - 49 Avenue","LLF","Lakeland Lodge and Housing Foundation","Bonnyville 4","Bonnyville","T9N1G3","Alberta Social Housing Corporation","Community Housing Program"]
["1511273127644118 - 45 Avenue",151127312764,"4118 - 45 Avenue","LLF","Lakeland Lodge and Housing Foundation","Bonnyville 6 (Trans)","Bonnyville","T9N1W5","Alberta Social Housing Corporation","Community Housing Program"]
["1511273127644512 - 41A Street",151127312764,"4512 - 41A Street","LLF","Lakeland Lodge and Housing Foundation","Bonnyville 6 (Trans)","Bonnyville","T9N1K3","Alberta Social Housing Corporation","Community Housing Program"]
["1511273127644302 - 45 Street",151127312764,"4302 - 45 Street","LLF","Lakeland Lodge and Housing Foundation","Bonnyville 6 (Trans)","Bonnyville","T9N1X2","Alberta Social Housing Corporation","Community Housing Program"]
["1511273127644102 - 47 Street",151127312764,"4102 - 47 Street","LLF","Lakeland Lodge and Housing Foundation","Bonnyville 6 (Trans)","Bonnyville","T9N1J8","Alberta Social Housing Corporation","Community Housing Program"]
["151627510131120 -16 Street",151627510131,"120 -16 Street","LLF","Lakeland Lodge and Housing Foundation","Cold Lake Lodge","Cold Lake","T9M 0M1","Alberta Social Housing Corporation","Seniors Lodge Program"]
["1524272231785402 - 52 Avenue",152427223178,"5402 - 52 Avenue","LLF","Lakeland Lodge and Housing Foundation","Fort Kent R&N 1","Bonnyville","T9N2A3","Alberta Social Housing Corporation","Community Housing Program"]
["152427223178Ardmore",152427223178,"Ardmore","LLF","Lakeland Lodge and Housing Foundation","Fort Kent R&N 1","Bonnyville","T0A0B0","Alberta Social Housing Corporation","Community Housing Program"]
["152427223178Ardmore",152427223178,"Ardmore","LLF","Lakeland Lodge and Housing Foundation","Fort Kent R&N 1","Bonnyville","T0A0B0","Alberta Social Housing Corporation","Community Housing Program"]
["1541273126915035 - 41 Street",154127312691,"5035 - 41 Street","LLF","Lakeland Lodge and Housing Foundation","Grand Centre 1 (Trans)","Cold Lake","T9M2A6","Alberta Social Housing Corporation","Community Housing Program"]
["1541273126915005 - 41 Street",154127312691,"5005 - 41 Street","LLF","Lakeland Lodge and Housing Foundation","Grand Centre 1 (Trans)","Cold Lake","T9M1Z2","Alberta Social Housing Corporation","Community Housing Program"]
["1541273126915718 - 49 Avenue",154127312691,"5718 - 49 Avenue","LLF","Lakeland Lodge and Housing Foundation","Grand Centre 1 (Trans)","Cold Lake","T9M1T1","Alberta Social Housing Corporation","Community Housing Program"]
["1541273126915305 - 51 Street",154127312691,"5305 - 51 Street","LLF","Lakeland Lodge and Housing Foundation","Grand Centre 1 (Trans)","Cold Lake","T9M1W9","Alberta Social Housing Corporation","Community Housing Program"]
["1541273127215517 - 47 Avenue",154127312721,"5517 - 47 Avenue","LLF","Lakeland Lodge and Housing Foundation","Grand Centre 2 (FCLS)","Cold Lake","T9M1V4","Alberta Social Housing Corporation","Community Housing Program"]
["154127223176Cold Lake",154127223176,"Cold Lake","LLF","Lakeland Lodge and Housing Foundation","Grand Centre R&N 2","Cold Lake","T4S1B9","Alberta Social Housing Corporation","Community Housing Program"]
["1541272231765122 - 43 Street",154127223176,"5122 - 43 Street","LLF","Lakeland Lodge and Housing Foundation","Grand Centre R&N 2","Cold Lake","T9M2A1","Alberta Social Housing Corporation","Community Housing Program"]
["1531275500645017 52 Street Glendon",153127550064,"5017 52 Street Glendon","LLF","Lakeland Lodge and Housing Foundation","Heritage Manor","Glendon","T0A1P0","Alberta Social Housing Corporation","Seniors Self Contained Program"]
["1531275523385012 51 Street",153127552338,"5012 51 Street","LLF","Lakeland Lodge and Housing Foundation","Heritage Manor II","Glendon","T0A1P0","Alberta Social Housing Corporation","Seniors Self Contained Program"]
["1516275522291003 - 3 Ave Units 101-106, 108-110, 201",151627552229,"1003 - 3 Ave Units 101-106, 108-110, 201","LLF","Lakeland Lodge and Housing Foundation","Hillside Manor","Cold Lake","T9M1C3","Alberta Social Housing Corporation","Seniors Self Contained Program"]
["1511275522314501 - 46 Street",151127552231,"4501 - 46 Street","LLF","Lakeland Lodge and Housing Foundation","Manoir Lapointe Manor","Bonnyville","T9N2G1","Alberta Social Housing Corporation","Seniors Self Contained Program"]
["1541275521625206 - 50 Street",154127552162,"5206 - 50 Street","LLF","Lakeland Lodge and Housing Foundation","Pioneer Village","Cold Lake","T9M1X1","Alberta Social Housing Corporation","Seniors Self Contained Program"]
["1511275521104601 - 46 Avenue",151127552110,"4601 - 46 Avenue","LLF","Lakeland Lodge and Housing Foundation","Residence Dussault","Bonnyville","T9N2E9","Alberta Social Housing Corporation","Seniors Self Contained Program"]
["1511275520044701 46 Avenue",151127552004,"4701 46 Avenue","LLF","Lakeland Lodge and Housing Foundation","Villa Ouimet East","Bonnyville","T9N 1N3","Alberta Social Housing Corporation","Seniors Self Contained Program"]
["1511275528844705 46 Avenue",151127552884,"4705 46 Avenue","LLF","Lakeland Lodge and Housing Foundation","Villa Ouimet West","Bonnyville","T9N2E7","Alberta Social Housing Corporation","Seniors Self Contained Program"]
["1103275523075126 - 51 Street",110327552307,"5126 - 51 Street","CMF","Lamont County Housing Foundation","Andrew Heritage Manor","Andrew","T0B0C0","Alberta Social Housing Corporation","Seniors Self Contained Program"]
["1103275523075122 - 51 Street",110327552307,"5122 - 51 Street","CMF","Lamont County Housing Foundation","Andrew Heritage Manor","Andrew","T0B0C0","Alberta Social Housing Corporation","Seniors Self Contained Program"]
["1149275122245203 52 Street",114927512224,"5203 52 Street","CMF","Lamont County Housing Foundation","Beaverhill Pioneer Lodge (new)","Lamont","T0B 2R0","Alberta Social Housing Corporation","Seniors Lodge Program"]
["1114272230255515 - 44 Street",111427223025,"5515 - 44 Street","CMF","Lamont County Housing Foundation","Bruderheim R&N 1","Lamont","T0B2R0","Alberta Social Housing Corporation","Community Housing Program"]
["1114272230254542 - 56 Avenue",111427223025,"4542 - 56 Avenue","CMF","Lamont County Housing Foundation","Bruderheim R&N 1","Lamont","T0B0S0","Alberta Social Housing Corporation","Community Housing Program"]
["1160275522995309 51 Street  Units 1 - 6",116027552299,"5309 51 Street  Units 1 - 6","CMF","Lamont County Housing Foundation","Dr. N.C. Strilchuk Villa","Mundare","T0B3H0","Alberta Social Housing Corporation","Seniors Self Contained Program"]
["1529275522614923 - 48 Avenue",152927552261,"4923 - 48 Avenue","CMF","Lamont County Housing Foundation","Elk Park Apartments","Chipman","T0B0W0","Alberta Social Housing Corporation","Seniors Self Contained Program"]
["1160275100115024 - 53 Avenue",116027510011,"5024 - 53 Avenue","CMF","Lamont County Housing Foundation","Father Filas Manor","Mundare","T0B3H0","Alberta Social Housing Corporation","Seniors Lodge Program"]
["1160275521355028 53 Avenue  Units 1 - 8",116027552135,"5028 53 Avenue  Units 1 - 8","CMF","Lamont County Housing Foundation","Father Kryzanowsky Villa","Mundare","T0B3H0","Alberta Social Housing Corporation","Seniors Self Contained Program"]
["1149275522595133 - 50A  Street",114927552259,"5133 - 50A  Street","CMF","Lamont County Housing Foundation","Heritage Court","Lamont","T0B2R0","Alberta Social Housing Corporation","Seniors Self Contained Program"]
["11142755213451 Street & Queen Street",111427552134,"51 Street & Queen Street","CMF","Lamont County Housing Foundation","Spring Creek Manor","Bruderheim","T0B0S0","Alberta Social Housing Corporation","Seniors Self Contained Program"]
["1149275521335137 - 50A  Street",114927552133,"5137 - 50A  Street","CMF","Lamont County Housing Foundation","Villa 75","Lamont","T0B2R0","Alberta Social Housing Corporation","Seniors Self Contained Program"]
["221827376004419 - 52 Avenue SW",221827376004,"419 - 52 Avenue SW","LAR","L'Arche Association of Calgary","Anna Purna","Calgary","T2V0B1","Housing Provider","Specialized Housing"]
["888888880046808 & 810 - 69 Avenue SW",888888880046,"808 & 810 - 69 Avenue SW","LAR","L'Arche Association of Calgary","Mary Mount","Calgary","T2V0P3","Housing Provider","Specialized Housing"]
["888888880045401 & 403 - 52 Avenue SW",888888880045,"401 & 403 - 52 Avenue SW","LAR","L'Arche Association of Calgary","Villa Maria","Calgary","T2V0B1","Housing Provider","Specialized Housing"]
[{"$f":"CONCATENATE(B2371,C2371)","v":"99999999992710116 - 71 Avenue"},999999999927,"10116 - 71 Avenue","LAE","L'arche Association of Edmonton","L'Arche Association of Edmonton","Edmonton","T6A2V5","Housing Provider","None"]
["9999999999278727 - 84 Avenue",999999999927,"8727 - 84 Avenue","LAE","L'arche Association of Edmonton","L'Arche Association of Edmonton","Edmonton","T6C1E1","Housing Provider","None"]
["2579273860032310 - 28 Street S",257927386003,"2310 - 28 Street S","CAC","L'Arche Association of Lethbridge","Chinook House","Lethbridge","T1K2V8","Housing Provider","Specialized Housing"]
["1104275520995033 - 52 Avenue",110427552099,"5033 - 52 Avenue","LED","Leduc Regional Housing Foundation","Beauregard Manor","Beaumont","T4X1K6","Housing Provider","Seniors Self Contained Program"]
["1195275120625204 53 Avenue",119527512062,"5204 53 Avenue","LED","Leduc Regional Housing Foundation","Cloverleaf Manor","Warburg","T0C2T0","Alberta Social Housing Corporation","Seniors Lodge Program"]
["3000000010764331 48 Street",300000001076,"4331 48 Street","LED","Leduc Regional Housing Foundation","Connect Crossing","Leduc","T9E 5Z2","Housing Provider","None"]
["3000000010784706 49 Avenue",300000001078,"4706 49 Avenue","LED","Leduc Regional Housing Foundation","Gaetz Landing","Leduc","T9E 6Y3","Housing Provider","None"]
["1150275502344404 Black Gold Drive",115027550234,"4404 Black Gold Drive","LED","Leduc Regional Housing Foundation","Goldage Apartments","Leduc","T9E5Y5","Alberta Social Housing Corporation","Seniors Self Contained Program"]
["11182755221327 St. Lawrence Avenue",111827552213,"27 St. Lawrence Avenue","LED","Leduc Regional Housing Foundation","Goldring Manor","Devon","T9G1H1","Alberta Social Housing Corporation","Seniors Self Contained Program"]
["1190275522514619 50 Street",119027552251,"4619 50 Street","LED","Leduc Regional Housing Foundation","Happy Haven Addition","Thorsby","T0C2P0","Alberta Social Housing Corporation","Seniors Self Contained Program"]
["1190275521414619 50 Street",119027552141,"4619 50 Street","LED","Leduc Regional Housing Foundation","Happy Haven Apartment","Thorsby","T0C2P0","Alberta Social Housing Corporation","Seniors Self Contained Program"]
["3000000010774711 52 Avenue",300000001077,"4711 52 Avenue","LED","Leduc Regional Housing Foundation","Leduc Terrace","Leduc","T9E 7H6","Housing Provider","None"]
["115027312037#101-118, 5209 45 Ave",115027312037,"#101-118, 5209 45 Ave","LED","Leduc Regional Housing Foundation","Linsford Gardens","Leduc",null,"Alberta Social Housing Corporation","Community Housing Program"]
["115027312037#201-210, 5209 45 Ave",115027312037,"#201-210, 5209 45 Ave","LED","Leduc Regional Housing Foundation","Linsford Gardens","Leduc",null,"Alberta Social Housing Corporation","Community Housing Program"]
["115027312037#301-314, 4311 53 St",115027312037,"#301-314, 4311 53 St","LED","Leduc Regional Housing Foundation","Linsford Gardens","Leduc",null,"Alberta Social Housing Corporation","Community Housing Program"]
["115027312037#401-414, 4311 53 St",115027312037,"#401-414, 4311 53 St","LED","Leduc Regional Housing Foundation","Linsford Gardens","Leduc",null,"Alberta Social Housing Corporation","Community Housing Program"]
["115027312037#501-508, 4311 53 St",115027312037,"#501-508, 4311 53 St","LED","Leduc Regional Housing Foundation","Linsford Gardens","Leduc",null,"Alberta Social Housing Corporation","Community Housing Program"]
["300000001073201 Michigan Street",300000001073,"201 Michigan Street","LED","Leduc Regional Housing Foundation","Maddison Manor","Devon","T9G 2A5","Housing Provider","None"]
["1116275521385012 - 51 Avenue",111627552138,"5012 - 51 Avenue","LED","Leduc Regional Housing Foundation","Northern Lights Apartments","Calmar","T0C0V0","Alberta Social Housing Corporation","Seniors Self Contained Program"]
["1150275120745105 52 Avenue",115027512074,"5105 52 Avenue","LED","Leduc Regional Housing Foundation","Planeview Place","Leduc","T9E6K9","Housing Provider","Seniors Lodge Program"]
["3000000010805401 50 Street",300000001080,"5401 50 Street","LED","Leduc Regional Housing Foundation","Shkola Suites","Calmar","T0C 0V0","Housing Provider","None"]
["1116275522915014 - 51 Avenue",111627552291,"5014 - 51 Avenue","LED","Leduc Regional Housing Foundation","Sunset Apartments","Calmar","T0C0V0","Alberta Social Housing Corporation","Seniors Self Contained Program"]
["1164275522795058 - 2 Avenue",116427552279,"5058 - 2 Avenue","LED","Leduc Regional Housing Foundation","Sunset Manor","New Sarepta","T0B3M0","Alberta Social Housing Corporation","Seniors Self Contained Program"]
["3000000010745200 52 Street",300000001074,"5200 52 Street","LED","Leduc Regional Housing Foundation","The Willows","Leduc","T9E 0G7","Housing Provider","None"]
["3000000010795035 52 Avenue",300000001079,"5035 52 Avenue","LED","Leduc Regional Housing Foundation","Villa Beauregard","Beaumont","T4X 1E5","Housing Provider","None"]
["1150275521765020 - 51 Street",115027552176,"5020 - 51 Street","LED","Leduc Regional Housing Foundation","West Grove Apartments","Leduc","T9E5X2","Alberta Social Housing Corporation","Seniors Self Contained Program"]
["3000000010754504 47 Street",300000001075,"4504 47 Street","LED","Leduc Regional Housing Foundation","Yule Meadows","Leduc","T9E 4P9","Housing Provider","None"]
["136527312883213 - 3 Avenue NE",136527312883,"213 - 3 Avenue NE","LSL","Lesser Slave Lake Regional Housing Authority","Clinic House and Building","Slave Lake","T0G2A2","Alberta Social Housing Corporation","Community Housing Program"]
["136527312883217 - 3 Avenue NE",136527312883,"217 - 3 Avenue NE","LSL","Lesser Slave Lake Regional Housing Authority","Clinic House and Building","Slave Lake","T0G2A2","Alberta Social Housing Corporation","Community Housing Program"]
["136927552237510  8 Street",136927552237,"510  8 Street","LSL","Lesser Slave Lake Regional Housing Authority","Evergreen Apartment","Smith","T0G2B0","Alberta Social Housing Corporation","Seniors Self Contained Program"]
["136527312882801 - 6 Avenue NW",136527312882,"801 - 6 Avenue NW","LSL","Lesser Slave Lake Regional Housing Authority","Heritage Village Apartment","Slave Lake","T0G2A1","Alberta Social Housing Corporation","Community Housing Program"]
["136527312882805 6 Avenue NW",136527312882,"805 6 Avenue NW","LSL","Lesser Slave Lake Regional Housing Authority","Heritage Village Apartment","Slave Lake","T0G2A1","Alberta Social Housing Corporation","Community Housing Program"]
["136527552046300 - 4 Avenue SE",136527552046,"300 - 4 Avenue SE","LSL","Lesser Slave Lake Regional Housing Authority","Lakeside Legion Manor","Slave Lake","T0G2A0","Alberta Social Housing Corporation","Seniors Self Contained Program"]
["136527312652124 - 5 Street SW",136527312652,"124 - 5 Street SW","LSL","Lesser Slave Lake Regional Housing Authority","Slave Lake (Trans 1)","Slave Lake","T0G2A0","Alberta Social Housing Corporation","Community Housing Program"]
["136527312652312 - 5 Street SW",136527312652,"312 - 5 Street SW","LSL","Lesser Slave Lake Regional Housing Authority","Slave Lake (Trans 1)","Slave Lake","T0G2A0","Alberta Social Housing Corporation","Community Housing Program"]
["136527312652400 - 5 Street SW",136527312652,"400 - 5 Street SW","LSL","Lesser Slave Lake Regional Housing Authority","Slave Lake (Trans 1)","Slave Lake","T0G2A0","Alberta Social Housing Corporation","Community Housing Program"]
["136527312652116 - 5 Street SW",136527312652,"116 - 5 Street SW","LSL","Lesser Slave Lake Regional Housing Authority","Slave Lake (Trans 1)","Slave Lake","T0G2A4","Alberta Social Housing Corporation","Community Housing Program"]
["136527312652317 - 7 Street SE",136527312652,"317 - 7 Street SE","LSL","Lesser Slave Lake Regional Housing Authority","Slave Lake (Trans 1)","Slave Lake","T0G2A3","Alberta Social Housing Corporation","Community Housing Program"]
["1365273126521016 - 10A Avenue SE",136527312652,"1016 - 10A Avenue SE","LSL","Lesser Slave Lake Regional Housing Authority","Slave Lake (Trans 1)","Slave Lake","T0G2A0","Alberta Social Housing Corporation","Community Housing Program"]
["1365273127471001 - 5 Avenue SE",136527312747,"1001 - 5 Avenue SE","LSL","Lesser Slave Lake Regional Housing Authority","Slave Lake (Trans 2)","Slave Lake","T0G2A3","Alberta Social Housing Corporation","Community Housing Program"]
["1365273127471012 - 11 Avenue SE",136527312747,"1012 - 11 Avenue SE","LSL","Lesser Slave Lake Regional Housing Authority","Slave Lake (Trans 2)","Slave Lake","T0G2A3","Alberta Social Housing Corporation","Community Housing Program"]
["1365273127471032 - 12 Street SE",136527312747,"1032 - 12 Street SE","LSL","Lesser Slave Lake Regional Housing Authority","Slave Lake (Trans 2)","Slave Lake","T0G2A3","Alberta Social Housing Corporation","Community Housing Program"]
["136527312879500 - 5 Avenue NW",136527312879,"500 - 5 Avenue NW","LSL","Lesser Slave Lake Regional Housing Authority","Slave Lake I","Slave Lake","T0G2A1","Alberta Social Housing Corporation","Community Housing Program"]
["136527312879504 - 5 Avenue NW",136527312879,"504 - 5 Avenue NW","LSL","Lesser Slave Lake Regional Housing Authority","Slave Lake I","Slave Lake","T0G2A1","Alberta Social Housing Corporation","Community Housing Program"]
["136527312879508 - 5 Avenue NW",136527312879,"508 - 5 Avenue NW","LSL","Lesser Slave Lake Regional Housing Authority","Slave Lake I","Slave Lake","T0G2A1","Alberta Social Housing Corporation","Community Housing Program"]
["136527312879512 - 5 Avenue NW",136527312879,"512 - 5 Avenue NW","LSL","Lesser Slave Lake Regional Housing Authority","Slave Lake I","Slave Lake","T0G2A1","Alberta Social Housing Corporation","Community Housing Program"]
["136527312879516 - 5 Avenue NW",136527312879,"516 - 5 Avenue NW","LSL","Lesser Slave Lake Regional Housing Authority","Slave Lake I","Slave Lake","T0G2A1","Alberta Social Housing Corporation","Community Housing Program"]
["136527312879600 - 5 Avenue NW",136527312879,"600 - 5 Avenue NW","LSL","Lesser Slave Lake Regional Housing Authority","Slave Lake I","Slave Lake","T0G2A1","Alberta Social Housing Corporation","Community Housing Program"]
["136527312879604 - 5 Avenue NW",136527312879,"604 - 5 Avenue NW","LSL","Lesser Slave Lake Regional Housing Authority","Slave Lake I","Slave Lake","T0G2A1","Alberta Social Housing Corporation","Community Housing Program"]
["136527312879608 - 5 Avenue NW",136527312879,"608 - 5 Avenue NW","LSL","Lesser Slave Lake Regional Housing Authority","Slave Lake I","Slave Lake","T0G2A1","Alberta Social Housing Corporation","Community Housing Program"]
["136527312879612 - 5 Avenue NW",136527312879,"612 - 5 Avenue NW","LSL","Lesser Slave Lake Regional Housing Authority","Slave Lake I","Slave Lake","T0G2A1","Alberta Social Housing Corporation","Community Housing Program"]
["136527312879616 - 5 Avenue NW",136527312879,"616 - 5 Avenue NW","LSL","Lesser Slave Lake Regional Housing Authority","Slave Lake I","Slave Lake","T0G2A1","Alberta Social Housing Corporation","Community Housing Program"]
["136527312879501 - 6 Avenue NW",136527312879,"501 - 6 Avenue NW","LSL","Lesser Slave Lake Regional Housing Authority","Slave Lake I","Slave Lake","T0G2A1","Alberta Social Housing Corporation","Community Housing Program"]
["136527312879505 - 6 Avenue NW",136527312879,"505 - 6 Avenue NW","LSL","Lesser Slave Lake Regional Housing Authority","Slave Lake I","Slave Lake","T0G2A1","Alberta Social Housing Corporation","Community Housing Program"]
["136527312879509 - 6 Avenue NW",136527312879,"509 - 6 Avenue NW","LSL","Lesser Slave Lake Regional Housing Authority","Slave Lake I","Slave Lake","T0G2A1","Alberta Social Housing Corporation","Community Housing Program"]
["136527312879513 - 6 Avenue NW",136527312879,"513 - 6 Avenue NW","LSL","Lesser Slave Lake Regional Housing Authority","Slave Lake I","Slave Lake","T0G2A1","Alberta Social Housing Corporation","Community Housing Program"]
["136527312879517 - 6 Avenue NW",136527312879,"517 - 6 Avenue NW","LSL","Lesser Slave Lake Regional Housing Authority","Slave Lake I","Slave Lake","T0G2A1","Alberta Social Housing Corporation","Community Housing Program"]
["136527312879601 - 6 Avenue NW",136527312879,"601 - 6 Avenue NW","LSL","Lesser Slave Lake Regional Housing Authority","Slave Lake I","Slave Lake","T0G2A1","Alberta Social Housing Corporation","Community Housing Program"]
["136527312879605 - 6 Avenue NW",136527312879,"605 - 6 Avenue NW","LSL","Lesser Slave Lake Regional Housing Authority","Slave Lake I","Slave Lake","T0G2A1","Alberta Social Housing Corporation","Community Housing Program"]
["136527312879609 - 6 Avenue NW",136527312879,"609 - 6 Avenue NW","LSL","Lesser Slave Lake Regional Housing Authority","Slave Lake I","Slave Lake","T0G2A1","Alberta Social Housing Corporation","Community Housing Program"]
["136527312879613 - 6 Avenue NW",136527312879,"613 - 6 Avenue NW","LSL","Lesser Slave Lake Regional Housing Authority","Slave Lake I","Slave Lake","T0G2A1","Alberta Social Housing Corporation","Community Housing Program"]
["136527312879617 - 6 Avenue NW",136527312879,"617 - 6 Avenue NW","LSL","Lesser Slave Lake Regional Housing Authority","Slave Lake I","Slave Lake","T0G2A1","Alberta Social Housing Corporation","Community Housing Program"]
["1365273128101000 - 12 Street SE",136527312810,"1000 - 12 Street SE","LSL","Lesser Slave Lake Regional Housing Authority","Slave Lake II","Slave Lake","T0G2A3","Alberta Social Housing Corporation","Community Housing Program"]
["136527310019201 - 12 Street SE",136527310019,"201 - 12 Street SE","LSL","Lesser Slave Lake Regional Housing Authority","Slave Lake III","Slave Lake","T0G2A3","Alberta Social Housing Corporation","Community Housing Program"]
[{"$f":"CONCATENATE(B2435,C2435)","v":"136527310019409 - 12 Street SE"},136527310019,"409 - 12 Street SE","LSL","Lesser Slave Lake Regional Housing Authority","Slave Lake III","Slave Lake","T0G2A3","Alberta Social Housing Corporation","Community Housing Program"]
["136527310019509 - 7 Street SE",136527310019,"509 - 7 Street SE","LSL","Lesser Slave Lake Regional Housing Authority","Slave Lake III","Slave Lake","T0G2A3","Alberta Social Housing Corporation","Community Housing Program"]
["136527310019501 - 7 Street SE",136527310019,"501 - 7 Street SE","LSL","Lesser Slave Lake Regional Housing Authority","Slave Lake III","Slave Lake","T0G2A3","Alberta Social Housing Corporation","Community Housing Program"]
["136527310019701 - 1A Avenue SE",136527310019,"701 - 1A Avenue SE","LSL","Lesser Slave Lake Regional Housing Authority","Slave Lake III","Slave Lake","T0G2A0","Alberta Social Housing Corporation","Community Housing Program"]
["1365273100191017 - 6 Street SE",136527310019,"1017 - 6 Street SE","LSL","Lesser Slave Lake Regional Housing Authority","Slave Lake III","Slave Lake","T0G2A3","Alberta Social Housing Corporation","Community Housing Program"]
["136527310019705 - 10 Avenue SE",136527310019,"705 - 10 Avenue SE","LSL","Lesser Slave Lake Regional Housing Authority","Slave Lake III","Slave Lake","T0G2A3","Alberta Social Housing Corporation","Community Housing Program"]
["136527310019701 - 10 Avenue SE",136527310019,"701 - 10 Avenue SE","LSL","Lesser Slave Lake Regional Housing Authority","Slave Lake III","Slave Lake","T0G2A3","Alberta Social Housing Corporation","Community Housing Program"]
["1365273100191016 - 10 Avenue SE",136527310019,"1016 - 10 Avenue SE","LSL","Lesser Slave Lake Regional Housing Authority","Slave Lake III","Slave Lake","T0G2A3","Alberta Social Housing Corporation","Community Housing Program"]
["136527310019704 - 10 Avenue SE",136527310019,"704 - 10 Avenue SE","LSL","Lesser Slave Lake Regional Housing Authority","Slave Lake III","Slave Lake","T0G2A3","Alberta Social Housing Corporation","Community Housing Program"]
["136527310019700 - 10 Avenue SE",136527310019,"700 - 10 Avenue SE","LSL","Lesser Slave Lake Regional Housing Authority","Slave Lake III","Slave Lake","T0G2A3","Alberta Social Housing Corporation","Community Housing Program"]
["136527310021501 - 5 Avenue NW",136527310021,"501 - 5 Avenue NW","LSL","Lesser Slave Lake Regional Housing Authority","Slave Lake IV","Slave Lake","T0G2A1","Alberta Social Housing Corporation","Community Housing Program"]
["136527310021509 - 5 Avenue NW",136527310021,"509 - 5 Avenue NW","LSL","Lesser Slave Lake Regional Housing Authority","Slave Lake IV","Slave Lake","T0G2A1","Alberta Social Housing Corporation","Community Housing Program"]
["136527310021613 - 5 Avenue NW",136527310021,"613 - 5 Avenue NW","LSL","Lesser Slave Lake Regional Housing Authority","Slave Lake IV","Slave Lake","T0G2A1","Alberta Social Housing Corporation","Community Housing Program"]
["136527312262300 - 8 Street NW (1,2)",136527312262,"300 - 8 Street NW (1,2)","LSL","Lesser Slave Lake Regional Housing Authority","Slave Lake V","Slave Lake","T0G2A1","Alberta Social Housing Corporation","Community Housing Program"]
["1365273122623, 300 - 8 Street NW",136527312262,"3, 300 - 8 Street NW","LSL","Lesser Slave Lake Regional Housing Authority","Slave Lake V","Slave Lake","T0G2A1","Alberta Social Housing Corporation","Community Housing Program"]
["13652731226210, 300 - 8 Street NW",136527312262,"10, 300 - 8 Street NW","LSL","Lesser Slave Lake Regional Housing Authority","Slave Lake V","Slave Lake","T0G2A1","Alberta Social Housing Corporation","Community Housing Program"]
["13652731226211, 300 - 8 Street NW",136527312262,"11, 300 - 8 Street NW","LSL","Lesser Slave Lake Regional Housing Authority","Slave Lake V","Slave Lake","T0G2A1","Alberta Social Housing Corporation","Community Housing Program"]
["13652731226215, 300 - 8 Street NW",136527312262,"15, 300 - 8 Street NW","LSL","Lesser Slave Lake Regional Housing Authority","Slave Lake V","Slave Lake","T0G2A1","Alberta Social Housing Corporation","Community Housing Program"]
["136527312643808 - 1A Avenue SE",136527312643,"808 - 1A Avenue SE","LSL","Lesser Slave Lake Regional Housing Authority","Slave Lake VI","Slave Lake","T0G2A0","Alberta Social Housing Corporation","Community Housing Program"]
["136527312643908 - 1 Avenue SE",136527312643,"908 - 1 Avenue SE","LSL","Lesser Slave Lake Regional Housing Authority","Slave Lake VI","Slave Lake","T0G2A0","Alberta Social Housing Corporation","Community Housing Program"]
["136527312643708 - 1A Avenue SE",136527312643,"708 - 1A Avenue SE","LSL","Lesser Slave Lake Regional Housing Authority","Slave Lake VI","Slave Lake","T0G2A0","Alberta Social Housing Corporation","Community Housing Program"]
["1365273126431015 - 12 Street SE",136527312643,"1015 - 12 Street SE","LSL","Lesser Slave Lake Regional Housing Authority","Slave Lake VI","Slave Lake","T0G2A3","Alberta Social Housing Corporation","Community Housing Program"]
["1369272222861011 8 Avenue",136927222286,"1011 8 Avenue","LSL","Lesser Slave Lake Regional Housing Authority","Smith R&N 1","Smith","T0G2B0","Alberta Social Housing Corporation","Community Housing Program"]
["136927223175Smith",136927223175,"Smith","LSL","Lesser Slave Lake Regional Housing Authority","Smith R&N 2","Smith","T0G2B0","Housing Provider","Community Housing Program"]
["136527512115301 - 6 Avenue NE",136527512115,"301 - 6 Avenue NE","LSL","Lesser Slave Lake Regional Housing Authority","Vanderwell Heritage Place","Slave Lake","T0G2A2","Housing Provider","Seniors Lodge Program"]
["228327226055532 - 53 Avenue",228327226055,"532 - 53 Avenue","LET","Lethbridge Housing Authority","Coalhurst (29)","Coalhurst","T0L0V0","Alberta Social Housing Corporation","Community Housing Program"]
["228327226056114 Spruce Drive",228327226056,"114 Spruce Drive","LET","Lethbridge Housing Authority","Coalhurst (30)","Coalhurst","T0L0V0","Alberta Social Housing Corporation","Community Housing Program"]
["257927556130632 - 8 Street S",257927556130,"632 - 8 Street S","LET","Lethbridge Housing Authority","Courtland Place","Lethbridge","T1J2K1","Alberta Social Housing Corporation","Seniors Self Contained Program"]
["261227550075126 - 2A Street NW",261227550075,"126 - 2A Street NW","LET","Lethbridge Housing Authority","Garden Villa Apartments","Magrath","T0K1J0","Alberta Social Housing Corporation","Seniors Self Contained Program"]
["257927550015535 - 8 Street S",257927550015,"535 - 8 Street S","LET","Lethbridge Housing Authority","Leonard C. Halmrast Manor","Lethbridge","T1J2J9","Alberta Social Housing Corporation","Seniors Self Contained Program"]
["257927310025Units 1,2,3,5,6,9,10, 1815 - 18 Avenue N",257927310025,"Units 1,2,3,5,6,9,10, 1815 - 18 Avenue N","LET","Lethbridge Housing Authority","Lethbridge 1","Lethbridge","T1H4M8","Alberta Social Housing Corporation","Community Housing Program"]
["257927310025Units 4,7,8, 1815 - 18 Avenue N",257927310025,"Units 4,7,8, 1815 - 18 Avenue N","LET","Lethbridge Housing Authority","Lethbridge 1","Lethbridge","T1H4M8","Alberta Social Housing Corporation","Community Housing Program"]
["257927310025Units 11,12,15,17,18,19,20, 1815-18 Ave",257927310025,"Units 11,12,15,17,18,19,20, 1815-18 Ave","LET","Lethbridge Housing Authority","Lethbridge 1","Lethbridge","T1H4M8","Alberta Social Housing Corporation","Community Housing Program"]
["257927310025Units 13,14,16, 1815-18 Avenue N",257927310025,"Units 13,14,16, 1815-18 Avenue N","LET","Lethbridge Housing Authority","Lethbridge 1","Lethbridge","T1H4M8","Alberta Social Housing Corporation","Community Housing Program"]
["25792731614845, 47, 49, & 51 Foxbend Crescent N",257927316148,"45, 47, 49, & 51 Foxbend Crescent N","LET","Lethbridge Housing Authority","Lethbridge 10","Lethbridge","T1H5X1","Alberta Social Housing Corporation","Community Housing Program"]
["25792731614855, 57, 59, 61, & 63 Foxbend Crescent N",257927316148,"55, 57, 59, 61, & 63 Foxbend Crescent N","LET","Lethbridge Housing Authority","Lethbridge 10","Lethbridge","T1H5X1","Alberta Social Housing Corporation","Community Housing Program"]
["25792731614865, 67, 69 & 71 Foxbend Crescent N",257927316148,"65, 67, 69 & 71 Foxbend Crescent N","LET","Lethbridge Housing Authority","Lethbridge 10","Lethbridge","T1H5X1","Alberta Social Housing Corporation","Community Housing Program"]
["2579273161211028, 1030 & 1032 - 8 Street N",257927316121,"1028, 1030 & 1032 - 8 Street N","LET","Lethbridge Housing Authority","Lethbridge 11","Lethbridge","T1H1Z4","Alberta Social Housing Corporation","Community Housing Program"]
["2579273161211204, 1206 & 1208 - 8 Street N",257927316121,"1204, 1206 & 1208 - 8 Street N","LET","Lethbridge Housing Authority","Lethbridge 11","Lethbridge","T1H1Z4","Alberta Social Housing Corporation","Community Housing Program"]
["2579273161192084 & 2086 - 7 Avenue N",257927316119,"2084 & 2086 - 7 Avenue N","LET","Lethbridge Housing Authority","Lethbridge 12","Lethbridge","T1H4Z1","Alberta Social Housing Corporation","Community Housing Program"]
["25792731611975 Red Crow Boulevard W",257927316119,"75 Red Crow Boulevard W","LET","Lethbridge Housing Authority","Lethbridge 12","Lethbridge","T1K5M8","Alberta Social Housing Corporation","Community Housing Program"]
["25792731611977 Red Crow Boulevard W",257927316119,"77 Red Crow Boulevard W","LET","Lethbridge Housing Authority","Lethbridge 12","Lethbridge","T1K5M8","Alberta Social Housing Corporation","Community Housing Program"]
["257927316159108 Lakhota Crescent W",257927316159,"108 Lakhota Crescent W","LET","Lethbridge Housing Authority","Lethbridge 13","Lethbridge","T1K6H6","Alberta Social Housing Corporation","Community Housing Program"]
["25792731615996 Lakhota Crescent W",257927316159,"96 Lakhota Crescent W","LET","Lethbridge Housing Authority","Lethbridge 13","Lethbridge","T1K6H7","Alberta Social Housing Corporation","Community Housing Program"]
["257927316159136 Lakhota Crescent W",257927316159,"136 Lakhota Crescent W","LET","Lethbridge Housing Authority","Lethbridge 13","Lethbridge","T1K6H5","Alberta Social Housing Corporation","Community Housing Program"]
["257927316159128 Lakhota Crescent W",257927316159,"128 Lakhota Crescent W","LET","Lethbridge Housing Authority","Lethbridge 13","Lethbridge","T1K6H6","Alberta Social Housing Corporation","Community Housing Program"]
["25792731615960 Micmac Boulevard W",257927316159,"60 Micmac Boulevard W","LET","Lethbridge Housing Authority","Lethbridge 13","Lethbridge","T1K5L7","Alberta Social Housing Corporation","Community Housing Program"]
["257927316159192 Algonquin Road W",257927316159,"192 Algonquin Road W","LET","Lethbridge Housing Authority","Lethbridge 13","Lethbridge","T1K5M3","Alberta Social Housing Corporation","Community Housing Program"]
["25792731615932 Dakota Road W",257927316159,"32 Dakota Road W","LET","Lethbridge Housing Authority","Lethbridge 13","Lethbridge","T1K5L5","Alberta Social Housing Corporation","Community Housing Program"]
["25792731619057 Mohawk Road W",257927316190,"57 Mohawk Road W","LET","Lethbridge Housing Authority","Lethbridge 14 (FCLS)","Lethbridge","T1K5J5","Alberta Social Housing Corporation","Community Housing Program"]
["2579273161901622 St. Edwards Boulevard N",257927316190,"1622 St. Edwards Boulevard N","LET","Lethbridge Housing Authority","Lethbridge 14 (FCLS)","Lethbridge","T1H4Z7","Housing Provider","Community Housing Program"]
["25792731619073 Simon Fraser Boulevard W",257927316190,"73 Simon Fraser Boulevard W","LET","Lethbridge Housing Authority","Lethbridge 14 (FCLS)","Lethbridge","T1K4R2","Alberta Social Housing Corporation","Community Housing Program"]
["25792731619027 Staffordville Crescent N",257927316190,"27 Staffordville Crescent N","LET","Lethbridge Housing Authority","Lethbridge 14 (FCLS)","Lethbridge","T1H5R1","Alberta Social Housing Corporation","Community Housing Program"]
["257927316190126 Stafford Bay N",257927316190,"126 Stafford Bay N","LET","Lethbridge Housing Authority","Lethbridge 14 (FCLS)","Lethbridge","T1H5P8","Alberta Social Housing Corporation","Community Housing Program"]
["25792731619030 Staffordville Crescent N",257927316190,"30 Staffordville Crescent N","LET","Lethbridge Housing Authority","Lethbridge 14 (FCLS)","Lethbridge","T1H5R2","Alberta Social Housing Corporation","Community Housing Program"]
["25792731619026 Staffordville Crescent N",257927316190,"26 Staffordville Crescent N","LET","Lethbridge Housing Authority","Lethbridge 14 (FCLS)","Lethbridge","T1H5R2","Alberta Social Housing Corporation","Community Housing Program"]
["25792731619031 Lemoyne Crescent W",257927316190,"31 Lemoyne Crescent W","LET","Lethbridge Housing Authority","Lethbridge 14 (FCLS)","Lethbridge","T1K4A4","Alberta Social Housing Corporation","Community Housing Program"]
["2579273161901015 - 41 Avenue N",257927316190,"1015 - 41 Avenue N","LET","Lethbridge Housing Authority","Lethbridge 14 (FCLS)","Lethbridge","T1H6B8","Alberta Social Housing Corporation","Community Housing Program"]
["2579273161902722 McKillop Place N",257927316190,"2722 McKillop Place N","LET","Lethbridge Housing Authority","Lethbridge 14 (FCLS)","Lethbridge","T1H3Y3","Alberta Social Housing Corporation","Community Housing Program"]
["2579273161901227 - 41 Avenue N",257927316190,"1227 - 41 Avenue N","LET","Lethbridge Housing Authority","Lethbridge 14 (FCLS)","Lethbridge","T1H6A4","Alberta Social Housing Corporation","Community Housing Program"]
["257927316171Units 1-6, 25 Foxbend Crescent N",257927316171,"Units 1-6, 25 Foxbend Crescent N","LET","Lethbridge Housing Authority","Lethbridge 15","Lethbridge","T1H5W9","Alberta Social Housing Corporation","Community Housing Program"]
["257927316171Units 7-9, 25 Foxbend Cres. N.",257927316171,"Units 7-9, 25 Foxbend Cres. N.","LET","Lethbridge Housing Authority","Lethbridge 15","Lethbridge","T1H5W9","Alberta Social Housing Corporation","Community Housing Program"]
["257927316171Units 10-12, 25 Foxbend Cres. N",257927316171,"Units 10-12, 25 Foxbend Cres. N","LET","Lethbridge Housing Authority","Lethbridge 15","Lethbridge","T1H5W9","Alberta Social Housing Corporation","Community Housing Program"]
["257927316171Units 13-16, 25 Foxbend Cres. N",257927316171,"Units 13-16, 25 Foxbend Cres. N","LET","Lethbridge Housing Authority","Lethbridge 15","Lethbridge","T1H5W9","Alberta Social Housing Corporation","Community Housing Program"]
[{"$f":"CONCATENATE(B2499,C2499)","v":"257927316171Units 17-22, 25 Foxbend Cres. N"},257927316171,"Units 17-22, 25 Foxbend Cres. N","LET","Lethbridge Housing Authority","Lethbridge 15","Lethbridge","T1H5W9","Alberta Social Housing Corporation","Community Housing Program"]
["257927316171Units 23-27, 25 Foxbend Cres. N",257927316171,"Units 23-27, 25 Foxbend Cres. N","LET","Lethbridge Housing Authority","Lethbridge 15","Lethbridge","T1H5W9","Alberta Social Housing Corporation","Community Housing Program"]
["257927316606549 Columbia Boulevard W",257927316606,"549 Columbia Boulevard W","LET","Lethbridge Housing Authority","Lethbridge 17 (FCLS)","Lethbridge","T1K5N4","Alberta Social Housing Corporation","Community Housing Program"]
["2579273166061524 St. Edwards Boulevard N",257927316606,"1524 St. Edwards Boulevard N","LET","Lethbridge Housing Authority","Lethbridge 17 (FCLS)","Lethbridge","T1H4Z7","Alberta Social Housing Corporation","Community Housing Program"]
["257927316606479 Columbia Boulevard W",257927316606,"479 Columbia Boulevard W","LET","Lethbridge Housing Authority","Lethbridge 17 (FCLS)","Lethbridge","T1K4T7","Alberta Social Housing Corporation","Community Housing Program"]
["25792731660649 Princeton Crescent W",257927316606,"49 Princeton Crescent W","LET","Lethbridge Housing Authority","Lethbridge 17 (FCLS)","Lethbridge","T1K4S5","Housing Provider","Community Housing Program"]
["25792731660645 Princeton Crescent W",257927316606,"45 Princeton Crescent W","LET","Lethbridge Housing Authority","Lethbridge 17 (FCLS)","Lethbridge","T1K4S5","Housing Provider","Community Housing Program"]
["2579273166062023 - 13 Street N",257927316606,"2023 - 13 Street N","LET","Lethbridge Housing Authority","Lethbridge 17 (FCLS)","Lethbridge","T1H2V4","Alberta Social Housing Corporation","Community Housing Program"]
["2579273166306 Algonquin Bay W",257927316630,"6 Algonquin Bay W","LET","Lethbridge Housing Authority","Lethbridge 18 (FCLS)","Lethbridge","T1K5B6","Alberta Social Housing Corporation","Community Housing Program"]
["2579273166307 Meadowlark Boulevard N",257927316630,"7 Meadowlark Boulevard N","LET","Lethbridge Housing Authority","Lethbridge 18 (FCLS)","Lethbridge","T1H4R3","Housing Provider","Community Housing Program"]
["257927316633553 Columbia Boulevard W",257927316633,"553 Columbia Boulevard W","LET","Lethbridge Housing Authority","Lethbridge 19 (FCLS)","Lethbridge","T1K5N4","Housing Provider","Community Housing Program"]
["257927316001Units 1-4, 20 McGill Boulevard W",257927316001,"Units 1-4, 20 McGill Boulevard W","LET","Lethbridge Housing Authority","Lethbridge 2","Lethbridge","T1K4C2","Alberta Social Housing Corporation","Community Housing Program"]
["257927316001Units 5&6, 20 McGill Boulevard W",257927316001,"Units 5&6, 20 McGill Boulevard W","LET","Lethbridge Housing Authority","Lethbridge 2","Lethbridge","T1K4C2","Alberta Social Housing Corporation","Community Housing Program"]
["257927316001Units 7&8, 20 McGill Boulevard W",257927316001,"Units 7&8, 20 McGill Boulevard W","LET","Lethbridge Housing Authority","Lethbridge 2","Lethbridge","T1K4C2","Alberta Social Housing Corporation","Community Housing Program"]
["257927316001Units 9&10, 20 McGill Boulevard W",257927316001,"Units 9&10, 20 McGill Boulevard W","LET","Lethbridge Housing Authority","Lethbridge 2","Lethbridge","T1K4C2","Alberta Social Housing Corporation","Community Housing Program"]
["257927316001Units 11&12, 20 McGill Boulebard W",257927316001,"Units 11&12, 20 McGill Boulebard W","LET","Lethbridge Housing Authority","Lethbridge 2","Lethbridge","T1K4C2","Alberta Social Housing Corporation","Community Housing Program"]
["257927316001Units 13&14, 20 McGill Boulevard W",257927316001,"Units 13&14, 20 McGill Boulevard W","LET","Lethbridge Housing Authority","Lethbridge 2","Lethbridge","T1K4C2","Alberta Social Housing Corporation","Community Housing Program"]
["257927316001Units 15&16, 20 McGill Boulevard W",257927316001,"Units 15&16, 20 McGill Boulevard W","LET","Lethbridge Housing Authority","Lethbridge 2","Lethbridge","T1K4C2","Alberta Social Housing Corporation","Community Housing Program"]
["257927316001Units 17&18, 20 McGill Boulevard W",257927316001,"Units 17&18, 20 McGill Boulevard W","LET","Lethbridge Housing Authority","Lethbridge 2","Lethbridge","T1K4C2","Alberta Social Housing Corporation","Community Housing Program"]
["257927316001Units 19&20, 20 McGill Boulevard W",257927316001,"Units 19&20, 20 McGill Boulevard W","LET","Lethbridge Housing Authority","Lethbridge 2","Lethbridge","T1K4C2","Alberta Social Housing Corporation","Community Housing Program"]
["257927316001Units 21&22, 20 McGill Boulevard W",257927316001,"Units 21&22, 20 McGill Boulevard W","LET","Lethbridge Housing Authority","Lethbridge 2","Lethbridge","T1K4C2","Alberta Social Housing Corporation","Community Housing Program"]
["257927316001Units 23&24, 20 McGill Boulevard W",257927316001,"Units 23&24, 20 McGill Boulevard W","LET","Lethbridge Housing Authority","Lethbridge 2","Lethbridge","T1K4C2","Alberta Social Housing Corporation","Community Housing Program"]
["257927316001Units 25&26, 20 McGill Boulevard W",257927316001,"Units 25&26, 20 McGill Boulevard W","LET","Lethbridge Housing Authority","Lethbridge 2","Lethbridge","T1K4C2","Alberta Social Housing Corporation","Community Housing Program"]
["257927316001Units 27&28, 20 McGill Boulevard W",257927316001,"Units 27&28, 20 McGill Boulevard W","LET","Lethbridge Housing Authority","Lethbridge 2","Lethbridge","T1K4C2","Alberta Social Housing Corporation","Community Housing Program"]
["257927316690765, 767, 769 & 771 Columbia Boulevard W",257927316690,"765, 767, 769 & 771 Columbia Boulevard W","LET","Lethbridge Housing Authority","Lethbridge 20 (ATCO)","Lethbridge","T1H4T8","Alberta Social Housing Corporation","Community Housing Program"]
["257927316690773, 775, 777 & 779 Columbia Boulevard W",257927316690,"773, 775, 777 & 779 Columbia Boulevard W","LET","Lethbridge Housing Authority","Lethbridge 20 (ATCO)","Lethbridge","T1H4T8","Alberta Social Housing Corporation","Community Housing Program"]
["257927316690715, 717, 719 & 721 - 20 Street N",257927316690,"715, 717, 719 & 721 - 20 Street N","LET","Lethbridge Housing Authority","Lethbridge 20 (ATCO)","Lethbridge","T1H4Z6","Alberta Social Housing Corporation","Community Housing Program"]
["25792735600233 Oriole Road N",257927356002,"33 Oriole Road N","LET","Lethbridge Housing Authority","Lethbridge 21","Lethbridge","T1H4S2","Alberta Social Housing Corporation","Community Housing Program"]
["25792731672410 Staffordville Crescent N",257927316724,"10 Staffordville Crescent N","LET","Lethbridge Housing Authority","Lethbridge 22 (FCLS)","Lethbridge","T1H5R2","Alberta Social Housing Corporation","Community Housing Program"]
["2579273167245, 55 Lemoyne Crescent W",257927316724,"5, 55 Lemoyne Crescent W","LET","Lethbridge Housing Authority","Lethbridge 22 (FCLS)","Lethbridge","T1K4J7","Alberta Social Housing Corporation","Community Housing Program"]
["25792731672457 Dalhousie Court W",257927316724,"57 Dalhousie Court W","LET","Lethbridge Housing Authority","Lethbridge 22 (FCLS)","Lethbridge","T1K4C8","Alberta Social Housing Corporation","Community Housing Program"]
["257927316724209 Stafford Bay N",257927316724,"209 Stafford Bay N","LET","Lethbridge Housing Authority","Lethbridge 22 (FCLS)","Lethbridge","T1H5L2","Alberta Social Housing Corporation","Community Housing Program"]
["25792731672445 Meadowlark Boulevard N",257927316724,"45 Meadowlark Boulevard N","LET","Lethbridge Housing Authority","Lethbridge 22 (FCLS)","Lethbridge","T1H4R4","Alberta Social Housing Corporation","Community Housing Program"]
["2579273167231317 - 7 Street N",257927316723,"1317 - 7 Street N","LET","Lethbridge Housing Authority","Lethbridge 24","Lethbridge","T1H1Y8","Alberta Social Housing Corporation","Community Housing Program"]
["257927316723706, 708 & 710 Stafford Avenue N",257927316723,"706, 708 & 710 Stafford Avenue N","LET","Lethbridge Housing Authority","Lethbridge 24","Lethbridge","T1H1Y8","Alberta Social Housing Corporation","Community Housing Program"]
["257927316723424 - 20 Street N",257927316723,"424 - 20 Street N","LET","Lethbridge Housing Authority","Lethbridge 24","Lethbridge","T1H3N1","Alberta Social Housing Corporation","Community Housing Program"]
["257927316723430 - 20 Street N",257927316723,"430 - 20 Street N","LET","Lethbridge Housing Authority","Lethbridge 24","Lethbridge","T1H3N1","Alberta Social Housing Corporation","Community Housing Program"]
["25792731673196-102 Mt. Blakiston Road W",257927316731,"96-102 Mt. Blakiston Road W","LET","Lethbridge Housing Authority","Lethbridge 26","Lethbridge","T1K6W8","Alberta Social Housing Corporation","Community Housing Program"]
["25792731673750 Mt. Burke Boulevard W",257927316737,"50 Mt. Burke Boulevard W","LET","Lethbridge Housing Authority","Lethbridge 27","Lethbridge","T1K6N1","Alberta Social Housing Corporation","Community Housing Program"]
["25792731673760 Mt. Burke Boulevard W",257927316737,"60 Mt. Burke Boulevard W","LET","Lethbridge Housing Authority","Lethbridge 27","Lethbridge","T1K6N1","Alberta Social Housing Corporation","Community Housing Program"]
["25792731673772 Mt. Burke Boulevard W",257927316737,"72 Mt. Burke Boulevard W","LET","Lethbridge Housing Authority","Lethbridge 27","Lethbridge","T1K6N1","Alberta Social Housing Corporation","Community Housing Program"]
["257927356017143 Beaverbrook Road N",257927356017,"143 Beaverbrook Road N","LET","Lethbridge Housing Authority","Lethbridge 28","Lethbridge","T1H5Z8","Alberta Social Housing Corporation","Community Housing Program"]
["257927316013# 1 & 2, 981 Columbia Blvd. W",257927316013,"# 1 & 2, 981 Columbia Blvd. W","LET","Lethbridge Housing Authority","Lethbridge 3","Lethbridge","T1K4M5","Alberta Social Housing Corporation","Community Housing Program"]
["257927316013# 3 & 4, 981 Columbia Blvd. W",257927316013,"# 3 & 4, 981 Columbia Blvd. W","LET","Lethbridge Housing Authority","Lethbridge 3","Lethbridge","T1K4M5","Alberta Social Housing Corporation","Community Housing Program"]
["257927316013# 5 & 6, 981 Columbia Blvd. W",257927316013,"# 5 & 6, 981 Columbia Blvd. W","LET","Lethbridge Housing Authority","Lethbridge 3","Lethbridge","T1K4M5","Alberta Social Housing Corporation","Community Housing Program"]
["257927316013# 7 & 8, 981 Columbia Blvd. W",257927316013,"# 7 & 8, 981 Columbia Blvd. W","LET","Lethbridge Housing Authority","Lethbridge 3","Lethbridge","T1K4M5","Alberta Social Housing Corporation","Community Housing Program"]
["257927316013# 9 & 10, 981 Columbia Blvd. W",257927316013,"# 9 & 10, 981 Columbia Blvd. W","LET","Lethbridge Housing Authority","Lethbridge 3","Lethbridge","T1K4M5","Alberta Social Housing Corporation","Community Housing Program"]
["257927316013# 11 & 12, 981 Columbia Blvd. W",257927316013,"# 11 & 12, 981 Columbia Blvd. W","LET","Lethbridge Housing Authority","Lethbridge 3","Lethbridge","T1K4M5","Alberta Social Housing Corporation","Community Housing Program"]
["257927316013Units 1&2, 100 Simon Fraser Blvd W",257927316013,"Units 1&2, 100 Simon Fraser Blvd W","LET","Lethbridge Housing Authority","Lethbridge 3","Lethbridge","T1K5A4","Alberta Social Housing Corporation","Community Housing Program"]
["257927316013Units 3&4, 100 Simon Frazer Blvd W",257927316013,"Units 3&4, 100 Simon Frazer Blvd W","LET","Lethbridge Housing Authority","Lethbridge 3","Lethbridge","T1K5A4","Alberta Social Housing Corporation","Community Housing Program"]
["257927316013Units 5&6, 100 Simon Frazer Blvd W",257927316013,"Units 5&6, 100 Simon Frazer Blvd W","LET","Lethbridge Housing Authority","Lethbridge 3","Lethbridge","T1K5A4","Alberta Social Housing Corporation","Community Housing Program"]
["257927316013Units 7&8, 100 Simon Frazer Blvd W",257927316013,"Units 7&8, 100 Simon Frazer Blvd W","LET","Lethbridge Housing Authority","Lethbridge 3","Lethbridge","T1K5A4","Alberta Social Housing Corporation","Community Housing Program"]
["257927316013Units 9&10, 100 Simon Frazer Blvd W",257927316013,"Units 9&10, 100 Simon Frazer Blvd W","LET","Lethbridge Housing Authority","Lethbridge 3","Lethbridge","T1K5A4","Alberta Social Housing Corporation","Community Housing Program"]
["257927316013Unis 11&12, 100 Simon Frazer Blvd W",257927316013,"Unis 11&12, 100 Simon Frazer Blvd W","LET","Lethbridge Housing Authority","Lethbridge 3","Lethbridge","T1K5A4","Alberta Social Housing Corporation","Community Housing Program"]
["257927316013Units 13&14, 100 Simon Frazer Blvd W",257927316013,"Units 13&14, 100 Simon Frazer Blvd W","LET","Lethbridge Housing Authority","Lethbridge 3","Lethbridge","T1K5A4","Alberta Social Housing Corporation","Community Housing Program"]
["257927316013Units 15&16, 100 Simon Frazer Blvd W",257927316013,"Units 15&16, 100 Simon Frazer Blvd W","LET","Lethbridge Housing Authority","Lethbridge 3","Lethbridge","T1K5A4","Alberta Social Housing Corporation","Community Housing Program"]
["257927316013# 1 & 2, 960 Columbia Boulevard W",257927316013,"# 1 & 2, 960 Columbia Boulevard W","LET","Lethbridge Housing Authority","Lethbridge 3","Lethbridge","T1K4M3","Alberta Social Housing Corporation","Community Housing Program"]
["257927316013# 3 & 4, 960 Columbia Blvd. W",257927316013,"# 3 & 4, 960 Columbia Blvd. W","LET","Lethbridge Housing Authority","Lethbridge 3","Lethbridge","T1K4M3","Alberta Social Housing Corporation","Community Housing Program"]
["257927316013# 5 & 6, 960 Columbia Blvd. W",257927316013,"# 5 & 6, 960 Columbia Blvd. W","LET","Lethbridge Housing Authority","Lethbridge 3","Lethbridge","T1K4M3","Alberta Social Housing Corporation","Community Housing Program"]
["257927316013# 7 & 8, 960 Columbia Blvd. W",257927316013,"# 7 & 8, 960 Columbia Blvd. W","LET","Lethbridge Housing Authority","Lethbridge 3","Lethbridge","T1K4M3","Alberta Social Housing Corporation","Community Housing Program"]
["257927316013# 9 & 10, 960 Columbia Blvd. W",257927316013,"# 9 & 10, 960 Columbia Blvd. W","LET","Lethbridge Housing Authority","Lethbridge 3","Lethbridge","T1K4M3","Alberta Social Housing Corporation","Community Housing Program"]
["257927316013Units 1&2, 230 McGill Blvd.  W",257927316013,"Units 1&2, 230 McGill Blvd.  W","LET","Lethbridge Housing Authority","Lethbridge 3","Lethbridge","T1K4C6","Alberta Social Housing Corporation","Community Housing Program"]
["257927316013Units 3&4, 230 McGill Blvd. W",257927316013,"Units 3&4, 230 McGill Blvd. W","LET","Lethbridge Housing Authority","Lethbridge 3","Lethbridge","T1K4C6","Alberta Social Housing Corporation","Community Housing Program"]
["257927316013Units 5&6, 230 McGill Blvd. W",257927316013,"Units 5&6, 230 McGill Blvd. W","LET","Lethbridge Housing Authority","Lethbridge 3","Lethbridge","T1K4C6","Alberta Social Housing Corporation","Community Housing Program"]
[{"$f":"CONCATENATE(B2563,C2563)","v":"257927316013Units 7,8,9&10, 230 McGill Blvd. W"},257927316013,"Units 7,8,9&10, 230 McGill Blvd. W","LET","Lethbridge Housing Authority","Lethbridge 3","Lethbridge","T1K4C6","Alberta Social Housing Corporation","Community Housing Program"]
["257927316057Units 1,2,3&4, 1925 Cedar Road S",257927316057,"Units 1,2,3&4, 1925 Cedar Road S","LET","Lethbridge Housing Authority","Lethbridge 4","Lethbridge","T1K4W7","Alberta Social Housing Corporation","Community Housing Program"]
["257927316057Units 5,6,7,8&9, 1925 Cedar Road S",257927316057,"Units 5,6,7,8&9, 1925 Cedar Road S","LET","Lethbridge Housing Authority","Lethbridge 4","Lethbridge","T1K4W7","Alberta Social Housing Corporation","Community Housing Program"]
["257927316057Units 10,11&12, 1925 Cedar Road S",257927316057,"Units 10,11&12, 1925 Cedar Road S","LET","Lethbridge Housing Authority","Lethbridge 4","Lethbridge","T1K4W7","Alberta Social Housing Corporation","Community Housing Program"]
["257927316057Units 13,14,15&16, 1925 Cedar Road S",257927316057,"Units 13,14,15&16, 1925 Cedar Road S","LET","Lethbridge Housing Authority","Lethbridge 4","Lethbridge","T1K4W7","Alberta Social Housing Corporation","Community Housing Program"]
["257927316057Units 17,18,&19, 1925 Cedar Road S",257927316057,"Units 17,18,&19, 1925 Cedar Road S","LET","Lethbridge Housing Authority","Lethbridge 4","Lethbridge","T1K4W7","Alberta Social Housing Corporation","Community Housing Program"]
["257927316057Units 20,21,22&23, 1925 Cedar Road S",257927316057,"Units 20,21,22&23, 1925 Cedar Road S","LET","Lethbridge Housing Authority","Lethbridge 4","Lethbridge","T1K4W7","Alberta Social Housing Corporation","Community Housing Program"]
["257927316057Units 24,25&26, 1925 Cedar Road S",257927316057,"Units 24,25&26, 1925 Cedar Road S","LET","Lethbridge Housing Authority","Lethbridge 4","Lethbridge","T1K4W7","Alberta Social Housing Corporation","Community Housing Program"]
["257927316057Units 27,28,29&30, 1925 Cedar Road S",257927316057,"Units 27,28,29&30, 1925 Cedar Road S","LET","Lethbridge Housing Authority","Lethbridge 4","Lethbridge","T1K4W7","Alberta Social Housing Corporation","Community Housing Program"]
["257927316105105 Red Crow Boulevard W",257927316105,"105 Red Crow Boulevard W","LET","Lethbridge Housing Authority","Lethbridge 5","Lethbridge","T1K5M8","Alberta Social Housing Corporation","Community Housing Program"]
["257927316105113 Red Crow Boulevard W",257927316105,"113 Red Crow Boulevard W","LET","Lethbridge Housing Authority","Lethbridge 5","Lethbridge","T1K5M8","Alberta Social Housing Corporation","Community Housing Program"]
["257927316105206 Algonquin Road W",257927316105,"206 Algonquin Road W","LET","Lethbridge Housing Authority","Lethbridge 5","Lethbridge","T1K5M7","Alberta Social Housing Corporation","Community Housing Program"]
["257927316105202 Algonquin Road W",257927316105,"202 Algonquin Road W","LET","Lethbridge Housing Authority","Lethbridge 5","Lethbridge","T1K5M7","Alberta Social Housing Corporation","Community Housing Program"]
["257927316105172 Algonquin Road W",257927316105,"172 Algonquin Road W","LET","Lethbridge Housing Authority","Lethbridge 5","Lethbridge","T1K5M3","Alberta Social Housing Corporation","Community Housing Program"]
["257927316105176 Algonquin Road W",257927316105,"176 Algonquin Road W","LET","Lethbridge Housing Authority","Lethbridge 5","Lethbridge","T1K5M3","Alberta Social Housing Corporation","Community Housing Program"]
["257927316105180 Algonquin Road W",257927316105,"180 Algonquin Road W","LET","Lethbridge Housing Authority","Lethbridge 5","Lethbridge","T1K5M3","Alberta Social Housing Corporation","Community Housing Program"]
["25792731610520 Dakota Road W",257927316105,"20 Dakota Road W","LET","Lethbridge Housing Authority","Lethbridge 5","Lethbridge","T1K5L5","Alberta Social Housing Corporation","Community Housing Program"]
["25792731610593 Red Crow Boulevard W",257927316105,"93 Red Crow Boulevard W","LET","Lethbridge Housing Authority","Lethbridge 5","Lethbridge","T1K5M8","Alberta Social Housing Corporation","Community Housing Program"]
["257927316105101 Red Crow Boulevard W",257927316105,"101 Red Crow Boulevard W","LET","Lethbridge Housing Authority","Lethbridge 5","Lethbridge","T1K5M8","Alberta Social Housing Corporation","Community Housing Program"]
["257927316103807, 809, 811 & 813 - 9 Avenue N",257927316103,"807, 809, 811 & 813 - 9 Avenue N","LET","Lethbridge Housing Authority","Lethbridge 6","Lethbridge","T1H1Z6","Alberta Social Housing Corporation","Community Housing Program"]
["25792731608772 Jerry Potts Boulevard W",257927316087,"72 Jerry Potts Boulevard W","LET","Lethbridge Housing Authority","Lethbridge 7","Lethbridge","T1K5M5","Alberta Social Housing Corporation","Community Housing Program"]
["25792731608762 Jerry Potts Boulevard W",257927316087,"62 Jerry Potts Boulevard W","LET","Lethbridge Housing Authority","Lethbridge 7","Lethbridge","T1K5M5","Alberta Social Housing Corporation","Community Housing Program"]
["25792731608740 Jerry Potts Boulevard W",257927316087,"40 Jerry Potts Boulevard W","LET","Lethbridge Housing Authority","Lethbridge 7","Lethbridge","T1K5M5","Alberta Social Housing Corporation","Community Housing Program"]
["25792731608742 Jerry Potts Boulevard W",257927316087,"42 Jerry Potts Boulevard W","LET","Lethbridge Housing Authority","Lethbridge 7","Lethbridge","T1K5M5","Alberta Social Housing Corporation","Community Housing Program"]
["25792731608764 Jerry Potts Boulevard W",257927316087,"64 Jerry Potts Boulevard W","LET","Lethbridge Housing Authority","Lethbridge 7","Lethbridge","T1K5M5","Alberta Social Housing Corporation","Community Housing Program"]
["25792731608774 Jerry Potts Boulevard W",257927316087,"74 Jerry Potts Boulevard W","LET","Lethbridge Housing Authority","Lethbridge 7","Lethbridge","T1K5M5","Alberta Social Housing Corporation","Community Housing Program"]
["257927316095135, 137 & 139 Simon Fraser Boulevard W",257927316095,"135, 137 & 139 Simon Fraser Boulevard W","LET","Lethbridge Housing Authority","Lethbridge 8","Lethbridge","T1K4R2","Alberta Social Housing Corporation","Community Housing Program"]
["257927316095141, 143 & 145 Simon Fraser Boulevard W",257927316095,"141, 143 & 145 Simon Fraser Boulevard W","LET","Lethbridge Housing Authority","Lethbridge 8","Lethbridge","T1K4R2","Alberta Social Housing Corporation","Community Housing Program"]
["257927316136220 & 222 Bluefox Boulevard N",257927316136,"220 & 222 Bluefox Boulevard N","LET","Lethbridge Housing Authority","Lethbridge 9","Lethbridge","T1H5W5","Alberta Social Housing Corporation","Community Housing Program"]
["257927316136228 & 230 Bluefox Boulevard W",257927316136,"228 & 230 Bluefox Boulevard W","LET","Lethbridge Housing Authority","Lethbridge 9","Lethbridge","T1H5W5","Alberta Social Housing Corporation","Community Housing Program"]
["257927316136196 & 198 Bluefox Boulevard N",257927316136,"196 & 198 Bluefox Boulevard N","LET","Lethbridge Housing Authority","Lethbridge 9","Lethbridge","T1H5W5","Alberta Social Housing Corporation","Community Housing Program"]
["257927316136204 & 206 Bluefox Boulevard N",257927316136,"204 & 206 Bluefox Boulevard N","LET","Lethbridge Housing Authority","Lethbridge 9","Lethbridge","T1H5W6","Alberta Social Housing Corporation","Community Housing Program"]
["257927316136212 & 214 Bluefox Boulevard N",257927316136,"212 & 214 Bluefox Boulevard N","LET","Lethbridge Housing Authority","Lethbridge 9","Lethbridge","T1H5W6","Alberta Social Housing Corporation","Community Housing Program"]
["262427226008206 Rubie Crescent",262427226008,"206 Rubie Crescent","LET","Lethbridge Housing Authority","Nobleford (31)","Nobleford","T0L1S0","Housing Provider","Community Housing Program"]
["257927556094521 - 4 Street S",257927556094,"521 - 4 Street S","LET","Lethbridge Housing Authority","T. Russel Haig Tower","Lethbridge","T1J4J6","Alberta Social Housing Corporation","Seniors Self Contained Program"]
["2579275560072275 - 32 Street S",257927556007,"2275 - 32 Street S","LET","Lethbridge Housing Authority","W.D.L. Hardie Manor","Lethbridge","T1K5A9","Alberta Social Housing Corporation","Seniors Self Contained Program"]
["96",96,null,"LIH","Lloydminister Interval Home","Lloydminister Interval Home","Lloydminster","T9V0A1","Other","None"]
["3000000010465001 48 Ave",300000001046,"5001 48 Ave","A40","Lloydminister Social Action Coalition Society","Lloydminster Men's Shelter","Lloydminster",null,"Housing Provider","None"]
["155227552317Units 1-4, 4925 - 52 Avenue",155227552317,"Units 1-4, 4925 - 52 Avenue","LRH","Lloydminster Region Housing Group","Alberta Rose Manor","Kitscoty","T0B2P0","Alberta Social Housing Corporation","Seniors Self Contained Program"]
["155227552317Units 5-8, 4925 - 52 Avenue",155227552317,"Units 5-8, 4925 - 52 Avenue","LRH","Lloydminster Region Housing Group","Alberta Rose Manor","Kitscoty","T0B2P0","Alberta Social Housing Corporation","Seniors Self Contained Program"]
["155927552065400 2 Street South Units 1 - 8",155927552065,"400 2 Street South Units 1 - 8","LRH","Lloydminster Region Housing Group","David Thompson Manor","Marwayne","T0B2X0","Alberta Social Housing Corporation","Seniors Self Contained Program"]
["1555275520255201 - 42 Street Units 1 - 4",155527552025,"5201 - 42 Street Units 1 - 4","LRH","Lloydminster Region Housing Group","Fellowship Village","Lloydminster","T9V1M8","Alberta Social Housing Corporation","Seniors Self Contained Program"]
["1555275520255201 - 42 Street Units 5 - 12",155527552025,"5201 - 42 Street Units 5 - 12","LRH","Lloydminster Region Housing Group","Fellowship Village","Lloydminster","T9V1M8","Alberta Social Housing Corporation","Seniors Self Contained Program"]
["1555275520255201 - 42 Street Units 13 - 18",155527552025,"5201 - 42 Street Units 13 - 18","LRH","Lloydminster Region Housing Group","Fellowship Village","Lloydminster","T9V1M8","Alberta Social Housing Corporation","Seniors Self Contained Program"]
["1555275520255201 - 42 Street Units 19 - 24",155527552025,"5201 - 42 Street Units 19 - 24","LRH","Lloydminster Region Housing Group","Fellowship Village","Lloydminster","T9V1M8","Alberta Social Housing Corporation","Seniors Self Contained Program"]
["1555275520255201 - 42 Street Units 25 - 30",155527552025,"5201 - 42 Street Units 25 - 30","LRH","Lloydminster Region Housing Group","Fellowship Village","Lloydminster","T9V1M8","Alberta Social Housing Corporation","Seniors Self Contained Program"]
["1555275520255201 - 42 Street Units 31 - 34",155527552025,"5201 - 42 Street Units 31 - 34","LRH","Lloydminster Region Housing Group","Fellowship Village","Lloydminster","T9V1M8","Alberta Social Housing Corporation","Seniors Self Contained Program"]
["1555275520255201 - 42 Street Units 35 - 38",155527552025,"5201 - 42 Street Units 35 - 38","LRH","Lloydminster Region Housing Group","Fellowship Village","Lloydminster","T9V1M8","Alberta Social Housing Corporation","Seniors Self Contained Program"]
["1555275520255201 - 42 Street Units 39 - 50",155527552025,"5201 - 42 Street Units 39 - 50","LRH","Lloydminster Region Housing Group","Fellowship Village","Lloydminster","T9V1M8","Alberta Social Housing Corporation","Seniors Self Contained Program"]
["1555275520255201 - 42 Street Units 51 - 54",155527552025,"5201 - 42 Street Units 51 - 54","LRH","Lloydminster Region Housing Group","Fellowship Village","Lloydminster","T9V1M8","Alberta Social Housing Corporation","Seniors Self Contained Program"]
["1552272232145201 - 50 Street",155227223214,"5201 - 50 Street","LRH","Lloydminster Region Housing Group","Kitscoty - R&N 1","Kitscoty","T0B2P0","Alberta Social Housing Corporation","Community Housing Program"]
["1552272232145218 - 50 Street",155227223214,"5218 - 50 Street","LRH","Lloydminster Region Housing Group","Kitscoty - R&N 1","Kitscoty","T0B2P0","Alberta Social Housing Corporation","Community Housing Program"]
["1552272232135213 - 49A Street",155227223213,"5213 - 49A Street","LRH","Lloydminster Region Housing Group","Kitscoty - R&N 2","Kitscoty","T0B2P0","Alberta Social Housing Corporation","Community Housing Program"]
["1552272232135210 - 49 Street",155227223213,"5210 - 49 Street","LRH","Lloydminster Region Housing Group","Kitscoty - R&N 2","Kitscoty","T0B2P0","Alberta Social Housing Corporation","Community Housing Program"]
["1552272229965210 - 48 Street",155227222996,"5210 - 48 Street","LRH","Lloydminster Region Housing Group","Kitscoty - R&N 3","Kitscoty","T0B2P0","Alberta Social Housing Corporation","Community Housing Program"]
["1552272229964906 - 53 Avenue",155227222996,"4906 - 53 Avenue","LRH","Lloydminster Region Housing Group","Kitscoty - R&N 3","Kitscoty","T0B2P0","Alberta Social Housing Corporation","Community Housing Program"]
["1552272229965205 - 49A Street",155227222996,"5205 - 49A Street","LRH","Lloydminster Region Housing Group","Kitscoty - R&N 3","Kitscoty","T0B2P0","Alberta Social Housing Corporation","Community Housing Program"]
["1552272229965202 - 49A Street",155227222996,"5202 - 49A Street","LRH","Lloydminster Region Housing Group","Kitscoty - R&N 3","Kitscoty","T0B2P0","Alberta Social Housing Corporation","Community Housing Program"]
["1555275521575501 - 47 Street",155527552157,"5501 - 47 Street","LRH","Lloydminster Region Housing Group","Knox Manor","Lloydminster","T9V0G9","Alberta Social Housing Corporation","Seniors Self Contained Program"]
["1555273100155666 - 42 Street",155527310015,"5666 - 42 Street","LRH","Lloydminster Region Housing Group","Lloydminster I","Lloydminster","T9V1C6","Alberta Social Housing Corporation","Community Housing Program"]
["1555273100155662 - 42 Street",155527310015,"5662 - 42 Street","LRH","Lloydminster Region Housing Group","Lloydminster I","Lloydminster","T9V1C6","Alberta Social Housing Corporation","Community Housing Program"]
["1555273100155658 - 42 Street",155527310015,"5658 - 42 Street","LRH","Lloydminster Region Housing Group","Lloydminster I","Lloydminster","T9V1C6","Alberta Social Housing Corporation","Community Housing Program"]
["1555273100155654 - 42 Street",155527310015,"5654 - 42 Street","LRH","Lloydminster Region Housing Group","Lloydminster I","Lloydminster","T9V1C6","Alberta Social Housing Corporation","Community Housing Program"]
["1555273100155650 - 42 Street",155527310015,"5650 - 42 Street","LRH","Lloydminster Region Housing Group","Lloydminster I","Lloydminster","T9V1C6","Alberta Social Housing Corporation","Community Housing Program"]
[{"$f":"CONCATENATE(B2627,C2627)","v":"1555273100155646 - 42 Street"},155527310015,"5646 - 42 Street","LRH","Lloydminster Region Housing Group","Lloydminster I","Lloydminster","T9V1C6","Alberta Social Housing Corporation","Community Housing Program"]
["1555273100155663 - 43 Street",155527310015,"5663 - 43 Street","LRH","Lloydminster Region Housing Group","Lloydminster I","Lloydminster","T9V1C7","Alberta Social Housing Corporation","Community Housing Program"]
["1555273120743202 - 57 Avenue Units 1 & 2",155527312074,"3202 - 57 Avenue Units 1 & 2","LRH","Lloydminster Region Housing Group","Lloydminster II","Lloydminster","T9V2B4","Alberta Social Housing Corporation","Community Housing Program"]
["1555273120743202 - 57 Avenue Units 3 & 4",155527312074,"3202 - 57 Avenue Units 3 & 4","LRH","Lloydminster Region Housing Group","Lloydminster II","Lloydminster","T9V2B4","Alberta Social Housing Corporation","Community Housing Program"]
["1555273120743202 - 57 Avenue Units 5 & 6",155527312074,"3202 - 57 Avenue Units 5 & 6","LRH","Lloydminster Region Housing Group","Lloydminster II","Lloydminster","T9V2B4","Alberta Social Housing Corporation","Community Housing Program"]
["1555273120743202 - 57 Avenue Units 7 & 8",155527312074,"3202 - 57 Avenue Units 7 & 8","LRH","Lloydminster Region Housing Group","Lloydminster II","Lloydminster","T9V2B4","Alberta Social Housing Corporation","Community Housing Program"]
["1555273120743202 - 57 Avenue Units 9 & 10",155527312074,"3202 - 57 Avenue Units 9 & 10","LRH","Lloydminster Region Housing Group","Lloydminster II","Lloydminster","T9V2B4","Alberta Social Housing Corporation","Community Housing Program"]
["1555273120743202 - 57 Avenue Units 11 - 21",155527312074,"3202 - 57 Avenue Units 11 - 21","LRH","Lloydminster Region Housing Group","Lloydminster II","Lloydminster","T9V2B4","Alberta Social Housing Corporation","Community Housing Program"]
["1555273120743202 - 57 Avenue Units 22 - 26",155527312074,"3202 - 57 Avenue Units 22 - 26","LRH","Lloydminster Region Housing Group","Lloydminster II","Lloydminster","T9V2B4","Alberta Social Housing Corporation","Community Housing Program"]
["1555273120743202 - 57 Avenue Units 27 - 33",155527312074,"3202 - 57 Avenue Units 27 - 33","LRH","Lloydminster Region Housing Group","Lloydminster II","Lloydminster","T9V2B4","Alberta Social Housing Corporation","Community Housing Program"]
["1555273120743202 - 57 Avenue Units 34 & 35",155527312074,"3202 - 57 Avenue Units 34 & 35","LRH","Lloydminster Region Housing Group","Lloydminster II","Lloydminster","T9V2B4","Alberta Social Housing Corporation","Community Housing Program"]
["1555273120743202 - 57 Avenue Units 36 & 37",155527312074,"3202 - 57 Avenue Units 36 & 37","LRH","Lloydminster Region Housing Group","Lloydminster II","Lloydminster","T9V2B4","Alberta Social Housing Corporation","Community Housing Program"]
["1555273120743202 - 57 Avenue Units 38 & 39",155527312074,"3202 - 57 Avenue Units 38 & 39","LRH","Lloydminster Region Housing Group","Lloydminster II","Lloydminster","T9V2B4","Alberta Social Housing Corporation","Community Housing Program"]
["1555273120743202 - 57 Avenue Units 40 & 41",155527312074,"3202 - 57 Avenue Units 40 & 41","LRH","Lloydminster Region Housing Group","Lloydminster II","Lloydminster","T9V2B4","Alberta Social Housing Corporation","Community Housing Program"]
["155927222973313 - 3 Street N",155927222973,"313 - 3 Street N","LRH","Lloydminster Region Housing Group","Marwayne - R&N 1","Marwayne","T0B2X0","Alberta Social Housing Corporation","Community Housing Program"]
["155927552221410 2 Street South Units 1 - 8",155927552221,"410 2 Street South Units 1 - 8","LRH","Lloydminster Region Housing Group","Marwayne Valley Manor","Marwayne","T0B2X0","Alberta Social Housing Corporation","Seniors Self Contained Program"]
["1555275522232710 - 56 Avenue",155527552223,"2710 - 56 Avenue","LRH","Lloydminster Region Housing Group","Padua Place","Lloydminster","T9V2C1","Alberta Social Housing Corporation","Seniors Self Contained Program"]
["1555275120295725 51 Street",155527512029,"5725 51 Street","LRH","Lloydminster Region Housing Group","Pioneer Lodge","Lloydminster","T9V3V1","Housing Provider","Seniors Lodge Program"]
["1555275120295722 - 50 Street",155527512029,"5722 - 50 Street","LRH","Lloydminster Region Housing Group","Pioneer Lodge","Lloydminster","T9V0N6","Housing Provider","Seniors Lodge Program"]
["1555275522244004 - 57 Avenue",155527552224,"4004 - 57 Avenue","LRH","Lloydminster Region Housing Group","Southridge Estates","Lloydminster","T9V2C4","Alberta Social Housing Corporation","Seniors Self Contained Program"]
["1542275521324905 - 52 Street",154227552132,"4905 - 52 Street","MIN","M.D. of Minburn Foundation","Birch Lake Villa 1","Innisfree","T0B2G0","Alberta Social Housing Corporation","Seniors Self Contained Program"]
["1542275522274917 - 52 Street",154227552227,"4917 - 52 Street","MIN","M.D. of Minburn Foundation","Birch Lake Villa 2","Innisfree","T0B2G0","Alberta Social Housing Corporation","Seniors Self Contained Program"]
["1586275620065253 - 46 Avenue",158627562006,"5253 - 46 Avenue","MIN","M.D. of Minburn Foundation","Homestead","Vegreville","T9C1P9","Housing Provider","Seniors Lodge Program"]
["1560272229955233 - 46 Street",156027222995,"5233 - 46 Street","MIN","M.D. of Minburn Foundation","Mannville R&N 1","Mannville","T0B2W0","Alberta Social Housing Corporation","Community Housing Program"]
["1560272229955242 - 45 Street",156027222995,"5242 - 45 Street","MIN","M.D. of Minburn Foundation","Mannville R&N 1","Mannville","T0B2W0","Alberta Social Housing Corporation","Community Housing Program"]
["1560272229955234 - 45 Street",156027222995,"5234 - 45 Street","MIN","M.D. of Minburn Foundation","Mannville R&N 1","Mannville","T0B2W0","Alberta Social Housing Corporation","Community Housing Program"]
["1560272232065214 - 45 Street",156027223206,"5214 - 45 Street","MIN","M.D. of Minburn Foundation","Mannville R&N 2","Mannville","T0B2W0","Alberta Social Housing Corporation","Community Housing Program"]
["1560272232064708 - 49 Street",156027223206,"4708 - 49 Street","MIN","M.D. of Minburn Foundation","Mannville R&N 2","Mannville","T0B2W0","Alberta Social Housing Corporation","Community Housing Program"]
["1560275521975011 - 51 Street",156027552197,"5011 - 51 Street","MIN","M.D. of Minburn Foundation","Seniors Manor","Mannville","T0B2W0","Alberta Social Housing Corporation","Seniors Self Contained Program"]
["1560275500765032 - 49 Street",156027550076,"5032 - 49 Street","MIN","M.D. of Minburn Foundation","Seniors Villa","Mannville","T0B2W0","Alberta Social Housing Corporation","Seniors Self Contained Program"]
["1586275120985253 - 46 Avenue",158627512098,"5253 - 46 Avenue","MIN","M.D. of Minburn Foundation","The Homestead","Vegreville","T9C1P9","Housing Provider","Seniors Lodge Program"]
["1503275522582 Avenue & 1 Street E",150327552258,"2 Avenue & 1 Street E","MSP","M.D. of St. Paul Foundation","Ashmont Aspen Grove Apartments","Ashmont","T0A0C0","Alberta Social Housing Corporation","Seniors Self Contained Program"]
["1521275500215327 - 52 Avenue",152127550021,"5327 - 52 Avenue","MSP","M.D. of St. Paul Foundation","Buckingham House","Elk Point","T0A1A0","Alberta Social Housing Corporation","Seniors Self Contained Program"]
["1521275521635210 - 49 Avenue",152127552163,"5210 - 49 Avenue","MSP","M.D. of St. Paul Foundation","Fort George Manor","Elk Point","T0A1A0","Alberta Social Housing Corporation","Seniors Self Contained Program"]
["1576275521564525 - 47 Avenue",157627552156,"4525 - 47 Avenue","MSP","M.D. of St. Paul Foundation","Heritage Homes 2","St. Paul","T0A3A3","Alberta Social Housing Corporation","Seniors Self Contained Program"]
["1576275520244515 - 48 Avenue Unit 1 - 8",157627552024,"4515 - 48 Avenue Unit 1 - 8","MSP","M.D. of St. Paul Foundation","Heritage Homes 1","St. Paul","T0A3A3","Alberta Social Housing Corporation","Seniors Self Contained Program"]
["1576275520244515 - 48 Avenue Unit 9 - 14",157627552024,"4515 - 48 Avenue Unit 9 - 14","MSP","M.D. of St. Paul Foundation","Heritage Homes 1","St. Paul","T0A3A3","Alberta Social Housing Corporation","Seniors Self Contained Program"]
["1576275520244515 - 48 Avenue Unit 15 - 22",157627552024,"4515 - 48 Avenue Unit 15 - 22","MSP","M.D. of St. Paul Foundation","Heritage Homes 1","St. Paul","T0A3A3","Alberta Social Housing Corporation","Seniors Self Contained Program"]
["1576275520244515 - 48 Avenue Unit 23 - 30",157627552024,"4515 - 48 Avenue Unit 23 - 30","MSP","M.D. of St. Paul Foundation","Heritage Homes 1","St. Paul","T0A3A3","Alberta Social Housing Corporation","Seniors Self Contained Program"]
["1521275121055338 - 50 Avenue",152127512105,"5338 - 50 Avenue","MSP","M.D. of St. Paul Foundation","Heritage Lodge","Elk Point","T0A1A0","Alberta Social Housing Corporation","Seniors Lodge Program"]
["158427552285Mallaig",158427552285,"Mallaig","MSP","M.D. of St. Paul Foundation","Mallaig Golden Lodge Homes","Mallaig","T0A2K0","Alberta Social Housing Corporation","Seniors Self Contained Program"]
["157627223216Ashmont",157627223216,"Ashmont","MSP","M.D. of St. Paul Foundation","St. Paul R&N 2","Ashmont","T0A0C0","Alberta Social Housing Corporation","Community Housing Program"]
["1576272232165141 - 58 Avenue",157627223216,"5141 - 58 Avenue","MSP","M.D. of St. Paul Foundation","St. Paul R&N 2","Elk Point","T0A1A0","Alberta Social Housing Corporation","Community Housing Program"]
["1576272232165114 - 54 Street",157627223216,"5114 - 54 Street","MSP","M.D. of St. Paul Foundation","St. Paul R&N 2","Elk Point","T0A1A0","Alberta Social Housing Corporation","Community Housing Program"]
["1576272232155110 - 54 Street",157627223215,"5110 - 54 Street","MSP","M.D. of St. Paul Foundation","St. Paul R&N 3","Elk Point","T0A1A0","Alberta Social Housing Corporation","Community Housing Program"]
["1576275101894522 - 47 Avenue",157627510189,"4522 - 47 Avenue","MSP","M.D. of St. Paul Foundation","Sunnyside Manor","St. Paul","T0A3A3","Alberta Social Housing Corporation","Seniors Lodge Program"]
["225327556127605 Grand Avenue",225327556127,"605 Grand Avenue","MAR","Marquis Foundation","Carman Manor","Carmangay","T0L0N0","Alberta Social Housing Corporation","Seniors Self Contained Program"]
["260627556092131 - 1 Street S",260627556092,"131 - 1 Street S","MAR","Marquis Foundation","Golden Prairie Villa","Lomond","T0L1G0","Alberta Social Housing Corporation","Seniors Self Contained Program"]
["297027516062614 - 1 Street North",297027516062,"614 - 1 Street North","MAR","Marquis Foundation","Peter Dawson Lodge","Vulcan","T0L2B0","Housing Provider","Seniors Lodge Program"]
["297027556153620 - 1 Street N, Units 11 - 14",297027556153,"620 - 1 Street N, Units 11 - 14","MAR","Marquis Foundation","Peter Dawson Villas 2","Vulcan","T0L2B0","Alberta Social Housing Corporation","Seniors Self Contained Program"]
["297027556153620 - 1 Street N, Units 15 - 18",297027556153,"620 - 1 Street N, Units 15 - 18","MAR","Marquis Foundation","Peter Dawson Villas 2","Vulcan","T0L2B0","Alberta Social Housing Corporation","Seniors Self Contained Program"]
["297027556186621 - 1 Street N, Units 20 - 23",297027556186,"621 - 1 Street N, Units 20 - 23","MAR","Marquis Foundation","Peter Dawson Villas 3","Vulcan","T0L2B0","Alberta Social Housing Corporation","Seniors Self Contained Program"]
["297027556186621 - 2 Street N, Units 24 - 25",297027556186,"621 - 2 Street N, Units 24 - 25","MAR","Marquis Foundation","Peter Dawson Villas 3","Vulcan","T0L2B0","Alberta Social Housing Corporation","Seniors Self Contained Program"]
["226827556128120 - 1 Avenue N",226827556128,"120 - 1 Avenue N","MAR","Marquis Foundation","Village Centre Apartments","Champion","T0L0R0","Alberta Social Housing Corporation","Seniors Self Contained Program"]
["297027226010220 Aspen Way",297027226010,"220 Aspen Way","MAR","Marquis Foundation","Vulcan - R&N 1","Vulcan","T0L2B0","Alberta Social Housing Corporation","Community Housing Program"]
["261927556203304 - 2 Street SE",261927556203,"304 - 2 Street SE","MED","Medicine Hat Community Housing Society","Legion Manor","Medicine Hat","T1A0C1","Alberta Social Housing Corporation","Seniors Self Contained Program"]
["261927556002922 - 2 Street SE",261927556002,"922 - 2 Street SE","MED","Medicine Hat Community Housing Society","Luther Manor","Medicine Hat","T1A7X2","Alberta Social Housing Corporation","Seniors Self Contained Program"]
["261927556083355 - 8 Street SE",261927556083,"355 - 8 Street SE","MED","Medicine Hat Community Housing Society","Marantha Villa","Medicine Hat","T1A1L6","Alberta Social Housing Corporation","Seniors Self Contained Program"]
["2619273560061060 Division Avenue NE",261927356006,"1060 Division Avenue NE","MED","Medicine Hat Community Housing Society","Medicine Hat 1","Medicine Hat","T1A5Y5","Alberta Social Housing Corporation","Community Housing Program"]
["261927316126110 Shaw Crescent SE",261927316126,"110 Shaw Crescent SE","MED","Medicine Hat Community Housing Society","Medicine Hat 10","Medicine Hat","T1B3Y5","Alberta Social Housing Corporation","Community Housing Program"]
["261927316126100 Shaw Crescent SE",261927316126,"100 Shaw Crescent SE","MED","Medicine Hat Community Housing Society","Medicine Hat 10","Medicine Hat","T1B3Y5","Alberta Social Housing Corporation","Community Housing Program"]
["2619273161266-16, Calder Road SE",261927316126,"6-16, Calder Road SE","MED","Medicine Hat Community Housing Society","Medicine Hat 10","Medicine Hat","T1B3P1","Alberta Social Housing Corporation","Community Housing Program"]
["26192731612618-30, Calder Road SE",261927316126,"18-30, Calder Road SE","MED","Medicine Hat Community Housing Society","Medicine Hat 10","Medicine Hat","T1B3P1","Alberta Social Housing Corporation","Community Housing Program"]
["261927316613346 - 4 Street NW",261927316613,"346 - 4 Street NW","MED","Medicine Hat Community Housing Society","Medicine Hat 11 (FCLS)","Medicine Hat","T1A6M8","Alberta Social Housing Corporation","Community Housing Program"]
[{"$f":"CONCATENATE(B2691,C2691)","v":"26192731661343 Gray Crescent NW"},261927316613,"43 Gray Crescent NW","MED","Medicine Hat Community Housing Society","Medicine Hat 11 (FCLS)","Medicine Hat","T1A7C8","Alberta Social Housing Corporation","Community Housing Program"]
["261927316626107 Sandford Crescent SE",261927316626,"107 Sandford Crescent SE","MED","Medicine Hat Community Housing Society","Medicine Hat 12 (FCLS)","Medicine Hat","T1B3K1","Alberta Social Housing Corporation","Community Housing Program"]
["261927316659467 - 12 Street NE",261927316659,"467 - 12 Street NE","MED","Medicine Hat Community Housing Society","Medicine Hat 13 (FCLS)","Medicine Hat","T1A5V3","Alberta Social Housing Corporation","Community Housing Program"]
["261927316736Units 1-6, 83 Cuyler Road SE",261927316736,"Units 1-6, 83 Cuyler Road SE","MED","Medicine Hat Community Housing Society","Medicine Hat 18","Medicine Hat","T1B1V4","Alberta Social Housing Corporation","Community Housing Program"]
["261927316736Units 7-11, 83 Cuyler Road SE",261927316736,"Units 7-11, 83 Cuyler Road SE","MED","Medicine Hat Community Housing Society","Medicine Hat 18","Medicine Hat","T1B1V4","Alberta Social Housing Corporation","Community Housing Program"]
["261927356015545 Woodman Avenue SE",261927356015,"545 Woodman Avenue SE","MED","Medicine Hat Community Housing Society","Medicine Hat 2","Medicine Hat","T1A3H3","Housing Provider","Community Housing Program"]
["2619273560151166/1168 Dominion Street SE",261927356015,"1166/1168 Dominion Street SE","MED","Medicine Hat Community Housing Society","Medicine Hat 2","Medicine Hat","T1A1A3","Alberta Social Housing Corporation","Community Housing Program"]
["2619273100271710 - 4 Avenue NE",261927310027,"1710 - 4 Avenue NE","MED","Medicine Hat Community Housing Society","Medicine Hat 2","Medicine Hat","T1C1A5","Alberta Social Housing Corporation","Community Housing Program"]
["2619273100271722 - 4 Avenue NE",261927310027,"1722 - 4 Avenue NE","MED","Medicine Hat Community Housing Society","Medicine Hat 2","Medicine Hat","T1C1A5","Alberta Social Housing Corporation","Community Housing Program"]
["2619273100271732 - 4 Avenue NE",261927310027,"1732 - 4 Avenue NE","MED","Medicine Hat Community Housing Society","Medicine Hat 2","Medicine Hat","T1C1A5","Alberta Social Housing Corporation","Community Housing Program"]
["2619273100271742 - 4 Avenue NE",261927310027,"1742 - 4 Avenue NE","MED","Medicine Hat Community Housing Society","Medicine Hat 2","Medicine Hat","T1C1A5","Alberta Social Housing Corporation","Community Housing Program"]
["261927356018829 - 9 Street SE",261927356018,"829 - 9 Street SE","MED","Medicine Hat Community Housing Society","Medicine Hat 3","Medicine Hat","T1A1P5","Alberta Social Housing Corporation","Community Housing Program"]
["2619273560181240 Queen Street SE",261927356018,"1240 Queen Street SE","MED","Medicine Hat Community Housing Society","Medicine Hat 3","Medicine Hat","T1A1B5","Alberta Social Housing Corporation","Community Housing Program"]
["26192731600259 Cuyler Road SE",261927316002,"59 Cuyler Road SE","MED","Medicine Hat Community Housing Society","Medicine Hat 3","Medicine Hat","T1B1V4","Alberta Social Housing Corporation","Community Housing Program"]
["2619273160022011 - 8 Avenue NE",261927316002,"2011 - 8 Avenue NE","MED","Medicine Hat Community Housing Society","Medicine Hat 3","Medicine Hat","T1C1P1","Alberta Social Housing Corporation","Community Housing Program"]
["2619273160022035 - 8 Avenue NE",261927316002,"2035 - 8 Avenue NE","MED","Medicine Hat Community Housing Society","Medicine Hat 3","Medicine Hat","T1C1P1","Alberta Social Housing Corporation","Community Housing Program"]
["2619273160022047 - 8 Avenue NE",261927316002,"2047 - 8 Avenue NE","MED","Medicine Hat Community Housing Society","Medicine Hat 3","Medicine Hat","T1C1P1","Alberta Social Housing Corporation","Community Housing Program"]
["261927356007589 - 20 Street NE",261927356007,"589 - 20 Street NE","MED","Medicine Hat Community Housing Society","Medicine Hat 4","Medicine Hat","T1C1H3","Alberta Social Housing Corporation","Community Housing Program"]
["26192731601451A Cuyler Road SE",261927316014,"51A Cuyler Road SE","MED","Medicine Hat Community Housing Society","Medicine Hat 4","Medicine Hat","T1B1V4","Alberta Social Housing Corporation","Community Housing Program"]
["26192731601455A Cuyler Road SE",261927316014,"55A Cuyler Road SE","MED","Medicine Hat Community Housing Society","Medicine Hat 4","Medicine Hat","T1B1V4","Alberta Social Housing Corporation","Community Housing Program"]
["26192731601443A Cuyler Road SE",261927316014,"43A Cuyler Road SE","MED","Medicine Hat Community Housing Society","Medicine Hat 4","Medicine Hat","T1B1V4","Alberta Social Housing Corporation","Community Housing Program"]
["26192731601443C Cuyler Road SE",261927316014,"43C Cuyler Road SE","MED","Medicine Hat Community Housing Society","Medicine Hat 4","Medicine Hat","T1B1V4","Alberta Social Housing Corporation","Community Housing Program"]
["26192731601447A Cuyler Road SE",261927316014,"47A Cuyler Road SE","MED","Medicine Hat Community Housing Society","Medicine Hat 4","Medicine Hat","T1B1V4","Alberta Social Housing Corporation","Community Housing Program"]
["261927316075230 Cameron Road SE",261927316075,"230 Cameron Road SE","MED","Medicine Hat Community Housing Society","Medicine Hat 5","Medicine Hat","T1B1P2","Alberta Social Housing Corporation","Community Housing Program"]
["261927316075234 Cameron Road SE",261927316075,"234 Cameron Road SE","MED","Medicine Hat Community Housing Society","Medicine Hat 5","Medicine Hat","T1B1P2","Alberta Social Housing Corporation","Community Housing Program"]
["261927316078870A - 5 Street SE",261927316078,"870A - 5 Street SE","MED","Medicine Hat Community Housing Society","Medicine Hat 6","Medicine Hat","T1A0P1","Alberta Social Housing Corporation","Community Housing Program"]
["26192731607038 South Ridge Drive SE",261927316070,"38 South Ridge Drive SE","MED","Medicine Hat Community Housing Society","Medicine Hat 7","Medicine Hat","T1A0P1","Alberta Social Housing Corporation","Community Housing Program"]
["26192731607044 South Ridge Drive SE",261927316070,"44 South Ridge Drive SE","MED","Medicine Hat Community Housing Society","Medicine Hat 7","Medicine Hat","T1B2N6","Alberta Social Housing Corporation","Community Housing Program"]
["26192731607050 South Ridge Drive SE",261927316070,"50 South Ridge Drive SE","MED","Medicine Hat Community Housing Society","Medicine Hat 7","Medicine Hat","T1B2N6","Alberta Social Housing Corporation","Community Housing Program"]
["261927316070182 South Ridge Drive SE",261927316070,"182 South Ridge Drive SE","MED","Medicine Hat Community Housing Society","Medicine Hat 7","Medicine Hat","T1A0P1","Alberta Social Housing Corporation","Community Housing Program"]
["261927316070200 South Ridge Drive SE",261927316070,"200 South Ridge Drive SE","MED","Medicine Hat Community Housing Society","Medicine Hat 7","Medicine Hat","T1B2E2","Alberta Social Housing Corporation","Community Housing Program"]
["261927316070199 South Ridge Drive SE",261927316070,"199 South Ridge Drive SE","MED","Medicine Hat Community Housing Society","Medicine Hat 7","Medicine Hat","T1B3K8","Alberta Social Housing Corporation","Community Housing Program"]
["261927316070193 South Ridge Drive SE",261927316070,"193 South Ridge Drive SE","MED","Medicine Hat Community Housing Society","Medicine Hat 7","Medicine Hat","T1B3K8","Alberta Social Housing Corporation","Community Housing Program"]
["261927316070187 South Ridge Drive SE",261927316070,"187 South Ridge Drive SE","MED","Medicine Hat Community Housing Society","Medicine Hat 7","Medicine Hat","T1B3K8","Alberta Social Housing Corporation","Community Housing Program"]
["261927316070171 South Ridge Drive SE",261927316070,"171 South Ridge Drive SE","MED","Medicine Hat Community Housing Society","Medicine Hat 7","Medicine Hat","T1B3K8","Alberta Social Housing Corporation","Community Housing Program"]
["26192731607069 Sprague Way SE",261927316070,"69 Sprague Way SE","MED","Medicine Hat Community Housing Society","Medicine Hat 7","Medicine Hat","T1B3M2","Alberta Social Housing Corporation","Community Housing Program"]
["26192731607075 Sprague Way SE",261927316070,"75 Sprague Way SE","MED","Medicine Hat Community Housing Society","Medicine Hat 7","Medicine Hat","T1B3M2","Alberta Social Housing Corporation","Community Housing Program"]
["26192731607081 Sprague Way SE",261927316070,"81 Sprague Way SE","MED","Medicine Hat Community Housing Society","Medicine Hat 7","Medicine Hat","T1B3M2","Alberta Social Housing Corporation","Community Housing Program"]
["26192731607087 Sprague Way SE",261927316070,"87 Sprague Way SE","MED","Medicine Hat Community Housing Society","Medicine Hat 7","Medicine Hat","T1B3M2","Alberta Social Housing Corporation","Community Housing Program"]
["26192731607093 Sprague Way SE",261927316070,"93 Sprague Way SE","MED","Medicine Hat Community Housing Society","Medicine Hat 7","Medicine Hat","T1B3M2","Alberta Social Housing Corporation","Community Housing Program"]
["261927316070101 Sprague Way SE",261927316070,"101 Sprague Way SE","MED","Medicine Hat Community Housing Society","Medicine Hat 7","Medicine Hat","T1B3M2","Alberta Social Housing Corporation","Community Housing Program"]
["26192731608968 - 78 Sandford Crescent SE",261927316089,"68 - 78 Sandford Crescent SE","MED","Medicine Hat Community Housing Society","Medicine Hat 8","Medicine Hat","T1B3M3","Alberta Social Housing Corporation","Community Housing Program"]
["26192731608980 - 98 Sandford Crescent SE",261927316089,"80 - 98 Sandford Crescent SE","MED","Medicine Hat Community Housing Society","Medicine Hat 8","Medicine Hat","T1B3M3","Alberta Social Housing Corporation","Community Housing Program"]
["261927316089100/102 Sandford Crescent SE",261927316089,"100/102 Sandford Crescent SE","MED","Medicine Hat Community Housing Society","Medicine Hat 8","Medicine Hat","T1B3M3","Alberta Social Housing Corporation","Community Housing Program"]
["261927316089104 - 112 Sandford Crescent SE",261927316089,"104 - 112 Sandford Crescent SE","MED","Medicine Hat Community Housing Society","Medicine Hat 8","Medicine Hat","T1B3M3","Alberta Social Housing Corporation","Community Housing Program"]
["261927316089114 - 120 Sandford Crescent SE",261927316089,"114 - 120 Sandford Crescent SE","MED","Medicine Hat Community Housing Society","Medicine Hat 8","Medicine Hat","T1B3M3","Alberta Social Housing Corporation","Community Housing Program"]
["261927316089122 - 130 Sandford Crescent SE",261927316089,"122 - 130 Sandford Crescent SE","MED","Medicine Hat Community Housing Society","Medicine Hat 8","Medicine Hat","T1B3M3","Alberta Social Housing Corporation","Community Housing Program"]
["261927316089132 - 144 Stratton Way SE",261927316089,"132 - 144 Stratton Way SE","MED","Medicine Hat Community Housing Society","Medicine Hat 8","Medicine Hat","T1B3M3","Alberta Social Housing Corporation","Community Housing Program"]
["261927316202102  Stevenson Street",261927316202,"102  Stevenson Street","MED","Medicine Hat Community Housing Society","Medicine Hat 9 (FCLS)","Medicine Hat","T1B3H1","Alberta Social Housing Corporation","Community Housing Program"]
["261927316202901- 1 Street SE",261927316202,"901- 1 Street SE","MED","Medicine Hat Community Housing Society","Medicine Hat 9 (FCLS)","Medicine Hat","T1A3Z5","Alberta Social Housing Corporation","Community Housing Program"]
["26192731620223 Sanford Crescent SE",261927316202,"23 Sanford Crescent SE","MED","Medicine Hat Community Housing Society","Medicine Hat 9 (FCLS)","Medicine Hat","T1B3H1","Alberta Social Housing Corporation","Community Housing Program"]
["26192731620223 Calder Place SE",261927316202,"23 Calder Place SE","MED","Medicine Hat Community Housing Society","Medicine Hat 9 (FCLS)","Medicine Hat","T1B3K2","Alberta Social Housing Corporation","Community Housing Program"]
["26192731620239 Robinson Crescent SE",261927316202,"39 Robinson Crescent SE","MED","Medicine Hat Community Housing Society","Medicine Hat 9 (FCLS)","Medicine Hat","T1B3G2","Alberta Social Housing Corporation","Community Housing Program"]
["261927316202325 Cameron Road SE",261927316202,"325 Cameron Road SE","MED","Medicine Hat Community Housing Society","Medicine Hat 9 (FCLS)","Medicine Hat","T1B2B7","Alberta Social Housing Corporation","Community Housing Program"]
["261927316202235 Sprague Way SE",261927316202,"235 Sprague Way SE","MED","Medicine Hat Community Housing Society","Medicine Hat 9 (FCLS)","Medicine Hat","T1B3L9","Alberta Social Housing Corporation","Community Housing Program"]
["26192731620224 Strong Avenue SE",261927316202,"24 Strong Avenue SE","MED","Medicine Hat Community Housing Society","Medicine Hat 9 (FCLS)","Medicine Hat","T1B3L1","Alberta Social Housing Corporation","Community Housing Program"]
["26192731620251 Rae Court SE",261927316202,"51 Rae Court SE","MED","Medicine Hat Community Housing Society","Medicine Hat 9 (FCLS)","Medicine Hat","T1B3B4","Alberta Social Housing Corporation","Community Housing Program"]
["26192731620241 Strong Avenue SE",261927316202,"41 Strong Avenue SE","MED","Medicine Hat Community Housing Society","Medicine Hat 9 (FCLS)","Medicine Hat","T1B3E8","Alberta Social Housing Corporation","Community Housing Program"]
["261927556042940 - 2 Street SE",261927556042,"940 - 2 Street SE","MED","Medicine Hat Community Housing Society","Parkside Manor","Medicine Hat","T1A8A8","Alberta Social Housing Corporation","Seniors Self Contained Program"]
["261927556140316 Primrose Drive SE",261927556140,"316 Primrose Drive SE","MED","Medicine Hat Community Housing Society","Primrose Villa","Medicine Hat","T1B3S9","Alberta Social Housing Corporation","Seniors Self Contained Program"]
["277827556080205 Main Street Units 1 - 12",277827556080,"205 Main Street Units 1 - 12","MED","Medicine Hat Community Housing Society","Redcliff Memorial Manor","Redcliff","T0J2P0","Alberta Social Housing Corporation","Seniors Self Contained Program"]
["26192755616440 Cairns Way SE",261927556164,"40 Cairns Way SE","MED","Medicine Hat Community Housing Society","Southview Manor","Medicine Hat","T1B1M4","Alberta Social Housing Corporation","Seniors Self Contained Program"]
["261927316771341 3 Street SE",261927316771,"341 3 Street SE","MED","Medicine Hat Community Housing Society","Toronto Street Tower 1","Medicine Hat","T1A 0G6","Alberta Social Housing Corporation","None"]
["261927316772335 - 3 Street SE",261927316772,"335 - 3 Street SE","MED","Medicine Hat Community Housing Society","Toronto Street Tower 2","Medicine Hat","T1A 0G6","Alberta Social Housing Corporation","None"]
[{"$f":"CONCATENATE(B2755,C2755)","v":"1189275520974616 - 52 Avenue"},118927552097,"4616 - 52 Avenue","MER","Meridian Housing Foundation","Alberta Rose Manor","Stony Plain","T7Z1N9","Alberta Social Housing Corporation","Seniors Self Contained Program"]
["1189275521994612 - 52 Avenue",118927552199,"4612 - 52 Avenue","MER","Meridian Housing Foundation","Diamond Jubilee Manor","Stony Plain","T7Z1N8","Alberta Social Housing Corporation","Seniors Self Contained Program"]
["30000000106617 Folkstone Place",300000001066,"17 Folkstone Place","MER","Meridian Housing Foundation","Folkstone Manor","Stony Plain","T7Z 0N3","Housing Provider","None"]
["1193275522645206 - 50 Street",119327552264,"5206 - 50 Street","MER","Meridian Housing Foundation","Foster Manor","Wabamun","T0E2K0","Alberta Social Housing Corporation","Seniors Self Contained Program"]
["1189275523315007 - 52 Avenue",118927552331,"5007 - 52 Avenue","MER","Meridian Housing Foundation","Meridian Pioneer Manor","Stony Plain","T7Z1P6","Alberta Social Housing Corporation","Seniors Self Contained Program"]
["3000000010675016 – 52 Avenue",300000001067,"5016 – 52 Avenue","MER","Meridian Housing Foundation","Park View Manor","Parkland County",null,"Housing Provider","None"]
["118227552109420 Main Street",118227552109,"420 Main Street","MER","Meridian Housing Foundation","Spruce Haven Manor","Spruce Grove","T7X2K8","Alberta Social Housing Corporation","Seniors Self Contained Program"]
["1189275121125303 - 47 Street",118927512112,"5303 - 47 Street","MER","Meridian Housing Foundation","Whispering Waters Manor","Stony Plain","T7Z1P1","Housing Provider","Seniors Lodge Program"]
["3000000010379702 99 Ave",300000001037,"9702 99 Ave","MNAL","Metis Nation of Alberta Local 1990","Elder's Caring Shelter","Grande Prairie","T8V 0R2","Housing Provider","Specialized Housing"]
["8888888803101-6 9819 99 Avenue N",888888880310,"1-6 9819 99 Avenue N","MUHC","Metis Urban Housing Corporation","MUHC - Fort Mcmurray-Lac La Biche - 048","Lac La Biche","T0A2C0","Housing Provider","Specialized Housing"]
["8888888803101-6 9819 99 Avenue S",888888880310,"1-6 9819 99 Avenue S","MUHC","Metis Urban Housing Corporation","MUHC - Fort Mcmurray-Lac La Biche - 048","Lac La Biche","T0A2C0","Housing Provider","Specialized Housing"]
["888888880313103, 112, 211, 212, 302, 404 610 Signal Road",888888880313,"103, 112, 211, 212, 302, 404 610 Signal Road","MUHC","Metis Urban Housing Corporation","MUHC - Fort Mcmurray-Lac La Biche - 051","Fort McMurray","T9H4W5","Housing Provider","Specialized Housing"]
["8888888802861-10 2012 2 Avenue NW",888888880286,"1-10 2012 2 Avenue NW","MUHC","Metis Urban Housing Corporation","MUHC - Calgary-Mountain View - 033","Calgary","T2N0G5","Housing Provider","Specialized Housing"]
["999999999913",999999999913,null,"MUHC","Metis Urban Housing Corporation","Metis Urban Housing","Edmonton",null,"Other","Specialized Housing"]
["8888888802035419 22 AVENUE",888888880203,"5419 22 AVENUE","MUHC","Metis Urban Housing Corporation","MUHC - Edmonton-Mill Woods - 006","Edmonton","T6L4V1","Housing Provider","Specialized Housing"]
["8888888802034424 32 AVENUE",888888880203,"4424 32 AVENUE","MUHC","Metis Urban Housing Corporation","MUHC - Edmonton-Mill Woods - 006","Edmonton","T6L4W7","Housing Provider","Specialized Housing"]
["8888888802023612 42 AVENUE",888888880202,"3612 42 AVENUE","MUHC","Metis Urban Housing Corporation","MUHC - Edmonton-Meadows - 006","Edmonton","T6L5C8","Housing Provider","Specialized Housing"]
["88888888020114714 34 ST",888888880201,"14714 34 ST","MUHC","Metis Urban Housing Corporation","MUHC - Edmonton-Manning - 006","Edmonton","T5Y2K9","Housing Provider","Specialized Housing"]
["8888888802034812 30 AVE",888888880203,"4812 30 AVE","MUHC","Metis Urban Housing Corporation","MUHC - Edmonton-Mill Woods - 006","Edmonton","T6L4R5","Housing Provider","Specialized Housing"]
["8888888802024507 37B AVE",888888880202,"4507 37B AVE","MUHC","Metis Urban Housing Corporation","MUHC - Edmonton-Meadows - 006","Edmonton","T6L3S8","Housing Provider","Specialized Housing"]
["8888888802034712 33A AVE",888888880203,"4712 33A AVE","MUHC","Metis Urban Housing Corporation","MUHC - Edmonton-Mill Woods - 006","Edmonton","T6L4S1","Housing Provider","Specialized Housing"]
["8888888802024205 35 ST",888888880202,"4205 35 ST","MUHC","Metis Urban Housing Corporation","MUHC - Edmonton-Meadows - 006","Edmonton","T6L5A3","Housing Provider","Specialized Housing"]
["8888888802023503 45 ST",888888880202,"3503 45 ST","MUHC","Metis Urban Housing Corporation","MUHC - Edmonton-Meadows - 006","Edmonton","T6L3R7","Housing Provider","Specialized Housing"]
["8888888802034443 33A AVE",888888880203,"4443 33A AVE","MUHC","Metis Urban Housing Corporation","MUHC - Edmonton-Mill Woods - 006","Edmonton","T6L4X2","Housing Provider","Specialized Housing"]
["88888888020417907 92A ST",888888880204,"17907 92A ST","MUHC","Metis Urban Housing Corporation","MUHC - Edmonton-Castle Downs - 007","Edmonton","T5Z2J9","Housing Provider","Specialized Housing"]
["8888888802064332 37 ST",888888880206,"4332 37 ST","MUHC","Metis Urban Housing Corporation","MUHC - Edmonton-Meadows - 007","Edmonton","T6L4J7","Housing Provider","Specialized Housing"]
["88888888020816122 108 AVE",888888880208,"16122 108 AVE","MUHC","Metis Urban Housing Corporation","MUHC - Edmonton-Riverview - 007","Edmonton","T5P4E7","Housing Provider","Specialized Housing"]
["888888880206149 KINISKI CRESC",888888880206,"149 KINISKI CRESC","MUHC","Metis Urban Housing Corporation","MUHC - Edmonton-Meadows - 007","Edmonton","T6L5E2","Housing Provider","Specialized Housing"]
["8888888802064807 37 AVE",888888880206,"4807 37 AVE","MUHC","Metis Urban Housing Corporation","MUHC - Edmonton-Meadows - 007","Edmonton","T6L3V2","Housing Provider","Specialized Housing"]
["8888888802074324 37 ST",888888880207,"4324 37 ST","MUHC","Metis Urban Housing Corporation","MUHC - Edmonton-Mill Woods - 007","Edmonton","T6L5J4","Housing Provider","Specialized Housing"]
["8888888802074580 32 AVE",888888880207,"4580 32 AVE","MUHC","Metis Urban Housing Corporation","MUHC - Edmonton-Mill Woods - 007","Edmonton","T6L4X5","Housing Provider","Specialized Housing"]
["8888888802064204 37 ST",888888880206,"4204 37 ST","MUHC","Metis Urban Housing Corporation","MUHC - Edmonton-Meadows - 007","Edmonton","T6L4J7","Housing Provider","Specialized Housing"]
["8888888802063537 46 ST",888888880206,"3537 46 ST","MUHC","Metis Urban Housing Corporation","MUHC - Edmonton-Meadows - 007","Edmonton","T6L5C6","Housing Provider","Specialized Housing"]
["88888888020514545 26 ST",888888880205,"14545 26 ST","MUHC","Metis Urban Housing Corporation","MUHC - Edmonton-Manning - 007","Edmonton","T5Y1W6","Housing Provider","Specialized Housing"]
["888888880209447 KIRKNESS ROAD",888888880209,"447 KIRKNESS ROAD","MUHC","Metis Urban Housing Corporation","MUHC - Edmonton-Manning - 008","Edmonton","T5Y2J1","Housing Provider","Specialized Housing"]
["8888888802092309 151 AVENUE",888888880209,"2309 151 AVENUE","MUHC","Metis Urban Housing Corporation","MUHC - Edmonton-Manning - 008","Edmonton","T5Y2C8","Housing Provider","Specialized Housing"]
["8888888802114507 32A AVENUE",888888880211,"4507 32A AVENUE","MUHC","Metis Urban Housing Corporation","MUHC - Edmonton-Mill Woods - 008","Edmonton","T6L4K7","Housing Provider","Specialized Housing"]
["8888888802114408 32 AVENUE",888888880211,"4408 32 AVENUE","MUHC","Metis Urban Housing Corporation","MUHC - Edmonton-Mill Woods - 008","Edmonton","T6L4W7","Housing Provider","Specialized Housing"]
["8888888802114564 32 AVENUE",888888880211,"4564 32 AVENUE","MUHC","Metis Urban Housing Corporation","MUHC - Edmonton-Mill Woods - 008","Edmonton","T6L4X5","Housing Provider","Specialized Housing"]
["8888888802114552 33 A AVENUE",888888880211,"4552 33 A AVENUE","MUHC","Metis Urban Housing Corporation","MUHC - Edmonton-Mill Woods - 008","Edmonton","T6L4X3","Housing Provider","Specialized Housing"]
["8888888802105203 22 AVENUE",888888880210,"5203 22 AVENUE","MUHC","Metis Urban Housing Corporation","MUHC - Edmonton-Meadows - 008","Edmonton","T6L4J7","Housing Provider","Specialized Housing"]
["8888888802104444 33 A AVENUE",888888880210,"4444 33 A AVENUE","MUHC","Metis Urban Housing Corporation","MUHC - Edmonton-Meadows - 008","Edmonton","T6L4J6","Housing Provider","Specialized Housing"]
["8888888802113308 47 A STREET",888888880211,"3308 47 A STREET","MUHC","Metis Urban Housing Corporation","MUHC - Edmonton-Mill Woods - 008","Edmonton","T6L4X3","Housing Provider","Specialized Housing"]
["8888888802113208 45 A STREET",888888880211,"3208 45 A STREET","MUHC","Metis Urban Housing Corporation","MUHC - Edmonton-Mill Woods - 008","Edmonton","T6L4X6","Housing Provider","Specialized Housing"]
["88888888021412720, 12722 122 Street NW",888888880214,"12720, 12722 122 Street NW","MUHC","Metis Urban Housing Corporation","MUHC - Edmonton-West Henday - 010","Edmonton","T5L0E4","Housing Provider","Specialized Housing"]
["88888888021311112, 11114 134 Avenue NW",888888880213,"11112, 11114 134 Avenue NW","MUHC","Metis Urban Housing Corporation","MUHC - Edmonton-North West - 010","Edmonton","T5E1K4","Housing Provider","Specialized Housing"]
["8888888802124217 35 ST",888888880212,"4217 35 ST","MUHC","Metis Urban Housing Corporation","MUHC - Edmonton-Meadows - 010","Edmonton","T6L5A3","Housing Provider","Specialized Housing"]
["8888888802124318 35 ST",888888880212,"4318 35 ST","MUHC","Metis Urban Housing Corporation","MUHC - Edmonton-Meadows - 010","Edmonton","T6L5J6","Housing Provider","Specialized Housing"]
["8888888802123706 43 AVE",888888880212,"3706 43 AVE","MUHC","Metis Urban Housing Corporation","MUHC - Edmonton-Meadows - 010","Edmonton","T6L5A5","Housing Provider","Specialized Housing"]
["8888888802124119 41 AVE",888888880212,"4119 41 AVE","MUHC","Metis Urban Housing Corporation","MUHC - Edmonton-Meadows - 010","Edmonton","T6L5M3","Housing Provider","Specialized Housing"]
["8888888802124125 41 AVE",888888880212,"4125 41 AVE","MUHC","Metis Urban Housing Corporation","MUHC - Edmonton-Meadows - 010","Edmonton","T6L5M3","Housing Provider","Specialized Housing"]
["8888888802123430 48 ST",888888880212,"3430 48 ST","MUHC","Metis Urban Housing Corporation","MUHC - Edmonton-Meadows - 010","Edmonton","T6L3R3","Housing Provider","Specialized Housing"]
["8888888802123428 48 ST",888888880212,"3428 48 ST","MUHC","Metis Urban Housing Corporation","MUHC - Edmonton-Meadows - 010","Edmonton","T6L3R3","Housing Provider","Specialized Housing"]
["8888888802122524 42 ST",888888880212,"2524 42 ST","MUHC","Metis Urban Housing Corporation","MUHC - Edmonton-Meadows - 010","Edmonton","T6L4M8","Housing Provider","Specialized Housing"]
["88888888021511815, 11817 40 Street NW",888888880215,"11815, 11817 40 Street NW","MUHC","Metis Urban Housing Corporation","MUHC - Edmonton-Beverly-Clareview - 012","Edmonton","T5W2K7","Housing Provider","Specialized Housing"]
["88888888022012503, 12505 128 Avenue NW",888888880220,"12503, 12505 128 Avenue NW","MUHC","Metis Urban Housing Corporation","MUHC - Edmonton-West Henday - 012","Edmonton","T5L4R9","Housing Provider","Specialized Housing"]
["88888888021716312, 16314 88 Avenue NW",888888880217,"16312, 16314 88 Avenue NW","MUHC","Metis Urban Housing Corporation","MUHC - Edmonton-Mcclung - 012","Edmonton","T5R4M7","Housing Provider","Specialized Housing"]
["88888888021617044 98 Street NW",888888880216,"17044 98 Street NW","MUHC","Metis Urban Housing Corporation","MUHC - Edmonton-Castle Downs - 012","Edmonton","T5X3G6","Housing Provider","Specialized Housing"]
["88888888021912515 137 Ave NW",888888880219,"12515 137 Ave NW","MUHC","Metis Urban Housing Corporation","MUHC - Edmonton-North West - 012","Edmonton","T5L4C2","Housing Provider","Specialized Housing"]
["8888888802152243 141 Ave NW",888888880215,"2243 141 Ave NW","MUHC","Metis Urban Housing Corporation","MUHC - Edmonton-Beverly-Clareview - 012","Edmonton","T5Y1C4","Housing Provider","Specialized Housing"]
["8888888802184920 36 Ave NW",888888880218,"4920 36 Ave NW","MUHC","Metis Urban Housing Corporation","MUHC - Edmonton-Meadows - 012","Edmonton","T6L3S5","Housing Provider","Specialized Housing"]
["8888888802183531 49A Street NW",888888880218,"3531 49A Street NW","MUHC","Metis Urban Housing Corporation","MUHC - Edmonton-Meadows - 012","Edmonton","T6L3V8","Housing Provider","Specialized Housing"]
["8888888802255003, 5005 112 Avenue NW",888888880225,"5003, 5005 112 Avenue NW","MUHC","Metis Urban Housing Corporation","MUHC - Edmonton-Highlands-Norwood - 016","Edmonton","T5W0N3","Housing Provider","Specialized Housing"]
["88888888022311142, 11144 122 Street NW",888888880223,"11142, 11144 122 Street NW","MUHC","Metis Urban Housing Corporation","MUHC - Edmonton-Glenora - 016","Edmonton","T5M0B4","Housing Provider","Specialized Housing"]
[{"$f":"CONCATENATE(B2819,C2819)","v":"88888888022212704, 12706 76 Street NW"},888888880222,"12704, 12706 76 Street NW","MUHC","Metis Urban Housing Corporation","MUHC - Edmonton-Decore - 016","Edmonton","T5C1A9","Housing Provider","Specialized Housing"]
["88888888022110036, 10038 173 Avenue NW",888888880221,"10036, 10038 173 Avenue NW","MUHC","Metis Urban Housing Corporation","MUHC - Edmonton-Castle Downs - 016","Edmonton","T5X3X9","Housing Provider","Specialized Housing"]
["88888888022410207, 10209 42 Street NW",888888880224,"10207, 10209 42 Street NW","MUHC","Metis Urban Housing Corporation","MUHC - Edmonton-Gold Bar - 016","Edmonton","T6A1T3","Housing Provider","Specialized Housing"]
["88888888022612711, 12715 123A Street NW",888888880226,"12711, 12715 123A Street NW","MUHC","Metis Urban Housing Corporation","MUHC - Edmonton-West Henday - 016","Edmonton","T5L0K6","Housing Provider","Specialized Housing"]
["88888888022310417, 10419 153 Street NW",888888880223,"10417, 10419 153 Street NW","MUHC","Metis Urban Housing Corporation","MUHC - Edmonton-Glenora - 016","Edmonton","T5P2B9","Housing Provider","Specialized Housing"]
["88888888022311835, 11837 125 Street NW",888888880223,"11835, 11837 125 Street NW","MUHC","Metis Urban Housing Corporation","MUHC - Edmonton-Glenora - 016","Edmonton","T5L0S1","Housing Provider","Specialized Housing"]
["88888888022315415, 15417 104 Avenue NW",888888880223,"15415, 15417 104 Avenue NW","MUHC","Metis Urban Housing Corporation","MUHC - Edmonton-Glenora - 016","Edmonton","T5P4J4","Housing Provider","Specialized Housing"]
["88888888022212838, 12840 68 Street NW",888888880222,"12838, 12840 68 Street NW","MUHC","Metis Urban Housing Corporation","MUHC - Edmonton-Decore - 016","Edmonton","T5C0E7","Housing Provider","Specialized Housing"]
["88888888023015003 103 AVE",888888880230,"15003 103 AVE","MUHC","Metis Urban Housing Corporation","MUHC - Edmonton-Riverview - 019","Edmonton","T5P1N3","Housing Provider","Specialized Housing"]
["88888888022810244 150 ST",888888880228,"10244 150 ST","MUHC","Metis Urban Housing Corporation","MUHC - Edmonton-Glenora - 019","Edmonton","T5P1P3","Housing Provider","Specialized Housing"]
["88888888023112972, 12974 117 Street NW",888888880231,"12972, 12974 117 Street NW","MUHC","Metis Urban Housing Corporation","MUHC - Edmonton-West Henday - 019","Edmonton","T5E5J7","Housing Provider","Specialized Housing"]
["88888888022813604, 13606 Woodcroft Avenue NW",888888880228,"13604, 13606 Woodcroft Avenue NW","MUHC","Metis Urban Housing Corporation","MUHC - Edmonton-Glenora - 019","Edmonton","T5M3M1","Housing Provider","Specialized Housing"]
["88888888022811428, 11430 125 Street NW",888888880228,"11428, 11430 125 Street NW","MUHC","Metis Urban Housing Corporation","MUHC - Edmonton-Glenora - 019","Edmonton","T5M0M9","Housing Provider","Specialized Housing"]
["88888888022912215, 12217 85 Street NW",888888880229,"12215, 12217 85 Street NW","MUHC","Metis Urban Housing Corporation","MUHC - Edmonton-Highlands-Norwood - 019","Edmonton","T5B3G8","Housing Provider","Specialized Housing"]
["88888888022712919, 12921 82 Street NW",888888880227,"12919, 12921 82 Street NW","MUHC","Metis Urban Housing Corporation","MUHC - Edmonton-Decore - 019","Edmonton","T5E2T3","Housing Provider","Specialized Housing"]
["88888888022811102, 11104 116 Street NW",888888880228,"11102, 11104 116 Street NW","MUHC","Metis Urban Housing Corporation","MUHC - Edmonton-Glenora - 019","Edmonton","T5G2V6","Housing Provider","Specialized Housing"]
["88888888023311240 96 ST",888888880233,"11240 96 ST","MUHC","Metis Urban Housing Corporation","MUHC - Edmonton-Highlands-Norwood - 020","Edmonton","T5G1S9","Housing Provider","Specialized Housing"]
["88888888023512928 104 ST",888888880235,"12928 104 ST","MUHC","Metis Urban Housing Corporation","MUHC - Edmonton-North West - 020","Edmonton","T5E4N9","Housing Provider","Specialized Housing"]
["88888888023512848 108 ST",888888880235,"12848 108 ST","MUHC","Metis Urban Housing Corporation","MUHC - Edmonton-North West - 020","Edmonton","T5E4W9","Housing Provider","Specialized Housing"]
["88888888023612723, 12725 125 Street NW",888888880236,"12723, 12725 125 Street NW","MUHC","Metis Urban Housing Corporation","MUHC - Edmonton-West Henday - 020","Edmonton","T5L0T8","Housing Provider","Specialized Housing"]
["88888888023613908 135A ST",888888880236,"13908 135A ST","MUHC","Metis Urban Housing Corporation","MUHC - Edmonton-West Henday - 020","Edmonton","T5L4A2","Housing Provider","Specialized Housing"]
["88888888023414219, 14223 63 Street NW",888888880234,"14219, 14223 63 Street NW","MUHC","Metis Urban Housing Corporation","MUHC - Edmonton-Manning - 020","Edmonton","T5A1R6","Housing Provider","Specialized Housing"]
["88888888023312048, 12050 50 Street NW",888888880233,"12048, 12050 50 Street NW","MUHC","Metis Urban Housing Corporation","MUHC - Edmonton-Highlands-Norwood - 020","Edmonton","T5W3C4","Housing Provider","Specialized Housing"]
["88888888023212038 37 ST",888888880232,"12038 37 ST","MUHC","Metis Urban Housing Corporation","MUHC - Edmonton-Beverly-Clareview - 020","Edmonton","T5W2C3","Housing Provider","Specialized Housing"]
["88888888023910416 A&B, 10418 A&B 67 Avenue NW",888888880239,"10416 A&B, 10418 A&B 67 Avenue NW","MUHC","Metis Urban Housing Corporation","MUHC - Edmonton-Strathcona - 021","Edmonton","T6H4Y2","Housing Provider","Specialized Housing"]
["888888880238101, 102, 201, 202, 301, 302 1408 62 Street NW",888888880238,"101, 102, 201, 202, 301, 302 1408 62 Street NW","MUHC","Metis Urban Housing Corporation","MUHC - Edmonton-Mill Woods - 021","Edmonton","T6L1S8","Housing Provider","Specialized Housing"]
["88888888023710310, 10310A, 10312, 10312A 156 Street NW",888888880237,"10310, 10310A, 10312, 10312A 156 Street NW","MUHC","Metis Urban Housing Corporation","MUHC - Edmonton-Glenora - 021","Edmonton","T5P2R3","Housing Provider","Specialized Housing"]
["888888880237101, 102, 201, 202, 301, 302 15515 104 Avenue NW",888888880237,"101, 102, 201, 202, 301, 302 15515 104 Avenue NW","MUHC","Metis Urban Housing Corporation","MUHC - Edmonton-Glenora - 021","Edmonton","T5P0S1","Housing Provider","Specialized Housing"]
["8888888802401-4 11830 82 Street NW",888888880240,"1-4 11830 82 Street NW","MUHC","Metis Urban Housing Corporation","MUHC - Edmonton-Highlands-Norwood - 022","Edmonton","T5B2W2","Housing Provider","Specialized Housing"]
["88888888024112731, 12733 124 Street NW",888888880241,"12731, 12733 124 Street NW","MUHC","Metis Urban Housing Corporation","MUHC - Edmonton-West Henday - 022","Edmonton","T5L0P2","Housing Provider","Specialized Housing"]
["888888880240101, 102, 201, 202, 301, 302 8120 122 Avenue NW",888888880240,"101, 102, 201, 202, 301, 302 8120 122 Avenue NW","MUHC","Metis Urban Housing Corporation","MUHC - Edmonton-Highlands-Norwood - 022","Edmonton","T5B4L5","Housing Provider","Specialized Housing"]
["88888888024632 ABERFIELD WAY NE",888888880246,"32 ABERFIELD WAY NE","MUHC","Metis Urban Housing Corporation","MUHC - Calgary-East - 023","Calgary","T2A6M5","Housing Provider","Specialized Housing"]
["8888888802483620-39 ST NE",888888880248,"3620-39 ST NE","MUHC","Metis Urban Housing Corporation","MUHC - Calgary-Falconridge - 023","Calgary","T1Y5H6","Housing Provider","Specialized Housing"]
["88888888024819 WHITAKER BAY NE",888888880248,"19 WHITAKER BAY NE","MUHC","Metis Urban Housing Corporation","MUHC - Calgary-Falconridge - 023","Calgary","T1Y5H7","Housing Provider","Specialized Housing"]
["8888888802454323 MARBANK DR NE",888888880245,"4323 MARBANK DR NE","MUHC","Metis Urban Housing Corporation","MUHC - Calgary-Cross - 023","Calgary","T2A3H8","Housing Provider","Specialized Housing"]
["888888880246743 ABOYNE NE",888888880246,"743 ABOYNE NE","MUHC","Metis Urban Housing Corporation","MUHC - Calgary-East - 023","Calgary","T2A5Z3","Housing Provider","Specialized Housing"]
["88888888025060 ABINGDON CR NE",888888880250,"60 ABINGDON CR NE","MUHC","Metis Urban Housing Corporation","MUHC - Calgary-Peigan - 023","Calgary","T2B0K5","Housing Provider","Specialized Housing"]
["88888888024694 ABALONE CR NE",888888880246,"94 ABALONE CR NE","MUHC","Metis Urban Housing Corporation","MUHC - Calgary-East - 023","Calgary","T2A6X8","Housing Provider","Specialized Housing"]
["888888880248363 FALSHIRE WAY NE",888888880248,"363 FALSHIRE WAY NE","MUHC","Metis Urban Housing Corporation","MUHC - Calgary-Falconridge - 023","Calgary","T3J1T8","Housing Provider","Specialized Housing"]
["888888880248120 FALWOOD CR NE",888888880248,"120 FALWOOD CR NE","MUHC","Metis Urban Housing Corporation","MUHC - Calgary-Falconridge - 023","Calgary","T3J1E3","Housing Provider","Specialized Housing"]
["888888880245247 PINEMILL MEWS NE",888888880245,"247 PINEMILL MEWS NE","MUHC","Metis Urban Housing Corporation","MUHC - Calgary-Cross - 023","Calgary","T1Y4R2","Housing Provider","Specialized Housing"]
["888888880246723 ABOYNEWAY NE",888888880246,"723 ABOYNEWAY NE","MUHC","Metis Urban Housing Corporation","MUHC - Calgary-East - 023","Calgary","T2A5Z3","Housing Provider","Specialized Housing"]
["88888888024351 HUNTWALL WAY NE",888888880243,"51 HUNTWALL WAY NE","MUHC","Metis Urban Housing Corporation","MUHC - Calgary-Beddington - 023","Calgary","T2K5T1","Housing Provider","Specialized Housing"]
["88888888024952 WHITWORTH WAY NE",888888880249,"52 WHITWORTH WAY NE","MUHC","Metis Urban Housing Corporation","MUHC - Calgary-Klein - 023","Calgary","T2K1B8","Housing Provider","Specialized Housing"]
["8888888802443808-62 ST NW",888888880244,"3808-62 ST NW","MUHC","Metis Urban Housing Corporation","MUHC - Calgary-Bow - 023","Calgary","T3B5E2","Housing Provider","Specialized Housing"]
["888888880243215 SANDSTONE RD NW",888888880243,"215 SANDSTONE RD NW","MUHC","Metis Urban Housing Corporation","MUHC - Calgary-Beddington - 023","Calgary","T3K3C4","Housing Provider","Specialized Housing"]
["8888888802508011-24 ST SE",888888880250,"8011-24 ST SE","MUHC","Metis Urban Housing Corporation","MUHC - Calgary-Peigan - 023","Calgary","T2C0Z4","Housing Provider","Specialized Housing"]
["8888888802421726-50 ST SE",888888880242,"1726-50 ST SE","MUHC","Metis Urban Housing Corporation","MUHC - Calgary-Acadia - 023","Calgary","T2G2B5","Housing Provider","Specialized Housing"]
["888888880246120 PENSACOLA CL SE",888888880246,"120 PENSACOLA CL SE","MUHC","Metis Urban Housing Corporation","MUHC - Calgary-East - 023","Calgary","T2A2K4","Housing Provider","Specialized Housing"]
["888888880250135 DOVERGLEN CR SE",888888880250,"135 DOVERGLEN CR SE","MUHC","Metis Urban Housing Corporation","MUHC - Calgary-Peigan - 023","Calgary","T2B2S2","Housing Provider","Specialized Housing"]
["8888888802507429-21A ST SE",888888880250,"7429-21A ST SE","MUHC","Metis Urban Housing Corporation","MUHC - Calgary-Peigan - 023","Calgary","T2C0W1","Housing Provider","Specialized Housing"]
["888888880250308 OLYMPIA CR SE",888888880250,"308 OLYMPIA CR SE","MUHC","Metis Urban Housing Corporation","MUHC - Calgary-Peigan - 023","Calgary","T2C1G7","Housing Provider","Specialized Housing"]
["8888888802501005 OLYMPIA DR SE",888888880250,"1005 OLYMPIA DR SE","MUHC","Metis Urban Housing Corporation","MUHC - Calgary-Peigan - 023","Calgary","T2C1H6","Housing Provider","Specialized Housing"]
["8888888802501019 RIVERBEND DR SE",888888880250,"1019 RIVERBEND DR SE","MUHC","Metis Urban Housing Corporation","MUHC - Calgary-Peigan - 023","Calgary","T2C3B4","Housing Provider","Specialized Housing"]
["8888888802465438 VALENTINE CR SE",888888880246,"5438 VALENTINE CR SE","MUHC","Metis Urban Housing Corporation","MUHC - Calgary-East - 023","Calgary","T2A2K9","Housing Provider","Specialized Housing"]
["88888888024848 TEMPLEBY WAY NE",888888880248,"48 TEMPLEBY WAY NE","MUHC","Metis Urban Housing Corporation","MUHC - Calgary-Falconridge - 023","Calgary","T1Y5N8","Housing Provider","Specialized Housing"]
["8888888802501510 OLYMPIA DR SE",888888880250,"1510 OLYMPIA DR SE","MUHC","Metis Urban Housing Corporation","MUHC - Calgary-Peigan - 023","Calgary","T2C1H5","Housing Provider","Specialized Housing"]
["888888880250139 DOVERGLEN CR SE",888888880250,"139 DOVERGLEN CR SE","MUHC","Metis Urban Housing Corporation","MUHC - Calgary-Peigan - 023","Calgary","T2B2S2","Housing Provider","Specialized Housing"]
["888888880246172 DOVERMEADOW CL SE",888888880246,"172 DOVERMEADOW CL SE","MUHC","Metis Urban Housing Corporation","MUHC - Calgary-East - 023","Calgary","T2B2E3","Housing Provider","Specialized Housing"]
["888888880250107 DOVERGLEN PL SE",888888880250,"107 DOVERGLEN PL SE","MUHC","Metis Urban Housing Corporation","MUHC - Calgary-Peigan - 023","Calgary","T2B2S7","Housing Provider","Specialized Housing"]
["888888880246131 ERINRIDGE RD SE",888888880246,"131 ERINRIDGE RD SE","MUHC","Metis Urban Housing Corporation","MUHC - Calgary-East - 023","Calgary","T2B2W2","Housing Provider","Specialized Housing"]
["88888888024646 DOVERCLIFFE CL SE",888888880246,"46 DOVERCLIFFE CL SE","MUHC","Metis Urban Housing Corporation","MUHC - Calgary-East - 023","Calgary","T2B1W3","Housing Provider","Specialized Housing"]
["888888880247629-50 AVE SW",888888880247,"629-50 AVE SW","MUHC","Metis Urban Housing Corporation","MUHC - Calgary-Elbow - 023","Calgary","T2S1H6","Housing Provider","Specialized Housing"]
["8888888802474016-18 ST SW",888888880247,"4016-18 ST SW","MUHC","Metis Urban Housing Corporation","MUHC - Calgary-Elbow - 023","Calgary","T2T4V6","Housing Provider","Specialized Housing"]
[{"$f":"CONCATENATE(B2883,C2883)","v":"8888888802573413 13A AVE S.E."},888888880257,"3413 13A AVE S.E.","MUHC","Metis Urban Housing Corporation","MUHC - Calgary-Peigan - 024","Calgary","T2B0J2","Housing Provider","Specialized Housing"]
["888888880257147 DOVERTHORN CL S.E.",888888880257,"147 DOVERTHORN CL S.E.","MUHC","Metis Urban Housing Corporation","MUHC - Calgary-Peigan - 024","Calgary","T2B2G4","Housing Provider","Specialized Housing"]
["88888888025744 DOVERTHORN PL S.E.",888888880257,"44 DOVERTHORN PL S.E.","MUHC","Metis Urban Housing Corporation","MUHC - Calgary-Peigan - 024","Calgary","T2B2B8","Housing Provider","Specialized Housing"]
["888888880253140 ERINDALE CRES S.E.",888888880253,"140 ERINDALE CRES S.E.","MUHC","Metis Urban Housing Corporation","MUHC - Calgary-East - 024","Calgary","T2A2J9","Housing Provider","Specialized Housing"]
["8888888802531348 PENNSBURG RD S.E.",888888880253,"1348 PENNSBURG RD S.E.","MUHC","Metis Urban Housing Corporation","MUHC - Calgary-East - 024","Calgary","T2B2R5","Housing Provider","Specialized Housing"]
["8888888802531107 PENRITH CRES S.E.",888888880253,"1107 PENRITH CRES S.E.","MUHC","Metis Urban Housing Corporation","MUHC - Calgary-East - 024","Calgary","T2A2H8","Housing Provider","Specialized Housing"]
["8888888802546487 68 ST N.E.",888888880254,"6487 68 ST N.E.","MUHC","Metis Urban Housing Corporation","MUHC - Calgary-Falconridge - 024","Calgary","T3J2H7","Housing Provider","Specialized Housing"]
["88888888025348 ABADAN CRES N.E.",888888880253,"48 ABADAN CRES N.E.","MUHC","Metis Urban Housing Corporation","MUHC - Calgary-East - 024","Calgary","T2A6N9","Housing Provider","Specialized Housing"]
["88888888025516 MCKENNA RD S.E.",888888880255,"16 MCKENNA RD S.E.","MUHC","Metis Urban Housing Corporation","MUHC - Calgary-Hays - 024","Calgary","T2Z1Y3","Housing Provider","Specialized Housing"]
["8888888802576626 18 ST S.E.",888888880257,"6626 18 ST S.E.","MUHC","Metis Urban Housing Corporation","MUHC - Calgary-Peigan - 024","Calgary","T2C0M6","Housing Provider","Specialized Housing"]
["888888880256916 2 AVE N.E.",888888880256,"916 2 AVE N.E.","MUHC","Metis Urban Housing Corporation","MUHC - Calgary-Mountain View - 024","Calgary","T2E0G4","Housing Provider","Specialized Housing"]
["8888888802573262 32A AVE S.E.",888888880257,"3262 32A AVE S.E.","MUHC","Metis Urban Housing Corporation","MUHC - Calgary-Peigan - 024","Calgary","T2B0J5","Housing Provider","Specialized Housing"]
["88888888025459 FALMEAD RD N.E.",888888880254,"59 FALMEAD RD N.E.","MUHC","Metis Urban Housing Corporation","MUHC - Calgary-Falconridge - 024","Calgary","T3J1G7","Housing Provider","Specialized Housing"]
["8888888802517505 37 AVE N.W.",888888880251,"7505 37 AVE N.W.","MUHC","Metis Urban Housing Corporation","MUHC - Calgary-Bow - 024","Calgary","T3B1W8","Housing Provider","Specialized Housing"]
["888888880252236 PINEMEADOW RD N.E.",888888880252,"236 PINEMEADOW RD N.E.","MUHC","Metis Urban Housing Corporation","MUHC - Calgary-Cross - 024","Calgary","T1Y4N9","Housing Provider","Specialized Housing"]
["88888888025950 CASLERIDGE DRIVE NE",888888880259,"50 CASLERIDGE DRIVE NE","MUHC","Metis Urban Housing Corporation","MUHC - Calgary-Falconridge - 025","Calgary","T3J1Y7","Housing Provider","Specialized Housing"]
["888888880259112 CASTLEDALE WAY NE",888888880259,"112 CASTLEDALE WAY NE","MUHC","Metis Urban Housing Corporation","MUHC - Calgary-Falconridge - 025","Calgary","T3J2A2","Housing Provider","Specialized Housing"]
["8888888802596404-54 STREET NE",888888880259,"6404-54 STREET NE","MUHC","Metis Urban Housing Corporation","MUHC - Calgary-Falconridge - 025","Calgary","T3J1Z5","Housing Provider","Specialized Housing"]
["888888880259227 FALSHIRE WAY NE",888888880259,"227 FALSHIRE WAY NE","MUHC","Metis Urban Housing Corporation","MUHC - Calgary-Falconridge - 025","Calgary","T3J2B3","Housing Provider","Specialized Housing"]
["888888880259333 FALSHIRE DRIVE NE",888888880259,"333 FALSHIRE DRIVE NE","MUHC","Metis Urban Housing Corporation","MUHC - Calgary-Falconridge - 025","Calgary","T3J1T8","Housing Provider","Specialized Housing"]
["8888888802597 FALCHURCH CRESC NE",888888880259,"7 FALCHURCH CRESC NE","MUHC","Metis Urban Housing Corporation","MUHC - Calgary-Falconridge - 025","Calgary","T3J1J9","Housing Provider","Specialized Housing"]
["88888888025963 FALWORTH WAY NE",888888880259,"63 FALWORTH WAY NE","MUHC","Metis Urban Housing Corporation","MUHC - Calgary-Falconridge - 025","Calgary","T3J1E4","Housing Provider","Specialized Housing"]
["88888888025927 FALDALE CLOSE NE",888888880259,"27 FALDALE CLOSE NE","MUHC","Metis Urban Housing Corporation","MUHC - Calgary-Falconridge - 025","Calgary","T3J1V9","Housing Provider","Specialized Housing"]
["88888888025980 TEMPLESON CRESC NE",888888880259,"80 TEMPLESON CRESC NE","MUHC","Metis Urban Housing Corporation","MUHC - Calgary-Falconridge - 025","Calgary","T1Y5L8","Housing Provider","Specialized Housing"]
["88888888025856 ABERDARE WAY NE",888888880258,"56 ABERDARE WAY NE","MUHC","Metis Urban Housing Corporation","MUHC - Calgary-East - 025","Calgary","T2A6V5","Housing Provider","Specialized Housing"]
["88888888025827 ABERDARE WAY NE",888888880258,"27 ABERDARE WAY NE","MUHC","Metis Urban Housing Corporation","MUHC - Calgary-East - 025","Calgary","T2A6V8","Housing Provider","Specialized Housing"]
["88888888025870 ABERDARE WAY NE",888888880258,"70 ABERDARE WAY NE","MUHC","Metis Urban Housing Corporation","MUHC - Calgary-East - 025","Calgary","T2A6V8","Housing Provider","Specialized Housing"]
["888888880258256 ABADAN PLACE NE",888888880258,"256 ABADAN PLACE NE","MUHC","Metis Urban Housing Corporation","MUHC - Calgary-East - 025","Calgary","T2A6S9","Housing Provider","Specialized Housing"]
["88888888025850 ERIN RIDGE ROAD SE",888888880258,"50 ERIN RIDGE ROAD SE","MUHC","Metis Urban Housing Corporation","MUHC - Calgary-East - 025","Calgary","T2B2W8","Housing Provider","Specialized Housing"]
["88888888025894 ERIN RIDGE ROAD SE",888888880258,"94 ERIN RIDGE ROAD SE","MUHC","Metis Urban Housing Corporation","MUHC - Calgary-East - 025","Calgary","T2B2W8","Housing Provider","Specialized Housing"]
["888888880258107 ERIN PARK CLOSE SE",888888880258,"107 ERIN PARK CLOSE SE","MUHC","Metis Urban Housing Corporation","MUHC - Calgary-East - 025","Calgary","T2B2T5","Housing Provider","Specialized Housing"]
["888888880258151 ERIN WOODS DRIVE SE",888888880258,"151 ERIN WOODS DRIVE SE","MUHC","Metis Urban Housing Corporation","MUHC - Calgary-East - 025","Calgary","T2B2V7","Housing Provider","Specialized Housing"]
["88888888026081 MARTIN VALLEY RD NE",888888880260,"81 MARTIN VALLEY RD NE","MUHC","Metis Urban Housing Corporation","MUHC - Calgary-Mccall - 025","Calgary","T3J4L9","Housing Provider","Specialized Housing"]
["88888888025911 FALSHIRE WAY NE",888888880259,"11 FALSHIRE WAY NE","MUHC","Metis Urban Housing Corporation","MUHC - Calgary-Falconridge - 025","Calgary","T3J2B2","Housing Provider","Specialized Housing"]
["88888888025945 TEMPLEBY WAY NE",888888880259,"45 TEMPLEBY WAY NE","MUHC","Metis Urban Housing Corporation","MUHC - Calgary-Falconridge - 025","Calgary","T1Y5P6","Housing Provider","Specialized Housing"]
["88888888026260 CASTLEBROOK PL NE",888888880262,"60 CASTLEBROOK PL NE","MUHC","Metis Urban Housing Corporation","MUHC - Calgary-Falconridge - 026","Calgary","T3J1V8","Housing Provider","Specialized Housing"]
["888888880262192 CASTLEBROOK DR NE",888888880262,"192 CASTLEBROOK DR NE","MUHC","Metis Urban Housing Corporation","MUHC - Calgary-Falconridge - 026","Calgary","T3J1V7","Housing Provider","Specialized Housing"]
["88888888026227 CASTLEGREEN CL NE",888888880262,"27 CASTLEGREEN CL NE","MUHC","Metis Urban Housing Corporation","MUHC - Calgary-Falconridge - 026","Calgary","T3J1Y7","Housing Provider","Specialized Housing"]
["888888880262183 FALTON CLOSE NE",888888880262,"183 FALTON CLOSE NE","MUHC","Metis Urban Housing Corporation","MUHC - Calgary-Falconridge - 026","Calgary","T3J1X2","Housing Provider","Specialized Housing"]
["88888888026264 FALTON DRIVE NE",888888880262,"64 FALTON DRIVE NE","MUHC","Metis Urban Housing Corporation","MUHC - Calgary-Falconridge - 026","Calgary","T3J1X8","Housing Provider","Specialized Housing"]
["88888888026283 FALWOOD WAY NE",888888880262,"83 FALWOOD WAY NE","MUHC","Metis Urban Housing Corporation","MUHC - Calgary-Falconridge - 026","Calgary","T3J1A8","Housing Provider","Specialized Housing"]
["88888888026272 FALCHURCH CRES NE",888888880262,"72 FALCHURCH CRES NE","MUHC","Metis Urban Housing Corporation","MUHC - Calgary-Falconridge - 026","Calgary","T3J1K1","Housing Provider","Specialized Housing"]
["88888888026125 ERINCROFT CRES SE",888888880261,"25 ERINCROFT CRES SE","MUHC","Metis Urban Housing Corporation","MUHC - Calgary-East - 026","Calgary","T2B2R3","Housing Provider","Specialized Housing"]
["888888880261172 ERINCROFT CRES SE",888888880261,"172 ERINCROFT CRES SE","MUHC","Metis Urban Housing Corporation","MUHC - Calgary-East - 026","Calgary","T2B2R5","Housing Provider","Specialized Housing"]
["88888888026152 ERINGROVE CLOSE SE",888888880261,"52 ERINGROVE CLOSE SE","MUHC","Metis Urban Housing Corporation","MUHC - Calgary-East - 026","Calgary","T2B2T4","Housing Provider","Specialized Housing"]
["88888888026483 CASTLERIDGE WAY NE",888888880264,"83 CASTLERIDGE WAY NE","MUHC","Metis Urban Housing Corporation","MUHC - Calgary-Falconridge - 027","Calgary","T3J1P8","Housing Provider","Specialized Housing"]
["8888888802646484-54 ST NE",888888880264,"6484-54 ST NE","MUHC","Metis Urban Housing Corporation","MUHC - Calgary-Falconridge - 027","Calgary","T3J1Z5","Housing Provider","Specialized Housing"]
["88888888026439 FALWOOD WAY NE",888888880264,"39 FALWOOD WAY NE","MUHC","Metis Urban Housing Corporation","MUHC - Calgary-Falconridge - 027","Calgary","T3J1A8","Housing Provider","Specialized Housing"]
["8888888802644331-38 ST NE",888888880264,"4331-38 ST NE","MUHC","Metis Urban Housing Corporation","MUHC - Calgary-Falconridge - 027","Calgary","T1Y5X6","Housing Provider","Specialized Housing"]
["888888880263416 ABADAN PLACE NE",888888880263,"416 ABADAN PLACE NE","MUHC","Metis Urban Housing Corporation","MUHC - Calgary-East - 027","Calgary","T2A6W3","Housing Provider","Specialized Housing"]
["88888888026347 ABINGDON WAY NE",888888880263,"47 ABINGDON WAY NE","MUHC","Metis Urban Housing Corporation","MUHC - Calgary-East - 027","Calgary","T2A6R7","Housing Provider","Specialized Housing"]
["88888888026339 ABINGDON ROAD NE",888888880263,"39 ABINGDON ROAD NE","MUHC","Metis Urban Housing Corporation","MUHC - Calgary-East - 027","Calgary","T2A6X5","Housing Provider","Specialized Housing"]
["888888880263160 ABINGDON COURT NE",888888880263,"160 ABINGDON COURT NE","MUHC","Metis Urban Housing Corporation","MUHC - Calgary-East - 027","Calgary","T2A6S5","Housing Provider","Specialized Housing"]
["88888888026359 ABERDARE CRESENT NE",888888880263,"59 ABERDARE CRESENT NE","MUHC","Metis Urban Housing Corporation","MUHC - Calgary-East - 027","Calgary","T2A6T5","Housing Provider","Specialized Housing"]
["888888880263531 ABALONE PLACE NE",888888880263,"531 ABALONE PLACE NE","MUHC","Metis Urban Housing Corporation","MUHC - Calgary-East - 027","Calgary","T2A6X9","Housing Provider","Specialized Housing"]
["888888880266119 ABALONE WAY NE",888888880266,"119 ABALONE WAY NE","MUHC","Metis Urban Housing Corporation","MUHC - Calgary-East - 028","Calgary","T2A6Y1","Housing Provider","Specialized Housing"]
["88888888026615 ABERFOYLE PL NE",888888880266,"15 ABERFOYLE PL NE","MUHC","Metis Urban Housing Corporation","MUHC - Calgary-East - 028","Calgary","T2A6Y4","Housing Provider","Specialized Housing"]
["888888880266100 ABINGDON CRT NE",888888880266,"100 ABINGDON CRT NE","MUHC","Metis Urban Housing Corporation","MUHC - Calgary-East - 028","Calgary","T2A6S5","Housing Provider","Specialized Housing"]
["8888888802672, 4 Castleglen Road NE",888888880267,"2, 4 Castleglen Road NE","MUHC","Metis Urban Housing Corporation","MUHC - Calgary-Falconridge - 028","Calgary","T3J1S4","Housing Provider","Specialized Housing"]
["88888888026761, 63 Falchurch Road NE",888888880267,"61, 63 Falchurch Road NE","MUHC","Metis Urban Housing Corporation","MUHC - Calgary-Falconridge - 028","Calgary","T3J1G6","Housing Provider","Specialized Housing"]
["88888888026760 FALCONRIDGE PL NE",888888880267,"60 FALCONRIDGE PL NE","MUHC","Metis Urban Housing Corporation","MUHC - Calgary-Falconridge - 028","Calgary","T3J1A6","Housing Provider","Specialized Housing"]
["888888880267108 FALSBY WAY NE",888888880267,"108 FALSBY WAY NE","MUHC","Metis Urban Housing Corporation","MUHC - Calgary-Falconridge - 028","Calgary","T3J1C4","Housing Provider","Specialized Housing"]
["888888880267367 FALCON DR NE",888888880267,"367 FALCON DR NE","MUHC","Metis Urban Housing Corporation","MUHC - Calgary-Falconridge - 028","Calgary","T3J2X4","Housing Provider","Specialized Housing"]
["888888880266112 ERIN CROFT CRES SE",888888880266,"112 ERIN CROFT CRES SE","MUHC","Metis Urban Housing Corporation","MUHC - Calgary-East - 028","Calgary","T2B2V1","Housing Provider","Specialized Housing"]
[{"$f":"CONCATENATE(B2947,C2947)","v":"8888888802667 ERIN RIDGE RD SE"},888888880266,"7 ERIN RIDGE RD SE","MUHC","Metis Urban Housing Corporation","MUHC - Calgary-East - 028","Calgary","T2B2W2","Housing Provider","Specialized Housing"]
["8888888802655803, 5805 Bowness Road NW",888888880265,"5803, 5805 Bowness Road NW","MUHC","Metis Urban Housing Corporation","MUHC - Calgary-Bow - 028","Calgary","T3B0C5","Housing Provider","Specialized Housing"]
["8888888802657521, 7523 36 Avenue NW",888888880265,"7521, 7523 36 Avenue NW","MUHC","Metis Urban Housing Corporation","MUHC - Calgary-Bow - 028","Calgary","T3B1V2","Housing Provider","Specialized Housing"]
["888888880266111 PENBROOKE CL SE",888888880266,"111 PENBROOKE CL SE","MUHC","Metis Urban Housing Corporation","MUHC - Calgary-East - 028","Calgary","T2A3N9","Housing Provider","Specialized Housing"]
["8888888802682836, 2838 16 Avenue SE",888888880268,"2836, 2838 16 Avenue SE","MUHC","Metis Urban Housing Corporation","MUHC - Calgary-Klein - 028","Calgary","T2A0M6","Housing Provider","Specialized Housing"]
["8888888802676455-54 ST NE",888888880267,"6455-54 ST NE","MUHC","Metis Urban Housing Corporation","MUHC - Calgary-Falconridge - 028","Calgary","T3J1Z4","Housing Provider","Specialized Housing"]
["88888888026674 ABALONE CRES NE",888888880266,"74 ABALONE CRES NE","MUHC","Metis Urban Housing Corporation","MUHC - Calgary-East - 028","Calgary","T2A6X8","Housing Provider","Specialized Housing"]
["888888880267100 FALDALE CL NE",888888880267,"100 FALDALE CL NE","MUHC","Metis Urban Housing Corporation","MUHC - Calgary-Falconridge - 028","Calgary","T3J1V9","Housing Provider","Specialized Housing"]
["888888880266168 ERINDALE CRES SE",888888880266,"168 ERINDALE CRES SE","MUHC","Metis Urban Housing Corporation","MUHC - Calgary-East - 028","Calgary","T2B2R5","Housing Provider","Specialized Housing"]
["888888880266124 ERIN GROVE CL SE",888888880266,"124 ERIN GROVE CL SE","MUHC","Metis Urban Housing Corporation","MUHC - Calgary-East - 028","Calgary","T2B2T4","Housing Provider","Specialized Housing"]
["88888888026635 ERIN WOODS DR SE",888888880266,"35 ERIN WOODS DR SE","MUHC","Metis Urban Housing Corporation","MUHC - Calgary-East - 028","Calgary","T2B2R9","Housing Provider","Specialized Housing"]
["8888888802714207, 4211 49 Street NE",888888880271,"4207, 4211 49 Street NE","MUHC","Metis Urban Housing Corporation","MUHC - Calgary-Falconridge - 029","Calgary","T1Y4T6","Housing Provider","Specialized Housing"]
["8888888802725, 7 Radcliffe Close SE",888888880272,"5, 7 Radcliffe Close SE","MUHC","Metis Urban Housing Corporation","MUHC - Calgary-Klein - 029","Calgary","T2A6B2","Housing Provider","Specialized Housing"]
["8888888802729, 11 Radcliffe Close SE",888888880272,"9, 11 Radcliffe Close SE","MUHC","Metis Urban Housing Corporation","MUHC - Calgary-Klein - 029","Calgary","T2A6B2","Housing Provider","Specialized Housing"]
["8888888802737642, 7644 Ogden Road SE",888888880273,"7642, 7644 Ogden Road SE","MUHC","Metis Urban Housing Corporation","MUHC - Calgary-Peigan - 029","Calgary","T2C1C1","Housing Provider","Specialized Housing"]
["8888888802737625, 7627 22 Street SE",888888880273,"7625, 7627 22 Street SE","MUHC","Metis Urban Housing Corporation","MUHC - Calgary-Peigan - 029","Calgary","T2C0W9","Housing Provider","Specialized Housing"]
["8888888802723520, 3522 Centre A StreetNE",888888880272,"3520, 3522 Centre A StreetNE","MUHC","Metis Urban Housing Corporation","MUHC - Calgary-Klein - 029","Calgary","T2E3A4","Housing Provider","Specialized Housing"]
["8888888802706036-5 AVE SE",888888880270,"6036-5 AVE SE","MUHC","Metis Urban Housing Corporation","MUHC - Calgary-East - 029","Calgary","T2A4E4","Housing Provider","Specialized Housing"]
["8888888802706033, 6035 8 Avenue SE",888888880270,"6033, 6035 8 Avenue SE","MUHC","Metis Urban Housing Corporation","MUHC - Calgary-East - 029","Calgary","T2A0B3","Housing Provider","Specialized Housing"]
["8888888802696828-26 AVE NE",888888880269,"6828-26 AVE NE","MUHC","Metis Urban Housing Corporation","MUHC - Calgary-Cross - 029","Calgary","T1Y4N2","Housing Provider","Specialized Housing"]
["8888888802796038, 6040 17A Street SE",888888880279,"6038, 6040 17A Street SE","MUHC","Metis Urban Housing Corporation","MUHC - Calgary-Peigan - 030","Calgary","T2C0L7","Housing Provider","Specialized Housing"]
["8888888802751430, 1432 8 Street SW",888888880275,"1430, 1432 8 Street SW","MUHC","Metis Urban Housing Corporation","MUHC - Calgary-Currie - 030","Calgary","T3C1T5","Housing Provider","Specialized Housing"]
["8888888802744206, 4208 72 Street NW",888888880274,"4206, 4208 72 Street NW","MUHC","Metis Urban Housing Corporation","MUHC - Calgary-Bow - 030","Calgary","T3B2L2","Housing Provider","Specialized Housing"]
["8888888802797036, 7038 Ogden Road SE",888888880279,"7036, 7038 Ogden Road SE","MUHC","Metis Urban Housing Corporation","MUHC - Calgary-Peigan - 030","Calgary","T2C1B4","Housing Provider","Specialized Housing"]
["888888880276126, 128 Abalone Place NE",888888880276,"126, 128 Abalone Place NE","MUHC","Metis Urban Housing Corporation","MUHC - Calgary-East - 030","Calgary","T2A6N1","Housing Provider","Specialized Housing"]
["8888888802786709, 6711 41 Avenue NE",888888880278,"6709, 6711 41 Avenue NE","MUHC","Metis Urban Housing Corporation","MUHC - Calgary-Falconridge - 030","Calgary","T1Y5M5","Housing Provider","Specialized Housing"]
["8888888802764907E, 4907W 16 Avenue SE",888888880276,"4907E, 4907W 16 Avenue SE","MUHC","Metis Urban Housing Corporation","MUHC - Calgary-East - 030","Calgary","T2A0P1","Housing Provider","Specialized Housing"]
["8888888802774508, 4510 Richmond Road SW",888888880277,"4508, 4510 Richmond Road SW","MUHC","Metis Urban Housing Corporation","MUHC - Calgary-Elbow - 030","Calgary","T3E4P8","Housing Provider","Specialized Housing"]
["8888888802818542, 8544 33 Avenue NW",888888880281,"8542, 8544 33 Avenue NW","MUHC","Metis Urban Housing Corporation","MUHC - Calgary-Bow - 031","Calgary","T3B1M1","Housing Provider","Specialized Housing"]
["8888888802806633, 6635 Huntridge Hill NE",888888880280,"6633, 6635 Huntridge Hill NE","MUHC","Metis Urban Housing Corporation","MUHC - Calgary-Beddington - 031","Calgary","T2K4A1","Housing Provider","Specialized Housing"]
["8888888802823719A, 3719B Sarcee Road SW",888888880282,"3719A, 3719B Sarcee Road SW","MUHC","Metis Urban Housing Corporation","MUHC - Calgary-Currie - 031","Calgary","T3E4T5","Housing Provider","Specialized Housing"]
["8888888802833055-33A AVE SE",888888880283,"3055-33A AVE SE","MUHC","Metis Urban Housing Corporation","MUHC - Calgary-Peigan - 031","Calgary","T2B0J9","Housing Provider","Specialized Housing"]
["8888888802814809, 4811 20 Avenue NW",888888880281,"4809, 4811 20 Avenue NW","MUHC","Metis Urban Housing Corporation","MUHC - Calgary-Bow - 031","Calgary","T3B0V2","Housing Provider","Specialized Housing"]
["8888888802851-4 816 44 Street SE",888888880285,"1-4 816 44 Street SE","MUHC","Metis Urban Housing Corporation","MUHC - Calgary-East - 032","Calgary","T2A4X2","Housing Provider","Specialized Housing"]
["8888888802851-4 824 44 Street SE",888888880285,"1-4 824 44 Street SE","MUHC","Metis Urban Housing Corporation","MUHC - Calgary-East - 032","Calgary","T2A4X2","Housing Provider","Specialized Housing"]
["8888888802853612,3614 21 Avenue SE & 2037A,2037B 36 Street SE",888888880285,"3612,3614 21 Avenue SE & 2037A,2037B 36 Street SE","MUHC","Metis Urban Housing Corporation","MUHC - Calgary-East - 032","Calgary","T2B0X7","Housing Provider","Specialized Housing"]
["8888888802841-4 7 Sorrel Place SW",888888880284,"1-4 7 Sorrel Place SW","MUHC","Metis Urban Housing Corporation","MUHC - Calgary-Acadia - 032","Calgary","T2W1Z4","Housing Provider","Specialized Housing"]
["8888888802903049 -30 A STREET SE CAL",888888880290,"3049 -30 A STREET SE CAL","MUHC","Metis Urban Housing Corporation","MUHC - Calgary-Peigan - 034","Calgary","T2B0S6","Housing Provider","Specialized Housing"]
["888888880287531 ABINGER ROAD NE CAL",888888880287,"531 ABINGER ROAD NE CAL","MUHC","Metis Urban Housing Corporation","MUHC - Calgary-East - 034","Calgary","T2A6M4","Housing Provider","Specialized Housing"]
["888888880288106 FALWOOD CRESCENT NE CAL",888888880288,"106 FALWOOD CRESCENT NE CAL","MUHC","Metis Urban Housing Corporation","MUHC - Calgary-Falconridge - 034","Calgary","T3J1E3","Housing Provider","Specialized Housing"]
["888888880288341 FALSHIRE DRIVE NE CAL",888888880288,"341 FALSHIRE DRIVE NE CAL","MUHC","Metis Urban Housing Corporation","MUHC - Calgary-Falconridge - 034","Calgary","T3J1T8","Housing Provider","Specialized Housing"]
["888888880289123 TARADALE DRIVE NE CAL",888888880289,"123 TARADALE DRIVE NE CAL","MUHC","Metis Urban Housing Corporation","MUHC - Calgary-Mccall - 034","Calgary","T3J2R7","Housing Provider","Specialized Housing"]
["888888880289100 MARTIN BROOK ROAD CAL",888888880289,"100 MARTIN BROOK ROAD CAL","MUHC","Metis Urban Housing Corporation","MUHC - Calgary-Mccall - 034","Calgary","T3J3E1","Housing Provider","Specialized Housing"]
["88888888029215 MARTINDALE BOULEVARD NE",888888880292,"15 MARTINDALE BOULEVARD NE","MUHC","Metis Urban Housing Corporation","MUHC - Calgary-Mccall - 035","Calgary","T3J2T8","Housing Provider","Specialized Housing"]
["88888888029245 MARTINDALE BOULEVARD NE",888888880292,"45 MARTINDALE BOULEVARD NE","MUHC","Metis Urban Housing Corporation","MUHC - Calgary-Mccall - 035","Calgary","T3J2W5","Housing Provider","Specialized Housing"]
["888888880292246 MARTINDALE BOULEVARD NE",888888880292,"246 MARTINDALE BOULEVARD NE","MUHC","Metis Urban Housing Corporation","MUHC - Calgary-Mccall - 035","Calgary","T3J3C9","Housing Provider","Specialized Housing"]
["8888888802933245 32 A AVE SE",888888880293,"3245 32 A AVE SE","MUHC","Metis Urban Housing Corporation","MUHC - Calgary-Peigan - 035","Calgary","T2B0J6","Housing Provider","Specialized Housing"]
["8888888802933031 33 A AVE SE",888888880293,"3031 33 A AVE SE","MUHC","Metis Urban Housing Corporation","MUHC - Calgary-Peigan - 035","Calgary","T2B0J9","Housing Provider","Specialized Housing"]
["88888888029195 WHITWORTH WAY NE",888888880291,"95 WHITWORTH WAY NE","MUHC","Metis Urban Housing Corporation","MUHC - Calgary-Falconridge - 035","Calgary","T1Y6B1","Housing Provider","Specialized Housing"]
["888888880291300 FALSHIRE WAY NE",888888880291,"300 FALSHIRE WAY NE","MUHC","Metis Urban Housing Corporation","MUHC - Calgary-Falconridge - 035","Calgary","T3J2B3","Housing Provider","Specialized Housing"]
["8888888802914255 49 STREET NE",888888880291,"4255 49 STREET NE","MUHC","Metis Urban Housing Corporation","MUHC - Calgary-Falconridge - 035","Calgary","T1Y2Z3","Housing Provider","Specialized Housing"]
["88888888029215 MARTINVIEW ROAD NE",888888880292,"15 MARTINVIEW ROAD NE","MUHC","Metis Urban Housing Corporation","MUHC - Calgary-Mccall - 035","Calgary","T3J2S5","Housing Provider","Specialized Housing"]
["8888888802942256 7 AVE NE",888888880294,"2256 7 AVE NE","MUHC","Metis Urban Housing Corporation","MUHC - Brooks-Medicine Hat - 036","Medicine Hat","T1C1K5","Housing Provider","Specialized Housing"]
["888888880294146 7 ST NE",888888880294,"146 7 ST NE","MUHC","Metis Urban Housing Corporation","MUHC - Brooks-Medicine Hat - 036","Medicine Hat","T1A5P6","Housing Provider","Specialized Housing"]
["888888880295501 11 ST SE",888888880295,"501 11 ST SE","MUHC","Metis Urban Housing Corporation","MUHC - Cypress-Medicine Hat - 036","Medicine Hat","T1A1T2","Housing Provider","Specialized Housing"]
["88888888029528 CASTELANI CRES SE",888888880295,"28 CASTELANI CRES SE","MUHC","Metis Urban Housing Corporation","MUHC - Cypress-Medicine Hat - 036","Medicine Hat","T1B1T1","Housing Provider","Specialized Housing"]
["88888888029538 CAIRNEY CRES SE",888888880295,"38 CAIRNEY CRES SE","MUHC","Metis Urban Housing Corporation","MUHC - Cypress-Medicine Hat - 036","Medicine Hat","T1B1L4","Housing Provider","Specialized Housing"]
["888888880295214 CYPRESS WAY SE",888888880295,"214 CYPRESS WAY SE","MUHC","Metis Urban Housing Corporation","MUHC - Cypress-Medicine Hat - 036","Medicine Hat","T1B1L8","Housing Provider","Specialized Housing"]
["88888888029519 EAST GLEN ST SE",888888880295,"19 EAST GLEN ST SE","MUHC","Metis Urban Housing Corporation","MUHC - Cypress-Medicine Hat - 036","Medicine Hat","T1B2W9","Housing Provider","Specialized Housing"]
["88888888029524 ROSSMERE BAY SE",888888880295,"24 ROSSMERE BAY SE","MUHC","Metis Urban Housing Corporation","MUHC - Cypress-Medicine Hat - 036","Medicine Hat","T1B2L7","Housing Provider","Specialized Housing"]
["8888888802959 RAE PL SE",888888880295,"9 RAE PL SE","MUHC","Metis Urban Housing Corporation","MUHC - Cypress-Medicine Hat - 036","Medicine Hat","T1B3B6","Housing Provider","Specialized Housing"]
["88888888029514 ROSSHAVEN PL SE",888888880295,"14 ROSSHAVEN PL SE","MUHC","Metis Urban Housing Corporation","MUHC - Cypress-Medicine Hat - 036","Medicine Hat","T1B2V1","Housing Provider","Specialized Housing"]
["888888880295215 ROSS GLEN RD SE",888888880295,"215 ROSS GLEN RD SE","MUHC","Metis Urban Housing Corporation","MUHC - Cypress-Medicine Hat - 036","Medicine Hat","T1B3B8","Housing Provider","Specialized Housing"]
["888888880295259 SEVEN PERSONS DR SW",888888880295,"259 SEVEN PERSONS DR SW","MUHC","Metis Urban Housing Corporation","MUHC - Cypress-Medicine Hat - 036","Medicine Hat","T1B2C7","Housing Provider","Specialized Housing"]
[{"$f":"CONCATENATE(B3011,C3011)","v":"8888888802965328 35 Street"},888888880296,"5328 35 Street","MUHC","Metis Urban Housing Corporation","MUHC - Vermilion-Lloydminster-Wainwright - 037","Lloydminster","T9V1G9","Housing Provider","Specialized Housing"]
["8888888802962915 57A Avenue",888888880296,"2915 57A Avenue","MUHC","Metis Urban Housing Corporation","MUHC - Vermilion-Lloydminster-Wainwright - 037","Lloydminster","T9V1W5","Housing Provider","Specialized Housing"]
["8888888802965214, 5216 35 Street",888888880296,"5214, 5216 35 Street","MUHC","Metis Urban Housing Corporation","MUHC - Vermilion-Lloydminster-Wainwright - 037","Lloydminster","T9V1G9","Housing Provider","Specialized Housing"]
["8888888802965606 42 Street",888888880296,"5606 42 Street","MUHC","Metis Urban Housing Corporation","MUHC - Vermilion-Lloydminster-Wainwright - 037","Lloydminster","T9V0A3","Housing Provider","Specialized Housing"]
["8888888802965013 55A Street",888888880296,"5013 55A Street","MUHC","Metis Urban Housing Corporation","MUHC - Vermilion-Lloydminster-Wainwright - 037","Lloydminster","T9V0S9","Housing Provider","Specialized Housing"]
["8888888802965308 35 Street",888888880296,"5308 35 Street","MUHC","Metis Urban Housing Corporation","MUHC - Vermilion-Lloydminster-Wainwright - 037","Lloydminster","T9V1G9","Housing Provider","Specialized Housing"]
["888888880297129, 131 Overdown Drive",888888880297,"129, 131 Overdown Drive","MUHC","Metis Urban Housing Corporation","MUHC - Red Deer-North - 039","Red Deer","T4P1W5","Housing Provider","Specialized Housing"]
["8888888802983706-46 STREET",888888880298,"3706-46 STREET","MUHC","Metis Urban Housing Corporation","MUHC - Red Deer-South - 039","Red Deer","T4N1L5","Housing Provider","Specialized Housing"]
["8888888802976327-58 AVENUE",888888880297,"6327-58 AVENUE","MUHC","Metis Urban Housing Corporation","MUHC - Red Deer-North - 039","Red Deer","T4N6E2","Housing Provider","Specialized Housing"]
["8888888802975528-60 AVENUE",888888880297,"5528-60 AVENUE","MUHC","Metis Urban Housing Corporation","MUHC - Red Deer-North - 039","Red Deer","T4N4W1","Housing Provider","Specialized Housing"]
["88888888029832 WELLS STREET",888888880298,"32 WELLS STREET","MUHC","Metis Urban Housing Corporation","MUHC - Red Deer-South - 039","Red Deer","T4N5Y3","Housing Provider","Specialized Housing"]
["8888888802976335-61 AVENUE",888888880297,"6335-61 AVENUE","MUHC","Metis Urban Housing Corporation","MUHC - Red Deer-North - 039","Red Deer","T4N5R7","Housing Provider","Specialized Housing"]
["88888888029835 WELLS STREET",888888880298,"35 WELLS STREET","MUHC","Metis Urban Housing Corporation","MUHC - Red Deer-South - 039","Red Deer","T4N5Y2","Housing Provider","Specialized Housing"]
["8888888802979, 11 Northey Avenue",888888880297,"9, 11 Northey Avenue","MUHC","Metis Urban Housing Corporation","MUHC - Red Deer-North - 039","Red Deer","T4P1R3","Housing Provider","Specialized Housing"]
["8888888802995422 52AVE",888888880299,"5422 52AVE","MUHC","Metis Urban Housing Corporation","MUHC - Bonnyville-Cold Lake-St. Paul - 040","Bonnyville","T9N2A1","Housing Provider","Specialized Housing"]
["8888888802995111 54 ST",888888880299,"5111 54 ST","MUHC","Metis Urban Housing Corporation","MUHC - Bonnyville-Cold Lake-St. Paul - 040","Bonnyville","T9N2B3","Housing Provider","Specialized Housing"]
["8888888802995338 53 AVE",888888880299,"5338 53 AVE","MUHC","Metis Urban Housing Corporation","MUHC - Bonnyville-Cold Lake-St. Paul - 040","Bonnyville","T9N2B3","Housing Provider","Specialized Housing"]
["8888888802995336 53 AVE",888888880299,"5336 53 AVE","MUHC","Metis Urban Housing Corporation","MUHC - Bonnyville-Cold Lake-St. Paul - 040","Bonnyville","T9N2B3","Housing Provider","Specialized Housing"]
["8888888802995013 52 AVE",888888880299,"5013 52 AVE","MUHC","Metis Urban Housing Corporation","MUHC - Bonnyville-Cold Lake-St. Paul - 040","Bonnyville","T9N2J6","Housing Provider","Specialized Housing"]
["8888888802994705 49 AVE",888888880299,"4705 49 AVE","MUHC","Metis Urban Housing Corporation","MUHC - Bonnyville-Cold Lake-St. Paul - 040","Bonnyville","T9N1B5","Housing Provider","Specialized Housing"]
["8888888802994517 41A ST",888888880299,"4517 41A ST","MUHC","Metis Urban Housing Corporation","MUHC - Bonnyville-Cold Lake-St. Paul - 040","Bonnyville","T9N1K3","Housing Provider","Specialized Housing"]
["8888888802994307E, 4307W 49 Avenue",888888880299,"4307E, 4307W 49 Avenue","MUHC","Metis Urban Housing Corporation","MUHC - Bonnyville-Cold Lake-St. Paul - 040","Bonnyville","T9N1G5","Housing Provider","Specialized Housing"]
["8888888803004410 45 AVE",888888880300,"4410 45 AVE","MUHC","Metis Urban Housing Corporation","MUHC - Bonnyville-Cold Lake-St. Paul - 041","Bonnyville","T9N1X5","Housing Provider","Specialized Housing"]
["8888888803004702 45 AVE",888888880300,"4702 45 AVE","MUHC","Metis Urban Housing Corporation","MUHC - Bonnyville-Cold Lake-St. Paul - 041","Bonnyville","T9N1N1","Housing Provider","Specialized Housing"]
["8888888803004412 45 AVE",888888880300,"4412 45 AVE","MUHC","Metis Urban Housing Corporation","MUHC - Bonnyville-Cold Lake-St. Paul - 041","Bonnyville","T9N1X5","Housing Provider","Specialized Housing"]
["8888888803004301 42 ST",888888880300,"4301 42 ST","MUHC","Metis Urban Housing Corporation","MUHC - Bonnyville-Cold Lake-St. Paul - 041","Bonnyville","T9N1W6","Housing Provider","Specialized Housing"]
["8888888803004810 52 AVE",888888880300,"4810 52 AVE","MUHC","Metis Urban Housing Corporation","MUHC - Bonnyville-Cold Lake-St. Paul - 041","Bonnyville","T9N2H6","Housing Provider","Specialized Housing"]
["8888888803004704 43 AVE",888888880300,"4704 43 AVE","MUHC","Metis Urban Housing Corporation","MUHC - Bonnyville-Cold Lake-St. Paul - 041","Bonnyville","T9N1N9","Housing Provider","Specialized Housing"]
["8888888803004504 41 ST",888888880300,"4504 41 ST","MUHC","Metis Urban Housing Corporation","MUHC - Bonnyville-Cold Lake-St. Paul - 041","Bonnyville","T9N1J5","Housing Provider","Specialized Housing"]
["8888888803004406 44 AVE",888888880300,"4406 44 AVE","MUHC","Metis Urban Housing Corporation","MUHC - Bonnyville-Cold Lake-St. Paul - 041","Bonnyville","T9N1W9","Housing Provider","Specialized Housing"]
["8888888803004402 43 AVE",888888880300,"4402 43 AVE","MUHC","Metis Urban Housing Corporation","MUHC - Bonnyville-Cold Lake-St. Paul - 041","Bonnyville","T9N1R8","Housing Provider","Specialized Housing"]
["8888888803004419 46 AVE",888888880300,"4419 46 AVE","MUHC","Metis Urban Housing Corporation","MUHC - Bonnyville-Cold Lake-St. Paul - 041","Bonnyville","T9N1L8","Housing Provider","Specialized Housing"]
["8888888803004305 45 ST",888888880300,"4305 45 ST","MUHC","Metis Urban Housing Corporation","MUHC - Bonnyville-Cold Lake-St. Paul - 041","Bonnyville","T9N1X2","Housing Provider","Specialized Housing"]
["8888888803004704 45 AVE",888888880300,"4704 45 AVE","MUHC","Metis Urban Housing Corporation","MUHC - Bonnyville-Cold Lake-St. Paul - 041","Bonnyville","T9N1M9","Housing Provider","Specialized Housing"]
["8888888803004319 42 ST",888888880300,"4319 42 ST","MUHC","Metis Urban Housing Corporation","MUHC - Bonnyville-Cold Lake-St. Paul - 041","Bonnyville","T9N1W6","Housing Provider","Specialized Housing"]
["8888888803004107 47 AVE",888888880300,"4107 47 AVE","MUHC","Metis Urban Housing Corporation","MUHC - Bonnyville-Cold Lake-St. Paul - 041","Bonnyville","T9N1K3","Housing Provider","Specialized Housing"]
["88888888030110530 102 AVE",888888880301,"10530 102 AVE","MUHC","Metis Urban Housing Corporation","MUHC - Grande Prairie - 042","Grande Prairie","T8V1A4","Housing Provider","Specialized Housing"]
["88888888030110408 110 AVE",888888880301,"10408 110 AVE","MUHC","Metis Urban Housing Corporation","MUHC - Grande Prairie - 042","Grande Prairie","T8V1S9","Housing Provider","Specialized Housing"]
["88888888030111202 96 ST",888888880301,"11202 96 ST","MUHC","Metis Urban Housing Corporation","MUHC - Grande Prairie - 042","Grande Prairie","T8V2A4","Housing Provider","Specialized Housing"]
["8888888803019635 112 AVE",888888880301,"9635 112 AVE","MUHC","Metis Urban Housing Corporation","MUHC - Grande Prairie - 042","Grande Prairie","T8V3B9","Housing Provider","Specialized Housing"]
["88888888030111219 96A ST",888888880301,"11219 96A ST","MUHC","Metis Urban Housing Corporation","MUHC - Grande Prairie - 042","Grande Prairie","T8V2B1","Housing Provider","Specialized Housing"]
["88888888030110810 93A ST",888888880301,"10810 93A ST","MUHC","Metis Urban Housing Corporation","MUHC - Grande Prairie - 042","Grande Prairie","T8V1Y7","Housing Provider","Specialized Housing"]
["88888888030210420 92A ST",888888880302,"10420 92A ST","MUHC","Metis Urban Housing Corporation","MUHC - Grande Prairie-Wapiti - 042","Grande Prairie","T8V3V7","Housing Provider","Specialized Housing"]
["8888888803018807 100 ST",888888880301,"8807 100 ST","MUHC","Metis Urban Housing Corporation","MUHC - Grande Prairie - 042","Grande Prairie","T8V2K3","Housing Provider","Specialized Housing"]
["8888888803019707 87 AVE",888888880301,"9707 87 AVE","MUHC","Metis Urban Housing Corporation","MUHC - Grande Prairie - 042","Grande Prairie","T8V0B1","Housing Provider","Specialized Housing"]
["8888888803019852 79 AVE",888888880301,"9852 79 AVE","MUHC","Metis Urban Housing Corporation","MUHC - Grande Prairie - 042","Grande Prairie","T8V3S4","Housing Provider","Specialized Housing"]
["8888888803018227 96 ST",888888880301,"8227 96 ST","MUHC","Metis Urban Housing Corporation","MUHC - Grande Prairie - 042","Grande Prairie","T8V4M1","Housing Provider","Specialized Housing"]
["8888888803019628 82 AVE",888888880301,"9628 82 AVE","MUHC","Metis Urban Housing Corporation","MUHC - Grande Prairie - 042","Grande Prairie","T8V4L7","Housing Provider","Specialized Housing"]
["8888888803019413 82 AVE",888888880301,"9413 82 AVE","MUHC","Metis Urban Housing Corporation","MUHC - Grande Prairie - 042","Grande Prairie","T8V5M9","Housing Provider","Specialized Housing"]
["8888888803019413 79 AVE",888888880301,"9413 79 AVE","MUHC","Metis Urban Housing Corporation","MUHC - Grande Prairie - 042","Grande Prairie","T8V5G9","Housing Provider","Specialized Housing"]
["8888888803019524 79 AVE",888888880301,"9524 79 AVE","MUHC","Metis Urban Housing Corporation","MUHC - Grande Prairie - 042","Grande Prairie","T8V5G9","Housing Provider","Specialized Housing"]
["8888888803017333 99 ST",888888880301,"7333 99 ST","MUHC","Metis Urban Housing Corporation","MUHC - Grande Prairie - 042","Grande Prairie","T8V4Y1","Housing Provider","Specialized Housing"]
["8888888803017106 99 ST",888888880301,"7106 99 ST","MUHC","Metis Urban Housing Corporation","MUHC - Grande Prairie - 042","Grande Prairie","T8V5T3","Housing Provider","Specialized Housing"]
["8888888803019922 70 AVE",888888880301,"9922 70 AVE","MUHC","Metis Urban Housing Corporation","MUHC - Grande Prairie - 042","Grande Prairie","T8V5G6","Housing Provider","Specialized Housing"]
["8888888803019305 72 AVE",888888880301,"9305 72 AVE","MUHC","Metis Urban Housing Corporation","MUHC - Grande Prairie - 042","Grande Prairie","T8V6E5","Housing Provider","Specialized Housing"]
["8888888803049210 96 AVE",888888880304,"9210 96 AVE","MUHC","Metis Urban Housing Corporation","MUHC - Grande Prairie-Wapiti - 043","Grande Prairie","T8V5N9","Housing Provider","Specialized Housing"]
["8888888803049205 108 AVE",888888880304,"9205 108 AVE","MUHC","Metis Urban Housing Corporation","MUHC - Grande Prairie-Wapiti - 043","Grande Prairie","T8V3X1","Housing Provider","Specialized Housing"]
["8888888803039719 118 AVE",888888880303,"9719 118 AVE","MUHC","Metis Urban Housing Corporation","MUHC - Grande Prairie - 043","Grande Prairie","T8V3P5","Housing Provider","Specialized Housing"]
["8888888803039861 PRAIRIE ROAD",888888880303,"9861 PRAIRIE ROAD","MUHC","Metis Urban Housing Corporation","MUHC - Grande Prairie - 043","Grande Prairie","T8V3Z1","Housing Provider","Specialized Housing"]
["88888888030311852 96 ST",888888880303,"11852 96 ST","MUHC","Metis Urban Housing Corporation","MUHC - Grande Prairie - 043","Grande Prairie","T8V4P4","Housing Provider","Specialized Housing"]
["88888888030410608 92C ST",888888880304,"10608 92C ST","MUHC","Metis Urban Housing Corporation","MUHC - Grande Prairie-Wapiti - 043","Grande Prairie","T8V3W3","Housing Provider","Specialized Housing"]
["8888888803037322 99 ST",888888880303,"7322 99 ST","MUHC","Metis Urban Housing Corporation","MUHC - Grande Prairie - 043","Grande Prairie","T8V4Y2","Housing Provider","Specialized Housing"]
["8888888803039348 112 AVE",888888880303,"9348 112 AVE","MUHC","Metis Urban Housing Corporation","MUHC - Grande Prairie - 043","Grande Prairie","T8V1V3","Housing Provider","Specialized Housing"]
["8888888803039414 81 A AVE",888888880303,"9414 81 A AVE","MUHC","Metis Urban Housing Corporation","MUHC - Grande Prairie - 043","Grande Prairie","T8V5R6","Housing Provider","Specialized Housing"]
[{"$f":"CONCATENATE(B3075,C3075)","v":"8888888803038412 98A ST"},888888880303,"8412 98A ST","MUHC","Metis Urban Housing Corporation","MUHC - Grande Prairie - 043","Grande Prairie","T8V4C1","Housing Provider","Specialized Housing"]
["8888888803049421 100 AVE",888888880304,"9421 100 AVE","MUHC","Metis Urban Housing Corporation","MUHC - Grande Prairie-Wapiti - 043","Grande Prairie","T8V0S8","Housing Provider","Specialized Housing"]
["888888880305904 10A AVE SE",888888880305,"904 10A AVE SE","MUHC","Metis Urban Housing Corporation","MUHC - Lesser Slave Lake - 044","Slave Lake","T0G2A3","Housing Provider","Specialized Housing"]
["888888880305909 10 AVE SE",888888880305,"909 10 AVE SE","MUHC","Metis Urban Housing Corporation","MUHC - Lesser Slave Lake - 044","Slave Lake","T0G2A3","Housing Provider","Specialized Housing"]
["888888880305713 12 ST SE",888888880305,"713 12 ST SE","MUHC","Metis Urban Housing Corporation","MUHC - Lesser Slave Lake - 044","Slave Lake","T0G2A3","Housing Provider","Specialized Housing"]
["888888880305712, 714 6 Avenue SE",888888880305,"712, 714 6 Avenue SE","MUHC","Metis Urban Housing Corporation","MUHC - Lesser Slave Lake - 044","Slave Lake","T0G2A3","Housing Provider","Specialized Housing"]
["888888880305700, 704 1A Avenue SE",888888880305,"700, 704 1A Avenue SE","MUHC","Metis Urban Housing Corporation","MUHC - Lesser Slave Lake - 044","Slave Lake","T0G2A3","Housing Provider","Specialized Housing"]
["888888880305300 5 ST NE",888888880305,"300 5 ST NE","MUHC","Metis Urban Housing Corporation","MUHC - Lesser Slave Lake - 044","Slave Lake","T0G2A2","Housing Provider","Specialized Housing"]
["888888880305412 5 ST NE",888888880305,"412 5 ST NE","MUHC","Metis Urban Housing Corporation","MUHC - Lesser Slave Lake - 044","Slave Lake","T0G2A2","Housing Provider","Specialized Housing"]
["888888880306405 6 ST NE",888888880306,"405 6 ST NE","MUHC","Metis Urban Housing Corporation","MUHC - Lesser Slave Lake - 045","Slave Lake","T0G2A2","Housing Provider","Specialized Housing"]
["8888888803061, 2, 3, 4 128 6 Avenue NW",888888880306,"1, 2, 3, 4 128 6 Avenue NW","MUHC","Metis Urban Housing Corporation","MUHC - Lesser Slave Lake - 045","Slave Lake","T0G2A1","Housing Provider","Specialized Housing"]
["8888888803061, 2, 3, 4 508 6 Avenue SW",888888880306,"1, 2, 3, 4 508 6 Avenue SW","MUHC","Metis Urban Housing Corporation","MUHC - Lesser Slave Lake - 045","Slave Lake","T0G2A4","Housing Provider","Specialized Housing"]
["8888888803075214 52 AVE",888888880307,"5214 52 AVE","MUHC","Metis Urban Housing Corporation","MUHC - Bonnyville-Cold Lake-St. Paul - 046","Cold Lake","T9M1W3","Housing Provider","Specialized Housing"]
["8888888803075702 49 AVE",888888880307,"5702 49 AVE","MUHC","Metis Urban Housing Corporation","MUHC - Bonnyville-Cold Lake-St. Paul - 046","Cold Lake","T9M1T1","Housing Provider","Specialized Housing"]
["8888888803075005 46 ST",888888880307,"5005 46 ST","MUHC","Metis Urban Housing Corporation","MUHC - Bonnyville-Cold Lake-St. Paul - 046","Cold Lake","T9M1Z1","Housing Provider","Specialized Housing"]
["8888888803075014 41 ST",888888880307,"5014 41 ST","MUHC","Metis Urban Housing Corporation","MUHC - Bonnyville-Cold Lake-St. Paul - 046","Cold Lake","T9M2A6","Housing Provider","Specialized Housing"]
["8888888803075007 PARKVIEW CR",888888880307,"5007 PARKVIEW CR","MUHC","Metis Urban Housing Corporation","MUHC - Bonnyville-Cold Lake-St. Paul - 046","Cold Lake","T9M1S7","Housing Provider","Specialized Housing"]
["8888888803075009 46 ST",888888880307,"5009 46 ST","MUHC","Metis Urban Housing Corporation","MUHC - Bonnyville-Cold Lake-St. Paul - 046","Cold Lake","T9M1Z1","Housing Provider","Specialized Housing"]
["8888888803075318 56 ST",888888880307,"5318 56 ST","MUHC","Metis Urban Housing Corporation","MUHC - Bonnyville-Cold Lake-St. Paul - 046","Cold Lake","T9M1R4","Housing Provider","Specialized Housing"]
["8888888803075101 54 ST",888888880307,"5101 54 ST","MUHC","Metis Urban Housing Corporation","MUHC - Bonnyville-Cold Lake-St. Paul - 046","Cold Lake","T0A1T3","Housing Provider","Specialized Housing"]
["8888888803075105 54 ST",888888880307,"5105 54 ST","MUHC","Metis Urban Housing Corporation","MUHC - Bonnyville-Cold Lake-St. Paul - 046","Cold Lake","T0A1T3","Housing Provider","Specialized Housing"]
["8888888803074709 50 AVE",888888880307,"4709 50 AVE","MUHC","Metis Urban Housing Corporation","MUHC - Bonnyville-Cold Lake-St. Paul - 046","Cold Lake","T9M1Y2","Housing Provider","Specialized Housing"]
["8888888803085130 43 ST",888888880308,"5130 43 ST","MUHC","Metis Urban Housing Corporation","MUHC - Bonnyville-Cold Lake-St. Paul - 047","Cold Lake","T9M2A1","Housing Provider","Specialized Housing"]
["88888888030910104 98 AVE",888888880309,"10104 98 AVE","MUHC","Metis Urban Housing Corporation","MUHC - Fort Mcmurray-Lac La Biche - 047","Lac La Biche","T0A2C0","Housing Provider","Specialized Housing"]
["88888888030910006 94 AVE",888888880309,"10006 94 AVE","MUHC","Metis Urban Housing Corporation","MUHC - Fort Mcmurray-Lac La Biche - 047","Lac La Biche","T0A2C0","Housing Provider","Specialized Housing"]
["88888888030910012 94 AVE",888888880309,"10012 94 AVE","MUHC","Metis Urban Housing Corporation","MUHC - Fort Mcmurray-Lac La Biche - 047","Lac La Biche","T0A2C0","Housing Provider","Specialized Housing"]
["88888888030910150 105 ST",888888880309,"10150 105 ST","MUHC","Metis Urban Housing Corporation","MUHC - Fort Mcmurray-Lac La Biche - 047","Lac La Biche","T0A2C0","Housing Provider","Specialized Housing"]
["8888888803099921, 9923 101 Avenue",888888880309,"9921, 9923 101 Avenue","MUHC","Metis Urban Housing Corporation","MUHC - Fort Mcmurray-Lac La Biche - 047","Lac La Biche","T0A2C0","Housing Provider","Specialized Housing"]
["88888888030923 LAKEVIEW CR",888888880309,"23 LAKEVIEW CR","MUHC","Metis Urban Housing Corporation","MUHC - Fort Mcmurray-Lac La Biche - 047","Lac La Biche","T0A2C0","Housing Provider","Specialized Housing"]
["88888888030910217 102 AVE",888888880309,"10217 102 AVE","MUHC","Metis Urban Housing Corporation","MUHC - Fort Mcmurray-Lac La Biche - 047","Lac La Biche","T0A2C0","Housing Provider","Specialized Housing"]
["88888888030910209 102 AVE",888888880309,"10209 102 AVE","MUHC","Metis Urban Housing Corporation","MUHC - Fort Mcmurray-Lac La Biche - 047","Lac La Biche","T0A2C0","Housing Provider","Specialized Housing"]
["88888888030910144 105 ST",888888880309,"10144 105 ST","MUHC","Metis Urban Housing Corporation","MUHC - Fort Mcmurray-Lac La Biche - 047","Lac La Biche","T0A2C0","Housing Provider","Specialized Housing"]
["8888888803115707 53 ST",888888880311,"5707 53 ST","MUHC","Metis Urban Housing Corporation","MUHC - Rimbey-Rocky Mountain House-Sundre - 049","Rocky Mountain House","T4T1L2","Housing Provider","Specialized Housing"]
["8888888803115337 57 AVE",888888880311,"5337 57 AVE","MUHC","Metis Urban Housing Corporation","MUHC - Rimbey-Rocky Mountain House-Sundre - 049","Rocky Mountain House","T4T1M7","Housing Provider","Specialized Housing"]
["8888888803115828 60 AVE",888888880311,"5828 60 AVE","MUHC","Metis Urban Housing Corporation","MUHC - Rimbey-Rocky Mountain House-Sundre - 049","Rocky Mountain House","T4T1K2","Housing Provider","Specialized Housing"]
["8888888803115840 60 AVE",888888880311,"5840 60 AVE","MUHC","Metis Urban Housing Corporation","MUHC - Rimbey-Rocky Mountain House-Sundre - 049","Rocky Mountain House","T4T1K2","Housing Provider","Specialized Housing"]
["8888888803115516 53 AVE",888888880311,"5516 53 AVE","MUHC","Metis Urban Housing Corporation","MUHC - Rimbey-Rocky Mountain House-Sundre - 049","Rocky Mountain House","T4T1H3","Housing Provider","Specialized Housing"]
["8888888803115208 52 ST",888888880311,"5208 52 ST","MUHC","Metis Urban Housing Corporation","MUHC - Rimbey-Rocky Mountain House-Sundre - 049","Rocky Mountain House","T4T1G8","Housing Provider","Specialized Housing"]
["8888888803115108 54 ST",888888880311,"5108 54 ST","MUHC","Metis Urban Housing Corporation","MUHC - Rimbey-Rocky Mountain House-Sundre - 049","Rocky Mountain House","T4T1E6","Housing Provider","Specialized Housing"]
["8888888803115412 51 AVE",888888880311,"5412 51 AVE","MUHC","Metis Urban Housing Corporation","MUHC - Rimbey-Rocky Mountain House-Sundre - 049","Rocky Mountain House","T4T1E8","Housing Provider","Specialized Housing"]
["8888888803115031 58 ST",888888880311,"5031 58 ST","MUHC","Metis Urban Housing Corporation","MUHC - Rimbey-Rocky Mountain House-Sundre - 049","Rocky Mountain House","T0M1T0","Housing Provider","Specialized Housing"]
["8888888803115003 58 ST",888888880311,"5003 58 ST","MUHC","Metis Urban Housing Corporation","MUHC - Rimbey-Rocky Mountain House-Sundre - 049","Rocky Mountain House","T0M1T0","Housing Provider","Specialized Housing"]
["8888888803114547 46 AVE",888888880311,"4547 46 AVE","MUHC","Metis Urban Housing Corporation","MUHC - Rimbey-Rocky Mountain House-Sundre - 049","Rocky Mountain House","T0M1T0","Housing Provider","Specialized Housing"]
["888888880312129 ALBERTA DRIVE",888888880312,"129 ALBERTA DRIVE","MUHC","Metis Urban Housing Corporation","MUHC - Fort Mcmurray-Lac La Biche - 050","Fort McMurray","T9H1R2","Housing Provider","Specialized Housing"]
["888888880312222 BIRD CRES",888888880312,"222 BIRD CRES","MUHC","Metis Urban Housing Corporation","MUHC - Fort Mcmurray-Lac La Biche - 050","Fort McMurray","T9H4T3","Housing Provider","Specialized Housing"]
["888888880312116 SIMPSON WAY",888888880312,"116 SIMPSON WAY","MUHC","Metis Urban Housing Corporation","MUHC - Fort Mcmurray-Lac La Biche - 050","Fort McMurray","T9H3B6","Housing Provider","Specialized Housing"]
["888888880312109 FRASER AVE",888888880312,"109 FRASER AVE","MUHC","Metis Urban Housing Corporation","MUHC - Fort Mcmurray-Lac La Biche - 050","Fort McMurray","T9H1Y9","Housing Provider","Specialized Housing"]
["888888880312113 ARSENAULT CRES",888888880312,"113 ARSENAULT CRES","MUHC","Metis Urban Housing Corporation","MUHC - Fort Mcmurray-Lac La Biche - 050","Fort McMurray","T9H1J5","Housing Provider","Specialized Housing"]
["88888888031229 ALBERTA DRIVE",888888880312,"29 ALBERTA DRIVE","MUHC","Metis Urban Housing Corporation","MUHC - Fort Mcmurray-Lac La Biche - 050","Fort McMurray","T9H1P6","Housing Provider","Specialized Housing"]
["888888880312132 ERINDALE ROAD",888888880312,"132 ERINDALE ROAD","MUHC","Metis Urban Housing Corporation","MUHC - Fort Mcmurray-Lac La Biche - 050","Fort McMurray","T9H4N5","Housing Provider","Specialized Housing"]
["888888880312128 BEAUFORT CRES",888888880312,"128 BEAUFORT CRES","MUHC","Metis Urban Housing Corporation","MUHC - Fort Mcmurray-Lac La Biche - 050","Fort McMurray","T9H2T8","Housing Provider","Specialized Housing"]
["888888880312115 ASTUM COURT",888888880312,"115 ASTUM COURT","MUHC","Metis Urban Housing Corporation","MUHC - Fort Mcmurray-Lac La Biche - 050","Fort McMurray","T9H1B5","Housing Provider","Specialized Housing"]
["888888880312190 ARSENAULT CRES",888888880312,"190 ARSENAULT CRES","MUHC","Metis Urban Housing Corporation","MUHC - Fort Mcmurray-Lac La Biche - 050","Fort McMurray","T9H1J2","Housing Provider","Specialized Housing"]
["888888880312220 WINDSOR DRIVE",888888880312,"220 WINDSOR DRIVE","MUHC","Metis Urban Housing Corporation","MUHC - Fort Mcmurray-Lac La Biche - 050","Fort McMurray","T9H4R3","Housing Provider","Specialized Housing"]
["888888880313#7 711 BEACONHILL DR",888888880313,"#7 711 BEACONHILL DR","MUHC","Metis Urban Housing Corporation","MUHC - Fort Mcmurray-Lac La Biche - 051","Fort McMurray","T9H3R5","Housing Provider","Specialized Housing"]
["888888880313#13 711 BEACONHILL DR",888888880313,"#13 711 BEACONHILL DR","MUHC","Metis Urban Housing Corporation","MUHC - Fort Mcmurray-Lac La Biche - 051","Fort McMurray","T9H3R5","Housing Provider","Specialized Housing"]
["888888880313#20 711 BEACONHILL DR",888888880313,"#20 711 BEACONHILL DR","MUHC","Metis Urban Housing Corporation","MUHC - Fort Mcmurray-Lac La Biche - 051","Fort McMurray","T9H3R5","Housing Provider","Specialized Housing"]
["8888888803159426 89 AVE",888888880315,"9426 89 AVE","MUHC","Metis Urban Housing Corporation","MUHC - Peace River - 052","Peace River","T8S1G7","Housing Provider","Specialized Housing"]
["8888888803159523 85 AVE",888888880315,"9523 85 AVE","MUHC","Metis Urban Housing Corporation","MUHC - Peace River - 052","Peace River","T8S1G3","Housing Provider","Specialized Housing"]
["8888888803159711 84 AVE",888888880315,"9711 84 AVE","MUHC","Metis Urban Housing Corporation","MUHC - Peace River - 052","Peace River","T8S1A4","Housing Provider","Specialized Housing"]
["8888888803159607 86 AVE",888888880315,"9607 86 AVE","MUHC","Metis Urban Housing Corporation","MUHC - Peace River - 052","Peace River","T8S1G4","Housing Provider","Specialized Housing"]
["8888888803158722 95 ST",888888880315,"8722 95 ST","MUHC","Metis Urban Housing Corporation","MUHC - Peace River - 052","Peace River","T8S1G5","Housing Provider","Specialized Housing"]
["88888888031510112 106 AVE",888888880315,"10112 106 AVE","MUHC","Metis Urban Housing Corporation","MUHC - Peace River - 052","Peace River","T8S1K9","Housing Provider","Specialized Housing"]
["88888888031510921 101 ST",888888880315,"10921 101 ST","MUHC","Metis Urban Housing Corporation","MUHC - Peace River - 052","Peace River","T8S1L5","Housing Provider","Specialized Housing"]
[{"$f":"CONCATENATE(B3139,C3139)","v":"88888888031510318 110 AVE"},888888880315,"10318 110 AVE","MUHC","Metis Urban Housing Corporation","MUHC - Peace River - 052","Peace River","T8S1K6","Housing Provider","Specialized Housing"]
["8888888803158110 96 ST",888888880315,"8110 96 ST","MUHC","Metis Urban Housing Corporation","MUHC - Peace River - 052","Peace River","T8S1A7","Housing Provider","Specialized Housing"]
["88888888031510701S, 10701N 92 Street",888888880315,"10701S, 10701N 92 Street","MUHC","Metis Urban Housing Corporation","MUHC - Peace River - 052","Peace River","T8S1R1","Housing Provider","Specialized Housing"]
["8888888803145519, 5521 51 Avenue",888888880314,"5519, 5521 51 Avenue","MUHC","Metis Urban Housing Corporation","MUHC - Bonnyville-Cold Lake-St. Paul - 052","St. Paul","T0A3A4","Housing Provider","Specialized Housing"]
["8888888803145123, 5125 45 Avenue",888888880314,"5123, 5125 45 Avenue","MUHC","Metis Urban Housing Corporation","MUHC - Bonnyville-Cold Lake-St. Paul - 052","St. Paul","T0A3A4","Housing Provider","Specialized Housing"]
["8888888803145025 44 AVE",888888880314,"5025 44 AVE","MUHC","Metis Urban Housing Corporation","MUHC - Bonnyville-Cold Lake-St. Paul - 052","St. Paul","T0A3A4","Housing Provider","Specialized Housing"]
["8888888803145037 45 AVE",888888880314,"5037 45 AVE","MUHC","Metis Urban Housing Corporation","MUHC - Bonnyville-Cold Lake-St. Paul - 052","St. Paul","T0A3A4","Housing Provider","Specialized Housing"]
["8888888803165133 53 AVE",888888880316,"5133 53 AVE","MUHC","Metis Urban Housing Corporation","MUHC - Bonnyville-Cold Lake-St. Paul - 053","St. Paul","T0A3A4","Housing Provider","Specialized Housing"]
["1125273820014214 - 19 Avenue NW",112527382001,"4214 - 19 Avenue NW","MLW","Mill Woods Society for Community Living","MLW Project 1","Edmonton","T6L5P8","Housing Provider","Specialized Housing"]
["1125273720377404 - 139 Avenue NW",112527372037,"7404 - 139 Avenue NW","MPS","Millennium Pavilion Senior's Lodge","Millennium Pavilion","Edmonton","T5C3H7","Housing Provider","Specialized Housing"]
["2623275561312300 - 20 Street Units 1 - 4",262327556131,"2300 - 20 Street Units 1 - 4","MOS","Mosquito Creek Foundation","Kilmore Place","Nanton","T0L1R0","Alberta Social Housing Corporation","Seniors Self Contained Program"]
["2623275561312300 - 20 Street Unit 9 - 12",262327556131,"2300 - 20 Street Unit 9 - 12","MOS","Mosquito Creek Foundation","Kilmore Place","Nanton","T0L1R0","Alberta Social Housing Corporation","Seniors Self Contained Program"]
["2845275560794923 - 49 Street SE",284527556079,"4923 - 49 Street SE","MOS","Mosquito Creek Foundation","Oxley Manor","Stavely","T0L1Z0","Alberta Social Housing Corporation","Seniors Self Contained Program"]
["2623275101722007 - 22 Avenue",262327510172,"2007 - 22 Avenue","MOS","Mosquito Creek Foundation","Silver Willow Lodge","Nanton","T0L1R0","Housing Provider","Seniors Lodge Program"]
["2326275122051100 - 20 Avenue",232627512205,"1100 - 20 Avenue","MVM","Mountain View Seniors' Housing","Aspen Ridge Lodge","Didsbury","T0M0W0","Housing Provider","Seniors Lodge Program"]
["2256275561071335 Gough Road",225627556107,"1335 Gough Road","MVM","Mountain View Seniors' Housing","Carry Manor","Carstairs","T0M0N0","Alberta Social Housing Corporation","Seniors Self Contained Program"]
["2256275561071335 Gough Road",225627556107,"1335 Gough Road","MVM","Mountain View Seniors' Housing","Carry Manor","Carstairs","T0M0N0","Alberta Social Housing Corporation","Seniors Self Contained Program"]
["225627226032113 Meadow Park Drive",225627226032,"113 Meadow Park Drive","MVM","Mountain View Seniors' Housing","Carstairs - R&N 1","Carstairs","T0M0N0","Alberta Social Housing Corporation","Community Housing Program"]
["2256275160651401 Gough Road",225627516065,"1401 Gough Road","MVM","Mountain View Seniors' Housing","Chinook Winds","Carstairs","T0M0N0","Alberta Social Housing Corporation","Seniors Lodge Program"]
["2256275122081401 Gough Road",225627512208,"1401 Gough Road","MVM","Mountain View Seniors' Housing","Chinook Winds Addition","Carstairs","T0M0N0","Housing Provider","Seniors Lodge Program"]
["23262731612514 South Ridge Crescent",232627316125,"14 South Ridge Crescent","MVM","Mountain View Seniors' Housing","Didsbury 1","Didsbury","T0M0W0","Housing Provider","Community Housing Program"]
["23262731612518 South Ridge Crescent",232627316125,"18 South Ridge Crescent","MVM","Mountain View Seniors' Housing","Didsbury 1","Didsbury","T0M0W0","Housing Provider","Community Housing Program"]
["2256275500421313 Gough Road",225627550042,"1313 Gough Road","MVM","Mountain View Seniors' Housing","Dr. Crystal Manor","Carstairs","T0M0N0","Alberta Social Housing Corporation","Seniors Self Contained Program"]
["286027556058115 1 Street NW 1 - 6",286027556058,"115 1 Street NW 1 - 6","MVM","Mountain View Seniors' Housing","Hagen Manor","Sundre","T0M1X0","Alberta Social Housing Corporation","Seniors Self Contained Program"]
["2326275560412 Westhill Drive",232627556041,"2 Westhill Drive","MVM","Mountain View Seniors' Housing","Didsbury Kinsmen Manor","Didsbury","T0M0W0","Alberta Social Housing Corporation","Seniors Self Contained Program"]
["2625275560031-5214 - 50 Street",262527556003,"1-5214 - 50 Street","MVM","Mountain View Seniors' Housing","Kiwanis Manor","Olds","T4H1N9","Alberta Social Housing Corporation","Seniors Self Contained Program"]
["2625275560032-5214 - 50 Street",262527556003,"2-5214 - 50 Street","MVM","Mountain View Seniors' Housing","Kiwanis Manor","Olds","T4H1N9","Alberta Social Housing Corporation","Seniors Self Contained Program"]
["2625275560595214 - 50 Street",262527556059,"5214 - 50 Street","MVM","Mountain View Seniors' Housing","Kiwanis Manor North","Olds","T4H1N9","Alberta Social Housing Corporation","Seniors Self Contained Program"]
["2625275561465314 - 50 Street",262527556146,"5314 - 50 Street","MVM","Mountain View Seniors' Housing","Kiwanis Manor West","Olds","T4H1N9","Alberta Social Housing Corporation","Seniors Self Contained Program"]
["2625275101735230 - 50 Street",262527510173,"5230 - 50 Street","MVM","Mountain View Seniors' Housing","Mount View Lodge","Olds","T4H1N7","Housing Provider","Seniors Lodge Program"]
["2625273100172 Richards Crescent",262527310017,"2 Richards Crescent","MVM","Mountain View Seniors' Housing","Olds","Olds","T4H1G1","Housing Provider","Community Housing Program"]
["2625273100177Richards Crescent",262527310017,"7Richards Crescent","MVM","Mountain View Seniors' Housing","Olds","Olds","T4H1G1","Alberta Social Housing Corporation","Community Housing Program"]
["2625273100173 Richards Crescent",262527310017,"3 Richards Crescent","MVM","Mountain View Seniors' Housing","Olds","Olds","T4H1G1","Housing Provider","Community Housing Program"]
["2625273100178 Richards Crescent",262527310017,"8 Richards Crescent","MVM","Mountain View Seniors' Housing","Olds","Olds","T4H1G1","Alberta Social Housing Corporation","Community Housing Program"]
["2625273162136129 - 53 Street",262527316213,"6129 - 53 Street","MVM","Mountain View Seniors' Housing","Olds 2 (FCLS)","Olds","T4H1L2","Alberta Social Housing Corporation","Community Housing Program"]
["2625273162135322 Alder Close",262527316213,"5322 Alder Close","MVM","Mountain View Seniors' Housing","Olds 2 (FCLS)","Olds","T4H1L4","Alberta Social Housing Corporation","Community Housing Program"]
["2625273162136131 - 53 Street",262527316213,"6131 - 53 Street","MVM","Mountain View Seniors' Housing","Olds 2 (FCLS)","Olds","T4H1L2","Alberta Social Housing Corporation","Community Housing Program"]
["230127556026211 1 Avenue West  Units 1 - 6",230127556026,"211 1 Avenue West  Units 1 - 6","MVM","Mountain View Seniors' Housing","Pioneer Apartments","Cremona","T0M0R0","Alberta Social Housing Corporation","Seniors Self Contained Program"]
["286027556110419 Centre Street N",286027556110,"419 Centre Street N","MVM","Mountain View Seniors' Housing","Pioneer Place","Sundre","T0M1X0","Alberta Social Housing Corporation","Seniors Self Contained Program"]
["286027512226749 - 6 Street SW",286027512226,"749 - 6 Street SW","MVM","Mountain View Seniors' Housing","Sundre Seniors' Supportive Living Facility","Sundre",null,"Housing Provider","Seniors Lodge Program"]
["286027550094205 - 1 Avenue NW",286027550094,"205 - 1 Avenue NW","MVM","Mountain View Seniors' Housing","Wild Rose Court","Sundre","T0M1X0","Alberta Social Housing Corporation","Seniors Self Contained Program"]
["2194273100031027 A Second Avenue West",219427310003,"1027 A Second Avenue West","NEW","Newell Housing Foundation","Brooks 1","Brooks","T1R0C3","Alberta Social Housing Corporation","Community Housing Program"]
["2194273100031023 A Second Avenue West",219427310003,"1023 A Second Avenue West","NEW","Newell Housing Foundation","Brooks 1","Brooks","T1R0C3","Alberta Social Housing Corporation","Community Housing Program"]
["2194273100031019 A Second Avenue West",219427310003,"1019 A Second Avenue West","NEW","Newell Housing Foundation","Brooks 1","Brooks","T1R0C3","Alberta Social Housing Corporation","Community Housing Program"]
["2194273100031015 A Second Avenue West",219427310003,"1015 A Second Avenue West","NEW","Newell Housing Foundation","Brooks 1","Brooks","T1R0C3","Alberta Social Housing Corporation","Community Housing Program"]
["2194273100031011 A Second Avenue West",219427310003,"1011 A Second Avenue West","NEW","Newell Housing Foundation","Brooks 1","Brooks","T1R0C3","Alberta Social Housing Corporation","Community Housing Program"]
["2194273100031007 A Second Avenue West",219427310003,"1007 A Second Avenue West","NEW","Newell Housing Foundation","Brooks 1","Brooks","T1R0C3","Alberta Social Housing Corporation","Community Housing Program"]
["2194273100031003 A Second Avenue West",219427310003,"1003 A Second Avenue West","NEW","Newell Housing Foundation","Brooks 1","Brooks","T1R0C3","Alberta Social Housing Corporation","Community Housing Program"]
["2194273160441029 Cassils Road West",219427316044,"1029 Cassils Road West","NEW","Newell Housing Foundation","Brooks 2","Brooks","T1R0C8","Alberta Social Housing Corporation","Community Housing Program"]
["2194273160441033 Cassils Road West",219427316044,"1033 Cassils Road West","NEW","Newell Housing Foundation","Brooks 2","Brooks","T1R0C8","Alberta Social Housing Corporation","Community Housing Program"]
["2194273160441037 Cassils Road West",219427316044,"1037 Cassils Road West","NEW","Newell Housing Foundation","Brooks 2","Brooks","T1R0C8","Alberta Social Housing Corporation","Community Housing Program"]
["21942731604411 Lake Newell Mews",219427316044,"11 Lake Newell Mews","NEW","Newell Housing Foundation","Brooks 2","Brooks","T1R0L4","Alberta Social Housing Corporation","Community Housing Program"]
["21942731604413 Lake Newell Mews",219427316044,"13 Lake Newell Mews","NEW","Newell Housing Foundation","Brooks 2","Brooks","T1R0L4","Alberta Social Housing Corporation","Community Housing Program"]
["21942731604433 Lake Newell Crescent",219427316044,"33 Lake Newell Crescent","NEW","Newell Housing Foundation","Brooks 2","Brooks","T1R0L4","Alberta Social Housing Corporation","Community Housing Program"]
["21942731604437 Lake Newell Crescent",219427316044,"37 Lake Newell Crescent","NEW","Newell Housing Foundation","Brooks 2","Brooks","T1R0L4","Alberta Social Housing Corporation","Community Housing Program"]
["21942731604441 Lake Newell Crescent",219427316044,"41 Lake Newell Crescent","NEW","Newell Housing Foundation","Brooks 2","Brooks","T1R0L4","Alberta Social Housing Corporation","Community Housing Program"]
["2194273162441A Beamish Park Drive",219427316244,"1A Beamish Park Drive","NEW","Newell Housing Foundation","Brooks 4","Brooks","T1R0K2","Alberta Social Housing Corporation","Community Housing Program"]
["2194273162441010 - 3 Avenue E",219427316244,"1010 - 3 Avenue E","NEW","Newell Housing Foundation","Brooks 4","Brooks","T1R0K2","Alberta Social Housing Corporation","Community Housing Program"]
["2194273162447 Beamish Park Drive",219427316244,"7 Beamish Park Drive","NEW","Newell Housing Foundation","Brooks 4","Brooks","T1R0K2","Alberta Social Housing Corporation","Community Housing Program"]
["2194273162443 Beamish Park Drive",219427316244,"3 Beamish Park Drive","NEW","Newell Housing Foundation","Brooks 4","Brooks","T1R0K2","Alberta Social Housing Corporation","Community Housing Program"]
["2194273162441018 - 3 Avenue E",219427316244,"1018 - 3 Avenue E","NEW","Newell Housing Foundation","Brooks 4","Brooks","T1R0C3","Alberta Social Housing Corporation","Community Housing Program"]
["2194273162441014 - 3 Avenue E",219427316244,"1014 - 3 Avenue E","NEW","Newell Housing Foundation","Brooks 4","Brooks","T1R0K2","Alberta Social Housing Corporation","Community Housing Program"]
["206127556043714 - 3 Avenue, Units 1-3",206127556043,"714 - 3 Avenue, Units 1-3","NEW","Newell Housing Foundation","Dr. Scotts Apartments","Bassano","T0J0B0","Alberta Social Housing Corporation","Seniors Self Contained Program"]
["206127556043714 - 3 Avenue, Units 4-8",206127556043,"714 - 3 Avenue, Units 4-8","NEW","Newell Housing Foundation","Dr. Scotts Apartments","Bassano","T0J0B0","Alberta Social Housing Corporation","Seniors Self Contained Program"]
[{"$f":"CONCATENATE(B3203,C3203)","v":"288327556086219 centre street"},288327556086,"219 centre street","NEW","Newell Housing Foundation","Heritage Villa","Tilley","T0J3K0","Alberta Social Housing Corporation","Seniors Self Contained Program"]
["237327556068366 Henkel Court Units 1 - 6",237327556068,"366 Henkel Court Units 1 - 6","NEW","Newell Housing Foundation","Heritage Villa","Duchess","T0J0Z0","Alberta Social Housing Corporation","Seniors Self Contained Program"]
["219427510114500 - 3 Street E",219427510114,"500 - 3 Street E","NEW","Newell Housing Foundation","Newbrook Lodge","Brooks","T1R1P6","Housing Provider","Seniors Lodge Program"]
["219427556012421 - Fourth Avenue West",219427556012,"421 - Fourth Avenue West","NEW","Newell Housing Foundation","Pioneer Villa Court 1","Brooks","T1R0T7","Alberta Social Housing Corporation","Seniors Self Contained Program"]
["219427556085330 - 4 Street W",219427556085,"330 - 4 Street W","NEW","Newell Housing Foundation","Pioneer Villa Court 2","Brooks","T1R0T8","Alberta Social Housing Corporation","Seniors Self Contained Program"]
["219427556100320 - 4 Street W",219427556100,"320 - 4 Street W","NEW","Newell Housing Foundation","Pioneer Villa Court 3","Brooks","T1R0T8","Alberta Social Housing Corporation","Seniors Self Contained Program"]
["219427556161426 - Third Avenue West",219427556161,"426 - Third Avenue West","NEW","Newell Housing Foundation","Pioneer Villa Court 4","Brooks","T1R0T9","Alberta Social Housing Corporation","Seniors Self Contained Program"]
["206127516033315 - 7 Street",206127516033,"315 - 7 Street","NEW","Newell Housing Foundation","Playfair Lodge","Bassano","T0J0B0","Alberta Social Housing Corporation","Seniors Lodge Program"]
["278127556136532 Dahlia Street",278127556136,"532 Dahlia Street","NEW","Newell Housing Foundation","Wild Rose Villa","Rosemary","T0J2W0","Alberta Social Housing Corporation","Seniors Self Contained Program"]
["157927552218201 - 3 Street",157927552218,"201 - 3 Street","NTD","Newthorad Seniors Housing Foundation","Byron Manor","Thorhild","T0A3J0","Alberta Social Housing Corporation","Seniors Self Contained Program"]
["1567275520661 Street & 2 Avenue Units 1 - 4",156727552066,"1 Street & 2 Avenue Units 1 - 4","NTD","Newthorad Seniors Housing Foundation","Goldenview Homes","Radway","T0A2V0","Alberta Social Housing Corporation","Seniors Self Contained Program"]
["1567275520661 Street & 2 Avenue Units 5 - 8",156727552066,"1 Street & 2 Avenue Units 5 - 8","NTD","Newthorad Seniors Housing Foundation","Goldenview Homes","Radway","T0A2V0","Alberta Social Housing Corporation","Seniors Self Contained Program"]
["157327552160Newbrook",157327552160,"Newbrook","NTD","Newthorad Seniors Housing Foundation","Silver Horizons","Newbrook","T0A2P0","Alberta Social Housing Corporation","Seniors Self Contained Program"]
["157927512097302 - 2  Avenue",157927512097,"302 - 2  Avenue","NTD","Newthorad Seniors Housing Foundation","Thorhild Lodge","Thorhild","T0A3J0","Alberta Social Housing Corporation","Seniors Lodge Program"]
["157927223064404 Namepi Crescent",157927223064,"404 Namepi Crescent","NTD","Newthorad Seniors Housing Foundation","Thorhild R&N 2","Thorhild","T0A3J0","Alberta Social Housing Corporation","Community Housing Program"]
["157927223064418 Namepi Crescent",157927223064,"418 Namepi Crescent","NTD","Newthorad Seniors Housing Foundation","Thorhild R&N 2","Thorhild","T0A3J0","Alberta Social Housing Corporation","Community Housing Program"]
["157927552068202 - 3 Street",157927552068,"202 - 3 Street","NTD","Newthorad Seniors Housing Foundation","Twilight Haven","Thorhild","T0A3J0","Alberta Social Housing Corporation","Seniors Self Contained Program"]
["157927552068206 - 3 Street",157927552068,"206 - 3 Street","NTD","Newthorad Seniors Housing Foundation","Twilight Haven","Thorhild","T0A3J0","Alberta Social Housing Corporation","Seniors Self Contained Program"]
["1201275521255002 - 52 Street",120127552125,"5002 - 52 Street","NPF","North Peace Housing Foundation","Autumn Villa","Berwyn","T0H0E0","Alberta Social Housing Corporation","Seniors Self Contained Program"]
["125427510165#202 1 Avenue SW",125427510165,"#202 1 Avenue SW","NPF","North Peace Housing Foundation","Del-Air Lodge","Manning","T0H2M0","Alberta Social Housing Corporation","Seniors Lodge Program"]
["12242722322610912 - 114 Street",122427223226,"10912 - 114 Street","NPF","North Peace Housing Foundation","Fairview R&N 1","Whitelaw","T0H1L0","Alberta Social Housing Corporation","Community Housing Program"]
["122427223226303 - 10 Street",122427223226,"303 - 10 Street","NPF","North Peace Housing Foundation","Fairview R&N 1","Bluesky","T0H0J0","Alberta Social Housing Corporation","Community Housing Program"]
["12242722322610804 - 114 Street",122427223226,"10804 - 114 Street","NPF","North Peace Housing Foundation","Fairview R&N 1","Whitelaw","T0H1L0","Alberta Social Housing Corporation","Community Housing Program"]
["12242722322610904 - 114 Street",122427223226,"10904 - 114 Street","NPF","North Peace Housing Foundation","Fairview R&N 1","Whitelaw","T0H1L0","Alberta Social Housing Corporation","Community Housing Program"]
["12242722311110421 - 106 Avenue",122427223111,"10421 - 106 Avenue","NPF","North Peace Housing Foundation","Fairview R&N 2","Fairview","T0H1L0","Alberta Social Housing Corporation","Community Housing Program"]
["12242722311110916 - 114 Street",122427223111,"10916 - 114 Street","NPF","North Peace Housing Foundation","Fairview R&N 2","Fairview","T0H1L0","Alberta Social Housing Corporation","Community Housing Program"]
["12242722311110515 - 105 Street",122427223111,"10515 - 105 Street","NPF","North Peace Housing Foundation","Fairview R&N 2","Fairview","T0H1L0","Alberta Social Housing Corporation","Community Housing Program"]
["12242722311110612 - 112 Street",122427223111,"10612 - 112 Street","NPF","North Peace Housing Foundation","Fairview R&N 2","Fairview","T0H1L0","Alberta Social Housing Corporation","Community Housing Program"]
["12242722322511100 - 107 Avenue",122427223225,"11100 - 107 Avenue","NPF","North Peace Housing Foundation","Fairview R&N 3","Fairview","T0H1L0","Alberta Social Housing Corporation","Community Housing Program"]
["12242722316911505 - 107 Avenue",122427223169,"11505 - 107 Avenue","NPF","North Peace Housing Foundation","Fairview R&N 4","Fairview","T0H1L0","Alberta Social Housing Corporation","Community Housing Program"]
["12242755208210705 - 104 Avenue",122427552082,"10705 - 104 Avenue","NPF","North Peace Housing Foundation","Garrison Manor","Fairview","T0H1L0","Alberta Social Housing Corporation","Seniors Self Contained Program"]
["12242755225210705 - 104 Avenue",122427552252,"10705 - 104 Avenue","NPF","North Peace Housing Foundation","Garrison Manor Addition","Fairview","T0H1L0","Alberta Social Housing Corporation","Seniors Self Contained Program"]
["12722755203610111 - 103 Avenue",127227552036,"10111 - 103 Avenue","NPF","North Peace Housing Foundation","Greene Valley Apartments","Peace River","T8S1K1","Alberta Social Housing Corporation","Seniors Self Contained Program"]
["1242273100104514 - 47A Street",124227310010,"4514 - 47A Street","NPF","North Peace Housing Foundation","Grimshaw 1","Grimshaw","T0H1W0","Alberta Social Housing Corporation","Community Housing Program"]
["1242273100104520 - 47A Street",124227310010,"4520 - 47A Street","NPF","North Peace Housing Foundation","Grimshaw 1","Grimshaw","T0H1W0","Alberta Social Housing Corporation","Community Housing Program"]
["1242273100104508 - 47A Street",124227310010,"4508 - 47A Street","NPF","North Peace Housing Foundation","Grimshaw 1","Grimshaw","T0H1W0","Alberta Social Housing Corporation","Community Housing Program"]
["1242273122954422 - 52 Street",124227312295,"4422 - 52 Street","NPF","North Peace Housing Foundation","Grimshaw 2 (FCLS)","Grimshaw","T0H1W0","Alberta Social Housing Corporation","Community Housing Program"]
["1242273122954420 - 52 Street",124227312295,"4420 - 52 Street","NPF","North Peace Housing Foundation","Grimshaw 2 (FCLS)","Grimshaw","T0H1W0","Alberta Social Housing Corporation","Community Housing Program"]
["1242273122954214 - 52 Street",124227312295,"4214 - 52 Street","NPF","North Peace Housing Foundation","Grimshaw 2 (FCLS)","Grimshaw","T0H1W0","Alberta Social Housing Corporation","Community Housing Program"]
["1242273122954212 - 52 Street",124227312295,"4212 - 52 Street","NPF","North Peace Housing Foundation","Grimshaw 2 (FCLS)","Grimshaw","T0H1W0","Alberta Social Housing Corporation","Community Housing Program"]
["1242273122954215 - 52 Street",124227312295,"4215 - 52 Street","NPF","North Peace Housing Foundation","Grimshaw 2 (FCLS)","Grimshaw","T0H1W0","Alberta Social Housing Corporation","Community Housing Program"]
["1242273122954213 - 52 Street",124227312295,"4213 - 52 Street","NPF","North Peace Housing Foundation","Grimshaw 2 (FCLS)","Grimshaw","T0H1W0","Alberta Social Housing Corporation","Community Housing Program"]
["1242273122954410 - 55 Street",124227312295,"4410 - 55 Street","NPF","North Peace Housing Foundation","Grimshaw 2 (FCLS)","Grimshaw","T0H1W0","Alberta Social Housing Corporation","Community Housing Program"]
["1242273122954412 - 55 Street",124227312295,"4412 - 55 Street","NPF","North Peace Housing Foundation","Grimshaw 2 (FCLS)","Grimshaw","T0H1W0","Alberta Social Housing Corporation","Community Housing Program"]
["1242273122954504 - 55 Street",124227312295,"4504 - 55 Street","NPF","North Peace Housing Foundation","Grimshaw 2 (FCLS)","Grimshaw","T0H1W0","Alberta Social Housing Corporation","Community Housing Program"]
["1242273122954506 - 55 Street",124227312295,"4506 - 55 Street","NPF","North Peace Housing Foundation","Grimshaw 2 (FCLS)","Grimshaw","T0H1W0","Alberta Social Housing Corporation","Community Housing Program"]
["1242273122954510 - 55 Street",124227312295,"4510 - 55 Street","NPF","North Peace Housing Foundation","Grimshaw 2 (FCLS)","Grimshaw","T0H1W0","Alberta Social Housing Corporation","Community Housing Program"]
["1242273122954514 - 55 Street",124227312295,"4514 - 55 Street","NPF","North Peace Housing Foundation","Grimshaw 2 (FCLS)","Grimshaw","T0H1W0","Alberta Social Housing Corporation","Community Housing Program"]
["1242273122954410 - 53 Street",124227312295,"4410 - 53 Street","NPF","North Peace Housing Foundation","Grimshaw 2 (FCLS)","Grimshaw","T0H1W0","Alberta Social Housing Corporation","Community Housing Program"]
["1242273128354518 - 47A Street",124227312835,"4518 - 47A Street","NPF","North Peace Housing Foundation","Grimshaw 3","Grimshaw","T0H1W0","Alberta Social Housing Corporation","Community Housing Program"]
["1242272232045418 - 53 Street",124227223204,"5418 - 53 Street","NPF","North Peace Housing Foundation","Grimshaw R&N 1","Grimshaw","T0H0E0","Alberta Social Housing Corporation","Community Housing Program"]
["1242272232044210 - 52A Street",124227223204,"4210 - 52A Street","NPF","North Peace Housing Foundation","Grimshaw R&N 1","Grimshaw","T0H1W0","Alberta Social Housing Corporation","Community Housing Program"]
["1242272232045201 - 42 Avenue",124227223204,"5201 - 42 Avenue","NPF","North Peace Housing Foundation","Grimshaw R&N 1","Grimshaw","T0H1W0","Housing Provider","Community Housing Program"]
["1242272225194712 - 47 Street",124227222519,"4712 - 47 Street","NPF","North Peace Housing Foundation","Grimshaw R&N 2","Grimshaw","T0H1W0","Alberta Social Housing Corporation","Community Housing Program"]
["1242272230135422 - 51 Street",124227223013,"5422 - 51 Street","NPF","North Peace Housing Foundation","Grimshaw R&N 3","Berwyn","T0H0E0","Alberta Social Housing Corporation","Community Housing Program"]
["1242272230134330 - 54 Street",124227223013,"4330 - 54 Street","NPF","North Peace Housing Foundation","Grimshaw R&N 3","Grimshaw","T0H1W0","Alberta Social Housing Corporation","Community Housing Program"]
["12422722301312 Highway 689 W",124227223013,"12 Highway 689 W","NPF","North Peace Housing Foundation","Grimshaw R&N 3","Grimshaw","T0H1E0","Alberta Social Housing Corporation","Community Housing Program"]
["1242272230134302 - 53 Street",124227223013,"4302 - 53 Street","NPF","North Peace Housing Foundation","Grimshaw R&N 3","Grimshaw","T0H1W0","Alberta Social Housing Corporation","Community Housing Program"]
["1242272230134409 - 53 Street",124227223013,"4409 - 53 Street","NPF","North Peace Housing Foundation","Grimshaw R&N 3","Grimshaw","T0H1W0","Alberta Social Housing Corporation","Community Housing Program"]
["1242272230134310 - 54 Street",124227223013,"4310 - 54 Street","NPF","North Peace Housing Foundation","Grimshaw R&N 3","Grimshaw","T0H1W0","Alberta Social Housing Corporation","Community Housing Program"]
["1242272230134210 - 53 Street",124227223013,"4210 - 53 Street","NPF","North Peace Housing Foundation","Grimshaw R&N 3","Grimshaw","T0H1W0","Alberta Social Housing Corporation","Community Housing Program"]
["1242272231724711 - 44 Avenue",124227223172,"4711 - 44 Avenue","NPF","North Peace Housing Foundation","Grimshaw R&N 4","Grimshaw","T0H1W0","Alberta Social Housing Corporation","Community Housing Program"]
["1242272231724814 - 46 Street",124227223172,"4814 - 46 Street","NPF","North Peace Housing Foundation","Grimshaw R&N 4","Grimshaw","T0H1W0","Alberta Social Housing Corporation","Community Housing Program"]
["1242272231724717 - 44 Avenue",124227223172,"4717 - 44 Avenue","NPF","North Peace Housing Foundation","Grimshaw R&N 4","Grimshaw","T0H1W0","Alberta Social Housing Corporation","Community Housing Program"]
[{"$f":"CONCATENATE(B3267,C3267)","v":"1242272231724309 - 53 Street"},124227223172,"4309 - 53 Street","NPF","North Peace Housing Foundation","Grimshaw R&N 4","Grimshaw","T0H1W0","Alberta Social Housing Corporation","Community Housing Program"]
["1242272231724823 - 45 Street",124227223172,"4823 - 45 Street","NPF","North Peace Housing Foundation","Grimshaw R&N 4","Grimshaw","T0H1W0","Alberta Social Housing Corporation","Community Housing Program"]
["1242272231724425 - 50 Avenue",124227223172,"4425 - 50 Avenue","NPF","North Peace Housing Foundation","Grimshaw R&N 4","Grimshaw","T0H1W0","Alberta Social Housing Corporation","Community Housing Program"]
["12242751200110400 - 108 Street",122427512001,"10400 - 108 Street","NPF","North Peace Housing Foundation","Harvest Lodge","Fairview","T0H1L0","Housing Provider","Seniors Lodge Program"]
["12722751206310123 - 103 Avenue",127227512063,"10123 - 103 Avenue","NPF","North Peace Housing Foundation","Heritage Tower Senior Citizens Complex","Peace River","T8S1C8","Alberta Social Housing Corporation","Seniors Lodge Program"]
["124827512051908 - 2 Avenue",124827512051,"908 - 2 Avenue","NPF","North Peace Housing Foundation","Homesteader Lodge","Hines Creek","T0H2A0","Alberta Social Housing Corporation","Seniors Lodge Program"]
["1242275522044703 - 50 Street",124227552204,"4703 - 50 Street","NPF","North Peace Housing Foundation","Legion Court","Grimshaw","T0H1W0","Alberta Social Housing Corporation","Seniors Self Contained Program"]
["124227552034#2 and #4, 5008 - 53 Avenue",124227552034,"#2 and #4, 5008 - 53 Avenue","NPF","North Peace Housing Foundation","Legion Place","Grimshaw","T0H1W0","Alberta Social Housing Corporation","Seniors Self Contained Program"]
["124227552034#6 and #8, 5008 - 53 Avenue",124227552034,"#6 and #8, 5008 - 53 Avenue","NPF","North Peace Housing Foundation","Legion Place","Grimshaw","T0H1W0","Alberta Social Housing Corporation","Seniors Self Contained Program"]
["124227552034#12 and #14, 5008 - 53 Avenue",124227552034,"#12 and #14, 5008 - 53 Avenue","NPF","North Peace Housing Foundation","Legion Place","Grimshaw","T0H1W0","Alberta Social Housing Corporation","Seniors Self Contained Program"]
["124227552034#16 and #18, 5008 - 53 Avenue",124227552034,"#16 and #18, 5008 - 53 Avenue","NPF","North Peace Housing Foundation","Legion Place","Grimshaw","T0H1W0","Alberta Social Housing Corporation","Seniors Self Contained Program"]
["125427312885120 - 1st Avenue SW",125427312885,"120 - 1st Avenue SW","NPF","North Peace Housing Foundation","Manning","Manning",null,"Alberta Social Housing Corporation","Community Housing Program"]
["125427312885118 - 1st Street SW",125427312885,"118 - 1st Street SW","NPF","North Peace Housing Foundation","Manning","Manning","T0H 2M0","Alberta Social Housing Corporation","Community Housing Program"]
["125427312877403 A&B - 1 Street NE",125427312877,"403 A&B - 1 Street NE","NPF","North Peace Housing Foundation","Manning 1","Manning","T0H2M0","Alberta Social Housing Corporation","Community Housing Program"]
["125427312877405 A&B - 1 Street NE",125427312877,"405 A&B - 1 Street NE","NPF","North Peace Housing Foundation","Manning 1","Manning","T0H2M0","Alberta Social Housing Corporation","Community Housing Program"]
["125427312877407 A&B - 1 Street NE",125427312877,"407 A&B - 1 Street NE","NPF","North Peace Housing Foundation","Manning 1","Manning","T0H2M0","Alberta Social Housing Corporation","Community Housing Program"]
["125427312877410 A&B - 2 Street NE",125427312877,"410 A&B - 2 Street NE","NPF","North Peace Housing Foundation","Manning 1","Manning","T0H2M0","Alberta Social Housing Corporation","Community Housing Program"]
["125427312877408 A&B - 2 Street NE",125427312877,"408 A&B - 2 Street NE","NPF","North Peace Housing Foundation","Manning 1","Manning","T0H2M0","Alberta Social Housing Corporation","Community Housing Program"]
["125427312877406 A&B - 2 Street NE",125427312877,"406 A&B - 2 Street NE","NPF","North Peace Housing Foundation","Manning 1","Manning","T0H2M0","Alberta Social Housing Corporation","Community Housing Program"]
["125427312877401 A&B - 1 Street NE",125427312877,"401 A&B - 1 Street NE","NPF","North Peace Housing Foundation","Manning 1","Manning","T0H2M0","Alberta Social Housing Corporation","Community Housing Program"]
["125427312792504 A&B - 2 Street NW",125427312792,"504 A&B - 2 Street NW","NPF","North Peace Housing Foundation","Manning 2","Manning","T0H2M0","Alberta Social Housing Corporation","Community Housing Program"]
["125427312792502 A&B - 2 Street NW",125427312792,"502 A&B - 2 Street NW","NPF","North Peace Housing Foundation","Manning 2","Manning","T0H2M0","Alberta Social Housing Corporation","Community Housing Program"]
["125427312792500 A&B - 2 Street NW",125427312792,"500 A&B - 2 Street NW","NPF","North Peace Housing Foundation","Manning 2","Manning","T0H2M0","Alberta Social Housing Corporation","Community Housing Program"]
["125427223161206 - 6 Avenue NW",125427223161,"206 - 6 Avenue NW","NPF","North Peace Housing Foundation","Manning R&N 1","Manning","T0H2M0","Alberta Social Housing Corporation","Community Housing Program"]
["125427223162203 - 6 Avenue NW",125427223162,"203 - 6 Avenue NW","NPF","North Peace Housing Foundation","Manning R&N 2","Manning","T0H2M0","Alberta Social Housing Corporation","Community Housing Program"]
["125427223162209 - 6 Avenue NW",125427223162,"209 - 6 Avenue NW","NPF","North Peace Housing Foundation","Manning R&N 2","Manning","T0H2M0","Alberta Social Housing Corporation","Community Housing Program"]
["125427552206403 3 Street NW  Units 1 - 16",125427552206,"403 3 Street NW  Units 1 - 16","NPF","North Peace Housing Foundation","Manning Senior Citizens Apartments","Manning","T0H2M0","Alberta Social Housing Corporation","Seniors Self Contained Program"]
["1265275521299909 97 Street Units 1 - 4",126527552129,"9909 97 Street Units 1 - 4","NPF","North Peace Housing Foundation","Nampa Legion Manor 1","Nampa","T0H2R0","Alberta Social Housing Corporation","Seniors Self Contained Program"]
["1265275522009821 103 Street  Units 1 - 4",126527552200,"9821 103 Street  Units 1 - 4","NPF","North Peace Housing Foundation","Nampa Legion Manor 2","Nampa","T0H2R0","Alberta Social Housing Corporation","Seniors Self Contained Program"]
["12652755233710211 99 Avenue  Units 1 - 4",126527552337,"10211 99 Avenue  Units 1 - 4","NPF","North Peace Housing Foundation","Nampa Legion Manor 3","Nampa","T0H2R0","Alberta Social Housing Corporation","Seniors Self Contained Program"]
["12652722308410205A/10205B - 99 Avenue",126527223084,"10205A/10205B - 99 Avenue","NPF","North Peace Housing Foundation","Nampa R&N 1","Nampa","T0H2R0","Alberta Social Housing Corporation","Community Housing Program"]
["1272273128787711/7713 98 Street",127227312878,"7711/7713 98 Street","NPF","North Peace Housing Foundation","Peace River 1","Peace River","T8S1C8","Alberta Social Housing Corporation","Community Housing Program"]
["1272273128789701/9702 78 Avenue",127227312878,"9701/9702 78 Avenue","NPF","North Peace Housing Foundation","Peace River 1","Peace River","T8S1C8","Alberta Social Housing Corporation","Community Housing Program"]
["1272273128789703/9705 78 Avenue",127227312878,"9703/9705 78 Avenue","NPF","North Peace Housing Foundation","Peace River 1","Peace River","T8S1C8","Alberta Social Housing Corporation","Community Housing Program"]
["1272273128789704/9706 78 Avenue",127227312878,"9704/9706 78 Avenue","NPF","North Peace Housing Foundation","Peace River 1","Peace River","T8S1C8","Alberta Social Housing Corporation","Community Housing Program"]
["1272273128789707/9709 78 Avenue",127227312878,"9707/9709 78 Avenue","NPF","North Peace Housing Foundation","Peace River 1","Peace River","T8S1C8","Alberta Social Housing Corporation","Community Housing Program"]
["1272273128789708/9710 78 Avenue",127227312878,"9708/9710 78 Avenue","NPF","North Peace Housing Foundation","Peace River 1","Peace River","T8S1C8","Alberta Social Housing Corporation","Community Housing Program"]
["1272273128789711/9713 78 Avenue",127227312878,"9711/9713 78 Avenue","NPF","North Peace Housing Foundation","Peace River 1","Peace River","T8S1C8","Alberta Social Housing Corporation","Community Housing Program"]
["1272273128789712/9714 78 Avenue",127227312878,"9712/9714 78 Avenue","NPF","North Peace Housing Foundation","Peace River 1","Peace River","T8S1C8","Alberta Social Housing Corporation","Community Housing Program"]
["1272273128789715/9717 78 Avenue",127227312878,"9715/9717 78 Avenue","NPF","North Peace Housing Foundation","Peace River 1","Peace River","T8S1C8","Alberta Social Housing Corporation","Community Housing Program"]
["1272273128789716/9718 78 Avenue",127227312878,"9716/9718 78 Avenue","NPF","North Peace Housing Foundation","Peace River 1","Peace River","T8S1C8","Alberta Social Housing Corporation","Community Housing Program"]
["1272273128789719/9721 78 Avenue",127227312878,"9719/9721 78 Avenue","NPF","North Peace Housing Foundation","Peace River 1","Peace River","T8S1C8","Alberta Social Housing Corporation","Community Housing Program"]
["1272273128789720/9722 78 Avenue",127227312878,"9720/9722 78 Avenue","NPF","North Peace Housing Foundation","Peace River 1","Peace River","T8S1C8","Alberta Social Housing Corporation","Community Housing Program"]
["1272273128789723/9725 78 Avenue",127227312878,"9723/9725 78 Avenue","NPF","North Peace Housing Foundation","Peace River 1","Peace River","T8S1C8","Alberta Social Housing Corporation","Community Housing Program"]
["1272273128789724/9726 78 Avenue",127227312878,"9724/9726 78 Avenue","NPF","North Peace Housing Foundation","Peace River 1","Peace River","T8S1C8","Alberta Social Housing Corporation","Community Housing Program"]
["1272273128789727/9729 78 Avenue",127227312878,"9727/9729 78 Avenue","NPF","North Peace Housing Foundation","Peace River 1","Peace River","T8S1C8","Alberta Social Housing Corporation","Community Housing Program"]
["1272273120539518 - 79 Avenue",127227312053,"9518 - 79 Avenue","NPF","North Peace Housing Foundation","Peace River 2","Peace River","T8S1E6","Alberta Social Housing Corporation","Community Housing Program"]
["1272273120539702 - 79 Avenue",127227312053,"9702 - 79 Avenue","NPF","North Peace Housing Foundation","Peace River 2","Peace River","T8S1E7","Alberta Social Housing Corporation","Community Housing Program"]
["1272273122029906 - 90 Avenue Units 301 - 307",127227312202,"9906 - 90 Avenue Units 301 - 307","NPF","North Peace Housing Foundation","Peace River 3","Peace River","T8S1H2","Alberta Social Housing Corporation","Community Housing Program"]
["1272273122029906 - 90 Avenue Units 308 - 313",127227312202,"9906 - 90 Avenue Units 308 - 313","NPF","North Peace Housing Foundation","Peace River 3","Peace River","T8S1H2","Alberta Social Housing Corporation","Community Housing Program"]
["12722731220210002 - 90 Avenue Units 314 - 317",127227312202,"10002 - 90 Avenue Units 314 - 317","NPF","North Peace Housing Foundation","Peace River 3","Peace River","T8S1H2","Alberta Social Housing Corporation","Community Housing Program"]
["1272273126758114 - 103 Avenue",127227312675,"8114 - 103 Avenue","NPF","North Peace Housing Foundation","Peace River 4 (Trans)","Peace River","T8S1M9","Alberta Social Housing Corporation","Community Housing Program"]
["1272273126757302 - 98A Street",127227312675,"7302 - 98A Street","NPF","North Peace Housing Foundation","Peace River 4 (Trans)","Peace River","T8S1B5","Alberta Social Housing Corporation","Community Housing Program"]
["1272273126758406 - 100 Avenue",127227312675,"8406 - 100 Avenue","NPF","North Peace Housing Foundation","Peace River 4 (Trans)","Peace River","T8S1N4","Alberta Social Housing Corporation","Community Housing Program"]
["12722731275510510 - 81 Street",127227312755,"10510 - 81 Street","NPF","North Peace Housing Foundation","Peace River 5 (Trans)","Peace River","T8S1M7","Alberta Social Housing Corporation","Community Housing Program"]
["1272273127558409 - 101 Avenue",127227312755,"8409 - 101 Avenue","NPF","North Peace Housing Foundation","Peace River 5 (Trans)","Peace River","T8S1N3","Alberta Social Housing Corporation","Community Housing Program"]
["12722731273610011 - 82 Street",127227312736,"10011 - 82 Street","NPF","North Peace Housing Foundation","Peace River 6","Peace River","T8S1M7","Alberta Social Housing Corporation","Community Housing Program"]
["12722731273610013 - 82 Street",127227312736,"10013 - 82 Street","NPF","North Peace Housing Foundation","Peace River 6","Peace River","T8S1N2","Alberta Social Housing Corporation","Community Housing Program"]
["12722731273610015 - 82 Street",127227312736,"10015 - 82 Street","NPF","North Peace Housing Foundation","Peace River 6","Peace River","T8S1N2","Alberta Social Housing Corporation","Community Housing Program"]
["12722731273610019 - 82 Street",127227312736,"10019 - 82 Street","NPF","North Peace Housing Foundation","Peace River 6","Peace River","T8S1N2","Alberta Social Housing Corporation","Community Housing Program"]
["12722731273610023 - 82 Street",127227312736,"10023 - 82 Street","NPF","North Peace Housing Foundation","Peace River 6","Peace River","T8S1N2","Alberta Social Housing Corporation","Community Housing Program"]
["12722731273610027 - 82 Street",127227312736,"10027 - 82 Street","NPF","North Peace Housing Foundation","Peace River 6","Peace River","T8S1N2","Alberta Social Housing Corporation","Community Housing Program"]
["12722731273610031 - 82 Street",127227312736,"10031 - 82 Street","NPF","North Peace Housing Foundation","Peace River 6","Peace River","T8S1N2","Alberta Social Housing Corporation","Community Housing Program"]
["12722731273610035 - 82 Street",127227312736,"10035 - 82 Street","NPF","North Peace Housing Foundation","Peace River 6","Peace River","T8S1N2","Alberta Social Housing Corporation","Community Housing Program"]
[{"$f":"CONCATENATE(B3331,C3331)","v":"12722731273610039 - 82 Street"},127227312736,"10039 - 82 Street","NPF","North Peace Housing Foundation","Peace River 6","Peace River","T8S1N2","Alberta Social Housing Corporation","Community Housing Program"]
["12722731273610101 - 82 Street",127227312736,"10101 - 82 Street","NPF","North Peace Housing Foundation","Peace River 6","Peace River","T8S1N2","Alberta Social Housing Corporation","Community Housing Program"]
["12722731273610105 - 82 Street",127227312736,"10105 - 82 Street","NPF","North Peace Housing Foundation","Peace River 6","Peace River","T8S1N2","Alberta Social Housing Corporation","Community Housing Program"]
["12722731273610109 - 82 Street",127227312736,"10109 - 82 Street","NPF","North Peace Housing Foundation","Peace River 6","Peace River","T8S1N2","Alberta Social Housing Corporation","Community Housing Program"]
["12722731280210230 - 82 Street",127227312802,"10230 - 82 Street","NPF","North Peace Housing Foundation","Peace River 7","Peace River","T8S1M9","Alberta Social Housing Corporation","Community Housing Program"]
["12722731280210122 - 82 Street",127227312802,"10122 - 82 Street","NPF","North Peace Housing Foundation","Peace River 7","Peace River","T8S1N2","Alberta Social Housing Corporation","Community Housing Program"]
["1272273128328318 - 101 Avenue",127227312832,"8318 - 101 Avenue","NPF","North Peace Housing Foundation","Peace River 8","Peace River","T8S1N2","Alberta Social Housing Corporation","Community Housing Program"]
["1272273128328409 - 100 Avenue",127227312832,"8409 - 100 Avenue","NPF","North Peace Housing Foundation","Peace River 8","Peace River","T8S1N4","Alberta Social Housing Corporation","Community Housing Program"]
["1272273128329710 - 81 Avenue",127227312832,"9710 - 81 Avenue","NPF","North Peace Housing Foundation","Peace River 8","Peace River","T8S1A7","Alberta Social Housing Corporation","Community Housing Program"]
["129327552343Units 1 - 4, 405 Jubilee Street",129327552343,"Units 1 - 4, 405 Jubilee Street","NPF","North Peace Housing Foundation","Pioneer Village","Worsley","T0H3W0","Alberta Social Housing Corporation","Seniors Self Contained Program"]
["12612722298617 Lavoie Street",126127222986,"17 Lavoie Street","NPF","North Peace Housing Foundation","St. Isidore R&N 2","St. Isidore","T0H3B0","Housing Provider","Community Housing Program"]
["221827556121200 - 1 Street SW",221827556121,"200 - 1 Street SW","OKF","Oi Kwan Foundation","Wai Kwan Manor","Calgary","T2P1M3","Alberta Social Housing Corporation","Seniors Self Contained Program"]
["2218273860043118 - 41 Street SW",221827386004,"3118 - 41 Street SW","HOR","Onward Homes Society","Albert House","Calgary","T3E3L1","Housing Provider","Specialized Housing"]
["2218275561345300 - 5318, 4 Street SW",221827556134,"5300 - 5318, 4 Street SW","HOR","Onward Homes Society","Anthonian Court","Calgary","T2V0Z5","Alberta Social Housing Corporation","Seniors Self Contained Program"]
["2218275561345320 - 4 Street SW",221827556134,"5320 - 4 Street SW","HOR","Onward Homes Society","Anthonian Court","Calgary","T2V0Z5","Alberta Social Housing Corporation","Seniors Self Contained Program"]
["2218275561345322 A&B - 4 Street SW",221827556134,"5322 A&B - 4 Street SW","HOR","Onward Homes Society","Anthonian Court","Calgary","T2V0Z5","Alberta Social Housing Corporation","Seniors Self Contained Program"]
["221827316777200 Pinta Gardens NE",221827316777,"200 Pinta Gardens NE","HOR","Onward Homes Society","Bishops Manor","Calgary",null,"Housing Provider","None"]
["2218275560461540 Northmount Drive NW",221827556046,"1540 Northmount Drive NW","HOR","Onward Homes Society","Carroll Place","Calgary","T2L0G6","Alberta Social Housing Corporation","Seniors Self Contained Program"]
["22182755606640 - 11A Street NE",221827556066,"40 - 11A Street NE","HOR","Onward Homes Society","Columbus Manor","Calgary","T2E7T2","Alberta Social Housing Corporation","Seniors Self Contained Program"]
["2218275562021720 - 14 Avenue NE",221827556202,"1720 - 14 Avenue NE","HOR","Onward Homes Society","Crossroads Court","Calgary","T2E1G3","Alberta Social Housing Corporation","Seniors Self Contained Program"]
["221827556065240 - 92 Avenue SE",221827556065,"240 - 92 Avenue SE","HOR","Onward Homes Society","Francis Klein Centre","Calgary","T2J3A6","Alberta Social Housing Corporation","Seniors Self Contained Program"]
["888888880044723 - 14th Street NW",888888880044,"723 - 14th Street NW","HOR","Onward Homes Society","Horizon 14","Calgary","T2N2A4","Housing Provider","Specialized Housing"]
["2218273860052418 - 6 Street NW",221827386005,"2418 - 6 Street NW","HOR","Onward Homes Society","Keith House","Calgary","T2N0X4","Housing Provider","Specialized Housing"]
["2218275561372040 - 54 Avenue SW",221827556137,"2040 - 54 Avenue SW","HOR","Onward Homes Society","St. James Court","Calgary","T3E1L6","Alberta Social Housing Corporation","Seniors Self Contained Program"]
["2218275561973211 Edmonton Trail NE",221827556197,"3211 Edmonton Trail NE","HOR","Onward Homes Society","St. Pauls Villa","Calgary","T2E8P3","Alberta Social Housing Corporation","Seniors Self Contained Program"]
["1125273720199520 - 110 A Avenue NW",112527372019,"9520 - 110 A Avenue NW","OPF","Operation Friendship Seniors Society","Hutton Building","Edmonton","T5H4L1","Housing Provider","Specialized Housing"]
["1125275120619520 - 108 Avenue NW",112527512061,"9520 - 108 Avenue NW","OPF","Operation Friendship Seniors Society","McCauley Lodge","Edmonton","T5H4G2","Alberta Social Housing Corporation","Seniors Lodge Program"]
["11252755022210310 - 93 Street NW",112527550222,"10310 - 93 Street NW","OPF","Operation Friendship Seniors Society","Pioneer Place","Edmonton","T5H1X1","Alberta Social Housing Corporation","Seniors Self Contained Program"]
["1125273720209540 - 110A Avenue NW",112527372020,"9540 - 110A Avenue NW","OPF","Operation Friendship Seniors Society","Sparling Lodge","Edmonton","T5H4L1","Housing Provider","Specialized Housing"]
["23",23,null,"PPS","Park Place Seniors","Hardisty Care Centre","Edmonton",null,"Other","None"]
["16632738201244 Dunham Close",166327382012,"44 Dunham Close","PCL","Parkland Community Living and Supports Society","Dunham Child","Red Deer","T4R2J2","Housing Provider","Specialized Housing"]
["16492737203872 Burns Crescent",164927372038,"72 Burns Crescent","PCL","Parkland Community Living and Supports Society","Lacombe II","Lacombe","T4L1P2","Housing Provider","Specialized Housing"]
["166327372039181 Douglas Avenue",166327372039,"181 Douglas Avenue","PCL","Parkland Community Living and Supports Society","Red Deer I","Red Deer","T4R2G5","Housing Provider","Specialized Housing"]
["16632737203955 Kemp Avenue",166327372039,"55 Kemp Avenue","PCL","Parkland Community Living and Supports Society","Red Deer I","Red Deer","T4P3M4","Housing Provider","Specialized Housing"]
["16632737203931 Davison Drive",166327372039,"31 Davison Drive","PCL","Parkland Community Living and Supports Society","Red Deer I","Red Deer","T4R2J3","Housing Provider","Specialized Housing"]
["16632737203943 Donnelly  Crescent",166327372039,"43 Donnelly  Crescent","PCL","Parkland Community Living and Supports Society","Red Deer I","Red Deer","T4R2K4","Housing Provider","Specialized Housing"]
["16632737204035 Eversole Close",166327372040,"35 Eversole Close","PCL","Parkland Community Living and Supports Society","Red Deer II","Red Deer","T4R2J8","Housing Provider","Specialized Housing"]
["1663273720407 Duston Street",166327372040,"7 Duston Street","PCL","Parkland Community Living and Supports Society","Red Deer II","Red Deer","T4R2K4","Housing Provider","Specialized Housing"]
["16632737204027 Duston Street",166327372040,"27 Duston Street","PCL","Parkland Community Living and Supports Society","Red Deer II","Red Deer","T4R2K4","Housing Provider","Specialized Housing"]
["3000000010234045 50 Ave",300000001023,"4045 50 Ave","PLF","Parkland Foundation","Autumn Grove - Lodge","Innisfail","T4G 1B1","Alberta Social Housing Corporation","Seniors Lodge Program"]
["3000000010134045 50 Ave",300000001013,"4045 50 Ave","PLF","Parkland Foundation","Autumn Grove -SSC","Innisfail","T4G 1B1","Alberta Social Housing Corporation","Seniors Self Contained Program"]
["1616272260252112 - 25 Avenue",161627226025,"2112 - 25 Avenue","PLF","Parkland Foundation","Bowden CH 1","Bowden","T0M0K0","Alberta Social Housing Corporation","Community Housing Program"]
["1616272260252120 - 25 Avenue",161627226025,"2120 - 25 Avenue","PLF","Parkland Foundation","Bowden CH 1","Bowden","T0M0K0","Alberta Social Housing Corporation","Community Housing Program"]
["1616275522471804 - 23 Street",161627552247,"1804 - 23 Street","PLF","Parkland Foundation","Bow-Glen Court","Bowden","T0M0K0","Alberta Social Housing Corporation","Seniors Self Contained Program"]
["1645275521205804 - 50 Avenue",164527552120,"5804 - 50 Avenue","PLF","Parkland Foundation","Dodd's Lake Manor","Innisfail","T4G1C7","Alberta Social Housing Corporation","Seniors Self Contained Program"]
["1633275500482410 - 20 Street",163327550048,"2410 - 20 Street","PLF","Parkland Foundation","Elk Haven","Delburne","T0M0V0","Alberta Social Housing Corporation","Seniors Self Contained Program"]
["163727552122511 - 4 Avenue",163727552122,"511 - 4 Avenue","PLF","Parkland Foundation","Jubilee Manor","Elnora","T0M0Y0","Alberta Social Housing Corporation","Seniors Self Contained Program"]
["16562755218927 Robinson  Avenue",165627552189,"27 Robinson  Avenue","PLF","Parkland Foundation","Penhold Royal Manor","Penhold","T0M1R0","Alberta Social Housing Corporation","Seniors Self Contained Program"]
["163727550059513 - 4 Avenue",163727550059,"513 - 4 Avenue","PLF","Parkland Foundation","Pioneer Manor","Elnora","T0M0Y0","Alberta Social Housing Corporation","Seniors Self Contained Program"]
["1616275500321708 - 23 Street",161627550032,"1708 - 23 Street","PLF","Parkland Foundation","Westview Manor","Bowden","T0M0K0","Alberta Social Housing Corporation","Seniors Self Contained Program"]
["3000000010567716 – 99 Street",300000001056,"7716 – 99 Street","PRR","Peace River Regional Women’s Shelter Society","Women’s Shelter","Peace River",null,"Housing Provider","None"]
["266827556022480 Main Street",266827556022,"480 Main Street","PNH","Pincher Creek Foundation (Alberta)","Canyon Manor I","Pincher Creek","T0K1W0","Alberta Social Housing Corporation","Seniors Self Contained Program"]
["266827556165470 Victoria Crescent    1,2,3",266827556165,"470 Victoria Crescent    1,2,3","PNH","Pincher Creek Foundation (Alberta)","Canyon Manor II","Pincher Creek","T0K1W0","Alberta Social Housing Corporation","Seniors Self Contained Program"]
["266827556165470 Victoria Cresent     4,5,6",266827556165,"470 Victoria Cresent     4,5,6","PNH","Pincher Creek Foundation (Alberta)","Canyon Manor II","Pincher Creek","T0K1W0","Alberta Social Housing Corporation","Seniors Self Contained Program"]
["266827510175978 Hyde Street",266827510175,"978 Hyde Street","PNH","Pincher Creek Foundation (Alberta)","Crest View Lodge","Pincher Creek","T0K1W0","Housing Provider","Seniors Lodge Program"]
["266827316169625 A & B Charlotte Street",266827316169,"625 A & B Charlotte Street","PNH","Pincher Creek Foundation (Alberta)","Pincher Creek 1","Pincher Creek","T0K1W0","Alberta Social Housing Corporation","Community Housing Program"]
["266827316169875 A & B Foothills Avenue",266827316169,"875 A & B Foothills Avenue","PNH","Pincher Creek Foundation (Alberta)","Pincher Creek 1","Pincher Creek","T0K1W0","Alberta Social Housing Corporation","Community Housing Program"]
["266827316183896, 900 Main Street",266827316183,"896, 900 Main Street","PNH","Pincher Creek Foundation (Alberta)","Pincher Creek 2","Pincher Creek","T0K1W0","Alberta Social Housing Corporation","Community Housing Program"]
["266827316691930, 934, 940 Main Street",266827316691,"930, 934, 940 Main Street","PNH","Pincher Creek Foundation (Alberta)","Pincher Creek 3 (ATCO)","Pincher Creek","T0K1W0","Alberta Social Housing Corporation","Community Housing Program"]
["266827556198638 Adelaide Street Units 1-3",266827556198,"638 Adelaide Street Units 1-3","PNH","Pincher Creek Foundation (Alberta)","Willow Court","Pincher Creek","T0K1W0","Alberta Social Housing Corporation","Seniors Self Contained Program"]
["266827556198638 Adelaide Street Units 4-6",266827556198,"638 Adelaide Street Units 4-6","PNH","Pincher Creek Foundation (Alberta)","Willow Court","Pincher Creek","T0K1W0","Alberta Social Housing Corporation","Seniors Self Contained Program"]
["9999999999209203 - 144 Avenue",999999999920,"9203 - 144 Avenue","PVS","Polish Veteran's Society","Polish Veterans Senior Citizens Home","Edmonton","T5E2H7","Other","None"]
["2270275160605312 - 5 Street E",227027516060,"5312 - 5 Street E","PHF","Porcupine Hills Seniors Foundation","Porcupine Hills Lodge","Claresholm","T0L0T0","Housing Provider","Seniors Lodge Program"]
["1608275521045203 - 50A Avenue",160827552104,"5203 - 50A Avenue","PRO","Provost Senior Citizens Home Foundation","Amisk Highview Seniors Apartments","Amisk","T0B0B0","Alberta Social Housing Corporation","Seniors Self Contained Program"]
[{"$f":"CONCATENATE(B3395,C3395)","v":"16302755231513 Selkirk Avenue"},163027552315,"13 Selkirk Avenue","PRO","Provost Senior Citizens Home Foundation","Bellkirk Villa","Hughenden","T0B2E0","Alberta Social Housing Corporation","Seniors Self Contained Program"]
["1661275520115110 - 51 Street Units 1-3",166127552011,"5110 - 51 Street Units 1-3","PRO","Provost Senior Citizens Home Foundation","Crestwood Place","Provost","T0B3S0","Alberta Social Housing Corporation","Seniors Self Contained Program"]
["1661275520115110 - 51 Street Units 4-6",166127552011,"5110 - 51 Street Units 4-6","PRO","Provost Senior Citizens Home Foundation","Crestwood Place","Provost","T0B3S0","Alberta Social Housing Corporation","Seniors Self Contained Program"]
["1661275520115110 - 51 Street Units 7 - 9",166127552011,"5110 - 51 Street Units 7 - 9","PRO","Provost Senior Citizens Home Foundation","Crestwood Place","Provost","T0B3S0","Alberta Social Housing Corporation","Seniors Self Contained Program"]
["1661275520115110 - 51 Street Units 10 - 12",166127552011,"5110 - 51 Street Units 10 - 12","PRO","Provost Senior Citizens Home Foundation","Crestwood Place","Provost","T0B3S0","Alberta Social Housing Corporation","Seniors Self Contained Program"]
["1661275520115110 - 51 Street Units 13 - 15",166127552011,"5110 - 51 Street Units 13 - 15","PRO","Provost Senior Citizens Home Foundation","Crestwood Place","Provost","T0B3S0","Alberta Social Housing Corporation","Seniors Self Contained Program"]
["1661275520115110 - 51 Street Units 16 - 18",166127552011,"5110 - 51 Street Units 16 - 18","PRO","Provost Senior Citizens Home Foundation","Crestwood Place","Provost","T0B3S0","Alberta Social Housing Corporation","Seniors Self Contained Program"]
["1661275101775428 - 51 Street",166127510177,"5428 - 51 Street","PRO","Provost Senior Citizens Home Foundation","Hillcrest Lodge","Provost","T0B3S0","Housing Provider","Seniors Lodge Program"]
["16282755224649 Street 49 Avenue",162827552246,"49 Street 49 Avenue","PRO","Provost Senior Citizens Home Foundation","Ribstone Manor","Czar","T0B0Z0","Alberta Social Housing Corporation","Seniors Self Contained Program"]
["1663273720154827 - 55 Street",166327372015,"4827 - 55 Street","RDH","Red Deer Housing Authority","Douglas Place","Red Deer","T4N2J2","Housing Provider","Specialized Housing"]
["1645273166745320 - 37 Street",164527316674,"5320 - 37 Street","RDH","Red Deer Housing Authority","Innisfail 1 (FCLS)","Innisfail","T4G1E6","Alberta Social Housing Corporation","Community Housing Program"]
["1645273166745027 - 59 Street",164527316674,"5027 - 59 Street","RDH","Red Deer Housing Authority","Innisfail 1 (FCLS)","Innisfail","T4G1R8","Alberta Social Housing Corporation","Community Housing Program"]
["1645273166745033 - 59 Street",164527316674,"5033 - 59 Street","RDH","Red Deer Housing Authority","Innisfail 1 (FCLS)","Innisfail","T4G1R8","Alberta Social Housing Corporation","Community Housing Program"]
["1645273166745035 - 59 Street",164527316674,"5035 - 59 Street","RDH","Red Deer Housing Authority","Innisfail 1 (FCLS)","Innisfail","T4G1R8","Alberta Social Housing Corporation","Community Housing Program"]
["1645273166745039 - 59 Street",164527316674,"5039 - 59 Street","RDH","Red Deer Housing Authority","Innisfail 1 (FCLS)","Innisfail","T4G1R8","Alberta Social Housing Corporation","Community Housing Program"]
["1645273166743726 - 54 Avenue",164527316674,"3726 - 54 Avenue","RDH","Red Deer Housing Authority","Innisfail 1 (FCLS)","Innisfail","T4G1E8","Alberta Social Housing Corporation","Community Housing Program"]
["1645273166745320 - 36 Street",164527316674,"5320 - 36 Street","RDH","Red Deer Housing Authority","Innisfail 1 (FCLS)","Innisfail","T4G1G4","Alberta Social Housing Corporation","Community Housing Program"]
["1645273166745314 - 37 Street",164527316674,"5314 - 37 Street","RDH","Red Deer Housing Authority","Innisfail 1 (FCLS)","Innisfail","T4G1G4","Alberta Social Housing Corporation","Community Housing Program"]
["1645273166743913 - 54 Avenue",164527316674,"3913 - 54 Avenue","RDH","Red Deer Housing Authority","Innisfail 1 (FCLS)","Innisfail","T4G1E9","Alberta Social Housing Corporation","Community Housing Program"]
["1645273166745330 - 38 Street",164527316674,"5330 - 38 Street","RDH","Red Deer Housing Authority","Innisfail 1 (FCLS)","Innisfail","T4G1E8","Alberta Social Housing Corporation","Community Housing Program"]
["1645273166743712 - 50 Avenue",164527316674,"3712 - 50 Avenue","RDH","Red Deer Housing Authority","Innisfail 1 (FCLS)","Innisfail","T4G1J1","Alberta Social Housing Corporation","Community Housing Program"]
["1645273166745041 - 59 Street",164527316674,"5041 - 59 Street","RDH","Red Deer Housing Authority","Innisfail 1 (FCLS)","Innisfail","T4G1R8","Alberta Social Housing Corporation","Community Housing Program"]
["1645273166745037 - 59 Street",164527316674,"5037 - 59 Street","RDH","Red Deer Housing Authority","Innisfail 1 (FCLS)","Innisfail","T4G1R8","Alberta Social Housing Corporation","Community Housing Program"]
["1663273100186122/6124 Horn Street",166327310018,"6122/6124 Horn Street","RDH","Red Deer Housing Authority","Red Deer 1","Red Deer","T4N5M2","Alberta Social Housing Corporation","Community Housing Program"]
["1663273100186126/6128 Horn Street",166327310018,"6126/6128 Horn Street","RDH","Red Deer Housing Authority","Red Deer 1","Red Deer","T4N5M2","Alberta Social Housing Corporation","Community Housing Program"]
["1663273100186114/6116 Horn Street",166327310018,"6114/6116 Horn Street","RDH","Red Deer Housing Authority","Red Deer 1","Red Deer","T4N5M1","Alberta Social Housing Corporation","Community Housing Program"]
["1663273100186110/6112 Horn Street",166327310018,"6110/6112 Horn Street","RDH","Red Deer Housing Authority","Red Deer 1","Red Deer","T4N5M1","Alberta Social Housing Corporation","Community Housing Program"]
["1663273100183/5 Hepworth Close",166327310018,"3/5 Hepworth Close","RDH","Red Deer Housing Authority","Red Deer 1","Red Deer","T4N5M8","Alberta Social Housing Corporation","Community Housing Program"]
["1663273100187/9 Hepworth Close",166327310018,"7/9 Hepworth Close","RDH","Red Deer Housing Authority","Red Deer 1","Red Deer","T4N5M8","Alberta Social Housing Corporation","Community Housing Program"]
["16632731001811/13 Hepworth Close",166327310018,"11/13 Hepworth Close","RDH","Red Deer Housing Authority","Red Deer 1","Red Deer","T4N5M8","Alberta Social Housing Corporation","Community Housing Program"]
["16632731001815/17 Hepworth Close",166327310018,"15/17 Hepworth Close","RDH","Red Deer Housing Authority","Red Deer 1","Red Deer","T4N5M8","Alberta Social Housing Corporation","Community Housing Program"]
["16632731001818/20 Hepworth Close",166327310018,"18/20 Hepworth Close","RDH","Red Deer Housing Authority","Red Deer 1","Red Deer","T4N5M9","Alberta Social Housing Corporation","Community Housing Program"]
["16632731001822/24 Hepworth Close",166327310018,"22/24 Hepworth Close","RDH","Red Deer Housing Authority","Red Deer 1","Red Deer","T4N5M9","Alberta Social Housing Corporation","Community Housing Program"]
["16632731001826/28 Hepworth Close",166327310018,"26/28 Hepworth Close","RDH","Red Deer Housing Authority","Red Deer 1","Red Deer","T4N5M9","Alberta Social Housing Corporation","Community Housing Program"]
["16632731001830/32 Hepworth Close",166327310018,"30/32 Hepworth Close","RDH","Red Deer Housing Authority","Red Deer 1","Red Deer","T4N5M9","Alberta Social Housing Corporation","Community Housing Program"]
["166327316625101 - 309, 128 Glendale Boulevard",166327316625,"101 - 309, 128 Glendale Boulevard","RDH","Red Deer Housing Authority","Red Deer 10 (FCLS)","Red Deer","T4P2Z7","Alberta Social Housing Corporation","Community Housing Program"]
["166327316591101, 6660 - 52 Avenue",166327316591,"101, 6660 - 52 Avenue","RDH","Red Deer Housing Authority","Red Deer 11","Red Deer","T4N6V3","Alberta Social Housing Corporation","Community Housing Program"]
["166327316591105, 6660 - 52 Avenue",166327316591,"105, 6660 - 52 Avenue","RDH","Red Deer Housing Authority","Red Deer 11","Red Deer","T4N6V3","Alberta Social Housing Corporation","Community Housing Program"]
["166327316591109, 6660 - 52 Avenue",166327316591,"109, 6660 - 52 Avenue","RDH","Red Deer Housing Authority","Red Deer 11","Red Deer","T4N6V3","Alberta Social Housing Corporation","Community Housing Program"]
["166327316591113, 6660 - 52 Avenue",166327316591,"113, 6660 - 52 Avenue","RDH","Red Deer Housing Authority","Red Deer 11","Red Deer","T4N6V3","Alberta Social Housing Corporation","Community Housing Program"]
["166327316698117, 6660 - 52 Avenue",166327316698,"117, 6660 - 52 Avenue","RDH","Red Deer Housing Authority","Red Deer 12","Red Deer","T4N6V3","Alberta Social Housing Corporation","Community Housing Program"]
["166327316698121, 6660 - 52 Avenue",166327316698,"121, 6660 - 52 Avenue","RDH","Red Deer Housing Authority","Red Deer 12","Red Deer","T4N6V3","Alberta Social Housing Corporation","Community Housing Program"]
["166327316698125, 6660 - 52 Avenue",166327316698,"125, 6660 - 52 Avenue","RDH","Red Deer Housing Authority","Red Deer 12","Red Deer","T4N6V3","Alberta Social Housing Corporation","Community Housing Program"]
["166327316698129, 6660 - 52 Avenue",166327316698,"129, 6660 - 52 Avenue","RDH","Red Deer Housing Authority","Red Deer 12","Red Deer","T4N6V3","Alberta Social Housing Corporation","Community Housing Program"]
["16632731202265 Niven Street",166327312022,"65 Niven Street","RDH","Red Deer Housing Authority","Red Deer 2","Red Deer","T4P1P8","Alberta Social Housing Corporation","Community Housing Program"]
["166327312022153 Overdown Drive",166327312022,"153 Overdown Drive","RDH","Red Deer Housing Authority","Red Deer 2","Red Deer","T4P1W5","Alberta Social Housing Corporation","Community Housing Program"]
["166327312022145 Overdown Drive",166327312022,"145 Overdown Drive","RDH","Red Deer Housing Authority","Red Deer 2","Red Deer","T4P1W5","Alberta Social Housing Corporation","Community Housing Program"]
["166327312022199 Overdown Drive",166327312022,"199 Overdown Drive","RDH","Red Deer Housing Authority","Red Deer 2","Red Deer","T4P1W6","Alberta Social Housing Corporation","Community Housing Program"]
["166327312022305 Overdown Drive",166327312022,"305 Overdown Drive","RDH","Red Deer Housing Authority","Red Deer 2","Red Deer","T4P1W8","Alberta Social Housing Corporation","Community Housing Program"]
["166327312022311 Overdown Drive",166327312022,"311 Overdown Drive","RDH","Red Deer Housing Authority","Red Deer 2","Red Deer","T4P1W8","Alberta Social Housing Corporation","Community Housing Program"]
["166327312022205 Overdown Drive",166327312022,"205 Overdown Drive","RDH","Red Deer Housing Authority","Red Deer 2","Red Deer","T4P1W6","Alberta Social Housing Corporation","Community Housing Program"]
["166327312022195 Overdown Drive",166327312022,"195 Overdown Drive","RDH","Red Deer Housing Authority","Red Deer 2","Red Deer","T4P1W6","Alberta Social Housing Corporation","Community Housing Program"]
["166327312022229 Overdown Drive",166327312022,"229 Overdown Drive","RDH","Red Deer Housing Authority","Red Deer 2","Red Deer","T4P1W7","Alberta Social Housing Corporation","Community Housing Program"]
["166327312022233 Overdown Drive",166327312022,"233 Overdown Drive","RDH","Red Deer Housing Authority","Red Deer 2","Red Deer","T4P1W7","Alberta Social Housing Corporation","Community Housing Program"]
["1663273120227 Nichols Crescent",166327312022,"7 Nichols Crescent","RDH","Red Deer Housing Authority","Red Deer 2","Red Deer","T4P1P5","Alberta Social Housing Corporation","Community Housing Program"]
["1663273120221 Newton Crescent",166327312022,"1 Newton Crescent","RDH","Red Deer Housing Authority","Red Deer 2","Red Deer","T4P1P3","Alberta Social Housing Corporation","Community Housing Program"]
["16632731202263 Niven Street",166327312022,"63 Niven Street","RDH","Red Deer Housing Authority","Red Deer 2","Red Deer","T4P1P8","Alberta Social Housing Corporation","Community Housing Program"]
["1663273120221 Norris Close",166327312022,"1 Norris Close","RDH","Red Deer Housing Authority","Red Deer 2","Red Deer","T4P1R2","Alberta Social Housing Corporation","Community Housing Program"]
["16632731202256 Nash Street",166327312022,"56 Nash Street","RDH","Red Deer Housing Authority","Red Deer 2","Red Deer","T4P1R2","Alberta Social Housing Corporation","Community Housing Program"]
["16632731202264 Nash Street",166327312022,"64 Nash Street","RDH","Red Deer Housing Authority","Red Deer 2","Red Deer","T4P1N9","Alberta Social Housing Corporation","Community Housing Program"]
["166327312022207 Overdown Drive",166327312022,"207 Overdown Drive","RDH","Red Deer Housing Authority","Red Deer 2","Red Deer","T4P1W6","Alberta Social Housing Corporation","Community Housing Program"]
["16632731202266 Nash Street",166327312022,"66 Nash Street","RDH","Red Deer Housing Authority","Red Deer 2","Red Deer","T4P1N9","Alberta Social Housing Corporation","Community Housing Program"]
["166327312022151 Overdown Drive",166327312022,"151 Overdown Drive","RDH","Red Deer Housing Authority","Red Deer 2","Red Deer","T4P1W5","Alberta Social Housing Corporation","Community Housing Program"]
["166327312022159 Overdown Drive",166327312022,"159 Overdown Drive","RDH","Red Deer Housing Authority","Red Deer 2","Red Deer","T4P1W5","Alberta Social Housing Corporation","Community Housing Program"]
[{"$f":"CONCATENATE(B3459,C3459)","v":"166327312022197 Overdown Drive"},166327312022,"197 Overdown Drive","RDH","Red Deer Housing Authority","Red Deer 2","Red Deer","T4P1W6","Alberta Social Housing Corporation","Community Housing Program"]
["166327312022307 Overdown Drive",166327312022,"307 Overdown Drive","RDH","Red Deer Housing Authority","Red Deer 2","Red Deer","T4P1W8","Alberta Social Housing Corporation","Community Housing Program"]
["16632731202262 Nash Street",166327312022,"62 Nash Street","RDH","Red Deer Housing Authority","Red Deer 2","Red Deer","T4P1N9","Alberta Social Housing Corporation","Community Housing Program"]
["166327312022201 Overdown Drive",166327312022,"201 Overdown Drive","RDH","Red Deer Housing Authority","Red Deer 2","Red Deer","T4P1W6","Alberta Social Housing Corporation","Community Housing Program"]
["166327312022147 Overdown Drive",166327312022,"147 Overdown Drive","RDH","Red Deer Housing Authority","Red Deer 2","Red Deer","T4P1W5","Alberta Social Housing Corporation","Community Housing Program"]
["166327312022155 Overdown Drive",166327312022,"155 Overdown Drive","RDH","Red Deer Housing Authority","Red Deer 2","Red Deer","T4P1W5","Alberta Social Housing Corporation","Community Housing Program"]
["1663273120225 Norris Close",166327312022,"5 Norris Close","RDH","Red Deer Housing Authority","Red Deer 2","Red Deer","T4P1R2","Alberta Social Housing Corporation","Community Housing Program"]
["166327312022313 Overdown Drive",166327312022,"313 Overdown Drive","RDH","Red Deer Housing Authority","Red Deer 2","Red Deer","T4P1W8","Alberta Social Housing Corporation","Community Housing Program"]
["166327312022315 Overdown Drive",166327312022,"315 Overdown Drive","RDH","Red Deer Housing Authority","Red Deer 2","Red Deer","T4P1W8","Alberta Social Housing Corporation","Community Housing Program"]
["166327312022149 Overdown Drive",166327312022,"149 Overdown Drive","RDH","Red Deer Housing Authority","Red Deer 2","Red Deer","T4P1W5","Alberta Social Housing Corporation","Community Housing Program"]
["166327312022203 Overdown Drive",166327312022,"203 Overdown Drive","RDH","Red Deer Housing Authority","Red Deer 2","Red Deer","T4P1W6","Alberta Social Housing Corporation","Community Housing Program"]
["166327312022209 Overdown Drive",166327312022,"209 Overdown Drive","RDH","Red Deer Housing Authority","Red Deer 2","Red Deer","T4P1W6","Alberta Social Housing Corporation","Community Housing Program"]
["166327312022231 Overdown Drive",166327312022,"231 Overdown Drive","RDH","Red Deer Housing Authority","Red Deer 2","Red Deer","T4P1W7","Alberta Social Housing Corporation","Community Housing Program"]
["16632731202258 Nash Street",166327312022,"58 Nash Street","RDH","Red Deer Housing Authority","Red Deer 2","Red Deer","T4P1N9","Alberta Social Housing Corporation","Community Housing Program"]
["16632731202257 Niven Street",166327312022,"57 Niven Street","RDH","Red Deer Housing Authority","Red Deer 2","Red Deer","T4P1P8","Alberta Social Housing Corporation","Community Housing Program"]
["166327312022157 Overdown Drive",166327312022,"157 Overdown Drive","RDH","Red Deer Housing Authority","Red Deer 2","Red Deer","T4P1W5","Alberta Social Housing Corporation","Community Housing Program"]
["166327312022235 Overdown Drive",166327312022,"235 Overdown Drive","RDH","Red Deer Housing Authority","Red Deer 2","Red Deer","T4P1W7","Alberta Social Housing Corporation","Community Housing Program"]
["166327312022309 Overdown Drive",166327312022,"309 Overdown Drive","RDH","Red Deer Housing Authority","Red Deer 2","Red Deer","T4P1W8","Alberta Social Housing Corporation","Community Housing Program"]
["1663273120223 Norris Close",166327312022,"3 Norris Close","RDH","Red Deer Housing Authority","Red Deer 2","Red Deer","T4P1R2","Alberta Social Housing Corporation","Community Housing Program"]
["16632731202261 Niven Street",166327312022,"61 Niven Street","RDH","Red Deer Housing Authority","Red Deer 2","Red Deer","T4P1P8","Alberta Social Housing Corporation","Community Housing Program"]
["1663273120223 Newton Crescent",166327312022,"3 Newton Crescent","RDH","Red Deer Housing Authority","Red Deer 2","Red Deer","T4P1P3","Alberta Social Housing Corporation","Community Housing Program"]
["16632731202267 Niven Street",166327312022,"67 Niven Street","RDH","Red Deer Housing Authority","Red Deer 2","Red Deer","T4P1P8","Alberta Social Housing Corporation","Community Housing Program"]
["1663273120229 Nichols Crescent",166327312022,"9 Nichols Crescent","RDH","Red Deer Housing Authority","Red Deer 2","Red Deer","T4P1P5","Alberta Social Housing Corporation","Community Housing Program"]
["16632731203558/60 Baird Street",166327312035,"58/60 Baird Street","RDH","Red Deer Housing Authority","Red Deer 3","Red Deer","T4R1K6","Alberta Social Housing Corporation","Community Housing Program"]
["16632731203534/36 Baird Street",166327312035,"34/36 Baird Street","RDH","Red Deer Housing Authority","Red Deer 3","Red Deer","T4R1K6","Alberta Social Housing Corporation","Community Housing Program"]
["16632731203553/55 Baird Street",166327312035,"53/55 Baird Street","RDH","Red Deer Housing Authority","Red Deer 3","Red Deer","T4R1K5","Alberta Social Housing Corporation","Community Housing Program"]
["16632731203541/43 Baird Street",166327312035,"41/43 Baird Street","RDH","Red Deer Housing Authority","Red Deer 3","Red Deer","T4R1K5","Alberta Social Housing Corporation","Community Housing Program"]
["16632731203525/27 Baird Street",166327312035,"25/27 Baird Street","RDH","Red Deer Housing Authority","Red Deer 3","Red Deer","T4R1K5","Alberta Social Housing Corporation","Community Housing Program"]
["16632731203546/48 Baird Street",166327312035,"46/48 Baird Street","RDH","Red Deer Housing Authority","Red Deer 3","Red Deer","T4R1K6","Alberta Social Housing Corporation","Community Housing Program"]
["16632731203569/71 Baird Street",166327312035,"69/71 Baird Street","RDH","Red Deer Housing Authority","Red Deer 3","Red Deer","T4R1K5","Alberta Social Housing Corporation","Community Housing Program"]
["16632731203589/91 Northey Avenue",166327312035,"89/91 Northey Avenue","RDH","Red Deer Housing Authority","Red Deer 3","Red Deer","T4P2A3","Alberta Social Housing Corporation","Community Housing Program"]
["16632731203577/79 Northey Avenue",166327312035,"77/79 Northey Avenue","RDH","Red Deer Housing Authority","Red Deer 3","Red Deer","T4P2A3","Alberta Social Housing Corporation","Community Housing Program"]
["166327312035101/103 Northey Avenue",166327312035,"101/103 Northey Avenue","RDH","Red Deer Housing Authority","Red Deer 3","Red Deer","T4P2A3","Alberta Social Housing Corporation","Community Housing Program"]
["16632731205246/48 Goodall Avenue",166327312052,"46/48 Goodall Avenue","RDH","Red Deer Housing Authority","Red Deer 4","Red Deer","T4P2R5","Alberta Social Housing Corporation","Community Housing Program"]
["16632731205221/23 Grant Street",166327312052,"21/23 Grant Street","RDH","Red Deer Housing Authority","Red Deer 4","Red Deer","T4P2L2","Alberta Social Housing Corporation","Community Housing Program"]
["16632731205229/31 Grant Street",166327312052,"29/31 Grant Street","RDH","Red Deer Housing Authority","Red Deer 4","Red Deer","T4P2L2","Alberta Social Housing Corporation","Community Housing Program"]
["16632731205234/36 Goodall Avenue",166327312052,"34/36 Goodall Avenue","RDH","Red Deer Housing Authority","Red Deer 4","Red Deer","T4P2R5","Alberta Social Housing Corporation","Community Housing Program"]
["16632731205286/88 Grant Street",166327312052,"86/88 Grant Street","RDH","Red Deer Housing Authority","Red Deer 4","Red Deer","T4P2L4","Alberta Social Housing Corporation","Community Housing Program"]
["16632731205271/73 Grant Street",166327312052,"71/73 Grant Street","RDH","Red Deer Housing Authority","Red Deer 4","Red Deer","T4P2L3","Alberta Social Housing Corporation","Community Housing Program"]
["16632731205272/74 Grant Street",166327312052,"72/74 Grant Street","RDH","Red Deer Housing Authority","Red Deer 4","Red Deer","T4P2L3","Alberta Social Housing Corporation","Community Housing Program"]
["16632731205271/73 Grant Street",166327312052,"71/73 Grant Street","RDH","Red Deer Housing Authority","Red Deer 4","Red Deer","T4P2L3","Alberta Social Housing Corporation","Community Housing Program"]
["16632731205237/39 Grant Street",166327312052,"37/39 Grant Street","RDH","Red Deer Housing Authority","Red Deer 4","Red Deer","T4P2L2","Alberta Social Housing Corporation","Community Housing Program"]
["16632731205254/56 Goodall Avenue",166327312052,"54/56 Goodall Avenue","RDH","Red Deer Housing Authority","Red Deer 4","Red Deer","T4P2R5","Alberta Social Housing Corporation","Community Housing Program"]
["16632731205263/65 Grant Street",166327312052,"63/65 Grant Street","RDH","Red Deer Housing Authority","Red Deer 4","Red Deer","T4P2L3","Alberta Social Housing Corporation","Community Housing Program"]
["16632731206218/20 Glendale Boulevard",166327312062,"18/20 Glendale Boulevard","RDH","Red Deer Housing Authority","Red Deer 5","Red Deer","T4P2P3","Alberta Social Housing Corporation","Community Housing Program"]
["16632731206267/69 Grant Street",166327312062,"67/69 Grant Street","RDH","Red Deer Housing Authority","Red Deer 5","Red Deer","T4P2L3","Alberta Social Housing Corporation","Community Housing Program"]
["16632731206222/24 George Crescent",166327312062,"22/24 George Crescent","RDH","Red Deer Housing Authority","Red Deer 5","Red Deer","T4P2L1","Alberta Social Housing Corporation","Community Housing Program"]
["16632731206255/57 Grant Street",166327312062,"55/57 Grant Street","RDH","Red Deer Housing Authority","Red Deer 5","Red Deer","T4P2L3","Alberta Social Housing Corporation","Community Housing Program"]
["16632731206233/35 Grant Street",166327312062,"33/35 Grant Street","RDH","Red Deer Housing Authority","Red Deer 5","Red Deer","T4P2L2","Alberta Social Housing Corporation","Community Housing Program"]
["16632731206233/35 Gordon Street",166327312062,"33/35 Gordon Street","RDH","Red Deer Housing Authority","Red Deer 5","Red Deer","T4P2L6","Alberta Social Housing Corporation","Community Housing Program"]
["1663273120626/8 George Crescent",166327312062,"6/8 George Crescent","RDH","Red Deer Housing Authority","Red Deer 5","Red Deer","T4P2L1","Alberta Social Housing Corporation","Community Housing Program"]
["16632731206276/78 Grant Street",166327312062,"76/78 Grant Street","RDH","Red Deer Housing Authority","Red Deer 5","Red Deer","T4P2L4","Alberta Social Housing Corporation","Community Housing Program"]
["16632731206225/27 Grant Street",166327312062,"25/27 Grant Street","RDH","Red Deer Housing Authority","Red Deer 5","Red Deer","T4P2L2","Alberta Social Housing Corporation","Community Housing Program"]
["16632731206242/44 Goodall Avenue",166327312062,"42/44 Goodall Avenue","RDH","Red Deer Housing Authority","Red Deer 5","Red Deer","T4P2R5","Alberta Social Housing Corporation","Community Housing Program"]
["16632731206250/52 Goodall Avenue",166327312062,"50/52 Goodall Avenue","RDH","Red Deer Housing Authority","Red Deer 5","Red Deer","T4P2R5","Alberta Social Housing Corporation","Community Housing Program"]
["16632731206268/70 Grant Street",166327312062,"68/70 Grant Street","RDH","Red Deer Housing Authority","Red Deer 5","Red Deer","T4P2L4","Alberta Social Housing Corporation","Community Housing Program"]
["16632731207569/71 Mackenzie Crescent",166327312075,"69/71 Mackenzie Crescent","RDH","Red Deer Housing Authority","Red Deer 6","Red Deer","T4R1R6","Alberta Social Housing Corporation","Community Housing Program"]
["16632731207557/59 Mackenzie Crescent",166327312075,"57/59 Mackenzie Crescent","RDH","Red Deer Housing Authority","Red Deer 6","Red Deer","T4R1R6","Alberta Social Housing Corporation","Community Housing Program"]
["16632731207519/21 McLean Street",166327312075,"19/21 McLean Street","RDH","Red Deer Housing Authority","Red Deer 6","Red Deer","T4R1T6","Alberta Social Housing Corporation","Community Housing Program"]
["1663273120757/9 McLean Street",166327312075,"7/9 McLean Street","RDH","Red Deer Housing Authority","Red Deer 6","Red Deer","T4R1T6","Alberta Social Housing Corporation","Community Housing Program"]
["1663273120757/9 McCullough Crescent",166327312075,"7/9 McCullough Crescent","RDH","Red Deer Housing Authority","Red Deer 6","Red Deer","T4R1S4","Alberta Social Housing Corporation","Community Housing Program"]
["16632731207519/21 McCullough Crescent",166327312075,"19/21 McCullough Crescent","RDH","Red Deer Housing Authority","Red Deer 6","Red Deer","T4R1S4","Alberta Social Housing Corporation","Community Housing Program"]
["16632731207527/29 McCullough Crescent",166327312075,"27/29 McCullough Crescent","RDH","Red Deer Housing Authority","Red Deer 6","Red Deer","T4R1S4","Alberta Social Housing Corporation","Community Housing Program"]
["16632731207545/47 Mackenzie Crescent",166327312075,"45/47 Mackenzie Crescent","RDH","Red Deer Housing Authority","Red Deer 6","Red Deer","T4R1R6","Alberta Social Housing Corporation","Community Housing Program"]
[{"$f":"CONCATENATE(B3523,C3523)","v":"16632731207564/66 McLevin Crescent"},166327312075,"64/66 McLevin Crescent","RDH","Red Deer Housing Authority","Red Deer 6","Red Deer","T4R1S9","Alberta Social Housing Corporation","Community Housing Program"]
["16632731207556/58 McLevin Crescent",166327312075,"56/58 McLevin Crescent","RDH","Red Deer Housing Authority","Red Deer 6","Red Deer","T4R1S9","Alberta Social Housing Corporation","Community Housing Program"]
["16632731207944 Rutherford Drive",166327312079,"44 Rutherford Drive","RDH","Red Deer Housing Authority","Red Deer 7","Red Deer","T4P2Z2","Alberta Social Housing Corporation","Community Housing Program"]
["16632731207952 Rutherford Drive",166327312079,"52 Rutherford Drive","RDH","Red Deer Housing Authority","Red Deer 7","Red Deer","T4P2Z2","Alberta Social Housing Corporation","Community Housing Program"]
["16632731207952 Russell Crescent",166327312079,"52 Russell Crescent","RDH","Red Deer Housing Authority","Red Deer 7","Red Deer","T4P3C1","Alberta Social Housing Corporation","Community Housing Program"]
["16632731207956 Russell Crescent",166327312079,"56 Russell Crescent","RDH","Red Deer Housing Authority","Red Deer 7","Red Deer","T4P3C1","Alberta Social Housing Corporation","Community Housing Program"]
["16632731207949 Mackenzie Crescent",166327312079,"49 Mackenzie Crescent","RDH","Red Deer Housing Authority","Red Deer 7","Red Deer","T4R1R6","Alberta Social Housing Corporation","Community Housing Program"]
["16632731207931 McCullough Crescent",166327312079,"31 McCullough Crescent","RDH","Red Deer Housing Authority","Red Deer 7","Red Deer","T4R1S4","Alberta Social Housing Corporation","Community Housing Program"]
["1663273120794601A - 46 Avenue",166327312079,"4601A - 46 Avenue","RDH","Red Deer Housing Authority","Red Deer 7","Red Deer","T4N3N2","Alberta Social Housing Corporation","Community Housing Program"]
["16632731207951 Mackenzie Crescent",166327312079,"51 Mackenzie Crescent","RDH","Red Deer Housing Authority","Red Deer 7","Red Deer","T4R1R6","Alberta Social Housing Corporation","Community Housing Program"]
["16632731207954 Russell Crescent",166327312079,"54 Russell Crescent","RDH","Red Deer Housing Authority","Red Deer 7","Red Deer","T4P3C1","Alberta Social Housing Corporation","Community Housing Program"]
["16632731207958 Russell Crescent",166327312079,"58 Russell Crescent","RDH","Red Deer Housing Authority","Red Deer 7","Red Deer","T4P3C1","Alberta Social Housing Corporation","Community Housing Program"]
["16632731207946 Rutherford Drive",166327312079,"46 Rutherford Drive","RDH","Red Deer Housing Authority","Red Deer 7","Red Deer","T4P2Z2","Alberta Social Housing Corporation","Community Housing Program"]
["16632731207954 Rutherford Drive",166327312079,"54 Rutherford Drive","RDH","Red Deer Housing Authority","Red Deer 7","Red Deer","T4P2Z2","Alberta Social Housing Corporation","Community Housing Program"]
["16632731207933 McCullough Crescent",166327312079,"33 McCullough Crescent","RDH","Red Deer Housing Authority","Red Deer 7","Red Deer","T4R1S4","Alberta Social Housing Corporation","Community Housing Program"]
["166327312321124 Cosgrove Crescent",166327312321,"124 Cosgrove Crescent","RDH","Red Deer Housing Authority","Red Deer 8 (FCLS)","Red Deer","T4P2W5","Alberta Social Housing Corporation","Community Housing Program"]
["166327312321120 Cosgrove Crescent",166327312321,"120 Cosgrove Crescent","RDH","Red Deer Housing Authority","Red Deer 8 (FCLS)","Red Deer","T4P2W5","Alberta Social Housing Corporation","Community Housing Program"]
["16632731232131 Heath Close",166327312321,"31 Heath Close","RDH","Red Deer Housing Authority","Red Deer 8 (FCLS)","Red Deer","T4N6L7","Alberta Social Housing Corporation","Community Housing Program"]
["16632731232122 Campbell Avenue",166327312321,"22 Campbell Avenue","RDH","Red Deer Housing Authority","Red Deer 8 (FCLS)","Red Deer","T4P2W7","Alberta Social Housing Corporation","Community Housing Program"]
["16632731232150 Gish Street",166327312321,"50 Gish Street","RDH","Red Deer Housing Authority","Red Deer 8 (FCLS)","Red Deer","T4P2L4","Alberta Social Housing Corporation","Community Housing Program"]
["1663273123215 Griffiths Avenue",166327312321,"5 Griffiths Avenue","RDH","Red Deer Housing Authority","Red Deer 8 (FCLS)","Red Deer","T4P2K6","Alberta Social Housing Corporation","Community Housing Program"]
["16632731232182 Grant Street",166327312321,"82 Grant Street","RDH","Red Deer Housing Authority","Red Deer 8 (FCLS)","Red Deer","T4P2L4","Alberta Social Housing Corporation","Community Housing Program"]
["16632731232192 Grant Street",166327312321,"92 Grant Street","RDH","Red Deer Housing Authority","Red Deer 8 (FCLS)","Red Deer","T4P2L4","Alberta Social Housing Corporation","Community Housing Program"]
["16632731232132 Cameron Crescent",166327312321,"32 Cameron Crescent","RDH","Red Deer Housing Authority","Red Deer 8 (FCLS)","Red Deer","T4P2E1","Alberta Social Housing Corporation","Community Housing Program"]
["16632731232110 McCullough Crescent",166327312321,"10 McCullough Crescent","RDH","Red Deer Housing Authority","Red Deer 8 (FCLS)","Red Deer","T4R1S6","Alberta Social Housing Corporation","Community Housing Program"]
["166327312321193 Overdown Drive",166327312321,"193 Overdown Drive","RDH","Red Deer Housing Authority","Red Deer 8 (FCLS)","Red Deer","T4P1W6","Alberta Social Housing Corporation","Community Housing Program"]
["166327312321187 Overdown Drive",166327312321,"187 Overdown Drive","RDH","Red Deer Housing Authority","Red Deer 8 (FCLS)","Red Deer","T4P1W6","Alberta Social Housing Corporation","Community Housing Program"]
["1663273165982 Campbell Avenue",166327316598,"2 Campbell Avenue","RDH","Red Deer Housing Authority","Red Deer 9 (FCLS)","Red Deer","T4P2W7","Alberta Social Housing Corporation","Community Housing Program"]
["16632731659827 Campbell Avenue",166327316598,"27 Campbell Avenue","RDH","Red Deer Housing Authority","Red Deer 9 (FCLS)","Red Deer","T4P2W6","Alberta Social Housing Corporation","Community Housing Program"]
["16632731659814 Duncan Crescent",166327316598,"14 Duncan Crescent","RDH","Red Deer Housing Authority","Red Deer 9 (FCLS)","Red Deer","T4R1W4","Alberta Social Housing Corporation","Community Housing Program"]
["16632731659818 Campbell Avenue",166327316598,"18 Campbell Avenue","RDH","Red Deer Housing Authority","Red Deer 9 (FCLS)","Red Deer","T4P2W7","Alberta Social Housing Corporation","Community Housing Program"]
["166327316598301 Overdown Drive",166327316598,"301 Overdown Drive","RDH","Red Deer Housing Authority","Red Deer 9 (FCLS)","Red Deer","T4P1W8","Alberta Social Housing Corporation","Community Housing Program"]
["1663273165984 Campbell Avenue",166327316598,"4 Campbell Avenue","RDH","Red Deer Housing Authority","Red Deer 9 (FCLS)","Red Deer","T4P2W7","Alberta Social Housing Corporation","Community Housing Program"]
["16632731286335 Osborne Street",166327312863,"35 Osborne Street","RDH","Red Deer Housing Authority","Red Deer Municipal","Red Deer","T4N5C1","Municipality","Community Housing Program"]
["16632731286339 Osborne Street",166327312863,"39 Osborne Street","RDH","Red Deer Housing Authority","Red Deer Municipal","Red Deer","T4N5C1","Municipality","Community Housing Program"]
["16632731286343 Osborne Street",166327312863,"43 Osborne Street","RDH","Red Deer Housing Authority","Red Deer Municipal","Red Deer","T4N5C1","Municipality","Community Housing Program"]
["1663273128635907 - 61 Avenue",166327312863,"5907 - 61 Avenue","RDH","Red Deer Housing Authority","Red Deer Municipal","Red Deer","T4N4W9","Municipality","Community Housing Program"]
["1663273128635441 - 35 Street",166327312863,"5441 - 35 Street","RDH","Red Deer Housing Authority","Red Deer Municipal","Red Deer","T4N0S2","Municipality","Community Housing Program"]
["1663273128635445 - 35 Street",166327312863,"5445 - 35 Street","RDH","Red Deer Housing Authority","Red Deer Municipal","Red Deer","T4N0S2","Municipality","Community Housing Program"]
["1663273128635902 - 61 Avenue",166327312863,"5902 - 61 Avenue","RDH","Red Deer Housing Authority","Red Deer Municipal","Red Deer","T4N4W9","Municipality","Community Housing Program"]
["1663273128635901 - 61 Avenue",166327312863,"5901 - 61 Avenue","RDH","Red Deer Housing Authority","Red Deer Municipal","Red Deer","T4N4W9","Municipality","Community Housing Program"]
["1663273128635905 - 61 Avenue",166327312863,"5905 - 61 Avenue","RDH","Red Deer Housing Authority","Red Deer Municipal","Red Deer","T4N4W9","Municipality","Community Housing Program"]
["1663273128635906 - 61 Avenue",166327312863,"5906 - 61 Avenue","RDH","Red Deer Housing Authority","Red Deer Municipal","Red Deer","T4N4W9","Municipality","Community Housing Program"]
["16632731286340 Osborne Street",166327312863,"40 Osborne Street","RDH","Red Deer Housing Authority","Red Deer Municipal","Red Deer","T4N5C2","Municipality","Community Housing Program"]
["16632731286344 Osborne Street",166327312863,"44 Osborne Street","RDH","Red Deer Housing Authority","Red Deer Municipal","Red Deer","T4N5C2","Municipality","Community Housing Program"]
["16632731286348 Osborne Street",166327312863,"48 Osborne Street","RDH","Red Deer Housing Authority","Red Deer Municipal","Red Deer","T4N5C2","Municipality","Community Housing Program"]
["1663273560164506 - 48 Avenue",166327356016,"4506 - 48 Avenue","RDH","Red Deer Housing Authority","Rosewood Manor","Red Deer","T4N3S7","Alberta Social Housing Corporation","Community Housing Program"]
["16772731666846 Whitecap Close",167727316668,"46 Whitecap Close","RDH","Red Deer Housing Authority","Sylvan Lake 1 (FCLS)","Sylvan Lake","T4S1K1","Alberta Social Housing Corporation","Community Housing Program"]
["16772731666852 Whitecap Close",167727316668,"52 Whitecap Close","RDH","Red Deer Housing Authority","Sylvan Lake 1 (FCLS)","Sylvan Lake","T4S1K1","Alberta Social Housing Corporation","Community Housing Program"]
["16772731666818 Whitecap Close",167727316668,"18 Whitecap Close","RDH","Red Deer Housing Authority","Sylvan Lake 1 (FCLS)","Sylvan Lake","T4S1K1","Alberta Social Housing Corporation","Community Housing Program"]
["16772731666811 Willow Street",167727316668,"11 Willow Street","RDH","Red Deer Housing Authority","Sylvan Lake 1 (FCLS)","Sylvan Lake","T4S1M1","Alberta Social Housing Corporation","Community Housing Program"]
["16772731666826 - 45 Street",167727316668,"26 - 45 Street","RDH","Red Deer Housing Authority","Sylvan Lake 1 (FCLS)","Sylvan Lake","T4S1L2","Alberta Social Housing Corporation","Community Housing Program"]
["16772731666854 Sylvan Drive",167727316668,"54 Sylvan Drive","RDH","Red Deer Housing Authority","Sylvan Lake 1 (FCLS)","Sylvan Lake","T4S1J6","Alberta Social Housing Corporation","Community Housing Program"]
["16772722603480 Westview Drive",167727226034,"80 Westview Drive","RDH","Red Deer Housing Authority","Sylvan Lake R&N 1","Sylvan Lake","T4S1H8","Alberta Social Housing Corporation","Community Housing Program"]
["262027556132212 Centre Street SE",262027556132,"212 Centre Street SE","RIG","Ridge Country Housing","Big Sky Villa","Milk River","T0K1M0","Alberta Social Housing Corporation","Seniors Self Contained Program"]
["297227556077213 - 4 Avenue",297227556077,"213 - 4 Avenue","RIG","Ridge Country Housing","Drilander Apartments","Warner","T0K2L0","Alberta Social Housing Corporation","Seniors Self Contained Program"]
["262027556157904 Main Street NE",262027556157,"904 Main Street NE","RIG","Ridge Country Housing","Hillside Terrace","Milk River","T0K1M0","Alberta Social Housing Corporation","Seniors Self Contained Program"]
["273127556056135 North & 50 West",273127556056,"135 North & 50 West","RIG","Ridge Country Housing","Marigold Manor","Raymond","T0K2S0","Alberta Social Housing Corporation","Seniors Self Contained Program"]
["273127556169180 E & 100 Avenue North",273127556169,"180 E & 100 Avenue North","RIG","Ridge Country Housing","Meadowlark Manor","Raymond","T0K2S0","Alberta Social Housing Corporation","Seniors Self Contained Program"]
["262027316147Units 1 & 2, 901 Main Street NW",262027316147,"Units 1 & 2, 901 Main Street NW","RIG","Ridge Country Housing","Milk River 1","Milk River","T0K1M0","Alberta Social Housing Corporation","Community Housing Program"]
["262027316147Units 3 & 4, 901 Main Street NW",262027316147,"Units 3 & 4, 901 Main Street NW","RIG","Ridge Country Housing","Milk River 1","Milk River","T0K1M0","Alberta Social Housing Corporation","Community Housing Program"]
["262027316147Units 5 & 6, 901 Main Street NW",262027316147,"Units 5 & 6, 901 Main Street NW","RIG","Ridge Country Housing","Milk River 1","Milk River","T0K1M0","Alberta Social Housing Corporation","Community Housing Program"]
["262027316170516 - 4 Avenue NE",262027316170,"516 - 4 Avenue NE","RIG","Ridge Country Housing","Milk River 2","Milk River","T0K1M0","Alberta Social Housing Corporation","Community Housing Program"]
["262027510170117 - 3 Avenue NW",262027510170,"117 - 3 Avenue NW","RIG","Ridge Country Housing","Prairie Rose Lodge","Milk River","T0K1M0","Alberta Social Housing Corporation","Seniors Lodge Program"]
[{"$f":"CONCATENATE(B3587,C3587)","v":"273127316082185A - 3 Avenue North"},273127316082,"185A - 3 Avenue North","RIG","Ridge Country Housing","Raymond 2","Raymond","T0K2S0","Alberta Social Housing Corporation","Community Housing Program"]
["273127316082165A - 3 Avenue North",273127316082,"165A - 3 Avenue North","RIG","Ridge Country Housing","Raymond 2","Raymond","T0K2S0","Alberta Social Housing Corporation","Community Housing Program"]
["273127316239235 West & 200 South",273127316239,"235 West & 200 South","RIG","Ridge Country Housing","Raymond 3 (FCLS)","Raymond","T0K2S0","Alberta Social Housing Corporation","Community Housing Program"]
["273127316239128 Park Avenue",273127316239,"128 Park Avenue","RIG","Ridge Country Housing","Raymond 3 (FCLS)","Raymond","T0K2S0","Alberta Social Housing Corporation","Community Housing Program"]
["27312751607440 East 300 South",273127516074,"40 East 300 South","RIG","Ridge Country Housing","Ridgeview Lodge","Raymond","T0K 2S0","Alberta Social Housing Corporation","Seniors Lodge Program"]
["284627226054333 - 4 Street",284627226054,"333 - 4 Street","RIG","Ridge Country Housing","Stirling R&N 1","Stirling","T0K2E0","Alberta Social Housing Corporation","Community Housing Program"]
["284627226054329 - 4 Street",284627226054,"329 - 4 Street","RIG","Ridge Country Housing","Stirling R&N 1","Stirling","T0K2E0","Alberta Social Housing Corporation","Community Housing Program"]
["229727556082115 - 1 Avenue North",229727556082,"115 - 1 Avenue North","RIG","Ridge Country Housing","Wheatland Manor","Coutts","T0K0N0","Alberta Social Housing Corporation","Seniors Self Contained Program"]
["25RR 1, Site 1, Box 9",25,"RR 1, Site 1, Box 9","RVSH","Ridge Valley Seniors Home","Ridgevalley Seniors","Grande Prairie","T0H0Y0","Other","None"]
["11252731289011914 - 81 Street",112527312890,"11914 - 81 Street","997","Right at Home Housing Society","81 Street Apartment","Edmonton","T5B 2S6","Alberta Social Housing Corporation","Community Housing Program"]
["11252731271911933 - 82 Street NW",112527312719,"11933 - 82 Street NW","997","Right at Home Housing Society","Eastwood Heights I (FCLS)","Edmonton","T5B2W4","Alberta Social Housing Corporation","Community Housing Program"]
["11252731272011926 - 81 Street NW",112527312720,"11926 - 81 Street NW","997","Right at Home Housing Society","Eastwood Heights II (FCLS)","Edmonton","T5B2S6","Alberta Social Housing Corporation","Community Housing Program"]
["1125273128923703 - 78 Street",112527312892,"3703 - 78 Street","997","Right at Home Housing Society","Millbourne Mews","Edmonton",null,"Alberta Social Housing Corporation","Community Housing Program"]
["1125273128923715 - 78 Street Edmonton",112527312892,"3715 - 78 Street Edmonton","997","Right at Home Housing Society","Millbourne Mews","Edmonton","T6K3G5","Alberta Social Housing Corporation","Community Housing Program"]
["11252731289513820 - 109A Avenue",112527312895,"13820 - 109A Avenue","997","Right at Home Housing Society","North Glenora","Edmonton","T5M 2K1","Alberta Social Housing Corporation","Community Housing Program"]
["1125273720439528 - 107A Avenue NW",112527372043,"9528 - 107A Avenue NW","997","Right at Home Housing Society","Project 3","Edmonton","T5H0Z5","Housing Provider","Specialized Housing"]
["1125273720439532 - 107A Avenue NW",112527372043,"9532 - 107A Avenue NW","997","Right at Home Housing Society","Project 3","Edmonton","T5H0Z5","Housing Provider","Specialized Housing"]
["1125273720449535 - 108 Avenue NW",112527372044,"9535 - 108 Avenue NW","997","Right at Home Housing Society","Project 4","Edmonton","T5H1A2","Housing Provider","Specialized Housing"]
["1125273720459304 - 109A Avenue NW",112527372045,"9304 - 109A Avenue NW","997","Right at Home Housing Society","Project 5","Edmonton","T5H1C5","Housing Provider","Specialized Housing"]
["1125273720469512 - 110 Avenue NW",112527372046,"9512 - 110 Avenue NW","997","Right at Home Housing Society","Project 6","Edmonton","T5H1H4","Housing Provider","Specialized Housing"]
["1125273720469518 - 110 Avenue NW",112527372046,"9518 - 110 Avenue NW","997","Right at Home Housing Society","Project 6","Edmonton","T5H1H4","Housing Provider","Specialized Housing"]
["1125273720479341 - 104 Avenue NW",112527372047,"9341 - 104 Avenue NW","997","Right at Home Housing Society","Project 7","Edmonton","T5H0H9","Housing Provider","Specialized Housing"]
["1125273720479330 - 103A Avenue NW",112527372047,"9330 - 103A Avenue NW","997","Right at Home Housing Society","Project 7","Edmonton","T5H0H4","Housing Provider","Specialized Housing"]
["1125273720479321 - 103 Avenue NW",112527372047,"9321 - 103 Avenue NW","997","Right at Home Housing Society","Project 7","Edmonton","T5H4L8","Housing Provider","Specialized Housing"]
["1125273720489356 - 101A Avenue NW",112527372048,"9356 - 101A Avenue NW","997","Right at Home Housing Society","Project 8","Edmonton","T5H0C3","Housing Provider","Specialized Housing"]
["30000000101811831 – 101 Street",300000001018,"11831 – 101 Street","997","Right at Home Housing Society","Westwood Family Housing","Edmonton","T5M 2K1","Housing Provider","Specialized Housing"]
["11252731288612315 - 97 Street",112527312886,"12315 - 97 Street","997","Right at Home Housing Society","Woodland Apartment","Edmonton","T5G 1Z5","Alberta Social Housing Corporation","Community Housing Program"]
["11252731288512309 - 97 Street",112527312885,"12309 - 97 Street","997","Right at Home Housing Society","Woodland Manor","Edmonton","T5G 1Z5","Alberta Social Housing Corporation","Specialized Housing"]
["88888888005130 Woodvale Road W",888888880051,"30 Woodvale Road W","997","Right at Home Housing Society","Woodvale Court","Edmonton","T6L4S9","Housing Provider","Specialized Housing"]
["1657275521065008 - 54 Avenue",165727552106,"5008 - 54 Avenue","RIM","Rimoka Housing Foundation","Anniversary Arms","Ponoka","T4J1N2","Alberta Social Housing Corporation","Seniors Self Contained Program"]
["1657275522435008 - 54 Avenue",165727552243,"5008 - 54 Avenue","RIM","Rimoka Housing Foundation","Anniversary Arms Addition","Ponoka","T4J1N2","Alberta Social Housing Corporation","Seniors Self Contained Program"]
["1657275101765608 - 57 Avenue",165727510176,"5608 - 57 Avenue","RIM","Rimoka Housing Foundation","Golden Leisure Lodge","Ponoka","T4J1P2","Housing Provider","Seniors Lodge Program"]
["1669275520134910 - 54 Avenue",166927552013,"4910 - 54 Avenue","RIM","Rimoka Housing Foundation","Kansas Ridge Apartments 1","Ponoka  County","T0C2J0","Alberta Social Housing Corporation","Seniors Self Contained Program"]
["1669275521935409 - 50 Street",166927552193,"5409 - 50 Street","RIM","Rimoka Housing Foundation","Kansas Ridge Apartments 2","Ponoka  County","T0C2J0","Alberta Social Housing Corporation","Seniors Self Contained Program"]
["1657273166653911 - 52 Avenue",165727316665,"3911 - 52 Avenue","RIM","Rimoka Housing Foundation","Ponoka 1 (FCLS)","Ponoka","T4J1C9","Alberta Social Housing Corporation","Community Housing Program"]
["1657273166655106 - 38 Street",165727316665,"5106 - 38 Street","RIM","Rimoka Housing Foundation","Ponoka 1 (FCLS)","Ponoka","T4J1C6","Alberta Social Housing Corporation","Community Housing Program"]
["1657273128625003A - 60 Avenue",165727312862,"5003A - 60 Avenue","RIM","Rimoka Housing Foundation","Ponoka Municipal","Ponoka","T4J1G1","Municipality","Community Housing Program"]
["1657273128625005A - 60 Avenue",165727312862,"5005A - 60 Avenue","RIM","Rimoka Housing Foundation","Ponoka Municipal","Ponoka","T4J1G1","Municipality","Community Housing Program"]
["1657273128625007A - 60 Avenue",165727312862,"5007A - 60 Avenue","RIM","Rimoka Housing Foundation","Ponoka Municipal","Ponoka","T4J1G1","Municipality","Community Housing Program"]
["1657273128625011A - 60 Avenue",165727312862,"5011A - 60 Avenue","RIM","Rimoka Housing Foundation","Ponoka Municipal","Ponoka","T4J1G1","Municipality","Community Housing Program"]
["1657273128625013A - 60 Avenue",165727312862,"5013A - 60 Avenue","RIM","Rimoka Housing Foundation","Ponoka Municipal","Ponoka","T4J1G1","Municipality","Community Housing Program"]
["1657275500865119 - 51 Avenue",165727550086,"5119 - 51 Avenue","RIM","Rimoka Housing Foundation","Reid Manor","Ponoka","T4J1N5","Alberta Social Housing Corporation","Seniors Self Contained Program"]
["1669273100305033 - 57 Avenue",166927310030,"5033 - 57 Avenue","RIM","Rimoka Housing Foundation","Rimbey","Ponoka  County","T0C2J0","Alberta Social Housing Corporation","Community Housing Program"]
["1669273100305037 - 57 Avenue",166927310030,"5037 - 57 Avenue","RIM","Rimoka Housing Foundation","Rimbey","Ponoka  County","T0C2J0","Alberta Social Housing Corporation","Community Housing Program"]
["1669273100305017 - 57 Avenue",166927310030,"5017 - 57 Avenue","RIM","Rimoka Housing Foundation","Rimbey","Ponoka  County","T0C2J0","Alberta Social Housing Corporation","Community Housing Program"]
["1669273100304909 - 56 Avenue",166927310030,"4909 - 56 Avenue","RIM","Rimoka Housing Foundation","Rimbey","Ponoka  County","T0C2J0","Alberta Social Housing Corporation","Community Housing Program"]
["1669273100305017 - 54 Avenue",166927310030,"5017 - 54 Avenue","RIM","Rimoka Housing Foundation","Rimbey","Ponoka  County","T0C2J0","Alberta Social Housing Corporation","Community Housing Program"]
["1669273100304938 - 53 Avenue",166927310030,"4938 - 53 Avenue","RIM","Rimoka Housing Foundation","Rimbey","Ponoka  County","T0C2J0","Alberta Social Housing Corporation","Community Housing Program"]
["1669273100304618 - 53 Avenue",166927310030,"4618 - 53 Avenue","RIM","Rimoka Housing Foundation","Rimbey","Ponoka  County","T0C2J0","Alberta Social Housing Corporation","Community Housing Program"]
["1669273100304629 - 54 Avenue",166927310030,"4629 - 54 Avenue","RIM","Rimoka Housing Foundation","Rimbey","Ponoka  County","T0C2J0","Alberta Social Housing Corporation","Community Housing Program"]
["1669272260184505 - 54 Avenue",166927226018,"4505 - 54 Avenue","RIM","Rimoka Housing Foundation","Rimbey - R&N 1","Ponoka  County","T0C2J0","Alberta Social Housing Corporation","Community Housing Program"]
["1669275122234417 Rimstone Drive",166927512223,"4417 Rimstone Drive","RIM","Rimoka Housing Foundation","Rimbey Valley View Manor","Rimbey",null,"Alberta Social Housing Corporation","Seniors Lodge Program"]
["1657275522605001 - 54 Avenue",165727552260,"5001 - 54 Avenue","RIM","Rimoka Housing Foundation","Slater Place","Ponoka","T4J1N3","Alberta Social Housing Corporation","Seniors Self Contained Program"]
["117927372030783 Alder Avenue",117927372030,"783 Alder Avenue","RHR","Robin Hood Association for the Handicapped","RHR Project 1","Sherwood Park","T8A1V1","Housing Provider","Specialized Housing"]
["11792737203036 Malvern Drive",117927372030,"36 Malvern Drive","RHR","Robin Hood Association for the Handicapped","RHR Project 1","Sherwood Park","T8A3W2","Housing Provider","Specialized Housing"]
["1671275520125427 - 52 Avenue Units 1-4",167127552012,"5427 - 52 Avenue Units 1-4","RSH","Rocky Senior Housing Council","Acton House","Rocky Mountain House","T4T1V5","Alberta Social Housing Corporation","Seniors Self Contained Program"]
["1671275520125427 - 52 Avenue Units 5-8",167127552012,"5427 - 52 Avenue Units 5-8","RSH","Rocky Senior Housing Council","Acton House","Rocky Mountain House","T4T1V5","Alberta Social Housing Corporation","Seniors Self Contained Program"]
["1671275520125427 - 52 Avenue Units 9 - 12",167127552012,"5427 - 52 Avenue Units 9 - 12","RSH","Rocky Senior Housing Council","Acton House","Rocky Mountain House","T4T1V5","Alberta Social Housing Corporation","Seniors Self Contained Program"]
["1671275520125427 - 52 Avenue Units 13 - 16",167127552012,"5427 - 52 Avenue Units 13 - 16","RSH","Rocky Senior Housing Council","Acton House","Rocky Mountain House","T4T1V5","Alberta Social Housing Corporation","Seniors Self Contained Program"]
["1671275520125427 - 52 Avenue",167127552012,"5427 - 52 Avenue","RSH","Rocky Senior Housing Council","Acton House","Rocky Mountain House","T4T1V5","Alberta Social Housing Corporation","Seniors Self Contained Program"]
["1671275561765016 - 51 Avenue",167127556176,"5016 - 51 Avenue","RSH","Rocky Senior Housing Council","Columbus Place 1","Rocky Mountain House","T4T1V5","Alberta Social Housing Corporation","Seniors Self Contained Program"]
["1671275561765016 51 Avenue",167127556176,"5016 51 Avenue","RSH","Rocky Senior Housing Council","Columbus Place 1","Rocky Mountain House","T4T1V5","Alberta Social Housing Corporation","Seniors Self Contained Program"]
["1671275521915427 52 Ave 1 - 8",167127552191,"5427 52 Ave 1 - 8","RSH","Rocky Senior Housing Council","Day Manor","Rocky Mountain House","T4T1V5","Alberta Social Housing Corporation","Seniors Self Contained Program"]
["1650275522721 Street & 1 Avenue",165027552272,"1 Street & 1 Avenue","RSH","Rocky Senior Housing Council","McLeod Manor","Leslieville","T0M1H0","Alberta Social Housing Corporation","Seniors Self Contained Program"]
[{"$f":"CONCATENATE(B3651,C3651)","v":"16182755211651 Avenue & 50 Street"},161827552116,"51 Avenue & 50 Street","RSH","Rocky Senior Housing Council","Mountain Sunset Manor","Caroline","T0M0M0","Alberta Social Housing Corporation","Seniors Self Contained Program"]
["1671275101815427 - 52 Avenue",167127510181,"5427 - 52 Avenue","RSH","Rocky Senior Housing Council","Westview Lodge","Rocky Mountain House","T4T1V5","Housing Provider","Seniors Lodge Program"]
["30000000105152 East Lake Avenue NE",300000001051,"52 East Lake Avenue NE","RVF","Rocky View Foundation","Abrio Place","Airdrie","T4A2G8","Housing Provider","Seniors Lodge Program"]
["228627516037#12 - 98 Carolina Drive",228627516037,"#12 - 98 Carolina Drive","RVF","Rocky View Foundation","Big Hill Lodge","Cochrane","T4C1X5","Alberta Social Housing Corporation","Seniors Lodge Program"]
["208027556060216 - 4 Street",208027556060,"216 - 4 Street","RVF","Rocky View Foundation","Crossroads Manor","Beiseker","T0M0G0","Alberta Social Housing Corporation","Seniors Self Contained Program"]
["200127556070112 Bowers Street",200127556070,"112 Bowers Street","RVF","Rocky View Foundation","Diamond Jubilee Manor","Airdrie","T4B2A8","Housing Provider","Seniors Self Contained Program"]
["2309275561151237 Osler Avenue",230927556115,"1237 Osler Avenue","RVF","Rocky View Foundation","Dr. Whillan's Manor","Crossfield","T0M0S0","Alberta Social Housing Corporation","Seniors Self Contained Program"]
["228627556090300 Ross Avenue",228627556090,"300 Ross Avenue","RVF","Rocky View Foundation","Evergreen Manor","Cochrane","T4C1X4","Alberta Social Housing Corporation","Seniors Self Contained Program"]
["2309275160411220 Hammond Avenue",230927516041,"1220 Hammond Avenue","RVF","Rocky View Foundation","Rocky View Lodge","Crossfield","T0M0S0","Housing Provider","Seniors Lodge Program"]
["3000000010586411 – 56 Street",300000001058,"6411 – 56 Street",13000,"Safe Haven Womens Shelter Society","Women’s Shelter","Taber",null,"Housing Provider","None"]
["26",26,null,"SMS","Salem Manor Society","Salem Manor","Leduc",null,"Other","None"]
["2218275503041633 - 20 Avenue NW",221827550304,"1633 - 20 Avenue NW","SLV","Silvera For Seniors","Alder Court","Calgary","T2M1G9","Alberta Social Housing Corporation","Seniors Self Contained Program"]
["2218275122001171 Bow Valley Lane NE",221827512200,"1171 Bow Valley Lane NE","SLV","Silvera For Seniors","Aspen Lodge","Calgary","T2E8B1","Housing Provider","Seniors Lodge Program"]
["22182755613310660 Elbow Drive SW",221827556133,"10660 Elbow Drive SW","SLV","Silvera For Seniors","Austin H. Nixon Manor","Calgary","T2W1G4","Alberta Social Housing Corporation","Seniors Self Contained Program"]
["2218275101242012 - 66  Avenue  SE",221827510124,"2012 - 66  Avenue  SE","SLV","Silvera For Seniors","Beaver Dam Lodge 1200","Calgary","T2C1X7","Alberta Social Housing Corporation","Seniors Lodge Program"]
["22182755604819 Street & Crestwood Road SE",221827556048,"19 Street & Crestwood Road SE","SLV","Silvera For Seniors","Beaver Dam Place","Calgary","T2C1X7","Alberta Social Housing Corporation","Seniors Self Contained Program"]
["2218275561962012 - 66 Avenue SE",221827556196,"2012 - 66 Avenue SE","SLV","Silvera For Seniors","Beaver Dam Senior Citizens","Calgary","T2C1X7","Alberta Social Housing Corporation","Seniors Self Contained Program"]
["2218275101231020 Bow Valley Drive NE",221827510123,"1020 Bow Valley Drive NE","SLV","Silvera For Seniors","Bow Valley Lodge 1100","Calgary","T2E6P9","Alberta Social Housing Corporation","Seniors Lodge Program"]
["2218275561801060 Bow Valley Drive NE",221827556180,"1060 Bow Valley Drive NE","SLV","Silvera For Seniors","Bow Valley Townhouses (ATCO)","Calgary","T2E8L3","Alberta Social Housing Corporation","Seniors Self Contained Program"]
["2218275561481818 - 28 Avenue SW",221827556148,"1818 - 28 Avenue SW","SLV","Silvera For Seniors","Boxwood Place","Calgary","T2T1J8","Alberta Social Housing Corporation","Seniors Self Contained Program"]
["221827556034828 - 4 Street NE",221827556034,"828 - 4 Street NE","SLV","Silvera For Seniors","Chestnut Grove","Calgary","T2E3T1","Alberta Social Housing Corporation","Seniors Self Contained Program"]
["2218275100101320 - 21 Avenue NW",221827510010,"1320 - 21 Avenue NW","SLV","Silvera For Seniors","Confederation Park 1000","Calgary","T2M1L4","Alberta Social Housing Corporation","Seniors Lodge Program"]
["2218275561941518 - 8 Avenue NW",221827556194,"1518 - 8 Avenue NW","SLV","Silvera For Seniors","Dream Haven","Calgary","T2N1C1","Alberta Social Housing Corporation","Seniors Self Contained Program"]
["2218275560493606 to 3613 - 63 Street NW",221827556049,"3606 to 3613 - 63 Street NW","SLV","Silvera For Seniors","Elmwood Court","Calgary","T3B5A7","Alberta Social Housing Corporation","Seniors Self Contained Program"]
["2218275561541923 - 33 Street SW",221827556154,"1923 - 33 Street SW","SLV","Silvera For Seniors","Friendship Manor","Calgary","T3E7B3","Alberta Social Housing Corporation","Seniors Self Contained Program"]
["221827516073503 Pinestream Place NE, Calgary AB T1Y 4P5",221827516073,"503 Pinestream Place NE, Calgary AB T1Y 4P5","SLV","Silvera For Seniors","Gilchrist Commons","Calgary",null,"Alberta Social Housing Corporation","Seniors Lodge Program"]
["221827556203511 Pinestream Place NE",221827556203,"511 Pinestream Place NE","SLV","Silvera For Seniors","Gilchrist Gardens","Calgary",null,"Alberta Social Housing Corporation","Seniors Self Contained Program"]
["2218275560353003 - 56 Street NE",221827556035,"3003 - 56 Street NE","SLV","Silvera For Seniors","Gilchrist Manor","Calgary","T1Y4P5","Alberta Social Housing Corporation","Seniors Self Contained Program"]
["2218275660054730 - 19 Avenue NW",221827566005,"4730 - 19 Avenue NW","SLV","Silvera For Seniors","James Shouldice","Calgary","T3B4V2","Alberta Social Housing Corporation","Seniors Lodge Program"]
["2218275101254730 - 19 Avenue NW",221827510125,"4730 - 19 Avenue NW","SLV","Silvera For Seniors","James Shouldice Lodge 1300","Calgary","T3B4V2","Alberta Social Housing Corporation","Seniors Lodge Program"]
["2218275560752003 - 46 Street NW",221827556075,"2003 - 46 Street NW","SLV","Silvera For Seniors","James Shouldice Manor","Calgary","T3B1B3","Alberta Social Housing Corporation","Seniors Self Contained Program"]
["221827556027207 - 21 Avenue NE",221827556027,"207 - 21 Avenue NE","SLV","Silvera For Seniors","McCann Court","Calgary","T2E1S5","Alberta Social Housing Corporation","Seniors Self Contained Program"]
["221827556027209 - 21 Avenue NE",221827556027,"209 - 21 Avenue NE","SLV","Silvera For Seniors","McCann Court","Calgary","T2E1S5","Alberta Social Housing Corporation","Seniors Self Contained Program"]
["221827556027211 - 21 Avenue NE",221827556027,"211 - 21 Avenue NE","SLV","Silvera For Seniors","McCann Court","Calgary","T2E1S5","Alberta Social Housing Corporation","Seniors Self Contained Program"]
["221827556000710 - 16 Avenue NE",221827556000,"710 - 16 Avenue NE","SLV","Silvera For Seniors","Mountview 2","Calgary","T2E6V9","Alberta Social Housing Corporation","Seniors Self Contained Program"]
["221827556101Units 1-10, 4500 - 47 Street SW",221827556101,"Units 1-10, 4500 - 47 Street SW","SLV","Silvera For Seniors","Queens Court","Calgary","T3E6W5","Alberta Social Housing Corporation","Seniors Self Contained Program"]
["221827556101Units 11-24, 4500 - 47 Street SW",221827556101,"Units 11-24, 4500 - 47 Street SW","SLV","Silvera For Seniors","Queens Court","Calgary","T3E6W5","Alberta Social Housing Corporation","Seniors Self Contained Program"]
["22182751606330 Shannon Place SW",221827516063,"30 Shannon Place SW","SLV","Silvera For Seniors","Shawnessy Lodge","Calgary","T2Y2B3","Alberta Social Housing Corporation","Seniors Lodge Program"]
["2218275121181055 Bow Valley Drive NE",221827512118,"1055 Bow Valley Drive NE","SLV","Silvera For Seniors","Spruce Lodge","Calgary","T2E8A9","Housing Provider","Seniors Lodge Program"]
["2218275160062736 - 19 Avenue SE",221827516006,"2736 - 19 Avenue SE","SLV","Silvera For Seniors","Valley View Lodge 1400","Calgary","T2B0A3","Alberta Social Housing Corporation","Seniors Lodge Program"]
["300000001097Units 1-5 - 5200 53 AVE NW",300000001097,"Units 1-5 - 5200 53 AVE NW","SLV","Silvera For Seniors","Varsity Estates Gardens","Calgary","T3A 2C4","Housing Provider","None"]
["300000001097Units 6-10 - 5200 53 AVE NW",300000001097,"Units 6-10 - 5200 53 AVE NW","SLV","Silvera For Seniors","Varsity Estates Gardens","Calgary","T3A 2C4","Housing Provider","None"]
["300000001097Units 11-19 - 5200 53 AVE NW",300000001097,"Units 11-19 - 5200 53 AVE NW","SLV","Silvera For Seniors","Varsity Estates Gardens","Calgary","T3A 2C4","Housing Provider","None"]
["300000001097Units 20-28 - 5200 53 AVE NW",300000001097,"Units 20-28 - 5200 53 AVE NW","SLV","Silvera For Seniors","Varsity Estates Gardens","Calgary","T3A 2C4","Housing Provider","None"]
["300000001097Units 29-34 - 5200 53 AVE NW",300000001097,"Units 29-34 - 5200 53 AVE NW","SLV","Silvera For Seniors","Varsity Estates Gardens","Calgary","T3A 2C4","Housing Provider","None"]
["300000001097Units 35-39 - 5200 53 AVE NW",300000001097,"Units 35-39 - 5200 53 AVE NW","SLV","Silvera For Seniors","Varsity Estates Gardens","Calgary","T3A 2C4","Housing Provider","None"]
["11252735201215213 - 54 Street NW",112527352012,"15213 - 54 Street NW","STS","Skills Society - Supporting The Citizenship Of People With Disabilities","New Hope I","Edmonton","T5A3N9","Alberta Social Housing Corporation","Specialized Housing"]
["1125273520152E Twin Terrace NW",112527352015,"2E Twin Terrace NW","STS","Skills Society - Supporting The Citizenship Of People With Disabilities","New Hope II","Edmonton","T6K1V4","Alberta Social Housing Corporation","Specialized Housing"]
["11252737202474 Belmead Gardens NW",112527372024,"74 Belmead Gardens NW","STS","Skills Society - Supporting The Citizenship Of People With Disabilities","Belmead Gardens","Edmonton","T5T1J1","Housing Provider","Specialized Housing"]
["999999999916",999999999916,null,"SASI","Southern Alcare Society","Southern Alcare Society","Lethbridge",null,"Other","None"]
["8888888800562612 - 14A Street SW",888888880056,"2612 - 14A Street SW","SMB","St. Mark's Building Society","St. Mark's Manor","Calgary","T2T3X7","Housing Provider","Specialized Housing"]
["1125275521813625 - 116 Avenue NW",112527552181,"3625 - 116 Avenue NW","SMHG","St. Michael's Healthcare Services","Barvinok Home","Edmonton","T5W0W7","Alberta Social Housing Corporation","Seniors Self Contained Program"]
["11252755204410809 - 70 Avenue NW",112527552044,"10809 - 70 Avenue NW","SMHG","St. Michael's Healthcare Services","Father Hannas Home","Edmonton","T6H4Y5","Alberta Social Housing Corporation","Seniors Self Contained Program"]
["1125275520949637 - 108 Avenue NW",112527552094,"9637 - 108 Avenue NW","SMHG","St. Michael's Healthcare Services","St. Josaphat's Senior Citizens Home","Edmonton","T5H4G4","Alberta Social Housing Corporation","Seniors Self Contained Program"]
["1125275521745619 - 98 Avenue NW",112527552174,"5619 - 98 Avenue NW","SMHG","St. Michael's Healthcare Services","St. Nicholas Home","Edmonton","T6A3Y5","Alberta Social Housing Corporation","Seniors Self Contained Program"]
["1576273720184606 - 47 Street",157627372018,"4606 - 47 Street","SPH","St. Paul Abilities Network Society","SPH Project 1","St. Paul","T0A3A3","Housing Provider","Specialized Housing"]
["3000000010965234 - 46 Avenue",300000001096,"5234 - 46 Avenue","SPH","St. Paul Abilities Network Society","SPH Project 2","St. Paul","T0A3A1","Housing Provider","Specialized Housing"]
["95",95,null,"33333","St. Paul and District Crisis Association","St.Paul & District Crisis Association","St. Paul","T0A3A0","Other","None"]
["94",94,null,"44444","Strathcona Shelter Society LTD","Strathcona Shelter Society","Strathcona County",null,"Other","None"]
["271720 Bell Street SW",27,"1720 Bell Street SW","need","Sunnyside Care Centre","Sunnyside Care Centre","Medicine Hat","T1A5G1","Other","None"]
["221827376006427 Huntington Way NE",221827376006,"427 Huntington Way NE","SLL","Supported Lifestyles Ltd.","Beddington-Simon's Valley Houses","Calgary","T2K5A7","Housing Provider","Specialized Housing"]
["2218273760067923 Huntington Road NE",221827376006,"7923 Huntington Road NE","SLL","Supported Lifestyles Ltd.","Beddington-Simon's Valley Houses","Calgary","T2K5A2","Housing Provider","Specialized Housing"]
["1677275160714620 - 47 Avenue",167727516071,"4620 - 47 Avenue","SYL","Sylvan Lake Foundation","Sylvan Lake Lodge","Sylvan Lake","T4S1L4","Housing Provider","Seniors Lodge Program"]
["1677275500954733 - 47 Street",167727550095,"4733 - 47 Street","SYL","Sylvan Lake Foundation","Sylvan Manor","Sylvan Lake","T4S1M8","Alberta Social Housing Corporation","Seniors Self Contained Program"]
[{"$f":"CONCATENATE(B3715,C3715)","v":"205527226053102 - 4 Avenue E"},205527226053,"102 - 4 Avenue E","TAB","Taber and District Housing Foundation","Barnwell - R&N 1","Barnwell","T0K0B0","Alberta Social Housing Corporation","Community Housing Program"]
["205527226023508 - 1 Street E",205527226023,"508 - 1 Street E","TAB","Taber and District Housing Foundation","Barnwell - R&N 2","Barnwell","T0K0B0","Alberta Social Housing Corporation","Community Housing Program"]
["205527556150508 - 1 Street E",205527556150,"508 - 1 Street E","TAB","Taber and District Housing Foundation","Bountiful House","Barnwell","T0K0B0","Alberta Social Housing Corporation","Seniors Self Contained Program"]
["2871275160614730 - 50 Avenue",287127516061,"4730 - 50 Avenue","TAB","Taber and District Housing Foundation","Clearview Lodge","Taber","T1G2G9","Housing Provider","Seniors Lodge Program"]
["2871275560114702 - 50 Avenue",287127556011,"4702 - 50 Avenue","TAB","Taber and District Housing Foundation","Harmony Manor","Taber","T1G2G9","Alberta Social Housing Corporation","Seniors Self Contained Program"]
["2871275561524900 - 48 Street",287127556152,"4900 - 48 Street","TAB","Taber and District Housing Foundation","Homestead Manor","Taber","T1G1N7","Alberta Social Housing Corporation","Seniors Self Contained Program"]
["2871275561784718 - 48 Avenue",287127556178,"4718 - 48 Avenue","TAB","Taber and District Housing Foundation","Pioneer Place","Taber","T1G2G9","Alberta Social Housing Corporation","Seniors Self Contained Program"]
["296827556078624 - 3 Avenue N",296827556078,"624 - 3 Avenue N","TAB","Taber and District Housing Foundation","Prairie Rose Manor","Vauxhall","T0K2K0","Alberta Social Housing Corporation","Seniors Self Contained Program"]
["2871273560085414 - 55 Street",287127356008,"5414 - 55 Street","TAB","Taber and District Housing Foundation","Public Non Profit Housing","Taber","T1G1M5","Alberta Social Housing Corporation","Community Housing Program"]
["248027556177437 -  2 Street South",248027556177,"437 -  2 Street South","TAB","Taber and District Housing Foundation","Sunshine Manor","Grassy Lake","T0K0Z0","Alberta Social Housing Corporation","Seniors Self Contained Program"]
["2871273167685002 - 60 Avenue",287127316768,"5002 - 60 Avenue","TAB","Taber and District Housing Foundation","Taber 1","Taber","T1G1J6","Alberta Social Housing Corporation","Community Housing Program"]
["2871273167685006 - 60 Avenue",287127316768,"5006 - 60 Avenue","TAB","Taber and District Housing Foundation","Taber 1","Taber","T1G1J6","Alberta Social Housing Corporation","Community Housing Program"]
["2871273167685010 - 60 Avenue",287127316768,"5010 - 60 Avenue","TAB","Taber and District Housing Foundation","Taber 1","Taber","T1G1J6","Alberta Social Housing Corporation","Community Housing Program"]
["2871273167685014 - 60 Avenue",287127316768,"5014 - 60 Avenue","TAB","Taber and District Housing Foundation","Taber 1","Taber","T1G1J6","Alberta Social Housing Corporation","Community Housing Program"]
["2871273167685018 - 60 Avenue",287127316768,"5018 - 60 Avenue","TAB","Taber and District Housing Foundation","Taber 1","Taber","T1G1J6","Alberta Social Housing Corporation","Community Housing Program"]
["2871273167685102 - 60 Avenue",287127316768,"5102 - 60 Avenue","TAB","Taber and District Housing Foundation","Taber 1","Taber","T1G1J6","Alberta Social Housing Corporation","Community Housing Program"]
["2871273167685106 - 60 Avenue",287127316768,"5106 - 60 Avenue","TAB","Taber and District Housing Foundation","Taber 1","Taber","T1G1J6","Alberta Social Housing Corporation","Community Housing Program"]
["2871273167685110 - 60 Avenue",287127316768,"5110 - 60 Avenue","TAB","Taber and District Housing Foundation","Taber 1","Taber","T1G1J6","Alberta Social Housing Corporation","Community Housing Program"]
["2871273167685911 - 50 Street",287127316768,"5911 - 50 Street","TAB","Taber and District Housing Foundation","Taber 1","Taber","T1G1J6","Alberta Social Housing Corporation","Community Housing Program"]
["2871273167685915 - 50 Street",287127316768,"5915 - 50 Street","TAB","Taber and District Housing Foundation","Taber 1","Taber","T1G1J6","Alberta Social Housing Corporation","Community Housing Program"]
["2871273160914413 - 56 Avenue",287127316091,"4413 - 56 Avenue","TAB","Taber and District Housing Foundation","Taber 2","Taber","T1G1G9","Alberta Social Housing Corporation","Community Housing Program"]
["2871273160915602  - 47 Street",287127316091,"5602  - 47 Street","TAB","Taber and District Housing Foundation","Taber 2","Taber","T1G1E2","Alberta Social Housing Corporation","Community Housing Program"]
["2871273160915601 - 46 Street",287127316091,"5601 - 46 Street","TAB","Taber and District Housing Foundation","Taber 2","Taber","T1G1G9","Alberta Social Housing Corporation","Community Housing Program"]
["2871273160914417 - 56 Avenue",287127316091,"4417 - 56 Avenue","TAB","Taber and District Housing Foundation","Taber 2","Taber","T1G1G9","Alberta Social Housing Corporation","Community Housing Program"]
["2871273166893802 - 55 Street",287127316689,"3802 - 55 Street","TAB","Taber and District Housing Foundation","Taber 3 (ATCO)","Taber","T1G1B8","Alberta Social Housing Corporation","Community Housing Program"]
["296827226024624- 3 Avenue N",296827226024,"624- 3 Avenue N","TAB","Taber and District Housing Foundation","Vauxhall - R&N 1","Vauxhall","T0K2K0","Alberta Social Housing Corporation","Community Housing Program"]
["296827226011509 - 3 Street N",296827226011,"509 - 3 Street N","TAB","Taber and District Housing Foundation","Vauxhall - R&N 2","Vauxhall","T0K2K0","Alberta Social Housing Corporation","Community Housing Program"]
["296827226011523 - 3 Street N",296827226011,"523 - 3 Street N","TAB","Taber and District Housing Foundation","Vauxhall - R&N 2","Vauxhall","T0K2K0","Alberta Social Housing Corporation","Community Housing Program"]
["2218273760023214 - 34 Avenue SW",221827376002,"3214 - 34 Avenue SW","TCD","TCD2 Housing Society","Richmond Residence","Calgary","T3E0Z2","Housing Provider","Specialized Housing"]
["9999999999523406 & 3408 - 51 Avenue",999999999952,"3406 & 3408 - 51 Avenue","TBFCI","The Bea Fisher Centre Inc.","Alberta Home #1","Lloydminster","T9V1E1","Housing Provider","None"]
["9999999999533509 & 3511 - 51 Avenue",999999999953,"3509 & 3511 - 51 Avenue","TBFCI","The Bea Fisher Centre Inc.","Alberta Home 2","Lloydminster","T9V 1C9","Housing Provider","None"]
["8888888800582611 - 15 Avenue SE",888888880058,"2611 - 15 Avenue SE","ESG","The Elder Statesmen Group","Becker Manor","Calgary","T2A0L6","Housing Provider","Specialized Housing"]
["888888880059717 - 1 Avenue SW",888888880059,"717 - 1 Avenue SW","ESG","The Elder Statesmen Group","Bow Claire","Calgary","T2P3B5","Housing Provider","Specialized Housing"]
["114827512215509 Turret Street",114827512215,"509 Turret Street","EGF","The Evergreens Foundation","Alpine Summit Seniors Lodge","Jasper, Municipality Of","T0E1E0","Housing Provider","Seniors Lodge Program"]
["112927312842#101-107, 1233 Westhaven Drive",112927312842,"#101-107, 1233 Westhaven Drive","EGF","The Evergreens Foundation","Edson 1","Edson","T7E1W5","Alberta Social Housing Corporation","Community Housing Program"]
["1137272229195336 - 47 Street",113727222919,"5336 - 47 Street","EGF","The Evergreens Foundation","Evansburg R&N 1","Evansburg","T0E0T0","Alberta Social Housing Corporation","Community Housing Program"]
["1137272229194912 - 52 Avenue",113727222919,"4912 - 52 Avenue","EGF","The Evergreens Foundation","Evansburg R&N 1","Evansburg","T0E0S0","Alberta Social Housing Corporation","Community Housing Program"]
["1137272229195140 - 49 Street",113727222919,"5140 - 49 Street","EGF","The Evergreens Foundation","Evansburg R&N 1","Evansburg","T0E0S0","Alberta Social Housing Corporation","Community Housing Program"]
["1137272229194719 - 52A Avenue",113727222919,"4719 - 52A Avenue","EGF","The Evergreens Foundation","Evansburg R&N 1","Evansburg","T0E0T0","Alberta Social Housing Corporation","Community Housing Program"]
["1137272229194803 - 52A Avenue",113727222919,"4803 - 52A Avenue","EGF","The Evergreens Foundation","Evansburg R&N 1","Evansburg","T0E0T0","Alberta Social Housing Corporation","Community Housing Program"]
["1137272229194811 - 52A Avenue",113727222919,"4811 - 52A Avenue","EGF","The Evergreens Foundation","Evansburg R&N 1","Evansburg","T0E0T0","Alberta Social Housing Corporation","Community Housing Program"]
["1137272229194629 - 55 Street",113727222919,"4629 - 55 Street","EGF","The Evergreens Foundation","Evansburg R&N 1","Evansburg","T0E0S0","Alberta Social Housing Corporation","Community Housing Program"]
["1129275520165220 - 5 Avenue",112927552016,"5220 - 5 Avenue","EGF","The Evergreens Foundation","Heatherwood Manor","Edson","T7E1R6","Alberta Social Housing Corporation","Seniors Self Contained Program"]
["1129275521725238 - 5 Avenue",112927552172,"5238 - 5 Avenue","EGF","The Evergreens Foundation","Heritage Court","Edson","T7E1R6","Alberta Social Housing Corporation","Seniors Self Contained Program"]
["114427362001154 McPherson Drive",114427362001,"154 McPherson Drive","EGF","The Evergreens Foundation","Hinton McPherson","Hinton","T7V1J9","Municipality","Specialized Housing"]
["114427312861143 Tamarack Avenue",114427312861,"143 Tamarack Avenue","EGF","The Evergreens Foundation","Hinton Municipal","Hinton","T7V1E1","Municipality","Community Housing Program"]
["114427312861147 Tamarack Avenue",114427312861,"147 Tamarack Avenue","EGF","The Evergreens Foundation","Hinton Municipal","Hinton","T7V1E1","Municipality","Community Housing Program"]
["114427312861151 Tamarack Avenue",114427312861,"151 Tamarack Avenue","EGF","The Evergreens Foundation","Hinton Municipal","Hinton","T7V1E1","Municipality","Community Housing Program"]
["114427312861155 Tamarack Avenue",114427312861,"155 Tamarack Avenue","EGF","The Evergreens Foundation","Hinton Municipal","Hinton","T7V1E1","Municipality","Community Housing Program"]
["114427312861159 Tamarack Avenue",114427312861,"159 Tamarack Avenue","EGF","The Evergreens Foundation","Hinton Municipal","Hinton","T7V1E1","Municipality","Community Housing Program"]
["114427312861163 Tamarack Avenue",114427312861,"163 Tamarack Avenue","EGF","The Evergreens Foundation","Hinton Municipal","Hinton","T7V1E1","Municipality","Community Housing Program"]
["114427552171110 West Jasper Street",114427552171,"110 West Jasper Street","EGF","The Evergreens Foundation","Lions Sunset Manor","Hinton","T7V1X2","Alberta Social Housing Corporation","Seniors Self Contained Program"]
["3000000010074619 - 9 Avenue",300000001007,"4619 - 9 Avenue","EGF","The Evergreens Foundation","Parkland Lodge","Edson","T7E1R7","Alberta Social Housing Corporation","Seniors Lodge Program"]
["1137275523025212 - 49 Street",113727552302,"5212 - 49 Street","EGF","The Evergreens Foundation","Pembina Pioneer Haven","Evansburg","T0E0T0","Alberta Social Housing Corporation","Seniors Self Contained Program"]
["1137272230975212 - 49 Street",113727223097,"5212 - 49 Street","EGF","The Evergreens Foundation","Pembina Pioneer Haven II","Evansburg","T0E0T0","Alberta Social Housing Corporation","Seniors Self Contained Program"]
["1134275523525220 49 Street",113427552352,"5220 49 Street","EGF","The Evergreens Foundation","Pembina Pioneer Haven III","Evansburg","T0E 0T0","Alberta Social Housing Corporation","Seniors Self Contained Program"]
["114827552137720 Geikie Street",114827552137,"720 Geikie Street","EGF","The Evergreens Foundation","Pine Grove Senior Citizen Manor","Jasper, Municipality Of","T0E1E0","Alberta Social Housing Corporation","Seniors Self Contained Program"]
["114427512116177 Boutin Avenue",114427512116,"177 Boutin Avenue","EGF","The Evergreens Foundation","Pine Valley Lodge","Hinton","T7V2E3","Housing Provider","Seniors Lodge Program"]
["1134275521085215 - 52 Street",113427552108,"5215 - 52 Street","EGF","The Evergreens Foundation","Riverview Manor","Entwistle","T0E0S0","Alberta Social Housing Corporation","Seniors Self Contained Program"]
["1198275520034907 - 52 Avenue",119827552003,"4907 - 52 Avenue","EGF","The Evergreens Foundation","Rosewood Manor","Wildwood","T0E2M0","Alberta Social Housing Corporation","Seniors Self Contained Program"]
["1137275122045225 - 50 Street",113727512204,"5225 - 50 Street","EGF","The Evergreens Foundation","Sunshine Place Lodge","Evansburg","T0E0T0","Housing Provider","Seniors Lodge Program"]
["12362751221110210 Shand Ave",123627512211,"10210 Shand Ave","EGF","The Evergreens Foundation","Whispering Pines Lodge","Grande Cache","T0E0Y0","Housing Provider","Seniors Lodge Program"]
["1198275522984817 - 52 Avenue",119827552298,"4817 - 52 Avenue","EGF","The Evergreens Foundation","Wildrose Villa","Wildwood","T0E2M0","Alberta Social Housing Corporation","Seniors Self Contained Program"]
["1198272228825415 - 49 Street",119827222882,"5415 - 49 Street","EGF","The Evergreens Foundation","Wildwood R&N 1","Wildwood","T0E2M0","Alberta Social Housing Corporation","Community Housing Program"]
[{"$f":"CONCATENATE(B3779,C3779)","v":"1198272228825411 - 49 Street"},119827222882,"5411 - 49 Street","EGF","The Evergreens Foundation","Wildwood R&N 1","Wildwood","T0E2M0","Alberta Social Housing Corporation","Community Housing Program"]
["1198272228824807 - 55 Avenue",119827222882,"4807 - 55 Avenue","EGF","The Evergreens Foundation","Wildwood R&N 1","Wildwood","T0E2M0","Alberta Social Housing Corporation","Community Housing Program"]
["1198272228824803 - 55 Avenue",119827222882,"4803 - 55 Avenue","EGF","The Evergreens Foundation","Wildwood R&N 1","Wildwood","T0E2M0","Alberta Social Housing Corporation","Community Housing Program"]
["1198272228824913 - 56 Avenue",119827222882,"4913 - 56 Avenue","EGF","The Evergreens Foundation","Wildwood R&N 1","Wildwood","T0E2M0","Alberta Social Housing Corporation","Community Housing Program"]
["1198272228824912 - 56 Avenue",119827222882,"4912 - 56 Avenue","EGF","The Evergreens Foundation","Wildwood R&N 1","Wildwood","T0E2M0","Alberta Social Housing Corporation","Community Housing Program"]
["1198272228824908 - 55 Avenue",119827222882,"4908 - 55 Avenue","EGF","The Evergreens Foundation","Wildwood R&N 1","Wildwood","T0E2M0","Alberta Social Housing Corporation","Community Housing Program"]
["1198272228824920 - 55 Avenue",119827222882,"4920 - 55 Avenue","EGF","The Evergreens Foundation","Wildwood R&N 1","Wildwood","T0E2M0","Alberta Social Housing Corporation","Community Housing Program"]
["1198272228824921 - 56 Avenue",119827222882,"4921 - 56 Avenue","EGF","The Evergreens Foundation","Wildwood R&N 1","Wildwood","T0E2M0","Alberta Social Housing Corporation","Community Housing Program"]
["1198272228824804 - 56 Avenue",119827222882,"4804 - 56 Avenue","EGF","The Evergreens Foundation","Wildwood R&N 1","Wildwood","T0E2M0","Other","Community Housing Program"]
["1198272228825420 - 49 Street",119827222882,"5420 - 49 Street","EGF","The Evergreens Foundation","Wildwood R&N 1","Wildwood","T0E2M0","Alberta Social Housing Corporation","Community Housing Program"]
["24",24,null,"15000","The Governing Council of the Salvation Army in Canada","Agape Hospice","Calgary",null,"Other","None"]
["99989420 9 Ave SE",99989,"420 9 Ave SE","15000","The Governing Council of the Salvation Army in Canada","Centre of Hope","Calgary","T2G0R9","Other","None"]
["xx110B - 9816 Hardin Street","xx","110B - 9816 Hardin Street","15000","The Governing Council of the Salvation Army in Canada","Salvation Army Fort McMurray Community Center","Fort McMurray #468 First Nation","T9H 4K3","Other","None"]
["3000000010389611 102 Ave N",300000001038,"9611 102 Ave N","15000","The Governing Council of the Salvation Army in Canada","Salvation Army Edmonton-Stepping Stones","Edmonton","T5H0E5","Housing Provider","None"]
["11252738200810243 - 158 Street NW",112527382008,"10243 - 158 Street NW","HND","The House Next Door Society","HND Project 1","Edmonton","T5P2Y1","Housing Provider","Specialized Housing"]
["3000000010927401 23 Street SE",300000001092,"7401 23 Street SE","MUS","The Mustard Seed Society (The Mustard Seed Foundation)","HUB:29","Calgary","T2C 0X8","Housing Provider","None"]
["221827376001102 - 11 Avenue SE",221827376001,"102 - 11 Avenue SE","MUS","The Mustard Seed Society (The Mustard Seed Foundation)","Long Term","Calgary","T2G0X5","Housing Provider","None"]
["3000000010447025 44 Street SE",300000001044,"7025 44 Street SE","MUS","The Mustard Seed Society (The Mustard Seed Foundation)","Mustard Seed Foothills","Calgary",null,"Housing Provider","None"]
["300000001043",300000001043,null,"MUS","The Mustard Seed Society (The Mustard Seed Foundation)","Mustard Seed Red Deer","Red Deer",null,"Housing Provider","None"]
["1125278581129526 - 106 Ave",112527858112,"9526 - 106 Ave","MUS","The Mustard Seed Society (The Mustard Seed Foundation)","The Rooming House","Edmonton","T5H0N2","Alberta Social Housing Corporation","Community Housing Program"]
["300000001045420-9 Ave SE",300000001045,"420-9 Ave SE","A142","The Salvation Army Community Services Calgary","Salvation Army Calgary","Calgary",null,"Housing Provider","None"]
["11252746200512510 - 140 Avenue NW",112527462005,"12510 - 140 Avenue NW","SAE","The Salvation Army Grace Manor","Edmonton Grace Manor","Edmonton","T5X6C4","Housing Provider","Seniors Lodge Program"]
["1578275122294524 52 Avenue",157827512229,"4524 52 Avenue","SMO","The Smoky Lake Foundation","Bar-V Nook Manor","Smoky Lake","T0A 3C0","Alberta Social Housing Corporation","Seniors Lodge Program"]
["1578275122294524 - 52 Avenue",157827512229,"4524 - 52 Avenue","SMO","The Smoky Lake Foundation","Bar-V Nook Manor","Smoky Lake","T0A3C0","Housing Provider","Seniors Lodge Program"]
["1578275122294524 - 52 Avenue",157827512229,"4524 - 52 Avenue","SMO","The Smoky Lake Foundation","Bar-V Nook Manor","Smoky Lake","T0A3C0","Housing Provider","Seniors Lodge Program"]
["1578275122294504 - 52 Avenue",157827512229,"4504 - 52 Avenue","SMO","The Smoky Lake Foundation","Bar-V Nook Manor","Smoky Lake","T0A 3C0","Alberta Social Housing Corporation","Seniors Lodge Program"]
["1578275520674420 - 52 Avenue",157827552067,"4420 - 52 Avenue","SMO","The Smoky Lake Foundation","Cedar Manor","Smoky Lake","T0A3C0","Alberta Social Housing Corporation","Seniors Self Contained Program"]
["1578275522194314 - 52 Avenue",157827552219,"4314 - 52 Avenue","SMO","The Smoky Lake Foundation","Golden Valley Villa","Smoky Lake","T0A3C0","Alberta Social Housing Corporation","Seniors Self Contained Program"]
["1596275523214907 - 51 Avenue",159627552321,"4907 - 51 Avenue","SMO","The Smoky Lake Foundation","Harmony Manor","Vilna","T0A3L0","Alberta Social Housing Corporation","Seniors Self Contained Program"]
["1594275521025024 - 49 Street",159427552102,"5024 - 49 Street","SMO","The Smoky Lake Foundation","Pine Creek Manor","Waskatenau","T0A3P0","Alberta Social Housing Corporation","Seniors Self Contained Program"]
["1596275523485410 - 50 Street",159627552348,"5410 - 50 Street","SMO","The Smoky Lake Foundation","Spruce View Manor","Vilna","T0A3L0","Alberta Social Housing Corporation","Seniors Self Contained Program"]
["1578275521594316 - 52 Avenue",157827552159,"4316 - 52 Avenue","SMO","The Smoky Lake Foundation","Sunrise Villa","Smoky Lake","T0A3C0","Alberta Social Housing Corporation","Seniors Self Contained Program"]
["1596272231274310 - 54 Avenue",159627223127,"4310 - 54 Avenue","SMO","The Smoky Lake Foundation","Vilna - R&N 1","Smoky Lake","T0A3C0","Alberta Social Housing Corporation","Community Housing Program"]
["1596272231274309 - 55 Avenue",159627223127,"4309 - 55 Avenue","SMO","The Smoky Lake Foundation","Vilna - R&N 1","Smoky Lake","T0A3C0","Alberta Social Housing Corporation","Community Housing Program"]
["1596272231275019 - 51 Avenue",159627223127,"5019 - 51 Avenue","SMO","The Smoky Lake Foundation","Vilna - R&N 1","Vilna","T0A3L0","Alberta Social Housing Corporation","Community Housing Program"]
["1596275102005404 - 50 Street",159627510200,"5404 - 50 Street","SMO","The Smoky Lake Foundation","Vilna Lodge","Vilna","T0A3L0","Alberta Social Housing Corporation","Seniors Lodge Program"]
["1594275522145137 - 51 Street",159427552214,"5137 - 51 Street","SMO","The Smoky Lake Foundation","Waskatenau Manor","Waskatenau","T0A3P0","Alberta Social Housing Corporation","Seniors Self Contained Program"]
["140927223248176 Singer Drive, Anzac",140927223248,"176 Singer Drive, Anzac","WBC","The Wood Buffalo Housing and Development Corporation","Anzac R&N 1","Anzac","T0P1J0","Alberta Social Housing Corporation","Community Housing Program"]
["14792755205810203 Main Street",147927552058,"10203 Main Street","WBC","The Wood Buffalo Housing and Development Corporation","Araubasca House","Fort McMurray","T9H2G8","Alberta Social Housing Corporation","Seniors Self Contained Program"]
["143927552126McDonald Street",143927552126,"McDonald Street","WBC","The Wood Buffalo Housing and Development Corporation","Ayabaskaw Home","Fort Chipewyan","T0P1B0","Alberta Social Housing Corporation","Seniors Self Contained Program"]
["143927223066Building 1 Site 65130",143927223066,"Building 1 Site 65130","WBC","The Wood Buffalo Housing and Development Corporation","Fort Chipewyan R&N 1","Fort Chipewyan","T0P1B0","Alberta Social Housing Corporation","Community Housing Program"]
["143927223066Building 4 Site 65130",143927223066,"Building 4 Site 65130","WBC","The Wood Buffalo Housing and Development Corporation","Fort Chipewyan R&N 1","Fort Chipewyan","T0P1B0","Alberta Social Housing Corporation","Community Housing Program"]
["147927312822132 Grayling Crescent",147927312822,"132 Grayling Crescent","WBC","The Wood Buffalo Housing and Development Corporation","Fort McMurray 13 (Trans)","Fort McMurray","T9J1K3","Housing Provider","Community Housing Program"]
["14792731002838, 711 Beacon Hill Drive",147927310028,"38, 711 Beacon Hill Drive","WBC","The Wood Buffalo Housing and Development Corporation","Fort McMurray 2 Southridge","Fort McMurray","T9H3R5","Alberta Social Housing Corporation","Community Housing Program"]
["1479273100289, 701 Beacon Hill Drive",147927310028,"9, 701 Beacon Hill Drive","WBC","The Wood Buffalo Housing and Development Corporation","Fort McMurray 2 Southridge","Fort McMurray","T9H3R4","Alberta Social Housing Corporation","Community Housing Program"]
["1479273100284, 701 Beacon Hill Drive",147927310028,"4, 701 Beacon Hill Drive","WBC","The Wood Buffalo Housing and Development Corporation","Fort McMurray 2 Southridge","Fort McMurray","T9H3R4","Alberta Social Housing Corporation","Community Housing Program"]
["14792731002834, 701 Beacon Hill Drive",147927310028,"34, 701 Beacon Hill Drive","WBC","The Wood Buffalo Housing and Development Corporation","Fort McMurray 2 Southridge","Fort McMurray","T9H3R4","Alberta Social Housing Corporation","Community Housing Program"]
["14792731002849, 711 Beacon Hill Drive",147927310028,"49, 711 Beacon Hill Drive","WBC","The Wood Buffalo Housing and Development Corporation","Fort McMurray 2 Southridge","Fort McMurray","T9H3R5","Alberta Social Housing Corporation","Community Housing Program"]
["14792731002853, 711 Beacon Hill Drive",147927310028,"53, 711 Beacon Hill Drive","WBC","The Wood Buffalo Housing and Development Corporation","Fort McMurray 2 Southridge","Fort McMurray","T9H3R5","Alberta Social Housing Corporation","Community Housing Program"]
["14792731002830, 701 Beacon Hill Drive",147927310028,"30, 701 Beacon Hill Drive","WBC","The Wood Buffalo Housing and Development Corporation","Fort McMurray 2 Southridge","Fort McMurray","T9H3R4","Alberta Social Housing Corporation","Community Housing Program"]
["14792731002825, 701 Beacon Hill Drive",147927310028,"25, 701 Beacon Hill Drive","WBC","The Wood Buffalo Housing and Development Corporation","Fort McMurray 2 Southridge","Fort McMurray","T9H3R4","Alberta Social Housing Corporation","Community Housing Program"]
["14792731002821, 701 Beacon Hill Drive",147927310028,"21, 701 Beacon Hill Drive","WBC","The Wood Buffalo Housing and Development Corporation","Fort McMurray 2 Southridge","Fort McMurray","T9H3R4","Alberta Social Housing Corporation","Community Housing Program"]
["14792731002874, 711 Beacon Hill Drive",147927310028,"74, 711 Beacon Hill Drive","WBC","The Wood Buffalo Housing and Development Corporation","Fort McMurray 2 Southridge","Fort McMurray","T9H3R5","Alberta Social Housing Corporation","Community Housing Program"]
["1479273100284, 711 Beacon Hill Drive",147927310028,"4, 711 Beacon Hill Drive","WBC","The Wood Buffalo Housing and Development Corporation","Fort McMurray 2 Southridge","Fort McMurray","T9H3R5","Alberta Social Housing Corporation","Community Housing Program"]
["14792731002849, 701 Beacon Hill Drive",147927310028,"49, 701 Beacon Hill Drive","WBC","The Wood Buffalo Housing and Development Corporation","Fort McMurray 2 Southridge","Fort McMurray","T9H3R4","Alberta Social Housing Corporation","Community Housing Program"]
["14792731002844, 701 Beacon Hill Drive",147927310028,"44, 701 Beacon Hill Drive","WBC","The Wood Buffalo Housing and Development Corporation","Fort McMurray 2 Southridge","Fort McMurray","T9H3R4","Alberta Social Housing Corporation","Community Housing Program"]
["1479273100288, 711 Beacon Hill Drive",147927310028,"8, 711 Beacon Hill Drive","WBC","The Wood Buffalo Housing and Development Corporation","Fort McMurray 2 Southridge","Fort McMurray","T9H3R5","Alberta Social Housing Corporation","Community Housing Program"]
["14792731002866, 711 Beacon Hill Drive",147927310028,"66, 711 Beacon Hill Drive","WBC","The Wood Buffalo Housing and Development Corporation","Fort McMurray 2 Southridge","Fort McMurray","T9H3R5","Alberta Social Housing Corporation","Community Housing Program"]
["1479273100281, 711 Beacon Hill Drive",147927310028,"1, 711 Beacon Hill Drive","WBC","The Wood Buffalo Housing and Development Corporation","Fort McMurray 2 Southridge","Fort McMurray","T9H3R5","Alberta Social Housing Corporation","Community Housing Program"]
["14792731002819, 701 Beacon Hill Drive",147927310028,"19, 701 Beacon Hill Drive","WBC","The Wood Buffalo Housing and Development Corporation","Fort McMurray 2 Southridge","Fort McMurray","T9H3R4","Alberta Social Housing Corporation","Community Housing Program"]
["1479273100286, 711 Beacon Hill Drive",147927310028,"6, 711 Beacon Hill Drive","WBC","The Wood Buffalo Housing and Development Corporation","Fort McMurray 2 Southridge","Fort McMurray","T9H3R5","Alberta Social Housing Corporation","Community Housing Program"]
["1479273100287, 701 Beacon Hill Drive",147927310028,"7, 701 Beacon Hill Drive","WBC","The Wood Buffalo Housing and Development Corporation","Fort McMurray 2 Southridge","Fort McMurray","T9H3R4","Alberta Social Housing Corporation","Community Housing Program"]
["14792731002846, 711 Beacon Hill Drive",147927310028,"46, 711 Beacon Hill Drive","WBC","The Wood Buffalo Housing and Development Corporation","Fort McMurray 2 Southridge","Fort McMurray","T9H3R5","Alberta Social Housing Corporation","Community Housing Program"]
["1479273100282, 701 Beacon Hill Drive",147927310028,"2, 701 Beacon Hill Drive","WBC","The Wood Buffalo Housing and Development Corporation","Fort McMurray 2 Southridge","Fort McMurray","T9H3R4","Alberta Social Housing Corporation","Community Housing Program"]
[{"$f":"CONCATENATE(B3843,C3843)","v":"14792731002822, 701 Beacon Hill Drive"},147927310028,"22, 701 Beacon Hill Drive","WBC","The Wood Buffalo Housing and Development Corporation","Fort McMurray 2 Southridge","Fort McMurray","T9H3R4","Alberta Social Housing Corporation","Community Housing Program"]
["147927312100161B Dickens Drive",147927312100,"161B Dickens Drive","WBC","The Wood Buffalo Housing and Development Corporation","Fort McMurray 3 Heritage Glen","Fort McMurray","T9K1R8","Housing Provider","Community Housing Program"]
["147927312100157D Dickens Drive",147927312100,"157D Dickens Drive","WBC","The Wood Buffalo Housing and Development Corporation","Fort McMurray 3 Heritage Glen","Fort McMurray","T9K1R8","Housing Provider","Community Housing Program"]
["147927312100161D Dickens Drive",147927312100,"161D Dickens Drive","WBC","The Wood Buffalo Housing and Development Corporation","Fort McMurray 3 Heritage Glen","Fort McMurray","T9K1R8","Housing Provider","Community Housing Program"]
["147927312100143C Dickens Drive",147927312100,"143C Dickens Drive","WBC","The Wood Buffalo Housing and Development Corporation","Fort McMurray 3 Heritage Glen","Fort McMurray","T9K1R8","Housing Provider","Community Housing Program"]
["147927312100161A Dickens Drive",147927312100,"161A Dickens Drive","WBC","The Wood Buffalo Housing and Development Corporation","Fort McMurray 3 Heritage Glen","Fort McMurray","T9K1R8","Housing Provider","Community Housing Program"]
["147927312589102, 2 Centennial Drive",147927312589,"102, 2 Centennial Drive","WBC","The Wood Buffalo Housing and Development Corporation","Fort McMurray 5 Centennial 1","Fort McMurray","T9H1H7","Housing Provider","Community Housing Program"]
["147927312589101, 2 Centennial Drive",147927312589,"101, 2 Centennial Drive","WBC","The Wood Buffalo Housing and Development Corporation","Fort McMurray 5 Centennial 1","Fort McMurray","T9H1H7","Housing Provider","Community Housing Program"]
["147927312589201, 2 Centennial Drive",147927312589,"201, 2 Centennial Drive","WBC","The Wood Buffalo Housing and Development Corporation","Fort McMurray 5 Centennial 1","Fort McMurray","T9H1H7","Housing Provider","Community Housing Program"]
["1479273125905A Centennial Drive",147927312590,"5A Centennial Drive","WBC","The Wood Buffalo Housing and Development Corporation","Fort McMurray 6 Centennial 2","Fort McMurray","T9H1H6","Alberta Social Housing Corporation","Community Housing Program"]
["1479273125905B Centennial Drive",147927312590,"5B Centennial Drive","WBC","The Wood Buffalo Housing and Development Corporation","Fort McMurray 6 Centennial 2","Fort McMurray","T9H1H6","Alberta Social Housing Corporation","Community Housing Program"]
["1479273125907A Centennial Drive",147927312590,"7A Centennial Drive","WBC","The Wood Buffalo Housing and Development Corporation","Fort McMurray 6 Centennial 2","Fort McMurray","T9H1H6","Alberta Social Housing Corporation","Community Housing Program"]
["14792731259176, 711 Beacon Hill Drive",147927312591,"76, 711 Beacon Hill Drive","WBC","The Wood Buffalo Housing and Development Corporation","Fort McMurray 7 Beacon Hill","Fort McMurray","T9H3R5","Alberta Social Housing Corporation","Community Housing Program"]
["14792731259172, 711 Beacon Hill Drive",147927312591,"72, 711 Beacon Hill Drive","WBC","The Wood Buffalo Housing and Development Corporation","Fort McMurray 7 Beacon Hill","Fort McMurray","T9H3R5","Alberta Social Housing Corporation","Community Housing Program"]
["14792731259148, 711 Beacon Hill Drive",147927312591,"48, 711 Beacon Hill Drive","WBC","The Wood Buffalo Housing and Development Corporation","Fort McMurray 7 Beacon Hill","Fort McMurray","T9H3R5","Alberta Social Housing Corporation","Community Housing Program"]
["14792731259118, 711 Beacon Hill Drive",147927312591,"18, 711 Beacon Hill Drive","WBC","The Wood Buffalo Housing and Development Corporation","Fort McMurray 7 Beacon Hill","Fort McMurray","T9H3R5","Alberta Social Housing Corporation","Community Housing Program"]
["14792731259167, 711 Beacon Hill Drive",147927312591,"67, 711 Beacon Hill Drive","WBC","The Wood Buffalo Housing and Development Corporation","Fort McMurray 7 Beacon Hill","Fort McMurray","T9H3R5","Alberta Social Housing Corporation","Community Housing Program"]
["14792731259147, 711 Beacon Hill Drive",147927312591,"47, 711 Beacon Hill Drive","WBC","The Wood Buffalo Housing and Development Corporation","Fort McMurray 7 Beacon Hill","Fort McMurray","T9H3R5","Alberta Social Housing Corporation","Community Housing Program"]
["14792731259717, 701 Beacon Hill Drive",147927312597,"17, 701 Beacon Hill Drive","WBC","The Wood Buffalo Housing and Development Corporation","Fort McMurray 8 Beacon Hill","Fort McMurray","T9H3R4","Alberta Social Housing Corporation","Community Housing Program"]
["14792731259714, 701 Beacon Hill Drive",147927312597,"14, 701 Beacon Hill Drive","WBC","The Wood Buffalo Housing and Development Corporation","Fort McMurray 8 Beacon Hill","Fort McMurray","T9H3R4","Alberta Social Housing Corporation","Community Housing Program"]
["14792731259731, 701 Beacon Hill Drive",147927312597,"31, 701 Beacon Hill Drive","WBC","The Wood Buffalo Housing and Development Corporation","Fort McMurray 8 Beacon Hill","Fort McMurray","T9H3R4","Alberta Social Housing Corporation","Community Housing Program"]
["14792731259724, 701 Beacon Hill Drive",147927312597,"24, 701 Beacon Hill Drive","WBC","The Wood Buffalo Housing and Development Corporation","Fort McMurray 8 Beacon Hill","Fort McMurray","T9H3R4","Alberta Social Housing Corporation","Community Housing Program"]
["147927312697102 McConachie Crescent",147927312697,"102 McConachie Crescent","WBC","The Wood Buffalo Housing and Development Corporation","Fort McMurray 9 (Trans)","Fort McMurray","T9K1T1","Housing Provider","Community Housing Program"]
["14792755229310006 Fraser Avenue",147927552293,"10006 Fraser Avenue","WBC","The Wood Buffalo Housing and Development Corporation","Legion Manor","Fort McMurray","T9H2C7","Alberta Social Housing Corporation","Seniors Self Contained Program"]
["140927552336Christina Drive",140927552336,"Christina Drive","WBC","The Wood Buffalo Housing and Development Corporation","Woodsmoke Elders Lodge","Anzac","T0P1J0","Alberta Social Housing Corporation","Seniors Self Contained Program"]
["300000000002547 Coyote Lane",300000000002,"547 Coyote Lane","A084","Town of Banff","Banff (Ti'nu)","Banff",null,"Joint Ownership","None"]
["300000000002535 Coyote Lane",300000000002,"535 Coyote Lane","A084","Town of Banff","Banff (Ti'nu)","Banff",null,"Joint Ownership","None"]
["300000000002537 Coyote Lane",300000000002,"537 Coyote Lane","A084","Town of Banff","Banff (Ti'nu)","Banff",null,"Joint Ownership","None"]
["300000000002539 Coyote Lane",300000000002,"539 Coyote Lane","A084","Town of Banff","Banff (Ti'nu)","Banff",null,"Joint Ownership","None"]
["1625272260004709 York Avenue",162527226000,"4709 York Avenue","TOC","Town of Coronation","Coronation R&N 1","Coronation","T0C1C0","Alberta Social Housing Corporation","Community Housing Program"]
["1625272260004614 York Avenue",162527226000,"4614 York Avenue","TOC","Town of Coronation","Coronation R&N 1","Coronation","T0C1C0","Alberta Social Housing Corporation","Community Housing Program"]
["1625275521484818  Windsor Avenue",162527552148,"4818  Windsor Avenue","TOC","Town of Coronation","Kings Court","Coronation","T0C1C0","Alberta Social Housing Corporation","Seniors Self Contained Program"]
["2969275561184824 - 49 Street",296927556118,"4824 - 49 Street","TOC","Town of Coronation","Wild Rose Manor","Veteran","T0C2S0","Alberta Social Housing Corporation","Seniors Self Contained Program"]
["1625275520105009 Windsor Avenue",162527552010,"5009 Windsor Avenue","TOC","Town of Coronation","Windsor Manor","Coronation","T0C1C0","Alberta Social Housing Corporation","Seniors Self Contained Program"]
["221827556072124 - 15 Avenue SE",221827556072,"124 - 15 Avenue SE","TPF","Trinity Place Foundation of Alberta","Alex Walker Tower","Calgary","T2R0P5","Alberta Social Housing Corporation","Seniors Self Contained Program"]
["221827550034602 - 1 Street SE",221827550034,"602 - 1 Street SE","TPF","Trinity Place Foundation of Alberta","Carter Place","Calgary","T2G4W4","Alberta Social Housing Corporation","Seniors Self Contained Program"]
["2218275561472403 - 2 Avenue NW",221827556147,"2403 - 2 Avenue NW","TPF","Trinity Place Foundation of Alberta","Crowchild Kiwanis Manor","Calgary","T2N0H5","Alberta Social Housing Corporation","Seniors Self Contained Program"]
["2218275560471401 - 11 Avenue SE",221827556047,"1401 - 11 Avenue SE","TPF","Trinity Place Foundation of Alberta","Edith Pink Residence","Calgary","T2G4Y3","Housing Provider","Seniors Self Contained Program"]
["221827550274344 - 9 Avenue SE",221827550274,"344 - 9 Avenue SE","TPF","Trinity Place Foundation of Alberta","Edwards Place","Calgary","T2G4W8","Alberta Social Housing Corporation","Seniors Self Contained Program"]
["221827550016807 - 6 Street SE",221827550016,"807 - 6 Street SE","TPF","Trinity Place Foundation of Alberta","George C. King Tower","Calgary","T2G4V8","Alberta Social Housing Corporation","Seniors Self Contained Program"]
["2218275560991028 - 15 Avenue SW",221827556099,"1028 - 15 Avenue SW","TPF","Trinity Place Foundation of Alberta","Grace Gardens","Calgary","T2R1M9","Alberta Social Housing Corporation","Seniors Self Contained Program"]
["2218275502171506 - 9 Street SW",221827550217,"1506 - 9 Street SW","TPF","Trinity Place Foundation of Alberta","Grace Manor","Calgary","T2R1H8","Alberta Social Housing Corporation","Seniors Self Contained Program"]
["221827556113906 - 17 Avenue SE",221827556113,"906 - 17 Avenue SE","TPF","Trinity Place Foundation of Alberta","Hamilton Manor","Calgary","T2G1J4","Alberta Social Housing Corporation","Seniors Self Contained Program"]
["221827556114923  - 19 Avenue SE",221827556114,"923  - 19 Avenue SE","TPF","Trinity Place Foundation of Alberta","Jenkins Court","Calgary","T2G1L9","Alberta Social Housing Corporation","Seniors Self Contained Program"]
["2218275561551720 - 9A Street SW",221827556155,"1720 - 9A Street SW","TPF","Trinity Place Foundation of Alberta","Mount Royal Kiwanis Manor","Calgary","T2T3E6","Alberta Social Housing Corporation","Seniors Self Contained Program"]
["221827556005808 - 5 Street SE",221827556005,"808 - 5 Street SE","TPF","Trinity Place Foundation of Alberta","Murdoch Manor","Calgary","T2G4T5","Alberta Social Housing Corporation","Seniors Self Contained Program"]
["2218275560041220 - 2 Street SW",221827556004,"1220 - 2 Street SW","TPF","Trinity Place Foundation of Alberta","Oddfellow Rebekah Tower","Calgary","T2R0W4","Alberta Social Housing Corporation","Seniors Self Contained Program"]
["2218275561562420 - 2 Avenue NW",221827556156,"2420 - 2 Avenue NW","TPF","Trinity Place Foundation of Alberta","Parkdale Kiwanis Manor","Calgary","T2N0H4","Alberta Social Housing Corporation","Seniors Self Contained Program"]
["2218275560321234 - 21 Avenue NW",221827556032,"1234 - 21 Avenue NW","TPF","Trinity Place Foundation of Alberta","Parkview Village","Calgary","T2M4R7","Alberta Social Housing Corporation","Seniors Self Contained Program"]
["2218275500391320 - 8 Avenue SE",221827550039,"1320 - 8 Avenue SE","TPF","Trinity Place Foundation of Alberta","Rhubarb Patch","Calgary","T2G0M9","Alberta Social Housing Corporation","Seniors Self Contained Program"]
["3000000010499 Templemont Circle NE",300000001049,"9 Templemont Circle NE","TPF","Trinity Place Foundation of Alberta","Templemont Gardens","Calgary","T1Y5A9","Joint Ownership","None"]
["3000000010479 Templemont Circle NE",300000001047,"9 Templemont Circle NE","TPF","Trinity Place Foundation of Alberta","Templemont Place","Calgary","T1Y5A9","Joint Ownership","None"]
["28",28,null,"UNICA","Unicare","Garneau Hall","Edmonton",null,"Other","None"]
["1586273720235917 - 51 Street",158627372023,"5917 - 51 Street","VAF","Vegreville Association for Living in Dignity","51 Street Residence","Vegreville","T9C1H9","Housing Provider","Specialized Housing"]
["1586275522164823 - 49 Avenue",158627552216,"4823 - 49 Avenue","VEG","Vegreville Senior Housing","Lions Golden Villa","Vegreville","T9C1N8","Alberta Social Housing Corporation","Seniors Self Contained Program"]
["1586275520694833 - 49 Avenue",158627552069,"4833 - 49 Avenue","VEG","Vegreville Senior Housing","Parkview Manor","Vegreville","T9C1N7","Alberta Social Housing Corporation","Seniors Self Contained Program"]
["1586275522155725 - 49A Street",158627552215,"5725 - 49A Street","VEG","Vegreville Senior Housing","Ste. Annes Manor","Vegreville","T9C1K6","Alberta Social Housing Corporation","Seniors Self Contained Program"]
["1643275500705116 - 51 Street",164327550070,"5116 - 51 Street","VHA","Vermilion & District Housing Foundation","Chacutenah Manor","Irma","T0B2H0","Alberta Social Housing Corporation","Seniors Self Contained Program"]
["15182755211123 - 1 Avenue",151827552111,"23 - 1 Avenue","VHA","Vermilion & District Housing Foundation","Dewberry Heritage Villa","Dewberry","T0B1G0","Alberta Social Housing Corporation","Seniors Self Contained Program"]
["1635272229725103 - 56 Avenue",163527222972,"5103 - 56 Avenue","VHA","Vermilion & District Housing Foundation","Edgerton - R&N 1","Edgerton","T0B1K0","Alberta Social Housing Corporation","Community Housing Program"]
["15182755234066 - 3 Street West",151827552340,"66 - 3 Street West","VHA","Vermilion & District Housing Foundation","Heritage Villa II","Dewberry","T0B1G0","Alberta Social Housing Corporation","Seniors Self Contained Program"]
["1643272230964835 50 Avenue",164327223096,"4835 50 Avenue","VHA","Vermilion & District Housing Foundation","Irma - R&N 1","Irma","T0B2H0","Alberta Social Housing Corporation","Community Housing Program"]
["169127552322801 - 3 Avenue",169127552322,"801 - 3 Avenue","VHA","Vermilion & District Housing Foundation","Lions Frontier Manor","Wainwright","T9W1R9","Alberta Social Housing Corporation","Seniors Self Contained Program"]
["1691275521851613 - 5A Avenue",169127552185,"1613 - 5A Avenue","VHA","Vermilion & District Housing Foundation","Lions Heritage Manor","Wainwright","T9W1R8","Alberta Social Housing Corporation","Seniors Self Contained Program"]
[{"$f":"CONCATENATE(B3907,C3907)","v":"169127552107413 - 4 Street"},169127552107,"413 - 4 Street","VHA","Vermilion & District Housing Foundation","Lions Pioneer Manor","Wainwright","T9W1R7","Alberta Social Housing Corporation","Seniors Self Contained Program"]
["1591275521735319 - 50 Avenue",159127552173,"5319 - 50 Avenue","VHA","Vermilion & District Housing Foundation","Parkway Manor","Vermilion","T9X1K9","Alberta Social Housing Corporation","Seniors Self Contained Program"]
["1544275522624940 - 52 Street",154427552262,"4940 - 52 Street","VHA","Vermilion & District Housing Foundation","Pioneers Haven","Islay","T0B2J0","Alberta Social Housing Corporation","Seniors Self Contained Program"]
["1591275523335103 - 57 Street",159127552333,"5103 - 57 Street","VHA","Vermilion & District Housing Foundation","Valleyview Manor","Vermilion","T9X1M2","Alberta Social Housing Corporation","Seniors Self Contained Program"]
["1591273100234413 - 50 Avenue",159127310023,"4413 - 50 Avenue","VHA","Vermilion & District Housing Foundation","Vermilion","Vermilion","T9X1K9","Alberta Social Housing Corporation","Community Housing Program"]
["1591273100234417 - 50 Avenue",159127310023,"4417 - 50 Avenue","VHA","Vermilion & District Housing Foundation","Vermilion","Vermilion","T9X1K9","Alberta Social Housing Corporation","Community Housing Program"]
["1591273100234421 - 50 Avenue",159127310023,"4421 - 50 Avenue","VHA","Vermilion & District Housing Foundation","Vermilion","Vermilion","T9X1K9","Alberta Social Housing Corporation","Community Housing Program"]
["1591273100234425 - 50 Avenue",159127310023,"4425 - 50 Avenue","VHA","Vermilion & District Housing Foundation","Vermilion","Vermilion","T9X1K9","Alberta Social Housing Corporation","Community Housing Program"]
["1591273100234429 - 50 Avenue",159127310023,"4429 - 50 Avenue","VHA","Vermilion & District Housing Foundation","Vermilion","Vermilion","T9X1K9","Alberta Social Housing Corporation","Community Housing Program"]
["1591275620015401 - 46 Street Units 101A – 104",159127562001,"5401 - 46 Street Units 101A – 104","VHA","Vermilion & District Housing Foundation","Vermilion Valley","Vermilion","T9X 0B6","Housing Provider","Seniors Lodge Program"]
["1591275620015401 - 46 Street Units 201B – 204",159127562001,"5401 - 46 Street Units 201B – 204","VHA","Vermilion & District Housing Foundation","Vermilion Valley","Vermilion","T9X 0B6","Housing Provider","Seniors Lodge Program"]
["1591275120695401 - 46 Street",159127512069,"5401 - 46 Street","VHA","Vermilion & District Housing Foundation","Vermilion Valley Lodge","Vermilion","T9X 0B6","Housing Provider","Seniors Lodge Program"]
["1591275500985311 - 50 Avenue",159127550098,"5311 - 50 Avenue","VHA","Vermilion & District Housing Foundation","Westend Manor","Vermilion","T9X1N7","Alberta Social Housing Corporation","Seniors Self Contained Program"]
["1620275521474901 - 3 Avenue N",162027552147,"4901 - 3 Avenue N","VHA","Vermilion & District Housing Foundation","Wildrose Manor","Chauvin","T0B0V0","Alberta Social Housing Corporation","Seniors Self Contained Program"]
["11252755003012620 - 109A Avenue NW",112527550030,"12620 - 109A Avenue NW","VHS","Vista Housing for Seniors","Alliance Villa","Edmonton","T5M2J1","Alberta Social Housing Corporation","Seniors Self Contained Program"]
["1125275520847728 - 82 Avenue NW",112527552084,"7728 - 82 Avenue NW","VHS","Vista Housing for Seniors","Bethel Senior Citizens Residence","Edmonton","T6C4L9","Alberta Social Housing Corporation","Seniors Self Contained Program"]
["11252755207112934 - 119 Street NW",112527552071,"12934 - 119 Street NW","VHS","Vista Housing for Seniors","Calder Place","Edmonton","T5E5M4","Alberta Social Housing Corporation","Seniors Self Contained Program"]
["11252755219613439 - 97 Street NW",112527552196,"13439 - 97 Street NW","VHS","Vista Housing for Seniors","Casa Romana Seniors Residence","Edmonton","T5E4C7","Alberta Social Housing Corporation","Seniors Self Contained Program"]
["1125275521409403 - 95 Avenue NW",112527552140,"9403 - 95 Avenue NW","VHS","Vista Housing for Seniors","Central Baptist Manor","Edmonton","T6C4M7","Alberta Social Housing Corporation","Seniors Self Contained Program"]
["1125275522109312 - 149 Street NW",112527552210,"9312 - 149 Street NW","VHS","Vista Housing for Seniors","Chinese Alliance Manor","Edmonton","T5R1C4","Alberta Social Housing Corporation","Seniors Self Contained Program"]
["11252755204010209 - 134 Avenue NW",112527552040,"10209 - 134 Avenue NW","VHS","Vista Housing for Seniors","Mary A. Finlay Manor","Edmonton","T5E1J2","Alberta Social Housing Corporation","Seniors Self Contained Program"]
["1125275520232115 Millbourne Road W NW",112527552023,"2115 Millbourne Road W NW","VHS","Vista Housing for Seniors","Millbourne Manor","Edmonton","T6K0Y3","Alberta Social Housing Corporation","Seniors Self Contained Program"]
["11252755204511715 - 95 Street NW",112527552045,"11715 - 95 Street NW","VHS","Vista Housing for Seniors","Norwood Golden Manor","Edmonton","T5G3B6","Alberta Social Housing Corporation","Seniors Self Contained Program"]
["11252755212812840 - 64 Street NW",112527552128,"12840 - 64 Street NW","VHS","Vista Housing for Seniors","Norwood Legion Manor","Edmonton","T5A4M8","Alberta Social Housing Corporation","Seniors Self Contained Program"]
["11252755208110421 - 142 Street NW",112527552081,"10421 - 142 Street NW","VHS","Vista Housing for Seniors","Ortona Villa","Edmonton","T5N2P4","Alberta Social Housing Corporation","Seniors Self Contained Program"]
["1125275522099521 - 108A Avenue NW",112527552209,"9521 - 108A Avenue NW","VHS","Vista Housing for Seniors","Piazza Italia Seniors Residence","Edmonton","T5H4G3","Alberta Social Housing Corporation","Seniors Self Contained Program"]
["1125275520218025 - 101 Avenue NW",112527552021,"8025 - 101 Avenue NW","VHS","Vista Housing for Seniors","St. Andrews Ukrainian Selo","Edmonton","T6A0K4","Alberta Social Housing Corporation","Seniors Self Contained Program"]
["11252755209311906 - 66 Street NW",112527552093,"11906 - 66 Street NW","VHS","Vista Housing for Seniors","St. Elia Pysanka Manor","Edmonton","T5B1J4","Alberta Social Housing Corporation","Seniors Self Contained Program"]
["11252755223811030 - 107 Street NW",112527552238,"11030 - 107 Street NW","VHS","Vista Housing for Seniors","Ukrainian Dnipro Citizens Home","Edmonton","T5H4G5","Alberta Social Housing Corporation","Seniors Self Contained Program"]
["11252755005811415 - 86 Street NW",112527550058,"11415 - 86 Street NW","VHS","Vista Housing for Seniors","Viselka","Edmonton","T5B3J2","Alberta Social Housing Corporation","Seniors Self Contained Program"]
["300000001010900 Mistassiniy Road South",300000001010,"900 Mistassiniy Road South","WAH","Wabasca/Desmarais Housing Authority","Keekenow Senior Facility","Opportunity No. 17, M.D. Of",null,"Housing Provider","Seniors Lodge Program"]
["1385275522362730 Jackson Street Units 1 - 12",138527552236,"2730 Jackson Street Units 1 - 12","WAH","Wabasca/Desmarais Housing Authority","Neewatin Elders","Wabasca","T0G2K0","Alberta Social Housing Corporation","Seniors Self Contained Program"]
["1385272230402676 Keeweetinok Place",138527223040,"2676 Keeweetinok Place","WAH","Wabasca/Desmarais Housing Authority","Wabasca 1","Wabasca","T0G2K0","Housing Provider","Community Housing Program"]
["1385272230402673 Jackson Street",138527223040,"2673 Jackson Street","WAH","Wabasca/Desmarais Housing Authority","Wabasca 1","Wabasca","T0G2K0","Housing Provider","Community Housing Program"]
["1385272230402681 Jackson Street",138527223040,"2681 Jackson Street","WAH","Wabasca/Desmarais Housing Authority","Wabasca 1","Wabasca",null,"Housing Provider","Community Housing Program"]
["1385272230402688 Keeweetinok Place",138527223040,"2688 Keeweetinok Place","WAH","Wabasca/Desmarais Housing Authority","Wabasca 1","Wabasca",null,"Housing Provider","Community Housing Program"]
["1385272230402672 Keeweetinok Place",138527223040,"2672 Keeweetinok Place","WAH","Wabasca/Desmarais Housing Authority","Wabasca 1","Wabasca",null,"Housing Provider","Community Housing Program"]
["1385277320062684 Keeweetinok Place",138527732006,"2684 Keeweetinok Place","WAH","Wabasca/Desmarais Housing Authority","Wabasca 2","Wabasca","T0G2K0","Housing Provider","Community Housing Program"]
["1385277320062665 Jackson Street",138527732006,"2665 Jackson Street","WAH","Wabasca/Desmarais Housing Authority","Wabasca 2","Wabasca","T0G2K0","Housing Provider","Community Housing Program"]
["1385277320062657 Jackson Street",138527732006,"2657 Jackson Street","WAH","Wabasca/Desmarais Housing Authority","Wabasca 2","Wabasca","T0G2K0","Housing Provider","Community Housing Program"]
["1385277320062834 Tyson Decoine Crescent",138527732006,"2834 Tyson Decoine Crescent","WAH","Wabasca/Desmarais Housing Authority","Wabasca 2","Wabasca","T0G2K0","Housing Provider","Community Housing Program"]
["1385277320062685 Jackson Street",138527732006,"2685 Jackson Street","WAH","Wabasca/Desmarais Housing Authority","Wabasca 2","Wabasca","T0G2K0","Housing Provider","Community Housing Program"]
["1385277320062823 Tyson Decoine Crescent",138527732006,"2823 Tyson Decoine Crescent","WAH","Wabasca/Desmarais Housing Authority","Wabasca 2","Wabasca","T0G2K0","Housing Provider","Community Housing Program"]
["1385277320062693 Jackson Street",138527732006,"2693 Jackson Street","WAH","Wabasca/Desmarais Housing Authority","Wabasca 2","Wabasca","T0G2K0","Housing Provider","Community Housing Program"]
["30000000104010101 91A Street",300000001040,"10101 91A Street","A043","Wapiti Community Dorm Society","Wapiti House","Grande Prairie","T8V0X3","Housing Provider","None"]
["1479273820029917 Fraser Avenue",147927382002,"9917 Fraser Avenue","FMW","Waypoints Community Services Association","Unity House","Fort McMurray","T9H2C5","Housing Provider","Specialized Housing"]
["3000000010369917 Fraser Avenue",300000001036,"9917 Fraser Avenue","FMW","Waypoints Community Services Association","Waypoints Outreach Landing","Fort McMurray","T9H 2C5","Housing Provider","None"]
["1387273720269539 - 99 A  Avenue",138727372026,"9539 - 99 A  Avenue","WIN","Westlock Independence Network","WIN House 1","Westlock","T7P2A8","Housing Provider","Specialized Housing"]
["1387273720279723 - 99 Street",138727372027,"9723 - 99 Street","WIN","Westlock Independence Network","WIN House 2","Westlock","T7P1Y5","Housing Provider","Specialized Housing"]
["16",16,null,"WCC","Westview Care Community","Linden Nursing Home","Linden",null,"Other","None"]
["249527316771309 - 11 Avenue NW",249527316771,"309 - 11 Avenue NW","FOO","Westwinds Communities","Coal Trail Plaza","High River",null,"Alberta Social Housing Corporation","Community Housing Program"]
["209127550212701 Government Road SW",209127550212,"701 Government Road SW","FOO","Westwinds Communities","Glen Mead Park 1","Diamond Valley","T0L0H0","Alberta Social Housing Corporation","Seniors Self Contained Program"]
["209127556089703 Government Road SW",209127556089,"703 Government Road SW","FOO","Westwinds Communities","Glen Mead Park 2","Diamond Valley","T0L0H0","Alberta Social Housing Corporation","Seniors Self Contained Program"]
["209127556166709 Government Road SW",209127556166,"709 Government Road SW","FOO","Westwinds Communities","Glen Mead Park 3","Diamond Valley","T0L0H0","Alberta Social Housing Corporation","Seniors Self Contained Program"]
["209127516024707 Government Road",209127516024,"707 Government Road","FOO","Westwinds Communities","High Country Lodge","Diamond Valley","T0L0H0","Housing Provider","Seniors Lodge Program"]
["249527516036901A Macleod Trail SW",249527516036,"901A Macleod Trail SW","FOO","Westwinds Communities","Medicine Tree Manor","High River","T1V1C3","Housing Provider","Seniors Lodge Program"]
["26262731622012 Hunters Crescent",262627316220,"12 Hunters Crescent","FOO","Westwinds Communities","Okotoks 1 (FCLS)","Okotoks","T1S1K9","Housing Provider","Community Housing Program"]
["2626273162206 Hunters Crescent",262627316220,"6 Hunters Crescent","FOO","Westwinds Communities","Okotoks 1 (FCLS)","Okotoks","T1S1K9","Housing Provider","Community Housing Program"]
["2626273162202 Hunters Crescent",262627316220,"2 Hunters Crescent","FOO","Westwinds Communities","Okotoks 1 (FCLS)","Okotoks","T1S1K9","Housing Provider","Community Housing Program"]
["26262731622044 Hunters Crescent",262627316220,"44 Hunters Crescent","FOO","Westwinds Communities","Okotoks 1 (FCLS)","Okotoks","T1S1K8","Housing Provider","Community Housing Program"]
["262627316220131 Thorsen Crescent",262627316220,"131 Thorsen Crescent","FOO","Westwinds Communities","Okotoks 1 (FCLS)","Okotoks","T1S1C9","Housing Provider","Community Housing Program"]
["262627316220154A North Railway Street",262627316220,"154A North Railway Street","FOO","Westwinds Communities","Okotoks 1 (FCLS)","Okotoks","T1S1H8","Alberta Social Housing Corporation","Community Housing Program"]
["262627316220158A North Railway Street",262627316220,"158A North Railway Street","FOO","Westwinds Communities","Okotoks 1 (FCLS)","Okotoks","T1S1H8","Alberta Social Housing Corporation","Community Housing Program"]
["262627316220162A North Railway Street",262627316220,"162A North Railway Street","FOO","Westwinds Communities","Okotoks 1 (FCLS)","Okotoks","T1S1H8","Alberta Social Housing Corporation","Community Housing Program"]
[{"$f":"CONCATENATE(B3971,C3971)","v":"262627516068101 Centre Court"},262627516068,"101 Centre Court","FOO","Westwinds Communities","Sandstone Lodge","Okotoks","T1S1Y4","Alberta Social Housing Corporation","Seniors Lodge Program"]
["26262755606721 Elma Street East",262627556067,"21 Elma Street East","FOO","Westwinds Communities","Sheep River House","Okotoks","T1S1Y6","Alberta Social Housing Corporation","Seniors Self Contained Program"]
["249527556120901 Macleod Trail",249527556120,"901 Macleod Trail","FOO","Westwinds Communities","Soderberg House","High River","T1V1C2","Alberta Social Housing Corporation","Seniors Self Contained Program"]
["249527550020530 - 4 Avenue West",249527550020,"530 - 4 Avenue West","FOO","Westwinds Communities","Spitzee House","High River","T1V1B6","Alberta Social Housing Corporation","Seniors Self Contained Program"]
["295727226026411 Sunset Boulevard",295727226026,"411 Sunset Boulevard","FOO","Westwinds Communities","Turner Valley - R&N 1","Turner Valley","T0L2A0","Housing Provider","Community Housing Program"]
["295727226014405 Windsor Avenue",295727226014,"405 Windsor Avenue","FOO","Westwinds Communities","Turner Valley - R&N 2","Diamond Valley","T0L2A0","Alberta Social Housing Corporation","Community Housing Program"]
["3000000010354751 – 56 Avenue",300000001035,"4751 – 56 Avenue","WDACS","Wetaskiwin & District Association for Community Service","Residence 3","Wetaskiwin","T9A 2C5","Housing Provider","Specialized Housing"]
["888888880065101 centennial drive",888888880065,"101 centennial drive","WDACS","Wetaskiwin & District Association for Community Service","Centennial Drive Res","Wetaskiwin","T9A2J7","Housing Provider","Specialized Housing"]
["3000000010343726 - 54 Street",300000001034,"3726 - 54 Street","WDACS","Wetaskiwin & District Association for Community Service","Residence 2","Wetaskiwin","T9A 2L2","Housing Provider","Specialized Housing"]
["3000000010484606 – 46 Avenue",300000001048,"4606 – 46 Avenue","WDACS","Wetaskiwin & District Association for Community Service","Residence 4","Wetaskiwin","T9A 0H2","Housing Provider","Specialized Housing"]
["297027226022202 - 2 Street",297027226022,"202 - 2 Street","WCS","Wheat Country Special Needs Society","Vulcan - R&N 2","Vulcan","T0L2B0","Alberta Social Housing Corporation","Community Housing Program"]
["297027556057638 - 1 Street N",297027556057,"638 - 1 Street N","WCS","Wheat Country Special Needs Society","Wheat Country Homes 1","Vulcan","T0L2B0","Alberta Social Housing Corporation","Seniors Self Contained Program"]
["225727556116220 Barstow Street",225727556116,"220 Barstow Street","WHE","Wheatland Housing Management Body","Carseland Manor","Carseland","T0J0M0","Alberta Social Housing Corporation","Seniors Self Contained Program"]
["284827556014230 Waddy Lane",284827556014,"230 Waddy Lane","WHE","Wheatland Housing Management Body","Dr. J.W. Giffen Senior Manor","Strathmore","T1P1A4","Alberta Social Housing Corporation","Seniors Self Contained Program"]
["243727556091255 - 7 Avenue",243727556091,"255 - 7 Avenue","WHE","Wheatland Housing Management Body","H.G. Stoken Manor","Gleichen","T0J1N0","Alberta Social Housing Corporation","Seniors Self Contained Program"]
["278027556071119 - 2 Ave East  Units  1 - 6",278027556071,"119 - 2 Ave East  Units  1 - 6","WHE","Wheatland Housing Management Body","Rock Springs Manor","Rockyford","T0J2R0","Alberta Social Housing Corporation","Seniors Self Contained Program"]
["284827316101113 Maplewood Drive",284827316101,"113 Maplewood Drive","WHE","Wheatland Housing Management Body","Strathmore 1","Strathmore","T1P1E9","Alberta Social Housing Corporation","Community Housing Program"]
["284827316101117 Maplewood Drive",284827316101,"117 Maplewood Drive","WHE","Wheatland Housing Management Body","Strathmore 1","Strathmore","T1P1E9","Alberta Social Housing Corporation","Community Housing Program"]
["284827316101125 Maplewood Drive",284827316101,"125 Maplewood Drive","WHE","Wheatland Housing Management Body","Strathmore 1","Strathmore","T1P1E9","Alberta Social Housing Corporation","Community Housing Program"]
["284827316101129 Maplewood Drive",284827316101,"129 Maplewood Drive","WHE","Wheatland Housing Management Body","Strathmore 1","Strathmore","T1P1E9","Alberta Social Housing Corporation","Community Housing Program"]
["284827316101109 Maplewood Drive",284827316101,"109 Maplewood Drive","WHE","Wheatland Housing Management Body","Strathmore 1","Strathmore","T1P1E9","Alberta Social Housing Corporation","Community Housing Program"]
["284827316101121 Maplewood Drive",284827316101,"121 Maplewood Drive","WHE","Wheatland Housing Management Body","Strathmore 1","Strathmore","T1P1E9","Alberta Social Housing Corporation","Community Housing Program"]
["284827226052216 Maplegrove Crescent",284827226052,"216 Maplegrove Crescent","WHE","Wheatland Housing Management Body","Strathmore 1 R&N","Strathmore","T1P1G1","Alberta Social Housing Corporation","Community Housing Program"]
["28482731624132 Brentwood Drive",284827316241,"32 Brentwood Drive","WHE","Wheatland Housing Management Body","Strathmore 2 (FCLS)","Strathmore","T1P1G3","Alberta Social Housing Corporation","Community Housing Program"]
["2848273162418 Parkwood Place",284827316241,"8 Parkwood Place","WHE","Wheatland Housing Management Body","Strathmore 2 (FCLS)","Strathmore","T1P1H5","Alberta Social Housing Corporation","Community Housing Program"]
["284827316617812 Bayview Road",284827316617,"812 Bayview Road","WHE","Wheatland Housing Management Body","Strathmore 3 (FCLS)","Strathmore","T1P1C9","Alberta Social Housing Corporation","Community Housing Program"]
["284827316617228 Brentwood Drive W",284827316617,"228 Brentwood Drive W","WHE","Wheatland Housing Management Body","Strathmore 3 (FCLS)","Strathmore","T1P1C9","Housing Provider","Community Housing Program"]
["28482731661730 Maplewood Green",284827316617,"30 Maplewood Green","WHE","Wheatland Housing Management Body","Strathmore 3 (FCLS)","Strathmore","T1P1G7","Alberta Social Housing Corporation","Community Housing Program"]
["28482731661731 Maplewood Green",284827316617,"31 Maplewood Green","WHE","Wheatland Housing Management Body","Strathmore 3 (FCLS)","Strathmore","T1P1G7","Alberta Social Housing Corporation","Community Housing Program"]
["28482731661726 Maplewood Green",284827316617,"26 Maplewood Green","WHE","Wheatland Housing Management Body","Strathmore 3 (FCLS)","Strathmore","T1P1G7","Alberta Social Housing Corporation","Community Housing Program"]
["28482731661727 Maplewood Green",284827316617,"27 Maplewood Green","WHE","Wheatland Housing Management Body","Strathmore 3 (FCLS)","Strathmore","T1P1G7","Alberta Social Housing Corporation","Community Housing Program"]
["284127556172225 Elsinore Avenue",284127556172,"225 Elsinore Avenue","WHE","Wheatland Housing Management Body","Sunrise Manor","Standard","T0J3G0","Alberta Social Housing Corporation","Seniors Self Contained Program"]
["28482755611295 Wheatland Trail",284827556112,"95 Wheatland Trail","WHE","Wheatland Housing Management Body","Sunset Haven","Strathmore","T1P1A4","Alberta Social Housing Corporation","Seniors Self Contained Program"]
["28482751607076 - 2 Street",284827516070,"76 - 2 Street","WHE","Wheatland Housing Management Body","Wheatland Lodge","Strathmore","T1P1C9","Housing Provider","Seniors Lodge Program"]
["247627556055126 Lansdowne Street",247627556055,"126 Lansdowne Street","WCF","Willow Creek Foundation","Chinook Arch Manor","Granum","T0L1A0","Alberta Social Housing Corporation","Seniors Self Contained Program"]
["242127550146627 - 27 Street",242127550146,"627 - 27 Street","WCF","Willow Creek Foundation","Colonel Macleod Manor 1","Fort Macleod","T0L0Z0","Alberta Social Housing Corporation","Seniors Self Contained Program"]
["242127556084627 - 27 Street",242127556084,"627 - 27 Street","WCF","Willow Creek Foundation","Colonel Macleod Manor 2","Fort Macleod","T0L0Z0","Alberta Social Housing Corporation","Seniors Self Contained Program"]
["242127516017660 - 28 Street",242127516017,"660 - 28 Street","WCF","Willow Creek Foundation","Pioneer Lodge","Fort Macleod","T0L0Z0","Housing Provider","Seniors Lodge Program"]
["3000000010591671 – 46 Street",300000001059,"1671 – 46 Street","09","Wings of Providence","Women’s Shelter","Edmonton",null,"Housing Provider","None"]
["11252737203412252 St Albert  Trail NW",112527372034,"12252 St Albert  Trail NW","WSA","Winnifred Stewart Association","Residence 4","Edmonton","T5L4G6","Housing Provider","Specialized Housing"]
["11252737203512923 - 137 Avenue NW",112527372035,"12923 - 137 Avenue NW","WSA","Winnifred Stewart Association","Residence 5","Edmonton","T5L4C3","Housing Provider","Specialized Housing"]
["11252737203614519 - 107A  Avenue NW",112527372036,"14519 - 107A  Avenue NW","WSA","Winnifred Stewart Association","Residence 6","Edmonton","T5N1G3","Housing Provider","Specialized Housing"]
["143927512067McDonald Street",143927512067,"McDonald Street","WBH","Wood Buffalo Housing and Development Corporation","Ayabaskaw Home Lodge","Fort Chipewyan","T0P1B0","Alberta Social Housing Corporation","Seniors Lodge Program"]
["14792751211610116 Fraser Avenue",147927512116,"10116 Fraser Avenue","WBH","Wood Buffalo Housing and Development Corporation","Rotary House","Fort McMurray","T9H5E9","Housing Provider","Seniors Lodge Program"]
["2579273167731324 - 16 Avenue S",257927316773,"1324 - 16 Avenue S","NNNNN","Wood's Homes","1324 - 16 Avenue S","Lethbridge",null,"Alberta Social Housing Corporation","Community Housing Program"]
["2579273167741328 - 16 Avenue S",257927316774,"1328 - 16 Avenue S","NNNNN","Wood's Homes","1328 - 16 Avenue S","Lethbridge",null,"Alberta Social Housing Corporation","Community Housing Program"]
["93",93,null,"14000","Yellowhead Emergency Shelter for Women Society","Yellowhead Emergency Shelter","Hinton",null,"Other","None"]
["300000001094102 Spray Avenue",300000001094,"102 Spray Avenue","YWC","Young Women's Christian Association of Banff","Dr. Priscilla Wilson's Place","Banff",null,"Housing Provider","Specialized Housing"]
["2218273167761715 - 17 Avenue SE",221827316776,"1715 - 17 Avenue SE","WCA","Young Women's Christian Association of Calgary","YWCA Hub Facility","Calgary","T2G 5J1","Joint Ownership","None"]
["999999999924604 - 8 Street South",999999999924,"604 - 8 Street South","A180","YWCA Lethbridge & District","Harbour House","Lethbridge","T1J2K1","Other","Specialized Housing"]